Workbook

Sheet רשימת שנים
A1: ה'תר | B1: 5600
A2: ה'תרא | B2: 5601
A3: ה'תרב | B3: 5602
A4: ה'תרג | B4: 5603
A5: ה'תרד | B5: 5604
A6: ה'תרה | B6: 5605
A7: ה'תרו | B7: 5606
A8: ה'תרז | B8: 5607
A9: ה'תרח | B9: 5608
A10: ה'תרט | B10: 5609
A11: ה'תרי | B11: 5610
A12: ה'תריא | B12: 5611
... A401: ו' | B401: 6000

Sheet אירועים
A1: להקליד למניינם | B1: שמות | C1: האירוע | D1: תאריך עברי | E1: שנה | F1: ספירת שנים | G1: התאמת חודש אדר לשנה | H1: תאים ירוקים להקליד.
A2: 38248 | B2: שמואל | C2: יום הולדת | D2: =IFERROR(CHOOSE(VALUE(TEXT($A2,"[$-he-IL,8]dd;@")),"א","ב","ג","ד","ה","ו","ז","ח","ט","י","יא","יב","יג","יד","טו","טז","יז","יח","יט","כ","כא","כב","כג","כד","כה","כו","כז","כח","כט","ל"),"")&" "&TEXT($A2,"[$-he-IL,8]mmmm;@") -> ג תשרי | E2: =INDEX('רשימת שנים'!A:A,MATCH(VALUE(TEXT($A2,"[$-he-IL,8]yyyy ;@")),'רשימת שנים'!B:B,0)) -> ה'תשסה | F2: =TEXT(TODAY(),"[$-he-IL,8]yyyy ;@")-TEXT($A2,"[$-he-IL,8]yyyy ;@") -> 15 | G2: =IF(היום!$F$2=FALSE,IFERROR(IF(FIND("אדר ",D2,1)>0,LEFT(D2,LEN(D2)-2),D2),D2),IF(TEXT($A2,"[$-he-IL,8]mmmm;@")="אדר",SUBSTITUTE(D2,"אדר","אדר ב"),D2)) -> ג תשרי | H2: תאים כחולים נוסחאות.
A3: 39854 | B3: אברהם | C3: יום נישואין | D3: =IFERROR(CHOOSE(VALUE(TEXT($A3,"[$-he-IL,8]dd;@")),"א","ב","ג","ד","ה","ו","ז","ח","ט","י","יא","יב","יג","יד","טו","טז","יז","יח","יט","כ","כא","כב","כג","כד","כה","כו","כז","כח","כט","ל"),"")&" "&TEXT($A3,"[$-he-IL,8]mmmm;@") -> טז שבט | E3: =INDEX('רשימת שנים'!A:A,MATCH(VALUE(TEXT($A3,"[$-he-IL,8]yyyy ;@")),'רשימת שנים'!B:B,0)) -> ה'תשסט | F3: =TEXT(TODAY(),"[$-he-IL,8]yyyy ;@")-TEXT($A3,"[$-he-IL,8]yyyy ;@") -> 11 | G3: =IF(היום!$F$2=FALSE,IFERROR(IF(FIND("אדר ",D3,1)>0,LEFT(D3,LEN(D3)-2),D3),D3),IF(TEXT($A3,"[$-he-IL,8]mmmm;@")="אדר",SUBSTITUTE(D3,"אדר","אדר ב"),D3)) -> טז שבט
A4: 41810 | B4: אביגיל | C4: יום הולדת | D4: =IFERROR(CHOOSE(VALUE(TEXT($A4,"[$-he-IL,8]dd;@")),"א","ב","ג","ד","ה","ו","ז","ח","ט","י","יא","יב","יג","יד","טו","טז","יז","יח","יט","כ","כא","כב","כג","כד","כה","כו","כז","כח","כט","ל"),"")&" "&TEXT($A4,"[$-he-IL,8]mmmm;@") -> כב סיון | E4: =INDEX('רשימת שנים'!A:A,MATCH(VALUE(TEXT($A4,"[$-he-IL,8]yyyy ;@")),'רשימת שנים'!B:B,0)) -> ה'תשעד | F4: =TEXT(TODAY(),"[$-he-IL,8]yyyy ;@")-TEXT($A4,"[$-he-IL,8]yyyy ;@") -> 6 | G4: =IF(היום!$F$2=FALSE,IFERROR(IF(FIND("אדר ",D4,1)>0,LEFT(D4,LEN(D4)-2),D4),D4),IF(TEXT($A4,"[$-he-IL,8]mmmm;@")="אדר",SUBSTITUTE(D4,"אדר","אדר ב"),D4)) -> כב סיון
A5: 41807 | B5: רות | C5: יום הולדת | D5: =IFERROR(CHOOSE(VALUE(TEXT($A5,"[$-he-IL,8]dd;@")),"א","ב","ג","ד","ה","ו","ז","ח","ט","י","יא","יב","יג","יד","טו","טז","יז","יח","יט","כ","כא","כב","כג","כד","כה","כו","כז","כח","כט","ל"),"")&" "&TEXT($A5,"[$-he-IL,8]mmmm;@") -> יט סיון | E5: =INDEX('רשימת שנים'!A:A,MATCH(VALUE(TEXT($A5,"[$-he-IL,8]yyyy ;@")),'רשימת שנים'!B:B,0)) -> ה'תשעד | F5: =TEXT(TODAY(),"[$-he-IL,8]yyyy ;@")-TEXT($A5,"[$-he-IL,8]yyyy ;@") -> 6 | G5: =IF(היום!$F$2=FALSE,IFERROR(IF(FIND("אדר ",D5,1)>0,LEFT(D5,LEN(D5)-2),D5),D5),IF(TEXT($A5,"[$-he-IL,8]mmmm;@")="אדר",SUBSTITUTE(D5,"אדר","אדר ב"),D5)) -> יט סיון
A6: 39507 | B6: איתן | C6: יום הולדת | D6: =IFERROR(CHOOSE(VALUE(TEXT($A6,"[$-he-IL,8]dd;@")),"א","ב","ג","ד","ה","ו","ז","ח","ט","י","יא","יב","יג","יד","טו","טז","יז","יח","יט","כ","כא","כב","כג","כד","כה","כו","כז","כח","כט","ל"),"")&" "&TEXT($A6,"[$-he-IL,8]mmmm;@") -> כג אדר א | E6: =INDEX('רשימת שנים'!A:A,MATCH(VALUE(TEXT($A6,"[$-he-IL,8]yyyy ;@")),'רשימת שנים'!B:B,0)) -> ה'תשסח | F6: =TEXT(TODAY(),"[$-he-IL,8]yyyy ;@")-TEXT($A6,"[$-he-IL,8]yyyy ;@") -> 12 | G6: =IF(היום!$F$2=FALSE,IFERROR(IF(FIND("אדר ",D6,1)>0,LEFT(D6,LEN(D6)-2),D6),D6),IF(TEXT($A6,"[$-he-IL,8]mmmm;@")="אדר",SUBSTITUTE(D6,"אדר","אדר ב"),D6)) -> כג אדר
A7: 39875 | B7: מישהו | C7: יום הולדת | D7: =IFERROR(CHOOSE(VALUE(TEXT($A7,"[$-he-IL,8]dd;@")),"א","ב","ג","ד","ה","ו","ז","ח","ט","י","יא","יב","יג","יד","טו","טז","יז","יח","יט","כ","כא","כב","כג","כד","כה","כו","כז","כח","כט","ל"),"")&" "&TEXT($A7,"[$-he-IL,8]mmmm;@") -> ז אדר | E7: =INDEX('רשימת שנים'!A:A,MATCH(VALUE(TEXT($A7,"[$-he-IL,8]yyyy ;@")),'רשימת שנים'!B:B,0)) -> ה'תשסט | F7: =TEXT(TODAY(),"[$-he-IL,8]yyyy ;@")-TEXT($A7,"[$-he-IL,8]yyyy ;@") -> 11 | G7: =IF(היום!$F$2=FALSE,IFERROR(IF(FIND("אדר ",D7,1)>0,LEFT(D7,LEN(D7)-2),D7),D7),IF(TEXT($A7,"[$-he-IL,8]mmmm;@")="אדר",SUBSTITUTE(D7,"אדר","אדר ב"),D7)) -> ז אדר
A8: 41810 | B8: אברהם ושרה | C8: יום נישואין | D8: =IFERROR(CHOOSE(VALUE(TEXT($A8,"[$-he-IL,8]dd;@")),"א","ב","ג","ד","ה","ו","ז","ח","ט","י","יא","יב","יג","יד","טו","טז","יז","יח","יט","כ","כא","כב","כג","כד","כה","כו","כז","כח","כט","ל"),"")&" "&TEXT($A8,"[$-he-IL,8]mmmm;@") -> כב סיון | E8: =INDEX('רשימת שנים'!A:A,MATCH(VALUE(TEXT($A8,"[$-he-IL,8]yyyy ;@")),'רשימת שנים'!B:B,0)) -> ה'תשעד | F8: =TEXT(TODAY(),"[$-he-IL,8]yyyy ;@")-TEXT($A8,"[$-he-IL,8]yyyy ;@") -> 6 | G8: =IF(היום!$F$2=FALSE,IFERROR(IF(FIND("אדר ",D8,1)>0,LEFT(D8,LEN(D8)-2),D8),D8),IF(TEXT($A8,"[$-he-IL,8]mmmm;@")="אדר",SUBSTITUTE(D8,"אדר","אדר ב"),D8)) -> כב סיון
A9: 42164 | B9: יהונתן | C9: יום הולדת | D9: =IFERROR(CHOOSE(VALUE(TEXT($A9,"[$-he-IL,8]dd;@")),"א","ב","ג","ד","ה","ו","ז","ח","ט","י","יא","יב","יג","יד","טו","טז","יז","יח","יט","כ","כא","כב","כג","כד","כה","כו","כז","כח","כט","ל"),"")&" "&TEXT($A9,"[$-he-IL,8]mmmm;@") -> כב סיון | E9: =INDEX('רשימת שנים'!A:A,MATCH(VALUE(TEXT($A9,"[$-he-IL,8]yyyy ;@")),'רשימת שנים'!B:B,0)) -> ה'תשעה | F9: =TEXT(TODAY(),"[$-he-IL,8]yyyy ;@")-TEXT($A9,"[$-he-IL,8]yyyy ;@") -> 5 | G9: =IF(היום!$F$2=FALSE,IFERROR(IF(FIND("אדר ",D9,1)>0,LEFT(D9,LEN(D9)-2),D9),D9),IF(TEXT($A9,"[$-he-IL,8]mmmm;@")="אדר",SUBSTITUTE(D9,"אדר","אדר ב"),D9)) -> כב סיון

Sheet היום
A1: לצורך התאמות מרובות (להסתיר עמודות) | C1: תאריך של היום - מתעדכן לבד -גרסאות אקסל 2016 ומעלה | F1: לצורך התאמת חודש אדר (להסתיר עמודה)
C2: =IFERROR(CHOOSE(VALUE(TEXT(TODAY(),"[$-he-IL,8]dd;@")),"א","ב","ג","ד","ה","ו","ז","ח","ט","י","יא","יב","יג","יד","טו","טז","יז","יח","יט","כ","כא","כב","כג","כד","כה","כו","כז","כח","כט","ל"),"")&" "&TEXT(TODAY(),"[$-he-IL,8]mmmm;@") -> כב סיון | D2: =INDEX('רשימת שנים'!A:A,MATCH(VALUE(TEXT(TODAY(),"[$-he-IL,8]yyyy ;@")),'רשימת שנים'!B:B,0)) -> ה'תשפ | F2: =IFERROR(IF(FIND("אדר ",C2,1)>0,TRUE,FALSE),FALSE) -> FALSE
A3: =IFERROR(MATCH($C$2,אירועים!$G$1:$G$1000,0),"") -> 4 | B3: =A3 -> 4 | C3: =IFERROR(INDEX(אירועים!C:C,B3)&" "&INDEX(אירועים!F:F,B3)&" ל"&INDEX(אירועים!B:B,B3),"") -> יום הולדת 6 לאביגיל
A4: =IFERROR(MATCH($C$2,OFFSET(אירועים!$G$1:$G$1000,SUM($A$3:A3),0),0),"") -> 4 | B4: =IFERROR(B3+A4,"") -> 8 | C4: =IFERROR(INDEX(אירועים!C:C,B4)&" "&INDEX(אירועים!F:F,B4)&" ל"&INDEX(אירועים!B:B,B4),"") -> יום נישואין 6 לאברהם ושרה
A5: =IFERROR(MATCH($C$2,OFFSET(אירועים!$G$1:$G$1000,SUM($A$3:A4),0),0),"") -> 1 | B5: =IFERROR(B4+A5,"") -> 9 | C5: =IFERROR(INDEX(אירועים!C:C,B5)&" "&INDEX(אירועים!F:F,B5)&" ל"&INDEX(אירועים!B:B,B5),"") -> יום הולדת 5 ליהונתן | D5: =IFERROR("יום הולדת ל"&INDEX(אירועים!$B$1:$B$1000,B6)&" גיל "&INDEX(אירועים!F:F,B6),"")
A6: =IFERROR(MATCH($C$2,OFFSET(אירועים!$G$1:$G$1000,SUM($A$3:A5),0),0),"") | B6: =IFERROR(B5+A6,"") | C6: =IFERROR(INDEX(אירועים!C:C,B6)&" "&INDEX(אירועים!F:F,B6)&" ל"&INDEX(אירועים!B:B,B6),"") | D6: =IFERROR("יום הולדת ל"&INDEX(אירועים!$B$1:$B$1000,B7)&" גיל "&INDEX(אירועים!F:F,B7),"")
A7: =IFERROR(MATCH($C$2,OFFSET(אירועים!$G$1:$G$1000,SUM($A$3:A6),0),0),"") | B7: =IFERROR(B6+A7,"") | C7: =IFERROR(INDEX(אירועים!C:C,B7)&" "&INDEX(אירועים!F:F,B7)&" ל"&INDEX(אירועים!B:B,B7),"") | D7: =IFERROR("יום הולדת ל"&INDEX(אירועים!$B$1:$B$1000,B8)&" גיל "&INDEX(אירועים!F:F,B8),"")
A8: =IFERROR(MATCH($C$2,OFFSET(אירועים!$G$1:$G$1000,SUM($A$3:A7),0),0),"") | B8: =IFERROR(B7+A8,"") | C8: =IFERROR(INDEX(אירועים!C:C,B8)&" "&INDEX(אירועים!F:F,B8)&" ל"&INDEX(אירועים!B:B,B8),"") | D8: =IFERROR("יום הולדת ל"&INDEX(אירועים!$B$1:$B$1000,B9)&" גיל "&INDEX(אירועים!F:F,B9),"")
A9: =IFERROR(MATCH($C$2,OFFSET(אירועים!$G$1:$G$1000,SUM($A$3:A8),0),0),"") | B9: =IFERROR(B8+A9,"") | C9: =IFERROR(INDEX(אירועים!C:C,B9)&" "&INDEX(אירועים!F:F,B9)&" ל"&INDEX(אירועים!B:B,B9),"") | D9: =IFERROR("יום הולדת ל"&INDEX(אירועים!$B$1:$B$1000,B10)&" גיל "&INDEX(אירועים!F:F,B10),"")
A10: =IFERROR(MATCH($C$2,OFFSET(אירועים!$G$1:$G$1000,SUM($A$3:A9),0),0),"") | B10: =IFERROR(B9+A10,"") | C10: =IFERROR(INDEX(אירועים!C:C,B10)&" "&INDEX(אירועים!F:F,B10)&" ל"&INDEX(אירועים!B:B,B10),"") | D10: =IFERROR("יום הולדת ל"&INDEX(אירועים!$B$1:$B$1000,B11)&" גיל "&INDEX(אירועים!F:F,B11),"")
A11: =IFERROR(MATCH($C$2,OFFSET(אירועים!$G$1:$G$1000,SUM($A$3:A10),0),0),"") | B11: =IFERROR(B10+A11,"") | C11: =IFERROR(INDEX(אירועים!C:C,B11)&" "&INDEX(אירועים!F:F,B11)&" ל"&INDEX(אירועים!B:B,B11),"") | D11: =IFERROR("יום הולדת ל"&INDEX(אירועים!$B$1:$B$1000,B12)&" גיל "&INDEX(אירועים!F:F,B12),"")
A12: =IFERROR(MATCH($C$2,OFFSET(אירועים!$G$1:$G$1000,SUM($A$3:A11),0),0),"") | B12: =IFERROR(B11+A12,"") | C12: =IFERROR(INDEX(אירועים!C:C,B12)&" "&INDEX(אירועים!F:F,B12)&" ל"&INDEX(אירועים!B:B,B12),"") | D12: =IFERROR("יום הולדת ל"&INDEX(אירועים!$B$1:$B$1000,B13)&" גיל "&INDEX(אירועים!F:F,B13),"")
A13: =IFERROR(MATCH($C$2,OFFSET(אירועים!$G$1:$G$1000,SUM($A$3:A12),0),0),"") | B13: =IFERROR(B12+A13,"") | C13: =IFERROR(INDEX(אירועים!C:C,B13)&" "&INDEX(אירועים!F:F,B13)&" ל"&INDEX(אירועים!B:B,B13),"") | D13: =IFERROR("יום הולדת ל"&INDEX(אירועים!$B$1:$B$1000,B14)&" גיל "&INDEX(אירועים!F:F,B14),"")
A14: =IFERROR(MATCH($C$2,OFFSET(אירועים!$G$1:$G$1000,SUM($A$3:A13),0),0),"") | B14: =IFERROR(B13+A14,"") | C14: =IFERROR(INDEX(אירועים!C:C,B14)&" "&INDEX(אירועים!F:F,B14)&" ל"&INDEX(אירועים!B:B,B14),"") | D14: =IFERROR("יום הולדת ל"&INDEX(אירועים!$B$1:$B$1000,B15)&" גיל "&INDEX(אירועים!F:F,B15),"")
A15: =IFERROR(MATCH($C$2,OFFSET(אירועים!$G$1:$G$1000,SUM($A$3:A14),0),0),"") | B15: =IFERROR(B14+A15,"") | C15: =IFERROR(INDEX(אירועים!C:C,B15)&" "&INDEX(אירועים!F:F,B15)&" ל"&INDEX(אירועים!B:B,B15),"") | D15: =IFERROR("יום הולדת ל"&INDEX(אירועים!$B$1:$B$1000,B16)&" גיל "&INDEX(אירועים!F:F,B16),"")
A16: =IFERROR(MATCH($C$2,OFFSET(אירועים!$G$1:$G$1000,SUM($A$3:A15),0),0),"") | B16: =IFERROR(B15+A16,"") | C16: =IFERROR(INDEX(אירועים!C:C,B16)&" "&INDEX(אירועים!F:F,B16)&" ל"&INDEX(אירועים!B:B,B16),"") | D16: =IFERROR("יום הולדת ל"&INDEX(אירועים!$B$1:$B$1000,B17)&" גיל "&INDEX(אירועים!F:F,B17),"")
... A120: =IFERROR(MATCH($C$2,OFFSET(אירועים!$G$1:$G$1000,SUM($A$3:A119),0),0),"") | B120: =IFERROR(B119+A120,"") | C120: =IFERROR(INDEX(אירועים!C:C,B120)&" "&INDEX(אירועים!F:F,B120)&" ל"&INDEX(אירועים!B:B,B120),"") | D120: =IFERROR("יום הולדת ל"&INDEX(אירועים!$B$1:$B$1000,B121)&" גיל "&INDEX(אירועים!F:F,B121),"")
A121: =IFERROR(MATCH($C$2,OFFSET(אירועים!$G$1:$G$1000,SUM($A$3:A120),0),0),"") | B121: =IFERROR(B120+A121,"")
