Workbook

Sheet הוראות

Sheet הוצאות והכנסות 
A1: בס"ד
C3: נכנס לקופה | H3: הוצאות | L3: סך כל ההוצאות | M3: סך כל ההכנסות | N3: מאזן
L4: =SUM(J7:J226) -> 1000 | M4: =SUM(E7:E130) -> 1000 | N4: =M4-L4 -> 0
C6: סוג ההוצאה | D6: שולם ע"י | E6: סכום | H6: תאריך | I6: סוג הוצאה | J6: סכום
C7: קמח | D7: יעקב | E7: 1000 | I7: כוסות
C8: מים | D8: משה | I8: קמח | J8: 1000
C9: חשמל | D9: יעקב
D10: בערל
D11: שמערל
D12: משה
D13: יעקב

Sheet חישוב עלות קילו וסיכום הכנסות 
A1: בס"ד
D2: אין למלאות בתאים בצבע זה
B6: נכנס לקופה לפי אנשים | E6: מחירון
B8: רשימת המשתתפים בחבורה | C8: סה"כ | E8: כמה ק"ג יצא סה"כ | F8: סה"כ לק"ג
B9: יעקב | C9: =SUMIFS('הוצאות והכנסות '!$E$7:$E$99,'הוצאות והכנסות '!$D$7:$D$99,B9) -> 1000 | E9: 1 | F9: ='הוצאות והכנסות '!L4/'חישוב עלות קילו וסיכום הכנסות '!E9 -> 1000
B10: משה | C10: =SUMIFS('הוצאות והכנסות '!$E$7:$E$99,'הוצאות והכנסות '!$D$7:$D$99,B10) -> 0
B11: בערל | C11: =SUMIFS('הוצאות והכנסות '!$E$7:$E$99,'הוצאות והכנסות '!$D$7:$D$99,B11) -> 0
B12: שמערל | C12: =SUMIFS('הוצאות והכנסות '!$E$7:$E$99,'הוצאות והכנסות '!$D$7:$D$99,B12) -> 0 | E12: סוג מצה | F12: מחיר בסיס | G12: תוספת מיוחדת
B13: חצקל | C13: =SUMIFS('הוצאות והכנסות '!$E$7:$E$99,'הוצאות והכנסות '!$D$7:$D$99,B13) -> 0 | E13: רגיל | F13: =F9 -> 1000
B14: איטשה | C14: =SUMIFS('הוצאות והכנסות '!$E$7:$E$99,'הוצאות והכנסות '!$D$7:$D$99,B14) -> 0 | E14: קצ"י | F14: =$F$9+G14 -> 1000
C15: =SUMIFS('הוצאות והכנסות '!$E$7:$E$99,'הוצאות והכנסות '!$D$7:$D$99,B15) -> 0 | E15: מצה ג | F15: =$F$9+G15 -> 1000
C16: =SUMIFS('הוצאות והכנסות '!$E$7:$E$99,'הוצאות והכנסות '!$D$7:$D$99,B16) -> 0 | E16: מצה ד | F16: =$F$9+G16 -> 1000
C17: =SUMIFS('הוצאות והכנסות '!$E$7:$E$99,'הוצאות והכנסות '!$D$7:$D$99,B17) -> 0 | E17: קרטונים
C18: =SUMIFS('הוצאות והכנסות '!$E$7:$E$99,'הוצאות והכנסות '!$D$7:$D$99,B18) -> 0
C19: =SUMIFS('הוצאות והכנסות '!$E$7:$E$99,'הוצאות והכנסות '!$D$7:$D$99,B19) -> 0
C20: =SUMIFS('הוצאות והכנסות '!$E$7:$E$99,'הוצאות והכנסות '!$D$7:$D$99,B20) -> 0
C21: =SUMIFS('הוצאות והכנסות '!$E$7:$E$99,'הוצאות והכנסות '!$D$7:$D$99,B21) -> 0
C22: =SUMIFS('הוצאות והכנסות '!$E$7:$E$99,'הוצאות והכנסות '!$D$7:$D$99,B22) -> 0
C23: =SUMIFS('הוצאות והכנסות '!$E$7:$E$99,'הוצאות והכנסות '!$D$7:$D$99,B23) -> 0
C24: =SUMIFS('הוצאות והכנסות '!$E$7:$E$99,'הוצאות והכנסות '!$D$7:$D$99,B24) -> 0
C25: =SUMIFS('הוצאות והכנסות '!$E$7:$E$99,'הוצאות והכנסות '!$D$7:$D$99,B25) -> 0
C26: =SUMIFS('הוצאות והכנסות '!$E$7:$E$99,'הוצאות והכנסות '!$D$7:$D$99,B26) -> 0
C27: =SUMIFS('הוצאות והכנסות '!$E$7:$E$99,'הוצאות והכנסות '!$D$7:$D$99,B27) -> 0
C28: =SUMIFS('הוצאות והכנסות '!$E$7:$E$99,'הוצאות והכנסות '!$D$7:$D$99,B28) -> 0
C29: =SUMIFS('הוצאות והכנסות '!$E$7:$E$99,'הוצאות והכנסות '!$D$7:$D$99,B29) -> 0
... C43: =SUMIFS('הוצאות והכנסות '!$E$7:$E$99,'הוצאות והכנסות '!$D$7:$D$99,B43) -> 0

Sheet חישוב תשלום לפי מצות לכל אחד
A1: בס"ד
E3: סכום לתשלום לכ"א | K3: יתרה לתשלום
C5: שם | D5: רגיל | E5: קצ"י | F5: מצה ג | G5: מצה ד | H5: קרטונים | I5: סה"כ | K5: שם | L5: שולם | M5: חייב | N5: סה"כ
B6: כמות | C6: ='חישוב עלות קילו וסיכום הכנסות '!B9 -> יעקב | D6: 1 | I6: =(D6*'חישוב עלות קילו וסיכום הכנסות '!$F$13)+(E6*'חישוב עלות קילו וסיכום הכנסות '!$F$14)+(F6*'חישוב עלות קילו וסיכום הכנסות '!$F$15)+(G6*'חישוב עלות קילו וסיכום הכנסות '!$F$16)+(H6*'חישוב עלות קילו וסיכום הכנסות '!$F$17) -> 1000 | K6: =C6 -> יעקב | L6: =_xlfn.IFNA(VLOOKUP(K6,'חישוב עלות קילו וסיכום הכנסות '!$B$9:$C$43,2,FALSE),"0") -> 1000 | M6: =VLOOKUP(K6,$C$6:$I$103,7,FALSE) -> 1000 | N6: =L6-M6 -> 0
B7: כמות | C7: ='חישוב עלות קילו וסיכום הכנסות '!B10 -> משה | I7: =(D7*'חישוב עלות קילו וסיכום הכנסות '!$F$13)+(E7*'חישוב עלות קילו וסיכום הכנסות '!$F$14)+(F7*'חישוב עלות קילו וסיכום הכנסות '!$F$15)+(G7*'חישוב עלות קילו וסיכום הכנסות '!$F$16)+(H7*'חישוב עלות קילו וסיכום הכנסות '!$F$17) -> 0 | K7: =C7 -> משה | L7: =_xlfn.IFNA(VLOOKUP(K7,'חישוב עלות קילו וסיכום הכנסות '!$B$9:$C$43,2,FALSE),"0") -> 0 | M7: =VLOOKUP(K7,$C$6:$I$103,7,FALSE) -> 0 | N7: =L7-M7 -> 0
B8: כמות | C8: ='חישוב עלות קילו וסיכום הכנסות '!B11 -> בערל | I8: =(D8*'חישוב עלות קילו וסיכום הכנסות '!$F$13)+(E8*'חישוב עלות קילו וסיכום הכנסות '!$F$14)+(F8*'חישוב עלות קילו וסיכום הכנסות '!$F$15)+(G8*'חישוב עלות קילו וסיכום הכנסות '!$F$16)+(H8*'חישוב עלות קילו וסיכום הכנסות '!$F$17) -> 0 | K8: =C8 -> בערל | L8: =_xlfn.IFNA(VLOOKUP(K8,'חישוב עלות קילו וסיכום הכנסות '!$B$9:$C$43,2,FALSE),"0") -> 0 | M8: =VLOOKUP(K8,$C$6:$I$103,7,FALSE) -> 0 | N8: =L8-M8 -> 0
B9: כמות | C9: ='חישוב עלות קילו וסיכום הכנסות '!B12 -> שמערל | I9: =(D9*'חישוב עלות קילו וסיכום הכנסות '!$F$13)+(E9*'חישוב עלות קילו וסיכום הכנסות '!$F$14)+(F9*'חישוב עלות קילו וסיכום הכנסות '!$F$15)+(G9*'חישוב עלות קילו וסיכום הכנסות '!$F$16)+(H9*'חישוב עלות קילו וסיכום הכנסות '!$F$17) -> 0 | K9: =C9 -> שמערל | L9: =_xlfn.IFNA(VLOOKUP(K9,'חישוב עלות קילו וסיכום הכנסות '!$B$9:$C$43,2,FALSE),"0") -> 0 | M9: =VLOOKUP(K9,$C$6:$I$103,7,FALSE) -> 0 | N9: =L9-M9 -> 0
B10: כמות | C10: ='חישוב עלות קילו וסיכום הכנסות '!B13 -> חצקל | I10: =(D10*'חישוב עלות קילו וסיכום הכנסות '!$F$13)+(E10*'חישוב עלות קילו וסיכום הכנסות '!$F$14)+(F10*'חישוב עלות קילו וסיכום הכנסות '!$F$15)+(G10*'חישוב עלות קילו וסיכום הכנסות '!$F$16)+(H10*'חישוב עלות קילו וסיכום הכנסות '!$F$17) -> 0 | K10: =C10 -> חצקל | L10: =_xlfn.IFNA(VLOOKUP(K10,'חישוב עלות קילו וסיכום הכנסות '!$B$9:$C$43,2,FALSE),"0") -> 0 | M10: =VLOOKUP(K10,$C$6:$I$103,7,FALSE) -> 0 | N10: =L10-M10 -> 0
B11: כמות | C11: ='חישוב עלות קילו וסיכום הכנסות '!B14 -> איטשה | I11: =(D11*'חישוב עלות קילו וסיכום הכנסות '!$F$13)+(E11*'חישוב עלות קילו וסיכום הכנסות '!$F$14)+(F11*'חישוב עלות קילו וסיכום הכנסות '!$F$15)+(G11*'חישוב עלות קילו וסיכום הכנסות '!$F$16)+(H11*'חישוב עלות קילו וסיכום הכנסות '!$F$17) -> 0 | K11: =C11 -> איטשה | L11: =_xlfn.IFNA(VLOOKUP(K11,'חישוב עלות קילו וסיכום הכנסות '!$B$9:$C$43,2,FALSE),"0") -> 0 | M11: =VLOOKUP(K11,$C$6:$I$103,7,FALSE) -> 0 | N11: =L11-M11 -> 0
B12: כמות | C12: ='חישוב עלות קילו וסיכום הכנסות '!B15 -> 0 | I12: =(D12*'חישוב עלות קילו וסיכום הכנסות '!$F$13)+(E12*'חישוב עלות קילו וסיכום הכנסות '!$F$14)+(F12*'חישוב עלות קילו וסיכום הכנסות '!$F$15)+(G12*'חישוב עלות קילו וסיכום הכנסות '!$F$16)+(H12*'חישוב עלות קילו וסיכום הכנסות '!$F$17) -> 0 | K12: =C12 -> 0 | L12: =_xlfn.IFNA(VLOOKUP(K12,'חישוב עלות קילו וסיכום הכנסות '!$B$9:$C$43,2,FALSE),"0") -> 0 | M12: =VLOOKUP(K12,$C$6:$I$103,7,FALSE) -> 0 | N12: =L12-M12 -> 0
B13: כמות | C13: ='חישוב עלות קילו וסיכום הכנסות '!B16 -> 0 | I13: =(D13*'חישוב עלות קילו וסיכום הכנסות '!$F$13)+(E13*'חישוב עלות קילו וסיכום הכנסות '!$F$14)+(F13*'חישוב עלות קילו וסיכום הכנסות '!$F$15)+(G13*'חישוב עלות קילו וסיכום הכנסות '!$F$16)+(H13*'חישוב עלות קילו וסיכום הכנסות '!$F$17) -> 0 | K13: =C13 -> 0 | L13: =_xlfn.IFNA(VLOOKUP(K13,'חישוב עלות קילו וסיכום הכנסות '!$B$9:$C$43,2,FALSE),"0") -> 0 | M13: =VLOOKUP(K13,$C$6:$I$103,7,FALSE) -> 0 | N13: =L13-M13 -> 0
B14: כמות | C14: ='חישוב עלות קילו וסיכום הכנסות '!B17 -> 0 | I14: =(D14*'חישוב עלות קילו וסיכום הכנסות '!$F$13)+(E14*'חישוב עלות קילו וסיכום הכנסות '!$F$14)+(F14*'חישוב עלות קילו וסיכום הכנסות '!$F$15)+(G14*'חישוב עלות קילו וסיכום הכנסות '!$F$16)+(H14*'חישוב עלות קילו וסיכום הכנסות '!$F$17) -> 0 | K14: =C14 -> 0 | L14: =_xlfn.IFNA(VLOOKUP(K14,'חישוב עלות קילו וסיכום הכנסות '!$B$9:$C$43,2,FALSE),"0") -> 0 | M14: =VLOOKUP(K14,$C$6:$I$103,7,FALSE) -> 0 | N14: =L14-M14 -> 0
B15: כמות | C15: ='חישוב עלות קילו וסיכום הכנסות '!B18 -> 0 | I15: =(D15*'חישוב עלות קילו וסיכום הכנסות '!$F$13)+(E15*'חישוב עלות קילו וסיכום הכנסות '!$F$14)+(F15*'חישוב עלות קילו וסיכום הכנסות '!$F$15)+(G15*'חישוב עלות קילו וסיכום הכנסות '!$F$16)+(H15*'חישוב עלות קילו וסיכום הכנסות '!$F$17) -> 0 | K15: =C15 -> 0 | L15: =_xlfn.IFNA(VLOOKUP(K15,'חישוב עלות קילו וסיכום הכנסות '!$B$9:$C$43,2,FALSE),"0") -> 0 | M15: =VLOOKUP(K15,$C$6:$I$103,7,FALSE) -> 0 | N15: =L15-M15 -> 0
B16: כמות | C16: ='חישוב עלות קילו וסיכום הכנסות '!B19 -> 0 | I16: =(D16*'חישוב עלות קילו וסיכום הכנסות '!$F$13)+(E16*'חישוב עלות קילו וסיכום הכנסות '!$F$14)+(F16*'חישוב עלות קילו וסיכום הכנסות '!$F$15)+(G16*'חישוב עלות קילו וסיכום הכנסות '!$F$16)+(H16*'חישוב עלות קילו וסיכום הכנסות '!$F$17) -> 0 | K16: =C16 -> 0 | L16: =_xlfn.IFNA(VLOOKUP(K16,'חישוב עלות קילו וסיכום הכנסות '!$B$9:$C$43,2,FALSE),"0") -> 0 | M16: =VLOOKUP(K16,$C$6:$I$103,7,FALSE) -> 0 | N16: =L16-M16 -> 0
B17: כמות | C17: ='חישוב עלות קילו וסיכום הכנסות '!B20 -> 0 | I17: =(D17*'חישוב עלות קילו וסיכום הכנסות '!$F$13)+(E17*'חישוב עלות קילו וסיכום הכנסות '!$F$14)+(F17*'חישוב עלות קילו וסיכום הכנסות '!$F$15)+(G17*'חישוב עלות קילו וסיכום הכנסות '!$F$16)+(H17*'חישוב עלות קילו וסיכום הכנסות '!$F$17) -> 0 | K17: =C17 -> 0 | L17: =_xlfn.IFNA(VLOOKUP(K17,'חישוב עלות קילו וסיכום הכנסות '!$B$9:$C$43,2,FALSE),"0") -> 0 | M17: =VLOOKUP(K17,$C$6:$I$103,7,FALSE) -> 0 | N17: =L17-M17 -> 0
B18: כמות | C18: ='חישוב עלות קילו וסיכום הכנסות '!B21 -> 0 | I18: =(D18*'חישוב עלות קילו וסיכום הכנסות '!$F$13)+(E18*'חישוב עלות קילו וסיכום הכנסות '!$F$14)+(F18*'חישוב עלות קילו וסיכום הכנסות '!$F$15)+(G18*'חישוב עלות קילו וסיכום הכנסות '!$F$16)+(H18*'חישוב עלות קילו וסיכום הכנסות '!$F$17) -> 0 | K18: =C18 -> 0 | L18: =_xlfn.IFNA(VLOOKUP(K18,'חישוב עלות קילו וסיכום הכנסות '!$B$9:$C$43,2,FALSE),"0") -> 0 | M18: =VLOOKUP(K18,$C$6:$I$103,7,FALSE) -> 0 | N18: =L18-M18 -> 0
... B23: כמות | C23: ='חישוב עלות קילו וסיכום הכנסות '!B26 -> 0 | I23: =(D23*'חישוב עלות קילו וסיכום הכנסות '!$F$13)+(E23*'חישוב עלות קילו וסיכום הכנסות '!$F$14)+(F23*'חישוב עלות קילו וסיכום הכנסות '!$F$15)+(G23*'חישוב עלות קילו וסיכום הכנסות '!$F$16)+(H23*'חישוב עלות קילו וסיכום הכנסות '!$F$17) -> 0 | K23: =C23 -> 0 | L23: =_xlfn.IFNA(VLOOKUP(K23,'חישוב עלות קילו וסיכום הכנסות '!$B$9:$C$43,2,FALSE),"0") -> 0 | M23: =VLOOKUP(K23,$C$6:$I$103,7,FALSE) -> 0 | N23: =L23-M23 -> 0
K24: =C24 -> 0 | L24: =_xlfn.IFNA(VLOOKUP(K24,'חישוב עלות קילו וסיכום הכנסות '!$B$9:$C$43,2,FALSE),"0") -> 0 | M24: =VLOOKUP(K24,$C$6:$I$103,7,FALSE) -> 0 | N24: =L24-M24 -> 0
K25: =C25 -> 0 | L25: =_xlfn.IFNA(VLOOKUP(K25,'חישוב עלות קילו וסיכום הכנסות '!$B$9:$C$43,2,FALSE),"0") -> 0 | M25: =VLOOKUP(K25,$C$6:$I$103,7,FALSE) -> 0 | N25: =L25-M25 -> 0
K26: =C26 -> 0 | L26: =_xlfn.IFNA(VLOOKUP(K26,'חישוב עלות קילו וסיכום הכנסות '!$B$9:$C$43,2,FALSE),"0") -> 0 | M26: =VLOOKUP(K26,$C$6:$I$103,7,FALSE) -> 0 | N26: =L26-M26 -> 0
K27: =C27 -> 0 | L27: =_xlfn.IFNA(VLOOKUP(K27,'חישוב עלות קילו וסיכום הכנסות '!$B$9:$C$43,2,FALSE),"0") -> 0 | M27: =VLOOKUP(K27,$C$6:$I$103,7,FALSE) -> 0 | N27: =L27-M27 -> 0
K28: =C28 -> 0 | L28: =_xlfn.IFNA(VLOOKUP(K28,'חישוב עלות קילו וסיכום הכנסות '!$B$9:$C$43,2,FALSE),"0") -> 0 | M28: =VLOOKUP(K28,$C$6:$I$103,7,FALSE) -> 0 | N28: =L28-M28 -> 0
