Workbook

Sheet גיליון1
A1: א | B1: ב | C1: ג | D1: ד | E1: ה | F1: ו | G1: ז | H1: ח | I1: ט
A2: 1 | B2: 5 | C2: 9 | D2: 13 | E2: 17 | F2: 21 | G2: 25 | H2: 29 | I2: 33
A3: 2 | B3: 6 | C3: 10 | D3: 14 | E3: 18 | F3: 22 | G3: 26 | H3: 30 | I3: 34
A4: 3 | B4: 7 | C4: 11 | D4: 15 | E4: 19 | F4: 23 | G4: 27 | H4: 31 | I4: 35
A5: 4 | B5: 8 | C5: 12 | D5: 16 | E5: 20 | F5: 24 | G5: 28 | H5: 32 | I5: 36

Sheet גיליון2
A1: מסד | B1: א | C1: ב | D1: ג | E1: ד | F1: ה | G1: ו | H1: ז | I1: ח | J1: ט
A2: 1 | B2: =INDEX(גיליון1!A:A,$A2+1) -> 1 | C2: =INDEX(גיליון1!B:B,$A2+1) -> 5 | D2: =INDEX(גיליון1!C:C,$A2+1) -> 9 | E2: =INDEX(גיליון1!D:D,$A2+1) -> 13 | F2: =INDEX(גיליון1!E:E,$A2+1) -> 17 | G2: =INDEX(גיליון1!F:F,$A2+1) -> 21 | H2: =INDEX(גיליון1!G:G,$A2+1) -> 25 | I2: =INDEX(גיליון1!H:H,$A2+1) -> 29 | J2: =INDEX(גיליון1!I:I,$A2+1) -> 33
A3: 2 | B3: =INDEX(גיליון1!A:A,$A3+1) -> 2 | C3: =INDEX(גיליון1!B:B,$A3+1) -> 6 | D3: =INDEX(גיליון1!C:C,$A3+1) -> 10 | E3: =INDEX(גיליון1!D:D,$A3+1) -> 14 | F3: =INDEX(גיליון1!E:E,$A3+1) -> 18 | G3: =INDEX(גיליון1!F:F,$A3+1) -> 22 | H3: =INDEX(גיליון1!G:G,$A3+1) -> 26 | I3: =INDEX(גיליון1!H:H,$A3+1) -> 30 | J3: =INDEX(גיליון1!I:I,$A3+1) -> 34
A4: 3 | B4: =INDEX(גיליון1!A:A,$A4+1) -> 3 | C4: =INDEX(גיליון1!B:B,$A4+1) -> 7 | D4: =INDEX(גיליון1!C:C,$A4+1) -> 11 | E4: =INDEX(גיליון1!D:D,$A4+1) -> 15 | F4: =INDEX(גיליון1!E:E,$A4+1) -> 19 | G4: =INDEX(גיליון1!F:F,$A4+1) -> 23 | H4: =INDEX(גיליון1!G:G,$A4+1) -> 27 | I4: =INDEX(גיליון1!H:H,$A4+1) -> 31 | J4: =INDEX(גיליון1!I:I,$A4+1) -> 35
A5: 4 | B5: =INDEX(גיליון1!A:A,$A5+1) -> 4 | C5: =INDEX(גיליון1!B:B,$A5+1) -> 8 | D5: =INDEX(גיליון1!C:C,$A5+1) -> 12 | E5: =INDEX(גיליון1!D:D,$A5+1) -> 16 | F5: =INDEX(גיליון1!E:E,$A5+1) -> 20 | G5: =INDEX(גיליון1!F:F,$A5+1) -> 24 | H5: =INDEX(גיליון1!G:G,$A5+1) -> 28 | I5: =INDEX(גיליון1!H:H,$A5+1) -> 32 | J5: =INDEX(גיליון1!I:I,$A5+1) -> 36
