Workbook

Sheet לקוחות פעילים 
P1: תוצאה | Q1: הוק | R1: כא | S1: הוק | T1: כא
A2: 1 | B2: 1 | C2: 1 | D2: 1 | E2: 1 | F2: 1 | G2: 1 | H2: 1 | I2: 1 | J2: 1 | K2: 1 | L2: 1 | M2: 1 | N2: 1 | O2: 1 | Q2: כן | R2: לא | S2: =IF(Q2=הוק!D2,"v","x") -> v | T2: =IF(R2=כא!D2,"v","x") -> x
A3: 2 | Q3: לא | R3: כן | S3: =IF(Q3=הוק!D3,"v","x") -> v | T3: =IF(R3=כא!D3,"v","x") -> x
A4: 3 | B4: תבדוק באיזה מהעמודות הו"ק/ כ"א (Q/R) רשום כן אם רשום כן בהו"ק תבדוק אם בלשונית הו"ק בעמודה D רשום כן, אם רשום כן תחזיר V אם רשום לא תחזיר X אם רשום כן בכ"א תבדוק אם בלשונית כ"א בעמודה D רשום כן, אם רשום כן תחזיר V אם רשום לא תחזיר אם בשני העמודות רשום לא תחזיר "חסר" | Q4: לא | R4: כן | S4: =IF(Q4=הוק!D4,"v","x") -> x | T4: =IF(R4=כא!D4,"v","x") -> v
A5: 4 | Q5: כן | R5: לא | S5: =IF(Q5=הוק!D5,"v","x") -> x | T5: =IF(R5=כא!D5,"v","x") -> x
A6: 5 | Q6: לא | R6: כן | S6: =IF(Q6=הוק!D6,"v","x") -> x | T6: =IF(R6=כא!D6,"v","x") -> x
A7: 6 | Q7: לא | R7: כן | S7: =IF(Q7=הוק!D7,"v","x") -> v | T7: =IF(R7=כא!D7,"v","x") -> v
A8: 7 | Q8: כן | R8: לא | S8: =IF(Q8=הוק!D8,"v","x") -> x | T8: =IF(R8=כא!D8,"v","x") -> v
A9: 8 | Q9: כן | R9: כן | S9: =IF(Q9=הוק!D9,"v","x") -> x | T9: =IF(R9=כא!D9,"v","x") -> x
A10: 9 | Q10: לא | R10: כן | S10: =IF(Q10=הוק!D10,"v","x") -> x | T10: =IF(R10=כא!D10,"v","x") -> v
A11: 10 | Q11: כן | R11: לא | S11: =IF(Q11=הוק!D11,"v","x") -> x | T11: =IF(R11=כא!D11,"v","x") -> v
A12: 11 | Q12: לא | R12: כן | S12: =IF(Q12=הוק!D12,"v","x") -> x | T12: =IF(R12=כא!D12,"v","x") -> x
A13: 12 | Q13: לא | R13: כן | S13: =IF(Q13=הוק!D13,"v","x") -> x | T13: =IF(R13=כא!D13,"v","x") -> x
A14: 12 | Q14: כן | R14: לא | S14: =IF(Q14=הוק!D14,"v","x") -> x | T14: =IF(R14=כא!D14,"v","x") -> x
A15: 14 | Q15: לא | R15: כן | S15: =IF(Q15=הוק!D15,"v","x") -> x | T15: =IF(R15=כא!D15,"v","x") -> x
A16: 15 | Q16: לא | R16: כן | S16: =IF(Q16=הוק!D16,"v","x") -> x | T16: =IF(R16=כא!D16,"v","x") -> x
... A18: 17 | Q18: לא | R18: לא | S18: =IF(Q18=הוק!D18,"v","x") -> x | T18: =IF(R18=כא!D18,"v","x") -> x
A19: 18

Sheet הוק
A1: 1 | D1: פעיל
A2: 2 | D2: כן
A3: 3 | D3: לא
A4: 4 | D4: כן
A5: 5 | D5: לא
A6: 6 | D6: כן
A7: 7 | D7: לא
A8: 8
A9: 9
A10: 10
A11: 11
A12: 12
A13: 12
A14: 14
A15: 15

Sheet כא
A1: כא | D1: פעיל
A2: 1 | D2: כן
A3: 2 | D3: לא
A4: 3 | D4: כן
A5: 4 | D5: כו
A6: 5 | D6: לא
A7: 6 | D7: כן
A8: 7 | D8: לא
A9: 8 | D9: לא
A10: 9 | D10: כן
A11: 10 | D11: לא
A12: 11
A13: 12
A14: 12
A15: 14
A16: 15
