Workbook

Sheet גיליון1
A1: סמל ועדה | B1: שם ישוב | C1: סמל ישוב | D1: בזב | E1: מצביעים | F1: פסולים | G1: כשרים | H1: אמת | I1: ג | J1: ודעם | K1: בדיקת התאמה עם טבלה בגיליון 2
A2: 99 | B2: מעטפות חיצוניות | C2: 9999 | D2: 0 | E2: 330209 | F2: 2507 | G2: 327702 | H2: 24137 | I2: 13387 | J2: 18077 | K2: =VLOOKUP(C2,גיליון2!C:C,1,FALSE) -> 9999
A3: 14 | B3: תל אביב יפו | C3: 5000 | D3: 434208 | E3: 268116 | F3: 1001 | G3: 267115 | H3: 38808 | I3: 2802 | J3: 11413 | K3: =VLOOKUP(C3,גיליון2!C:C,1,FALSE) -> 5000
A4: 1 | B4: ירושלים | C4: 3000 | D4: 415991 | E4: 263214 | F4: 1625 | G4: 261589 | H4: 12919 | I4: 63782 | J4: 5321 | K4: =VLOOKUP(C4,גיליון2!C:C,1,FALSE) -> 3000
A5: 7 | B5: חיפה | C5: 4000 | D5: 249627 | E5: 145488 | F5: 863 | G5: 144625 | H5: 10395 | I5: 5604 | J5: 14915 | K5: =VLOOKUP(C5,גיליון2!C:C,1,FALSE) -> 4000
A6: 13 | B6: ראשון לציון | C6: 8300 | D6: 207038 | E6: 138490 | F6: 596 | G6: 137894 | H6: 6268 | I6: 1166 | J6: 190 | K6: =VLOOKUP(C6,גיליון2!C:C,1,FALSE) -> 8300
A7: 11 | B7: פתח תקווה | C7: 7900 | D7: 191908 | E7: 132135 | F7: 646 | G7: 131489 | H7: 5045 | I7: 6346 | J7: 191 | K7: =VLOOKUP(C7,גיליון2!C:C,1,FALSE) -> #N/A
A8: 17 | B8: אשדוד | C8: 70 | D8: 179046 | E8: 118313 | F8: 694 | G8: 117619 | H8: 2109 | I8: 13731 | J8: 64 | K8: =VLOOKUP(C8,גיליון2!C:C,1,FALSE) -> #N/A
A9: 10 | B9: נתניה | C9: 7400 | D9: 184613 | E9: 110399 | F9: 636 | G9: 109763 | H9: 3265 | I9: 3602 | J9: 109 | K9: =VLOOKUP(C9,גיליון2!C:C,1,FALSE) -> #N/A
A10: 16 | B10: חולון | C10: 6600 | D10: 158891 | E10: 101584 | F10: 518 | G10: 101066 | H10: 4606 | I10: 894 | J10: 163 | K10: =VLOOKUP(C10,גיליון2!C:C,1,FALSE) -> #N/A
A11: 18 | B11: באר שבע | C11: 9000 | D11: 161968 | E11: 100051 | F11: 785 | G11: 99266 | H11: 3329 | I11: 1360 | J11: 770 | K11: =VLOOKUP(C11,גיליון2!C:C,1,FALSE) -> #N/A
A12: 15 | B12: רמת גן | C12: 8600 | D12: 132937 | E12: 87752 | F12: 331 | G12: 87421 | H12: 8641 | I12: 1041 | J12: 573 | K12: =VLOOKUP(C12,גיליון2!C:C,1,FALSE) -> #N/A
A13: 15 | B13: בני ברק | C13: 6100 | D13: 111344 | E13: 85775 | F13: 929 | G13: 84846 | H13: 314 | I13: 51922 | J13: 22 | K13: =VLOOKUP(C13,גיליון2!C:C,1,FALSE) -> #N/A
... A80: 10 | B80: קדימהצורן | C80: 195 | D80: 15526 | E80: 11719 | F80: 28 | G80: 11691 | H80: 914 | I80: 43 | J80: 29 | K80: =VLOOKUP(C80,גיליון2!C:C,1,FALSE) -> 195

Sheet גיליון2
A1: סמל ועדה | B1: שם ישוב | C1: סמל ישוב | D1: בזב | E1: מצביעים | F1: פסולים | G1: כשרים | H1: אמת | I1: ג | J1: ודעם
A2: 99 | B2: מעטפות חיצוניות | C2: 9999 | D2: 0 | E2: 330209 | F2: 2507 | G2: 327702 | H2: 24137 | I2: 13387 | J2: 18077
A3: 14 | B3: תל אביב יפו | C3: 5000 | D3: 434208 | E3: 268116 | F3: 1001 | G3: 267115 | H3: 38808 | I3: 2802 | J3: 11413
A4: 1 | B4: ירושלים | C4: 3000 | D4: 415991 | E4: 263214 | F4: 1625 | G4: 261589 | H4: 12919 | I4: 63782 | J4: 5321
A5: 7 | B5: חיפה | C5: 4000 | D5: 249627 | E5: 145488 | F5: 863 | G5: 144625 | H5: 10395 | I5: 5604 | J5: 14915
A6: 13 | B6: ראשון לציון | C6: 8300 | D6: 207038 | E6: 138490 | F6: 596 | G6: 137894 | H6: 6268 | I6: 1166 | J6: 190
A7: 13 | B7: רחובות | C7: 8400 | D7: 107289 | E7: 74296 | F7: 310 | G7: 73986 | H7: 4854 | I7: 3283 | J7: 257
A8: 17 | B8: אשקלון | C8: 7100 | D8: 114443 | E8: 72538 | F8: 466 | G8: 72072 | H8: 1592 | I8: 1268 | J8: 70
A9: 16 | B9: בת ים | C9: 6200 | D9: 124576 | E9: 65107 | F9: 492 | G9: 64615 | H9: 2195 | I9: 1032 | J9: 179
A10: 19 | B10: כפר סבא | C10: 6900 | D10: 80780 | E10: 58330 | F10: 220 | G10: 58110 | H10: 5514 | I10: 421 | J10: 265
A11: 15 | B11: הרצליה | C11: 6400 | D11: 82906 | E11: 55010 | F11: 177 | G11: 54833 | H11: 4796 | I11: 675 | J11: 235
A12: 9 | B12: חדרה | C12: 6500 | D12: 76558 | E12: 48251 | F12: 297 | G12: 47954 | H12: 1887 | I12: 667 | J12: 214
A13: 12 | B13: מודיעיןמכביםרעות | C13: 1200 | D13: 62927 | E13: 47859 | F13: 149 | G13: 47710 | H13: 4176 | I13: 313 | J13: 127
... A62: 10 | B62: קדימהצורן | C62: 195 | D62: 15526 | E62: 11719 | F62: 28 | G62: 11691 | H62: 914 | I62: 43 | J62: 29
