Workbook

Sheet שמות
A1: טלפון | B1: שם
A2: 050-1 | B2: א
A3: 050-2 | B3: ב
A4: 050-3 | B4: ג
A5: 050-4 | B5: ד
A6: 050-5 | B6: ה
A7: 050-6 | B7: ו
A8: 050-7 | B8: ז
A9: 050-8 | B9: ח
A10: 050-9 | B10: ט
A11: 050-10 | B11: י
A12: 050-11 | B12: כ
... A14: 050-13 | B14: מ

Sheet ערים
A1: טלפון | B1: עיר
A2: 050-4 | B2: ירושלים
A3: 050-5 | B3: בני ברק
A4: 050-6 | B4: עפולה
A5: 050-7 | B5: צפת
A6: 050-8 | B6: ירושלים
A7: 050-9 | B7: בני ברק
A8: 050-10 | B8: עפולה
A9: 050-11 | B9: צפת
A10: 050-12 | B10: ירושלים
A11: 050-13 | B11: בני ברק
A12: 050-14 | B12: עפולה
... A17: 050-19 | B17: צפת

Sheet  מרכז באמצעות נוסחה
A1: טלפון | B1: שם | C1: עיר | E1: הסבר הנוסחה בתא B2
A2: 050-1 | B2: =IFERROR(INDEX(שמות!B:B,MATCH(A2,שמות!A:A,0)),"") -> א | C2: =IFERROR(INDEX(ערים!B:B,MATCH(A2,ערים!A:A,0)),"") | E2: העמודה שממנה שולפים את השמות | J2: שמות!B:B
A3: 050-2 | B3: =IFERROR(INDEX(שמות!B:B,MATCH(A3,שמות!A:A,0)),"") -> ב | C3: =IFERROR(INDEX(ערים!B:B,MATCH(A3,ערים!A:A,0)),"") | E3: הטלפון לחיפוש | J3: A2
A4: 050-3 | B4: =IFERROR(INDEX(שמות!B:B,MATCH(A4,שמות!A:A,0)),"") -> ג | C4: =IFERROR(INDEX(ערים!B:B,MATCH(A4,ערים!A:A,0)),"") | E4: העמודה שבה מחפשים את הטלפון | J4: שמות!A:A
A5: 050-4 | B5: =IFERROR(INDEX(שמות!B:B,MATCH(A5,שמות!A:A,0)),"") -> ד | C5: =IFERROR(INDEX(ערים!B:B,MATCH(A5,ערים!A:A,0)),"") -> ירושלים | E5: =_xlfn.FORMULATEXT(B2) -> =IFERROR(INDEX(שמות!B:B,MATCH(A2,שמות!A:A,0)),"")
A6: 050-5 | B6: =IFERROR(INDEX(שמות!B:B,MATCH(A6,שמות!A:A,0)),"") -> ה | C6: =IFERROR(INDEX(ערים!B:B,MATCH(A6,ערים!A:A,0)),"") -> בני ברק
A7: 050-6 | B7: =IFERROR(INDEX(שמות!B:B,MATCH(A7,שמות!A:A,0)),"") -> ו | C7: =IFERROR(INDEX(ערים!B:B,MATCH(A7,ערים!A:A,0)),"") -> עפולה
A8: 050-7 | B8: =IFERROR(INDEX(שמות!B:B,MATCH(A8,שמות!A:A,0)),"") -> ז | C8: =IFERROR(INDEX(ערים!B:B,MATCH(A8,ערים!A:A,0)),"") -> צפת
A9: 050-8 | B9: =IFERROR(INDEX(שמות!B:B,MATCH(A9,שמות!A:A,0)),"") -> ח | C9: =IFERROR(INDEX(ערים!B:B,MATCH(A9,ערים!A:A,0)),"") -> ירושלים
A10: 050-9 | B10: =IFERROR(INDEX(שמות!B:B,MATCH(A10,שמות!A:A,0)),"") -> ט | C10: =IFERROR(INDEX(ערים!B:B,MATCH(A10,ערים!A:A,0)),"") -> בני ברק
A11: 050-10 | B11: =IFERROR(INDEX(שמות!B:B,MATCH(A11,שמות!A:A,0)),"") -> י | C11: =IFERROR(INDEX(ערים!B:B,MATCH(A11,ערים!A:A,0)),"") -> עפולה
A12: 050-11 | B12: =IFERROR(INDEX(שמות!B:B,MATCH(A12,שמות!A:A,0)),"") -> כ | C12: =IFERROR(INDEX(ערים!B:B,MATCH(A12,ערים!A:A,0)),"") -> צפת
A13: 050-12 | B13: =IFERROR(INDEX(שמות!B:B,MATCH(A13,שמות!A:A,0)),"") -> ל | C13: =IFERROR(INDEX(ערים!B:B,MATCH(A13,ערים!A:A,0)),"") -> ירושלים
A14: 050-13 | B14: =IFERROR(INDEX(שמות!B:B,MATCH(A14,שמות!A:A,0)),"") -> מ | C14: =IFERROR(INDEX(ערים!B:B,MATCH(A14,ערים!A:A,0)),"") -> בני ברק
A15: 050-14 | B15: =IFERROR(INDEX(שמות!B:B,MATCH(A15,שמות!A:A,0)),"") | C15: =IFERROR(INDEX(ערים!B:B,MATCH(A15,ערים!A:A,0)),"") -> עפולה
A16: 050-15 | B16: =IFERROR(INDEX(שמות!B:B,MATCH(A16,שמות!A:A,0)),"") | C16: =IFERROR(INDEX(ערים!B:B,MATCH(A16,ערים!A:A,0)),"") -> צפת
A17: 050-16 | B17: =IFERROR(INDEX(שמות!B:B,MATCH(A17,שמות!A:A,0)),"") | C17: =IFERROR(INDEX(ערים!B:B,MATCH(A17,ערים!A:A,0)),"") -> ירושלים
... A20: 050-19 | B20: =IFERROR(INDEX(שמות!B:B,MATCH(A20,שמות!A:A,0)),"") | C20: =IFERROR(INDEX(ערים!B:B,MATCH(A20,ערים!A:A,0)),"") -> צפת

Sheet מרכז באמצעות PQ
A1: טלפון | B1: שם | C1: עיר
A2: 050-4 | B2: ד | C2: ירושלים
A3: 050-5 | B3: ה | C3: בני ברק
A4: 050-6 | B4: ו | C4: עפולה
A5: 050-7 | B5: ז | C5: צפת
A6: 050-8 | B6: ח | C6: ירושלים
A7: 050-9 | B7: ט | C7: בני ברק
A8: 050-10 | B8: י | C8: עפולה
A9: 050-11 | B9: כ | C9: צפת
A10: 050-12 | B10: ל | C10: ירושלים
A11: 050-13 | B11: מ | C11: בני ברק
A12: 050-14 | C12: עפולה
A13: 050-15 | C13: צפת
A14: 050-16 | C14: ירושלים
A15: 050-17 | C15: בני ברק
A16: 050-18 | C16: עפולה
A17: 050-19 | C17: צפת
A18: 050-1 | B18: א
A19: 050-2 | B19: ב
A20: 050-3 | B20: ג
