Workbook

Sheet סיכום ללקוח
A1: שם לקוח | B1: ראובן
A2: מחיר | B2: תיאור | C2: עמודת עזר
A3: {=IFERROR(INDEX(הוצאות!B:B,C3),"")} -> 100 | B3: {=IFERROR(INDEX(הוצאות!C:C,C3),"")} -> הדפסה | C3: =IFERROR(MATCH($B$1,הוצאות!$A:$A,0),"") -> 2
A4: {=IFERROR(INDEX(הוצאות!B:B,C4),"")} -> 150 | B4: {=IFERROR(INDEX(הוצאות!C:C,C4),"")} -> משלוח | C4: =IFERROR(MATCH($B$1,OFFSET(הוצאות!$A$1,C3,0,50000,1),0)+C3,"") -> 4
A5: {=IFERROR(INDEX(הוצאות!B:B,C5),"")} -> 200 | B5: {=IFERROR(INDEX(הוצאות!C:C,C5),"")} -> פרסום | C5: =IFERROR(MATCH($B$1,OFFSET(הוצאות!$A$1,C4,0,50000,1),0)+C4,"") -> 6
A6: {=IFERROR(INDEX(הוצאות!B:B,C6),"")} | B6: {=IFERROR(INDEX(הוצאות!C:C,C6),"")} | C6: =IFERROR(MATCH($B$1,OFFSET(הוצאות!$A$1,C5,0,50000,1),0)+C5,"")
A7: {=IFERROR(INDEX(הוצאות!B:B,C7),"")} | B7: {=IFERROR(INDEX(הוצאות!C:C,C7),"")} | C7: =IFERROR(MATCH($B$1,OFFSET(הוצאות!$A$1,C6,0,50000,1),0)+C6,"")
A8: {=IFERROR(INDEX(הוצאות!B:B,C8),"")} | B8: {=IFERROR(INDEX(הוצאות!C:C,C8),"")} | C8: =IFERROR(MATCH($B$1,OFFSET(הוצאות!$A$1,C7,0,50000,1),0)+C7,"")
A9: {=IFERROR(INDEX(הוצאות!B:B,C9),"")} | B9: {=IFERROR(INDEX(הוצאות!C:C,C9),"")} | C9: =IFERROR(MATCH($B$1,OFFSET(הוצאות!$A$1,C8,0,50000,1),0)+C8,"")
A10: {=IFERROR(INDEX(הוצאות!B:B,C10),"")} | B10: {=IFERROR(INDEX(הוצאות!C:C,C10),"")} | C10: =IFERROR(MATCH($B$1,OFFSET(הוצאות!$A$1,C9,0,50000,1),0)+C9,"")
A11: {=IFERROR(INDEX(הוצאות!B:B,C11),"")} | B11: {=IFERROR(INDEX(הוצאות!C:C,C11),"")} | C11: =IFERROR(MATCH($B$1,OFFSET(הוצאות!$A$1,C10,0,50000,1),0)+C10,"")
A12: {=IFERROR(INDEX(הוצאות!B:B,C12),"")} | B12: {=IFERROR(INDEX(הוצאות!C:C,C12),"")} | C12: =IFERROR(MATCH($B$1,OFFSET(הוצאות!$A$1,C11,0,50000,1),0)+C11,"")
A13: {=IFERROR(INDEX(הוצאות!B:B,C13),"")} | B13: {=IFERROR(INDEX(הוצאות!C:C,C13),"")} | C13: =IFERROR(MATCH($B$1,OFFSET(הוצאות!$A$1,C12,0,50000,1),0)+C12,"")
A14: {=IFERROR(INDEX(הוצאות!B:B,C14),"")} | B14: {=IFERROR(INDEX(הוצאות!C:C,C14),"")} | C14: =IFERROR(MATCH($B$1,OFFSET(הוצאות!$A$1,C13,0,50000,1),0)+C13,"")
A15: {=IFERROR(INDEX(הוצאות!B:B,C15),"")} | B15: {=IFERROR(INDEX(הוצאות!C:C,C15),"")} | C15: =IFERROR(MATCH($B$1,OFFSET(הוצאות!$A$1,C14,0,50000,1),0)+C14,"")
... A20: {=IFERROR(INDEX(הוצאות!B:B,C20),"")} | B20: {=IFERROR(INDEX(הוצאות!C:C,C20),"")} | C20: =IFERROR(MATCH($B$1,OFFSET(הוצאות!$A$1,C19,0,50000,1),0)+C19,"")

Sheet הוצאות
A1: שם | B1: סכום | C1: תיאור
A2: ראובן | B2: 100 | C2: הדפסה
A3: שמעון | B3: 200 | C3: משלוח
A4: ראובן | B4: 150 | C4: משלוח
A5: לוי | B5: 100 | C5: הדפסות
A6: ראובן | B6: 200 | C6: פרסום
A7: שמעון | B7: 140 | C7: הדפסה
