Workbook

Sheet תגובות גוגל פורמס
B2: תאריך | C2: שעה | D2: סכום | E2: מיקום
B3: 45434 | C3: 0.062523148 | D3: 5 | E3: לא משנה | F3: כל פעם שמישהו מכניס תגובה חדשה לטופס זה נכנס לפה וההפנייה מגיליון "לכאן הכול עבור" לתא זה יורד לשורה 4 במקום שיישאר על שורה 3
B4: 45047

Sheet לכאן הכול עובר
B2: ='תגובות גוגל פורמס'!B2 -> תאריך | C2: ='תגובות גוגל פורמס'!C2 -> שעה | D2: ='תגובות גוגל פורמס'!D2 -> סכום | E2: ='תגובות גוגל פורמס'!E2 -> מיקום
B3: ='תגובות גוגל פורמס'!B3 -> 45434 | C3: ='תגובות גוגל פורמס'!C3 -> 0.062523148 | D3: ='תגובות גוגל פורמס'!D3 -> 5 | E3: ='תגובות גוגל פורמס'!E3 -> לא משנה
B4: ='תגובות גוגל פורמס'!B4 -> 45047 | C4: ='תגובות גוגל פורמס'!C4 -> 0 | D4: ='תגובות גוגל פורמס'!D4 -> 0 | E4: ='תגובות גוגל פורמס'!E4 -> 0
B5: ='תגובות גוגל פורמס'!B5 -> 0 | C5: ='תגובות גוגל פורמס'!C5 -> 0 | D5: ='תגובות גוגל פורמס'!D5 -> 0 | E5: ='תגובות גוגל פורמס'!E5 -> 0
B6: ='תגובות גוגל פורמס'!B6 -> 0 | C6: ='תגובות גוגל פורמס'!C6 -> 0 | D6: ='תגובות גוגל פורמס'!D6 -> 0 | E6: ='תגובות גוגל פורמס'!E6 -> 0
B7: ='תגובות גוגל פורמס'!B7 -> 0 | C7: ='תגובות גוגל פורמס'!C7 -> 0 | D7: ='תגובות גוגל פורמס'!D7 -> 0 | E7: ='תגובות גוגל פורמס'!E7 -> 0
B8: ='תגובות גוגל פורמס'!B8 -> 0 | C8: ='תגובות גוגל פורמס'!C8 -> 0 | D8: ='תגובות גוגל פורמס'!D8 -> 0 | E8: ='תגובות גוגל פורמס'!E8 -> 0
B9: ='תגובות גוגל פורמס'!B9 -> 0 | C9: ='תגובות גוגל פורמס'!C9 -> 0 | D9: ='תגובות גוגל פורמס'!D9 -> 0 | E9: ='תגובות גוגל פורמס'!E9 -> 0
B10: ='תגובות גוגל פורמס'!B10 -> 0 | C10: ='תגובות גוגל פורמס'!C10 -> 0 | D10: ='תגובות גוגל פורמס'!D10 -> 0 | E10: ='תגובות גוגל פורמס'!E10 -> 0
B11: ='תגובות גוגל פורמס'!B11 -> 0 | C11: ='תגובות גוגל פורמס'!C11 -> 0 | D11: ='תגובות גוגל פורמס'!D11 -> 0 | E11: ='תגובות גוגל פורמס'!E11 -> 0
B12: ='תגובות גוגל פורמס'!B12 -> 0 | C12: ='תגובות גוגל פורמס'!C12 -> 0 | D12: ='תגובות גוגל פורמס'!D12 -> 0 | E12: ='תגובות גוגל פורמס'!E12 -> 0
B13: ='תגובות גוגל פורמס'!B13 -> 0 | C13: ='תגובות גוגל פורמס'!C13 -> 0 | D13: ='תגובות גוגל פורמס'!D13 -> 0 | E13: ='תגובות גוגל פורמס'!E13 -> 0
... B34: ='תגובות גוגל פורמס'!B34 -> 0 | C34: ='תגובות גוגל פורמס'!C34 -> 0 | D34: ='תגובות גוגל פורמס'!D34 -> 0 | E34: ='תגובות גוגל פורמס'!E34 -> 0
