Workbook
Name מוצר: גיליון2!$A$1:$A$4
Name מוצרים_ומחירים: גיליון2!$A$1:$B$22
Name מחיר: גיליון2!$B$1:$B$4
Name עיר: גיליון2!$A$1:$A$4

Sheet גיליון1
A1: כמות | B1: שם המוצר | C1: מחיר ליחידה | D1: ס"ה
B2: כוסות | C2: =IF(ISBLANK(B2),"",VLOOKUP(B2,מוצרים_ומחירים,2)) -> 3.9
B3: צלחות | C3: =IF(ISBLANK(B3),"",VLOOKUP(B3,מוצרים_ומחירים,2)) -> 5.8
C4: =IF(ISBLANK(B4),"",VLOOKUP(B4,מוצרים_ומחירים,2))
C5: =IF(ISBLANK(B5),"",VLOOKUP(B5,מוצרים_ומחירים,2))
C6: =IF(ISBLANK(B6),"",VLOOKUP(B6,מוצרים_ומחירים,2))
C7: =IF(ISBLANK(B7),"",VLOOKUP(B7,מוצרים_ומחירים,2))
C8: =IF(ISBLANK(B8),"",VLOOKUP(B8,מוצרים_ומחירים,2))
C9: =IF(ISBLANK(B9),"",VLOOKUP(B9,מוצרים_ומחירים,2))
C10: =IF(ISBLANK(B10),"",VLOOKUP(B10,מוצרים_ומחירים,2))
C11: =IF(ISBLANK(B11),"",VLOOKUP(B11,מוצרים_ומחירים,2))
C12: =IF(ISBLANK(B12),"",VLOOKUP(B12,מוצרים_ומחירים,2))
C13: =IF(ISBLANK(B13),"",VLOOKUP(B13,מוצרים_ומחירים,2))
C14: =IF(ISBLANK(B14),"",VLOOKUP(B14,מוצרים_ומחירים,2))
C15: =IF(ISBLANK(B15),"",VLOOKUP(B15,מוצרים_ומחירים,2))
... C17: =IF(ISBLANK(B17),"",VLOOKUP(B17,מוצרים_ומחירים,2))
C18: =IF(ISBLANK(B18),"",VLOOKUP(B18,גיליון2!A17:B42,2))
C19: =IF(ISBLANK(B19),"",VLOOKUP(B19,גיליון2!A18:B43,2))
C20: =IF(ISBLANK(B20),"",VLOOKUP(B20,גיליון2!A19:B44,2))
C21: =IF(ISBLANK(B21),"",VLOOKUP(B21,גיליון2!A20:B45,2))
C22: =IF(ISBLANK(B22),"",VLOOKUP(B22,גיליון2!A21:B46,2))

Sheet גיליון2
A1: כוסות | B1: 3.9
A2: כפיות | B2: 3.6
A3: מזלגות | B3: 3.6
A4: צלחות | B4: 5.8
