Workbook
Name תפארת_חנה: "תפארת חנה"
Name תת_בעשט: "תלמוד תורה בעש""ט"

Sheet תלמוד תורה בעש"ט
C3: מ.ז. | D3: שם | E3: מוסד | F3: ערות
A4: =IFERROR(MATCH(תת_בעשט,OFFSET('פרטים אישיים'!$D$1:$D$100000,B3,0),0),"") -> 5 | B4: =IFERROR(B3+A4,"") -> 5 | C4: =IFERROR(INDEX('פרטים אישיים'!B:B,$B4),"") -> 1234 | D4: =IFERROR(INDEX('פרטים אישיים'!C:C,$B4),"") -> משה | E4: =IFERROR(INDEX('פרטים אישיים'!D:D,$B4),"") -> תלמוד תורה בעש"ט | F4: =IFERROR(INDEX('פרטים אישיים'!E:E,$B4),"") -> 0
A5: =IFERROR(MATCH(תת_בעשט,OFFSET('פרטים אישיים'!$D$1:$D$100000,B4,0),0),"") -> 1 | B5: =IFERROR(B4+A5,"") -> 6 | C5: =IFERROR(INDEX('פרטים אישיים'!B:B,$B5),"") -> 1235 | D5: =IFERROR(INDEX('פרטים אישיים'!C:C,$B5),"") -> יעקב | E5: =IFERROR(INDEX('פרטים אישיים'!D:D,$B5),"") -> תלמוד תורה בעש"ט | F5: =IFERROR(INDEX('פרטים אישיים'!E:E,$B5),"") -> 0
A6: =IFERROR(MATCH(תת_בעשט,OFFSET('פרטים אישיים'!$D$1:$D$100000,B5,0),0),"") -> 1 | B6: =IFERROR(B5+A6,"") -> 7 | C6: =IFERROR(INDEX('פרטים אישיים'!B:B,$B6),"") -> 1236 | D6: =IFERROR(INDEX('פרטים אישיים'!C:C,$B6),"") -> יצחק | E6: =IFERROR(INDEX('פרטים אישיים'!D:D,$B6),"") -> תלמוד תורה בעש"ט | F6: =IFERROR(INDEX('פרטים אישיים'!E:E,$B6),"") -> 0
A7: =IFERROR(MATCH(תת_בעשט,OFFSET('פרטים אישיים'!$D$1:$D$100000,B6,0),0),"") -> 1 | B7: =IFERROR(B6+A7,"") -> 8 | C7: =IFERROR(INDEX('פרטים אישיים'!B:B,$B7),"") -> 1237 | D7: =IFERROR(INDEX('פרטים אישיים'!C:C,$B7),"") -> צבי | E7: =IFERROR(INDEX('פרטים אישיים'!D:D,$B7),"") -> תלמוד תורה בעש"ט | F7: =IFERROR(INDEX('פרטים אישיים'!E:E,$B7),"") -> 0
A8: =IFERROR(MATCH(תת_בעשט,OFFSET('פרטים אישיים'!$D$1:$D$100000,B7,0),0),"") | B8: =IFERROR(B7+A8,"") | C8: =IFERROR(INDEX('פרטים אישיים'!B:B,$B8),"") | D8: =IFERROR(INDEX('פרטים אישיים'!C:C,$B8),"") | E8: =IFERROR(INDEX('פרטים אישיים'!D:D,$B8),"") | F8: =IFERROR(INDEX('פרטים אישיים'!E:E,$B8),"")
A9: =IFERROR(MATCH(תת_בעשט,OFFSET('פרטים אישיים'!$D$1:$D$100000,B8,0),0),"") | B9: =IFERROR(B8+A9,"") | C9: =IFERROR(INDEX('פרטים אישיים'!B:B,$B9),"") | D9: =IFERROR(INDEX('פרטים אישיים'!C:C,$B9),"") | E9: =IFERROR(INDEX('פרטים אישיים'!D:D,$B9),"") | F9: =IFERROR(INDEX('פרטים אישיים'!E:E,$B9),"")
A10: =IFERROR(MATCH(תת_בעשט,OFFSET('פרטים אישיים'!$D$1:$D$100000,B9,0),0),"") | B10: =IFERROR(B9+A10,"") | C10: =IFERROR(INDEX('פרטים אישיים'!B:B,$B10),"") | D10: =IFERROR(INDEX('פרטים אישיים'!C:C,$B10),"") | E10: =IFERROR(INDEX('פרטים אישיים'!D:D,$B10),"") | F10: =IFERROR(INDEX('פרטים אישיים'!E:E,$B10),"")
A11: =IFERROR(MATCH(תת_בעשט,OFFSET('פרטים אישיים'!$D$1:$D$100000,B10,0),0),"") | B11: =IFERROR(B10+A11,"") | C11: =IFERROR(INDEX('פרטים אישיים'!B:B,$B11),"") | D11: =IFERROR(INDEX('פרטים אישיים'!C:C,$B11),"") | E11: =IFERROR(INDEX('פרטים אישיים'!D:D,$B11),"") | F11: =IFERROR(INDEX('פרטים אישיים'!E:E,$B11),"")

Sheet ביה"ס תפארת חנה
C3: מ.ז. | D3: שם | E3: מוסד | F3: ערות
A4: =IFERROR(MATCH(תפארת_חנה,OFFSET('פרטים אישיים'!$D$1:$D$100000,B3,0),0),"") -> 9 | B4: =IFERROR(B3+A4,"") -> 9 | C4: =IFERROR(INDEX('פרטים אישיים'!B:B,$B4),"") -> 1238 | D4: =IFERROR(INDEX('פרטים אישיים'!C:C,$B4),"") -> חנה | E4: =IFERROR(INDEX('פרטים אישיים'!D:D,$B4),"") -> תפארת חנה | F4: =IFERROR(INDEX('פרטים אישיים'!E:E,$B4),"") -> 0
A5: =IFERROR(MATCH(תפארת_חנה,OFFSET('פרטים אישיים'!$D$1:$D$100000,B4,0),0),"") -> 1 | B5: =IFERROR(B4+A5,"") -> 10 | C5: =IFERROR(INDEX('פרטים אישיים'!B:B,$B5),"") -> 1239 | D5: =IFERROR(INDEX('פרטים אישיים'!C:C,$B5),"") -> ריזל | E5: =IFERROR(INDEX('פרטים אישיים'!D:D,$B5),"") -> תפארת חנה | F5: =IFERROR(INDEX('פרטים אישיים'!E:E,$B5),"") -> 0
A6: =IFERROR(MATCH(תפארת_חנה,OFFSET('פרטים אישיים'!$D$1:$D$100000,B5,0),0),"") -> 1 | B6: =IFERROR(B5+A6,"") -> 11 | C6: =IFERROR(INDEX('פרטים אישיים'!B:B,$B6),"") -> 1240 | D6: =IFERROR(INDEX('פרטים אישיים'!C:C,$B6),"") -> אסתר | E6: =IFERROR(INDEX('פרטים אישיים'!D:D,$B6),"") -> תפארת חנה | F6: =IFERROR(INDEX('פרטים אישיים'!E:E,$B6),"") -> 0
A7: =IFERROR(MATCH(תפארת_חנה,OFFSET('פרטים אישיים'!$D$1:$D$100000,B6,0),0),"") -> 1 | B7: =IFERROR(B6+A7,"") -> 12 | C7: =IFERROR(INDEX('פרטים אישיים'!B:B,$B7),"") -> 1241 | D7: =IFERROR(INDEX('פרטים אישיים'!C:C,$B7),"") -> עדס | E7: =IFERROR(INDEX('פרטים אישיים'!D:D,$B7),"") -> תפארת חנה | F7: =IFERROR(INDEX('פרטים אישיים'!E:E,$B7),"") -> 0
A8: =IFERROR(MATCH(תפארת_חנה,OFFSET('פרטים אישיים'!$D$1:$D$100000,B7,0),0),"") | B8: =IFERROR(B7+A8,"") | C8: =IFERROR(INDEX('פרטים אישיים'!B:B,$B8),"") | D8: =IFERROR(INDEX('פרטים אישיים'!C:C,$B8),"") | E8: =IFERROR(INDEX('פרטים אישיים'!D:D,$B8),"") | F8: =IFERROR(INDEX('פרטים אישיים'!E:E,$B8),"")
A9: =IFERROR(MATCH(תפארת_חנה,OFFSET('פרטים אישיים'!$D$1:$D$100000,B8,0),0),"") | B9: =IFERROR(B8+A9,"") | C9: =IFERROR(INDEX('פרטים אישיים'!B:B,$B9),"") | D9: =IFERROR(INDEX('פרטים אישיים'!C:C,$B9),"") | E9: =IFERROR(INDEX('פרטים אישיים'!D:D,$B9),"") | F9: =IFERROR(INDEX('פרטים אישיים'!E:E,$B9),"")
A10: =IFERROR(MATCH(תפארת_חנה,OFFSET('פרטים אישיים'!$D$1:$D$100000,B9,0),0),"") | B10: =IFERROR(B9+A10,"") | C10: =IFERROR(INDEX('פרטים אישיים'!B:B,$B10),"") | D10: =IFERROR(INDEX('פרטים אישיים'!C:C,$B10),"") | E10: =IFERROR(INDEX('פרטים אישיים'!D:D,$B10),"") | F10: =IFERROR(INDEX('פרטים אישיים'!E:E,$B10),"")
A11: =IFERROR(MATCH(תפארת_חנה,OFFSET('פרטים אישיים'!$D$1:$D$100000,B10,0),0),"") | B11: =IFERROR(B10+A11,"") | C11: =IFERROR(INDEX('פרטים אישיים'!B:B,$B11),"") | D11: =IFERROR(INDEX('פרטים אישיים'!C:C,$B11),"") | E11: =IFERROR(INDEX('פרטים אישיים'!D:D,$B11),"") | F11: =IFERROR(INDEX('פרטים אישיים'!E:E,$B11),"")

Sheet פרטים אישיים
B4: מ.ז. | C4: שם | D4: מוסד | E4: הערות
B5: 1234 | C5: משה | D5: תלמוד תורה בעש"ט
B6: 1235 | C6: יעקב | D6: תלמוד תורה בעש"ט
B7: 1236 | C7: יצחק | D7: תלמוד תורה בעש"ט
B8: 1237 | C8: צבי | D8: תלמוד תורה בעש"ט
B9: 1238 | C9: חנה | D9: תפארת חנה
B10: 1239 | C10: ריזל | D10: תפארת חנה
B11: 1240 | C11: אסתר | D11: תפארת חנה
B12: 1241 | C12: עדס | D12: תפארת חנה
