Workbook

Sheet ראשי
A1: 1 | B1: 2 | C1: 3 | F1: 4 | G1: 5 | H1: 6 | J1: 4 | K1: 5 | L1: 6 | N1: 7 | O1: 8
F2: דירת 3 חדרים של 80 מ"ר | J2: דירת 4 חדרים של 100 מ"ר
A3: יישוב | B3: מיקום בסדר ההגרלות | C3: סה"כ דירות בהגרלה | D3: דירות לכלל הציבור | E3: דירות לבני מקום | F3: מחיר לאחר הנחה | G3: הון עצמי נדרש | H3: רווח באחוזים לעומת מחיר שוק | I3: רווח לעומת מחיר שוק | J3: מחיר לאחר הנחה2 | K3: הון עצמי נדרש2 | L3: רווח באחוזים לעומת מחיר שוק2 | M3: רווח לעומת מחיר שוק2 | N3: מענק | O3: אחוזי זכייה נכון לעכשיו
A4: אכסאל | B4: 15 | C4: 72 | D4: =טבלה1[[#This Row],[סה"כ דירות בהגרלה]]-E4 -> 30 | E4: 42 | F4: 550733 | G4: =IF(F4>1800000,F4*25%,IF(F4>1500000,F4-1350000,IF(F4>1000000,F4*10%,IF(F4<1000000,100000)))) -> 100000 | H4: =F4/VLOOKUP(A4,'מחירים שוק חופשי 2023'!A:C,3,0)-1 -> 0.3768325 | I4: =VLOOKUP(A4,'מחירים שוק חופשי 2023'!A:C,3,0)-F4 -> -150733 | J4: 675899.5 | K4: =IF(J4>1800000,J4*25%,IF(J4>1500000,J4-1350000,IF(J4>1000000,J4*10%,IF(J4<1000000,100000)))) -> 100000 | L4: =J4/VLOOKUP(A4,'מחירים שוק חופשי 2023'!A:D,4,0)-1 -> 0.351799 | M4: =VLOOKUP(A4,'מחירים שוק חופשי 2023'!A:D,4,0)-J4 -> -175899.5 | N4: - | O4: 0.83
A5: אלעד | B5: 9 | C5: 735 | D5: =טבלה1[[#This Row],[סה"כ דירות בהגרלה]]-E5 -> 551 | E5: 184 | F5: 1543792.9 | G5: =IF(F5>1800000,F5*25%,IF(F5>1500000,F5-1350000,IF(F5>1000000,F5*10%,IF(F5<1000000,100000)))) -> 193792.91 | H5: =F5/VLOOKUP(A5,'מחירים שוק חופשי 2023'!A:C,3,0)-1 -> -0.18231308 | I5: =VLOOKUP(A5,'מחירים שוק חופשי 2023'!A:C,3,0)-F5 -> 344207.09 | J5: 1916527.3 | K5: =IF(J5>1800000,J5*25%,IF(J5>1500000,J5-1350000,IF(J5>1000000,J5*10%,IF(J5<1000000,100000)))) -> 479131.83 | L5: =J5/VLOOKUP(A5,'מחירים שוק חופשי 2023'!A:D,4,0)-1 -> -0.18791215 | M5: =VLOOKUP(A5,'מחירים שוק חופשי 2023'!A:D,4,0)-J5 -> 443472.68 | N5: - | O5: 0.12
A6: אפרת | B6: 19 | C6: 13 | D6: =טבלה1[[#This Row],[סה"כ דירות בהגרלה]]-E6 -> 10 | E6: 3 | F6: 944400 | G6: =IF(F6>1800000,F6*25%,IF(F6>1500000,F6-1350000,IF(F6>1000000,F6*10%,IF(F6<1000000,100000)))) -> 100000 | H6: =F6/VLOOKUP(A6,'מחירים שוק חופשי 2023'!A:C,3,0)-1 -> -0.47533333 | I6: =VLOOKUP(A6,'מחירים שוק חופשי 2023'!A:C,3,0)-F6 -> 855600 | J6: 1295400 | K6: =IF(J6>1800000,J6*25%,IF(J6>1500000,J6-1350000,IF(J6>1000000,J6*10%,IF(J6<1000000,100000)))) -> 129540 | L6: =J6/VLOOKUP(A6,'מחירים שוק חופשי 2023'!A:D,4,0)-1 -> -0.42426667 | M6: =VLOOKUP(A6,'מחירים שוק חופשי 2023'!A:D,4,0)-J6 -> 954600 | N6: - | O6: 0.01
A7: באר שבע | B7: 4 | C7: 78 | D7: =טבלה1[[#This Row],[סה"כ דירות בהגרלה]]-E7 -> 58 | E7: 20 | F7: 737605 | G7: =IF(F7>1800000,F7*25%,IF(F7>1500000,F7-1350000,IF(F7>1000000,F7*10%,IF(F7<1000000,100000)))) -> 100000 | H7: =F7/VLOOKUP(A7,'מחירים שוק חופשי 2023'!A:C,3,0)-1 -> -0.42374609 | I7: =VLOOKUP(A7,'מחירים שוק חופשי 2023'!A:C,3,0)-F7 -> 542395 | J7: 905243 | K7: =IF(J7>1800000,J7*25%,IF(J7>1500000,J7-1350000,IF(J7>1000000,J7*10%,IF(J7<1000000,100000)))) -> 100000 | L7: =J7/VLOOKUP(A7,'מחירים שוק חופשי 2023'!A:D,4,0)-1 -> -0.43422313 | M7: =VLOOKUP(A7,'מחירים שוק חופשי 2023'!A:D,4,0)-J7 -> 694757 | N7: - | O7: 0.01
A8: בית שאן | B8: 14 | C8: 96 | D8: =טבלה1[[#This Row],[סה"כ דירות בהגרלה]]-E8 -> 48 | E8: 48 | F8: 445946 | G8: =IF(F8>1800000,F8*25%,IF(F8>1500000,F8-1350000,IF(F8>1000000,F8*10%,IF(F8<1000000,100000)))) -> 100000 | H8: =F8/VLOOKUP(A8,'מחירים שוק חופשי 2023'!A:C,3,0)-1 -> -0.35182267 | I8: =VLOOKUP(A8,'מחירים שוק חופשי 2023'!A:C,3,0)-F8 -> 242054 | J8: 547297 | K8: =IF(J8>1800000,J8*25%,IF(J8>1500000,J8-1350000,IF(J8>1000000,J8*10%,IF(J8<1000000,100000)))) -> 100000 | L8: =J8/VLOOKUP(A8,'מחירים שוק חופשי 2023'!A:D,4,0)-1 -> -0.36360814 | M8: =VLOOKUP(A8,'מחירים שוק חופשי 2023'!A:D,4,0)-J8 -> 312703 | N8: 40000 | O8: 0.03
A9: בני עי"ש | B9: 20 | C9: 173 | D9: =טבלה1[[#This Row],[סה"כ דירות בהגרלה]]-E9 -> 130 | E9: 43 | F9: 1296060 | G9: =IF(F9>1800000,F9*25%,IF(F9>1500000,F9-1350000,IF(F9>1000000,F9*10%,IF(F9<1000000,100000)))) -> 129606 | H9: =F9/VLOOKUP(A9,'מחירים שוק חופשי 2023'!A:C,3,0)-1 -> -0.21735507 | I9: =VLOOKUP(A9,'מחירים שוק חופשי 2023'!A:C,3,0)-F9 -> 359940 | J9: 1590620 | K9: =IF(J9>1800000,J9*25%,IF(J9>1500000,J9-1350000,IF(J9>1000000,J9*10%,IF(J9<1000000,100000)))) -> 240620 | L9: =J9/VLOOKUP(A9,'מחירים שוק חופשי 2023'!A:D,4,0)-1 -> -0.23158454 | M9: =VLOOKUP(A9,'מחירים שוק חופשי 2023'!A:D,4,0)-J9 -> 479380 | N9: - | O9: 0.04
A10: בת ים | B10: 6 | C10: 232 | D10: =טבלה1[[#This Row],[סה"כ דירות בהגרלה]]-E10 -> 174 | E10: 58 | F10: 1558737 | G10: =IF(F10>1800000,F10*25%,IF(F10>1500000,F10-1350000,IF(F10>1000000,F10*10%,IF(F10<1000000,100000)))) -> 208737 | H10: =F10/VLOOKUP(A10,'מחירים שוק חופשי 2023'!A:C,3,0)-1 -> -0.35268397 | I10: =VLOOKUP(A10,'מחירים שוק חופשי 2023'!A:C,3,0)-F10 -> 849263 | J10: 1981177 | K10: =IF(J10>1800000,J10*25%,IF(J10>1500000,J10-1350000,IF(J10>1000000,J10*10%,IF(J10<1000000,100000)))) -> 495294.25 | L10: =J10/VLOOKUP(A10,'מחירים שוק חופשי 2023'!A:D,4,0)-1 -> -0.34180166 | M10: =VLOOKUP(A10,'מחירים שוק חופשי 2023'!A:D,4,0)-J10 -> 1028823 | N10: - | O10: 0.02
A11: דימונה | B11: 11 | C11: 570 | D11: =טבלה1[[#This Row],[סה"כ דירות בהגרלה]]-E11 -> 285 | E11: 285 | F11: 504787 | G11: =IF(F11>1800000,F11*25%,IF(F11>1500000,F11-1350000,IF(F11>1000000,F11*10%,IF(F11<1000000,100000)))) -> 100000 | H11: =F11/VLOOKUP(A11,'מחירים שוק חופשי 2023'!A:C,3,0)-1 -> -0.34950129 | I11: =VLOOKUP(A11,'מחירים שוק חופשי 2023'!A:C,3,0)-F11 -> 271213 | J11: 619511 | K11: =IF(J11>1800000,J11*25%,IF(J11>1500000,J11-1350000,IF(J11>1000000,J11*10%,IF(J11<1000000,100000)))) -> 100000 | L11: =J11/VLOOKUP(A11,'מחירים שוק חופשי 2023'!A:D,4,0)-1 -> -0.36132887 | M11: =VLOOKUP(A11,'מחירים שוק חופשי 2023'!A:D,4,0)-J11 -> 350489 | N11: 40000 | O11: 0.3
A12: דיר אל אסד | B12: 17 | C12: 67 | D12: =טבלה1[[#This Row],[סה"כ דירות בהגרלה]]-E12 -> 17 | E12: 50 | F12: 588508.9 | G12: =IF(F12>1800000,F12*25%,IF(F12>1500000,F12-1350000,IF(F12>1000000,F12*10%,IF(F12<1000000,100000)))) -> 100000 | H12: =F12/VLOOKUP(A12,'מחירים שוק חופשי 2023'!A:C,3,0)-1 -> #VALUE! | I12: =VLOOKUP(A12,'מחירים שוק חופשי 2023'!A:C,3,0)-F12 -> #VALUE! | J12: 722260.85 | K12: =IF(J12>1800000,J12*25%,IF(J12>1500000,J12-1350000,IF(J12>1000000,J12*10%,IF(J12<1000000,100000)))) -> 100000 | L12: =J12/VLOOKUP(A12,'מחירים שוק חופשי 2023'!A:D,4,0)-1 -> #VALUE! | M12: =VLOOKUP(A12,'מחירים שוק חופשי 2023'!A:D,4,0)-J12 -> #VALUE! | N12: - | O12: 1
A13: טירת כרמל | B13: 12 | C13: 133 | D13: =טבלה1[[#This Row],[סה"כ דירות בהגרלה]]-E13 -> 100 | E13: 33 | F13: 1099973 | G13: =IF(F13>1800000,F13*25%,IF(F13>1500000,F13-1350000,IF(F13>1000000,F13*10%,IF(F13<1000000,100000)))) -> 109997.3 | H13: =F13/VLOOKUP(A13,'מחירים שוק חופשי 2023'!A:C,3,0)-1 -> -0.22318291 | I13: =VLOOKUP(A13,'מחירים שוק חופשי 2023'!A:C,3,0)-F13 -> 316027 | J13: 1486330 | K13: =IF(J13>1800000,J13*25%,IF(J13>1500000,J13-1350000,IF(J13>1000000,J13*10%,IF(J13<1000000,100000)))) -> 148633 | L13: =J13/VLOOKUP(A13,'מחירים שוק חופשי 2023'!A:D,4,0)-1 -> -0.16026554 | M13: =VLOOKUP(A13,'מחירים שוק חופשי 2023'!A:D,4,0)-J13 -> 283670 | N13: - | O13: 0.03
A14: ירושלים-רמות | B14: 1 | C14: 80 | D14: =טבלה1[[#This Row],[סה"כ דירות בהגרלה]]-E14 -> 60 | E14: 20 | F14: 1795184 | G14: =IF(F14>1800000,F14*25%,IF(F14>1500000,F14-1350000,IF(F14>1000000,F14*10%,IF(F14<1000000,100000)))) -> 445184 | H14: =F14/VLOOKUP(A14,'מחירים שוק חופשי 2023'!A:C,3,0)-1 -> -0.33015522 | I14: =VLOOKUP(A14,'מחירים שוק חופשי 2023'!A:C,3,0)-F14 -> 884816 | J14: 2316817 | K14: =IF(J14>1800000,J14*25%,IF(J14>1500000,J14-1350000,IF(J14>1000000,J14*10%,IF(J14<1000000,100000)))) -> 579204.25 | L14: =J14/VLOOKUP(A14,'מחירים שוק חופשי 2023'!A:D,4,0)-1 -> -0.30841284 | M14: =VLOOKUP(A14,'מחירים שוק חופשי 2023'!A:D,4,0)-J14 -> 1033183 | N14: - | O14: 0.01
A15: מגדל העמק | B15: 13 | C15: 373 | D15: =טבלה1[[#This Row],[סה"כ דירות בהגרלה]]-E15 -> 279 | E15: 94 | F15: 740246.88 | G15: =IF(F15>1800000,F15*25%,IF(F15>1500000,F15-1350000,IF(F15>1000000,F15*10%,IF(F15<1000000,100000)))) -> 100000 | H15: =F15/VLOOKUP(A15,'מחירים שוק חופשי 2023'!A:C,3,0)-1 -> -0.15109303 | I15: =VLOOKUP(A15,'מחירים שוק חופשי 2023'!A:C,3,0)-F15 -> 131753.12 | J15: 908484.98 | K15: =IF(J15>1800000,J15*25%,IF(J15>1500000,J15-1350000,IF(J15>1000000,J15*10%,IF(J15<1000000,100000)))) -> 100000 | L15: =J15/VLOOKUP(A15,'מחירים שוק חופשי 2023'!A:D,4,0)-1 -> -0.16652755 | M15: =VLOOKUP(A15,'מחירים שוק חופשי 2023'!A:D,4,0)-J15 -> 181515.02 | N15: - | O15: 0.08
A16: צור הדסה | B16: 18 | C16: 46 | D16: =טבלה1[[#This Row],[סה"כ דירות בהגרלה]]-E16 -> 34 | E16: 12 | F16: 1216934.3 | G16: =IF(F16>1800000,F16*25%,IF(F16>1500000,F16-1350000,IF(F16>1000000,F16*10%,IF(F16<1000000,100000)))) -> 121693.43 | H16: =F16/VLOOKUP(A16,'מחירים שוק חופשי 2023'!A:C,3,0)-1 -> -0.36352806 | I16: =VLOOKUP(A16,'מחירים שוק חופשי 2023'!A:C,3,0)-F16 -> 695065.65 | J16: 1607146.8 | K16: =IF(J16>1800000,J16*25%,IF(J16>1500000,J16-1350000,IF(J16>1000000,J16*10%,IF(J16<1000000,100000)))) -> 257146.76 | L16: =J16/VLOOKUP(A16,'מחירים שוק חופשי 2023'!A:D,4,0)-1 -> -0.32755366 | M16: =VLOOKUP(A16,'מחירים שוק חופשי 2023'!A:D,4,0)-J16 -> 782853.24 | N16: - | O16: 0.02
A17: קרית ביאליק | B17: 10 | C17: 206 | D17: =טבלה1[[#This Row],[סה"כ דירות בהגרלה]]-E17 -> 134 | E17: 72 | F17: 854568 | G17: =IF(F17>1800000,F17*25%,IF(F17>1500000,F17-1350000,IF(F17>1000000,F17*10%,IF(F17<1000000,100000)))) -> 100000 | H17: =F17/VLOOKUP(A17,'מחירים שוק חופשי 2023'!A:C,3,0)-1 -> -0.31525 | I17: =VLOOKUP(A17,'מחירים שוק חופשי 2023'!A:C,3,0)-F17 -> 393432 | J17: 1048788 | K17: =IF(J17>1800000,J17*25%,IF(J17>1500000,J17-1350000,IF(J17>1000000,J17*10%,IF(J17<1000000,100000)))) -> 104878.8 | L17: =J17/VLOOKUP(A17,'מחירים שוק חופשי 2023'!A:D,4,0)-1 -> -0.3277 | M17: =VLOOKUP(A17,'מחירים שוק חופשי 2023'!A:D,4,0)-J17 -> 511212 | N17: - | O17: 0.03
A18: קרית גת-מערב | B18: 7 | C18: 626 | D18: =טבלה1[[#This Row],[סה"כ דירות בהגרלה]]-E18 -> 469 | E18: 157 | F18: 876910 | G18: =IF(F18>1800000,F18*25%,IF(F18>1500000,F18-1350000,IF(F18>1000000,F18*10%,IF(F18<1000000,100000)))) -> 100000 | H18: =F18/VLOOKUP(A18,'מחירים שוק חופשי 2023'!A:C,3,0)-1 -> -0.39439917 | I18: =VLOOKUP(A18,'מחירים שוק חופשי 2023'!A:C,3,0)-F18 -> 571090 | J18: 1171188 | K18: =IF(J18>1800000,J18*25%,IF(J18>1500000,J18-1350000,IF(J18>1000000,J18*10%,IF(J18<1000000,100000)))) -> 117118.8 | L18: =J18/VLOOKUP(A18,'מחירים שוק חופשי 2023'!A:D,4,0)-1 -> -0.35293481 | M18: =VLOOKUP(A18,'מחירים שוק חופשי 2023'!A:D,4,0)-J18 -> 638812 | N18: - | O18: 0.12
A19: קרית גת-צפון | B19: 8 | C19: 301 | D19: =טבלה1[[#This Row],[סה"כ דירות בהגרלה]]-E19 -> 226 | E19: 75 | F19: 1001646 | G19: =IF(F19>1800000,F19*25%,IF(F19>1500000,F19-1350000,IF(F19>1000000,F19*10%,IF(F19<1000000,100000)))) -> 100164.6 | H19: =F19/VLOOKUP(A19,'מחירים שוק חופשי 2023'!A:C,3,0)-1 -> -0.35460954 | I19: =VLOOKUP(A19,'מחירים שוק חופשי 2023'!A:C,3,0)-F19 -> 550354 | J19: 1365656 | K19: =IF(J19>1800000,J19*25%,IF(J19>1500000,J19-1350000,IF(J19>1000000,J19*10%,IF(J19<1000000,100000)))) -> 136565.6 | L19: =J19/VLOOKUP(A19,'מחירים שוק חופשי 2023'!A:D,4,0)-1 -> -0.29605361 | M19: =VLOOKUP(A19,'מחירים שוק חופשי 2023'!A:D,4,0)-J19 -> 574344 | N19: - | O19: 0.12
A20: ראשון לציון | B20: 3 | C20: 164 | D20: =טבלה1[[#This Row],[סה"כ דירות בהגרלה]]-E20 -> 123 | E20: 41 | F20: 1607017.5 | G20: =IF(F20>1800000,F20*25%,IF(F20>1500000,F20-1350000,IF(F20>1000000,F20*10%,IF(F20<1000000,100000)))) -> 257017.5 | H20: =F20/VLOOKUP(A20,'מחירים שוק חופשי 2023'!A:C,3,0)-1 -> -0.45708868 | I20: =VLOOKUP(A20,'מחירים שוק חופשי 2023'!A:C,3,0)-F20 -> 1352982.5 | J20: 2040430.7 | K20: =IF(J20>1800000,J20*25%,IF(J20>1500000,J20-1350000,IF(J20>1000000,J20*10%,IF(J20<1000000,100000)))) -> 510107.68 | L20: =J20/VLOOKUP(A20,'מחירים שוק חופשי 2023'!A:D,4,0)-1 -> -0.44853223 | M20: =VLOOKUP(A20,'מחירים שוק חופשי 2023'!A:D,4,0)-J20 -> 1659569.3 | N20: - | O20: 0.009
A21: רחובות | B21: 5 | C21: 250 | D21: =טבלה1[[#This Row],[סה"כ דירות בהגרלה]]-E21 -> 187 | E21: 63 | F21: 1384329.3 | G21: =IF(F21>1800000,F21*25%,IF(F21>1500000,F21-1350000,IF(F21>1000000,F21*10%,IF(F21<1000000,100000)))) -> 138432.93 | H21: =F21/VLOOKUP(A21,'מחירים שוק חופשי 2023'!A:C,3,0)-1 -> -0.37303925 | I21: =VLOOKUP(A21,'מחירים שוק חופשי 2023'!A:C,3,0)-F21 -> 823670.67 | J21: 1774726.8 | K21: =IF(J21>1800000,J21*25%,IF(J21>1500000,J21-1350000,IF(J21>1000000,J21*10%,IF(J21<1000000,100000)))) -> 424726.82 | L21: =J21/VLOOKUP(A21,'מחירים שוק חופשי 2023'!A:D,4,0)-1 -> -0.35698303 | M21: =VLOOKUP(A21,'מחירים שוק חופשי 2023'!A:D,4,0)-J21 -> 985273.18 | N21: - | O21: 0.01
A22: רכסים | B22: 16 | C22: 337 | D22: =טבלה1[[#This Row],[סה"כ דירות בהגרלה]]-E22 -> 252 | E22: 85 | F22: 838553.96 | G22: =IF(F22>1800000,F22*25%,IF(F22>1500000,F22-1350000,IF(F22>1000000,F22*10%,IF(F22<1000000,100000)))) -> 100000 | H22: =F22/VLOOKUP(A22,'מחירים שוק חופשי 2023'!A:C,3,0)-1 -> -0.42088815 | I22: =VLOOKUP(A22,'מחירים שוק חופשי 2023'!A:C,3,0)-F22 -> 609446.04 | J22: 1029134.5 | K22: =IF(J22>1800000,J22*25%,IF(J22>1500000,J22-1350000,IF(J22>1000000,J22*10%,IF(J22<1000000,100000)))) -> 102913.45 | L22: =J22/VLOOKUP(A22,'מחירים שוק חופשי 2023'!A:D,4,0)-1 -> -0.43141742 | M22: =VLOOKUP(A22,'מחירים שוק חופשי 2023'!A:D,4,0)-J22 -> 780865.53 | N22: 40000 | O22: 0.11
A23: תל אביב יפו | B23: 2 | C23: 81 | D23: =טבלה1[[#This Row],[סה"כ דירות בהגרלה]]-E23 -> 61 | E23: 20 | F23: 1595880 | G23: =IF(F23>1800000,F23*25%,IF(F23>1500000,F23-1350000,IF(F23>1000000,F23*10%,IF(F23<1000000,100000)))) -> 245880 | H23: =F23/VLOOKUP(A23,'מחירים שוק חופשי 2023'!A:C,3,0)-1 -> -0.45939024 | I23: =VLOOKUP(A23,'מחירים שוק חופשי 2023'!A:C,3,0)-F23 -> 1356120 | J23: 1958580 | K23: =IF(J23>1800000,J23*25%,IF(J23>1500000,J23-1350000,IF(J23>1000000,J23*10%,IF(J23<1000000,100000)))) -> 489645 | L23: =J23/VLOOKUP(A23,'מחירים שוק חופשי 2023'!A:D,4,0)-1 -> -0.46921951 | M23: =VLOOKUP(A23,'מחירים שוק חופשי 2023'!A:D,4,0)-J23 -> 1731420 | N23: - | O23: 0.007

Sheet ממוצעים
A1: 3 | B1: 4 | H1: 3 | K1: 4
A2: =(I2+I3)/D2 -> 550733 | B2: =(L2+L3)/D2 -> 675899.5 | D2: 72 | E2: אכסאל | F2: 36 | H2: 535392 | I2: =H2*F2 -> 19274112 | K2: 657072 | L2: =K2*F2 -> 23654592
F3: 36 | H3: 566074 | I3: =H3*F3 -> 20378664 | K3: 694727 | L3: =K3*F3 -> 25010172
A4: =(I4+I5+I6)/D4 -> 1543792.9 | B4: =(L4+L5+L6)/D4 -> 1916527.3 | D4: 735 | E4: אלעד | F4: 368 | H4: 1560977 | I4: =H4*F4 -> 574439536 | K4: 1915744 | L4: =K4*F4 -> 704993792
F5: 179 | H5: 1526562 | I5: =H5*F5 -> 273254598 | K5: 1894010 | L5: =K5*F5 -> 339027790
F6: 188 | H6: 1526562 | I6: =H6*F6 -> 286993656 | K6: 1939500 | L6: =K6*F6 -> 364626000
A7: =(I7+I8+I9)/D7 -> 588508.9 | B7: =(L7+L8+L9)/D7 -> 722260.85 | D7: 67 | E7: דיר אל אסד | F7: 29 | H7: 564736 | I7: =H7*F7 -> 16377344 | K7: 693085 | L7: =K7*F7 -> 20099465
F8: 20 | H8: 605920 | I8: =H8*F8 -> 12118400 | K8: 743629 | L8: =K8*F8 -> 14872580
F9: 18 | H9: 607464 | I9: =H9*F9 -> 10934352 | K9: 745524 | L9: =K9*F9 -> 13419432
A10: =(I10+I11+I12+I13+I14)/D10 -> 740246.88 | B10: =(L10+L11+L12+L13+L14)/D10 -> 908484.98 | D10: 373 | E10: מגדל העמק | F10: 83 | H10: 712277 | I10: =H10*F10 -> 59118991 | K10: 874158 | L10: =K10*F10 -> 72555114
F11: 103 | H11: 749034 | I11: =H11*F11 -> 77150502 | K11: 919269 | L11: =K11*F11 -> 94684707
F12: 56 | H12: 747876 | I12: =H12*F12 -> 41881056 | K12: 917847 | L12: =K12*F12 -> 51399432
F13: 66 | H13: 747798 | I13: =H13*F13 -> 49354668 | K13: 917753 | L13: =K13*F13 -> 60571698
F14: 65 | H14: 747798 | I14: =H14*F14 -> 48606870 | K14: 917753 | L14: =K14*F14 -> 59653945
A15: =(I15+I16)/D15 -> 1216934.3 | B15: =(L15+L16)/D15 -> 1607146.8 | D15: 46 | E15: צור הדסה | F15: 27 | H15: 1202135 | I15: =H15*F15 -> 32457645 | K15: 1588984 | L15: =K15*F15 -> 42902568
F16: 19 | H16: 1237965 | I16: =H16*F16 -> 23521335 | K16: 1632957 | L16: =K16*F16 -> 31026183
A17: =(I17+I18+I19)/D17 -> 1607017.5 | B17: =(L17+L18+L19)/D17 -> 2040430.7 | D17: 164 | E17: ראשלצ | F17: 61 | H17: 1583550 | I17: =H17*F17 -> 96596550 | K17: 2011630 | L17: =K17*F17 -> 122709430
F18: 61 | H18: 1583550 | I18: =H18*F18 -> 96596550 | K18: 2011630 | L18: =K18*F18 -> 122709430
F19: 42 | H19: 1675185 | I19: =H19*F19 -> 70357770 | K19: 2124090 | L19: =K19*F19 -> 89211780
A20: =(I20+I21+I22+I23)/D20 -> 1384329.3 | B20: =(L20+L21+L22+L23)/D20 -> 1774726.8 | D20: 250 | E20: רחובות | F20: 37 | H20: 1690654 | I20: =H20*F20 -> 62554198 | K20: 2185270 | L20: =K20*F20 -> 80854990
F21: 29 | H21: 1331118 | I21: =H21*F21 -> 38602422 | K21: 1766892 | L21: =K21*F21 -> 51239868
F22: 74 | H22: 1331118 | I22: =H22*F22 -> 98502732 | K22: 1715842 | L22: =K22*F22 -> 126972308
F23: 110 | H23: 1331118 | I23: =H23*F23 -> 146422980 | K23: 1678314 | L23: =K23*F23 -> 184614540
A24: =(I24+I26+I25+I27)/D24 -> 838553.96 | B24: =(L24+L25+L26+L27)/D24 -> 1029134.5 | D24: 337 | E24: רכסים | F24: 25 | H24: 853127 | I24: =H24*F24 -> 21328175 | K24: 1047019 | L24: =K24*F24 -> 26175475
F25: 139 | H25: 837219 | I25: =H25*F25 -> 116373441 | K25: 1027496 | L25: =K25*F25 -> 142821944
F26: 83 | H26: 839690 | I26: =H26*F26 -> 69694270 | K26: 1030529 | L26: =K26*F26 -> 85533907
F27: 90 | H27: 835520 | I27: =H27*F27 -> 75196800 | K27: 1025411 | L27: =K27*F27 -> 92286990

Sheet מחירים שוק חופשי 2023
A1: יישוב | B1: ממוצע למ"ר | C1: שלושה חדרים | D1: ארבעה חדרים | E1: הערות: מה בדקתי ?
A2: אכסאל | B2: 5000 | C2: ='מחירים שוק חופשי 2023'!B2*80 -> 400000 | D2: ='מחירים שוק חופשי 2023'!B2*100 -> 500000 | E2: כל העיר (רק די' ישנות)
A3: אלעד | B3: 23600 | C3: ='מחירים שוק חופשי 2023'!B3*80 -> 1888000 | D3: ='מחירים שוק חופשי 2023'!B3*100 -> 2360000 | E3: כל העיר
A4: אפרת | B4: 22500 | C4: ='מחירים שוק חופשי 2023'!B4*80 -> 1800000 | D4: ='מחירים שוק חופשי 2023'!B4*100 -> 2250000 | E4: כל העיר
A5: באר שבע | B5: 16000 | C5: ='מחירים שוק חופשי 2023'!B5*80 -> 1280000 | D5: ='מחירים שוק חופשי 2023'!B5*100 -> 1600000 | E5: פסגת רמות-ממוצע שלי
A6: בית שאן | B6: 8600 | C6: ='מחירים שוק חופשי 2023'!B6*80 -> 688000 | D6: ='מחירים שוק חופשי 2023'!B6*100 -> 860000 | E6: כל העיר
A7: בני עי"ש | B7: 20700 | C7: ='מחירים שוק חופשי 2023'!B7*80 -> 1656000 | D7: ='מחירים שוק חופשי 2023'!B7*100 -> 2070000 | E7: כל העיר
A8: בת ים | B8: 30100 | C8: ='מחירים שוק חופשי 2023'!B8*80 -> 2408000 | D8: ='מחירים שוק חופשי 2023'!B8*100 -> 3010000 | E8: כל העיר
A9: דימונה | B9: 9700 | C9: ='מחירים שוק חופשי 2023'!B9*80 -> 776000 | D9: ='מחירים שוק חופשי 2023'!B9*100 -> 970000 | E9: כל העיר
A10: דיר אל אסד | B10: אין נתונים | C10: ='מחירים שוק חופשי 2023'!B10*80 -> #VALUE! | D10: ='מחירים שוק חופשי 2023'!B10*100 -> #VALUE! | E10: אין נתונים
A11: טירת כרמל | B11: 17700 | C11: ='מחירים שוק חופשי 2023'!B11*80 -> 1416000 | D11: ='מחירים שוק חופשי 2023'!B11*100 -> 1770000 | E11: כל העיר
A12: ירושלים-רמות | B12: 33500 | C12: ='מחירים שוק חופשי 2023'!B12*80 -> 2680000 | D12: ='מחירים שוק חופשי 2023'!B12*100 -> 3350000 | E12: שכ' רמות
A13: מגדל העמק | B13: 10900 | C13: ='מחירים שוק חופשי 2023'!B13*80 -> 872000 | D13: ='מחירים שוק חופשי 2023'!B13*100 -> 1090000 | E13: כל העיר
A14: צור הדסה | B14: 23900 | C14: ='מחירים שוק חופשי 2023'!B14*80 -> 1912000 | D14: ='מחירים שוק חופשי 2023'!B14*100 -> 2390000 | E14: כל העיר
A15: קרית ביאליק | B15: 15600 | C15: ='מחירים שוק חופשי 2023'!B15*80 -> 1248000 | D15: ='מחירים שוק חופשי 2023'!B15*100 -> 1560000 | E15: כל העיר
A16: קרית גת-מערב | B16: 18100 | C16: ='מחירים שוק חופשי 2023'!B16*80 -> 1448000 | D16: ='מחירים שוק חופשי 2023'!B16*100 -> 1810000 | E16: פעם קודמת
A17: קרית גת-צפון | B17: 19400 | C17: ='מחירים שוק חופשי 2023'!B17*80 -> 1552000 | D17: ='מחירים שוק חופשי 2023'!B17*100 -> 1940000 | E17: כרמי גת
A18: ראשון לציון | B18: 37000 | C18: ='מחירים שוק חופשי 2023'!B18*80 -> 2960000 | D18: ='מחירים שוק חופשי 2023'!B18*100 -> 3700000 | E18: מתחם האלף-ממוצע שלי
A19: רחובות | B19: 27600 | C19: ='מחירים שוק חופשי 2023'!B19*80 -> 2208000 | D19: ='מחירים שוק חופשי 2023'!B19*100 -> 2760000 | E19: קרית משה
A20: רכסים | B20: 18100 | C20: ='מחירים שוק חופשי 2023'!B20*80 -> 1448000 | D20: ='מחירים שוק חופשי 2023'!B20*100 -> 1810000 | E20: כל העיר
A21: תל אביב יפו | B21: 36900 | C21: ='מחירים שוק חופשי 2023'!B21*80 -> 2952000 | D21: ='מחירים שוק חופשי 2023'!B21*100 -> 3690000 | E21: קרית שלום
