Workbook

Sheet ראשי
A1: 1 | B1: 2 | C1: 3 | F1: 4 | G1: 5 | H1: 6 | I1: 7 | K1: 4 | L1: 5 | M1: 6 | N1: 7 | P1: 4 | Q1: 5 | R1: 6 | S1: 7 | U1: 8 | V1: 9
F2: דירת 3 חדרים של 80 מ"ר | K2: דירת 4 חדרים של 100 מ"ר | P2: דירת 5 חדרים של 125 מ"ר (בכפר ורדים חושב לפי וילת 5 חד' מרווחת יותר)
A3: יישוב | B3: מיקום בסדר ההגרלות | C3: סך דירות הפתוחות גם לציבור החרדי | D3: מתוכם דירות לכלל הציבור | E3: מתוכם דירות לבני מקום | F3: מחיר לאחר הנחה ומענק | G3: הון עצמי נדרש | H3: החזר חודשי מקסימלי | I3: רווח באחוזים לכל ₪ מושקע | J3: רווח לעומת מחיר שוק | K3: מחיר לאחר ההנחה ומענק | L3: הון עצמי הנדרש | M3: החזר חודשי המקסימלי | N3: רווח באחוזים לכל שקל מושקע | O3: רווח לעומת מחיר השוק | P3: המחיר לאחר ההנחה ומענק | Q3: הון העצמי הנדרש | R3: החזר החודשי המקסימלי | S3: הרווח באחוזים לכל ₪ מושקע | T3: הרווח לעומת מחיר השוק | U3: מענק | V3: הערכת סיכוי זכייה לחיצוני
A4: אשקלון | B4: 5 | C4: =טבלה1[[#This Row],[מתוכם דירות לכלל הציבור]]+טבלה1[[#This Row],[מתוכם דירות לבני מקום]] -> 77 | D4: 54 | E4: 23 | F4: 861000 | G4: =IF(טבלה1[[#This Row],[מחיר לאחר הנחה ומענק]]="","",IF(טבלה1[[#This Row],[מחיר לאחר הנחה ומענק]]>1800000,טבלה1[[#This Row],[מחיר לאחר הנחה ומענק]]*25%,IF(טבלה1[[#This Row],[מחיר לאחר הנחה ומענק]]>1450000,טבלה1[[#This Row],[מחיר לאחר הנחה ומענק]]-1350000,IF(טבלה1[[#This Row],[מחיר לאחר הנחה ומענק]]>1000000,100000,IF(טבלה1[[#This Row],[מחיר לאחר הנחה ומענק]]<1000000,100000)))))-IF(טבלה1[[#This Row],[מענק]]="V",40000,0) -> 100000 | H4: =(טבלה1[[#This Row],[מחיר לאחר הנחה ומענק]]-טבלה1[[#This Row],[הון עצמי נדרש]])/100000*530 -> 4033.3 | I4: =טבלה1[[#This Row],[רווח לעומת מחיר שוק]]/F4 -> 0.65346341 | J4: =VLOOKUP(A4,'מחירים שוק חופשי'!B:Q,14,0)-F4 -> 562632 | K4: 1186836 | L4: =IF(טבלה1[[#This Row],[מחיר לאחר ההנחה ומענק]]="","",IF(טבלה1[[#This Row],[מחיר לאחר ההנחה ומענק]]>1800000,טבלה1[[#This Row],[מחיר לאחר ההנחה ומענק]]*25%,IF(טבלה1[[#This Row],[מחיר לאחר ההנחה ומענק]]>1450000,טבלה1[[#This Row],[מחיר לאחר ההנחה ומענק]]-1350000,IF(טבלה1[[#This Row],[מחיר לאחר ההנחה ומענק]]>1000000,100000,IF(טבלה1[[#This Row],[מחיר לאחר ההנחה ומענק]]<1000000,100000)))))-IF(טבלה1[[#This Row],[מענק]]="V",40000,0) -> 100000 | M4: =(טבלה1[[#This Row],[מחיר לאחר ההנחה ומענק]]-טבלה1[[#This Row],[הון עצמי הנדרש]])/100000*530 -> 5760.2308 | N4: =O4/K4 -> 0.48538804 | O4: =VLOOKUP(A4,'מחירים שוק חופשי'!B:Q,15,0)-K4 -> 576076 | P4: 1630000 | Q4: =IF(טבלה1[[#This Row],[המחיר לאחר ההנחה ומענק]]="","",IF(טבלה1[[#This Row],[המחיר לאחר ההנחה ומענק]]>1800000,טבלה1[[#This Row],[המחיר לאחר ההנחה ומענק]]*25%,IF(טבלה1[[#This Row],[המחיר לאחר ההנחה ומענק]]>1450000,טבלה1[[#This Row],[המחיר לאחר ההנחה ומענק]]-1350000,IF(טבלה1[[#This Row],[המחיר לאחר ההנחה ומענק]]>1000000,100000,IF(טבלה1[[#This Row],[המחיר לאחר ההנחה ומענק]]<1000000,100000)))))-IF(טבלה1[[#This Row],[מענק]]="V",40000,0) -> 280000 | R4: =(טבלה1[[#This Row],[המחיר לאחר ההנחה ומענק]]-טבלה1[[#This Row],[הון העצמי הנדרש]])/100000*530 -> 7155 | S4: =טבלה1[[#This Row],[הרווח לעומת מחיר השוק]]/טבלה1[[#This Row],[המחיר לאחר ההנחה ומענק]] -> 0.35192638 | T4: =VLOOKUP(A4,'מחירים שוק חופשי'!B:Q,16,0)-טבלה1[[#This Row],[המחיר לאחר ההנחה ומענק]] -> 573640 | V4: 0.0024
A5: באר יעקב | B5: 16 | C5: =טבלה1[[#This Row],[מתוכם דירות לכלל הציבור]]+טבלה1[[#This Row],[מתוכם דירות לבני מקום]] -> 530 | D5: 365 | E5: 165 | F5: 1556500 | G5: =IF(טבלה1[[#This Row],[מחיר לאחר הנחה ומענק]]="","",IF(טבלה1[[#This Row],[מחיר לאחר הנחה ומענק]]>1800000,טבלה1[[#This Row],[מחיר לאחר הנחה ומענק]]*25%,IF(טבלה1[[#This Row],[מחיר לאחר הנחה ומענק]]>1450000,טבלה1[[#This Row],[מחיר לאחר הנחה ומענק]]-1350000,IF(טבלה1[[#This Row],[מחיר לאחר הנחה ומענק]]>1000000,100000,IF(טבלה1[[#This Row],[מחיר לאחר הנחה ומענק]]<1000000,100000)))))-IF(טבלה1[[#This Row],[מענק]]="V",40000,0) -> 206500 | H5: =(טבלה1[[#This Row],[מחיר לאחר הנחה ומענק]]-טבלה1[[#This Row],[הון עצמי נדרש]])/100000*530 -> 7155 | I5: =טבלה1[[#This Row],[רווח לעומת מחיר שוק]]/F5 -> 0.33117379 | J5: =VLOOKUP(A5,'מחירים שוק חופשי'!B:Q,14,0)-F5 -> 515472 | K5: 1920995 | L5: =IF(טבלה1[[#This Row],[מחיר לאחר ההנחה ומענק]]="","",IF(טבלה1[[#This Row],[מחיר לאחר ההנחה ומענק]]>1800000,טבלה1[[#This Row],[מחיר לאחר ההנחה ומענק]]*25%,IF(טבלה1[[#This Row],[מחיר לאחר ההנחה ומענק]]>1450000,טבלה1[[#This Row],[מחיר לאחר ההנחה ומענק]]-1350000,IF(טבלה1[[#This Row],[מחיר לאחר ההנחה ומענק]]>1000000,100000,IF(טבלה1[[#This Row],[מחיר לאחר ההנחה ומענק]]<1000000,100000)))))-IF(טבלה1[[#This Row],[מענק]]="V",40000,0) -> 480248.75 | M5: =(טבלה1[[#This Row],[מחיר לאחר ההנחה ומענק]]-טבלה1[[#This Row],[הון עצמי הנדרש]])/100000*530 -> 7635.9551 | N5: =O5/K5 -> 0.33607948 | O5: =VLOOKUP(A5,'מחירים שוק חופשי'!B:Q,15,0)-K5 -> 645607 | P5: 2415000 | Q5: =IF(טבלה1[[#This Row],[המחיר לאחר ההנחה ומענק]]="","",IF(טבלה1[[#This Row],[המחיר לאחר ההנחה ומענק]]>1800000,טבלה1[[#This Row],[המחיר לאחר ההנחה ומענק]]*25%,IF(טבלה1[[#This Row],[המחיר לאחר ההנחה ומענק]]>1450000,טבלה1[[#This Row],[המחיר לאחר ההנחה ומענק]]-1350000,IF(טבלה1[[#This Row],[המחיר לאחר ההנחה ומענק]]>1000000,100000,IF(טבלה1[[#This Row],[המחיר לאחר ההנחה ומענק]]<1000000,100000)))))-IF(טבלה1[[#This Row],[מענק]]="V",40000,0) -> 603750 | R5: =(טבלה1[[#This Row],[המחיר לאחר ההנחה ומענק]]-טבלה1[[#This Row],[הון העצמי הנדרש]])/100000*530 -> 9599.625 | S5: =טבלה1[[#This Row],[הרווח לעומת מחיר השוק]]/טבלה1[[#This Row],[המחיר לאחר ההנחה ומענק]] -> 0.32846894 | T5: =VLOOKUP(A5,'מחירים שוק חופשי'!B:Q,16,0)-טבלה1[[#This Row],[המחיר לאחר ההנחה ומענק]] -> 793252.5 | V5: 0.0078
A6: באר שבע | B6: 3 | C6: =טבלה1[[#This Row],[מתוכם דירות לכלל הציבור]]+טבלה1[[#This Row],[מתוכם דירות לבני מקום]] -> 131 | D6: 90 | E6: 41 | F6: 745000 | G6: =IF(טבלה1[[#This Row],[מחיר לאחר הנחה ומענק]]="","",IF(טבלה1[[#This Row],[מחיר לאחר הנחה ומענק]]>1800000,טבלה1[[#This Row],[מחיר לאחר הנחה ומענק]]*25%,IF(טבלה1[[#This Row],[מחיר לאחר הנחה ומענק]]>1450000,טבלה1[[#This Row],[מחיר לאחר הנחה ומענק]]-1350000,IF(טבלה1[[#This Row],[מחיר לאחר הנחה ומענק]]>1000000,100000,IF(טבלה1[[#This Row],[מחיר לאחר הנחה ומענק]]<1000000,100000)))))-IF(טבלה1[[#This Row],[מענק]]="V",40000,0) -> 100000 | H6: =(טבלה1[[#This Row],[מחיר לאחר הנחה ומענק]]-טבלה1[[#This Row],[הון עצמי נדרש]])/100000*530 -> 3418.5 | I6: =טבלה1[[#This Row],[רווח לעומת מחיר שוק]]/F6 -> 0.63764295 | J6: =VLOOKUP(A6,'מחירים שוק חופשי'!B:Q,14,0)-F6 -> 475044 | K6: 1014665 | L6: =IF(טבלה1[[#This Row],[מחיר לאחר ההנחה ומענק]]="","",IF(טבלה1[[#This Row],[מחיר לאחר ההנחה ומענק]]>1800000,טבלה1[[#This Row],[מחיר לאחר ההנחה ומענק]]*25%,IF(טבלה1[[#This Row],[מחיר לאחר ההנחה ומענק]]>1450000,טבלה1[[#This Row],[מחיר לאחר ההנחה ומענק]]-1350000,IF(טבלה1[[#This Row],[מחיר לאחר ההנחה ומענק]]>1000000,100000,IF(טבלה1[[#This Row],[מחיר לאחר ההנחה ומענק]]<1000000,100000)))))-IF(טבלה1[[#This Row],[מענק]]="V",40000,0) -> 100000 | M6: =(טבלה1[[#This Row],[מחיר לאחר ההנחה ומענק]]-טבלה1[[#This Row],[הון עצמי הנדרש]])/100000*530 -> 4847.7245 | N6: =O6/K6 -> 0.48822912 | O6: =VLOOKUP(A6,'מחירים שוק חופשי'!B:Q,15,0)-K6 -> 495389 | P6: 1419000 | Q6: =IF(טבלה1[[#This Row],[המחיר לאחר ההנחה ומענק]]="","",IF(טבלה1[[#This Row],[המחיר לאחר ההנחה ומענק]]>1800000,טבלה1[[#This Row],[המחיר לאחר ההנחה ומענק]]*25%,IF(טבלה1[[#This Row],[המחיר לאחר ההנחה ומענק]]>1450000,טבלה1[[#This Row],[המחיר לאחר ההנחה ומענק]]-1350000,IF(טבלה1[[#This Row],[המחיר לאחר ההנחה ומענק]]>1000000,100000,IF(טבלה1[[#This Row],[המחיר לאחר ההנחה ומענק]]<1000000,100000)))))-IF(טבלה1[[#This Row],[מענק]]="V",40000,0) -> 100000 | R6: =(טבלה1[[#This Row],[המחיר לאחר ההנחה ומענק]]-טבלה1[[#This Row],[הון העצמי הנדרש]])/100000*530 -> 6990.7 | S6: =טבלה1[[#This Row],[הרווח לעומת מחיר השוק]]/טבלה1[[#This Row],[המחיר לאחר ההנחה ומענק]] -> 0.33020965 | T6: =VLOOKUP(A6,'מחירים שוק חופשי'!B:Q,16,0)-טבלה1[[#This Row],[המחיר לאחר ההנחה ומענק]] -> 468567.5 | V6: 0.008
A7: בית שמש | B7: 4 | C7: =טבלה1[[#This Row],[מתוכם דירות לכלל הציבור]]+טבלה1[[#This Row],[מתוכם דירות לבני מקום]] -> 123 | D7: 84 | E7: 39 | F7: 1218500 | G7: =IF(טבלה1[[#This Row],[מחיר לאחר הנחה ומענק]]="","",IF(טבלה1[[#This Row],[מחיר לאחר הנחה ומענק]]>1800000,טבלה1[[#This Row],[מחיר לאחר הנחה ומענק]]*25%,IF(טבלה1[[#This Row],[מחיר לאחר הנחה ומענק]]>1450000,טבלה1[[#This Row],[מחיר לאחר הנחה ומענק]]-1350000,IF(טבלה1[[#This Row],[מחיר לאחר הנחה ומענק]]>1000000,100000,IF(טבלה1[[#This Row],[מחיר לאחר הנחה ומענק]]<1000000,100000)))))-IF(טבלה1[[#This Row],[מענק]]="V",40000,0) -> 100000 | H7: =(טבלה1[[#This Row],[מחיר לאחר הנחה ומענק]]-טבלה1[[#This Row],[הון עצמי נדרש]])/100000*530 -> 5928.05 | I7: =טבלה1[[#This Row],[רווח לעומת מחיר שוק]]/F7 -> 0.51761674 | J7: =VLOOKUP(A7,'מחירים שוק חופשי'!B:Q,14,0)-F7 -> 630716 | K7: 1590579 | L7: =IF(טבלה1[[#This Row],[מחיר לאחר ההנחה ומענק]]="","",IF(טבלה1[[#This Row],[מחיר לאחר ההנחה ומענק]]>1800000,טבלה1[[#This Row],[מחיר לאחר ההנחה ומענק]]*25%,IF(טבלה1[[#This Row],[מחיר לאחר ההנחה ומענק]]>1450000,טבלה1[[#This Row],[מחיר לאחר ההנחה ומענק]]-1350000,IF(טבלה1[[#This Row],[מחיר לאחר ההנחה ומענק]]>1000000,100000,IF(טבלה1[[#This Row],[מחיר לאחר ההנחה ומענק]]<1000000,100000)))))-IF(טבלה1[[#This Row],[מענק]]="V",40000,0) -> 240579 | M7: =(טבלה1[[#This Row],[מחיר לאחר ההנחה ומענק]]-טבלה1[[#This Row],[הון עצמי הנדרש]])/100000*530 -> 7155 | N7: =O7/K7 -> 0.44026546 | O7: =VLOOKUP(A7,'מחירים שוק חופשי'!B:Q,15,0)-K7 -> 700277 | P7: 1988000 | Q7: =IF(טבלה1[[#This Row],[המחיר לאחר ההנחה ומענק]]="","",IF(טבלה1[[#This Row],[המחיר לאחר ההנחה ומענק]]>1800000,טבלה1[[#This Row],[המחיר לאחר ההנחה ומענק]]*25%,IF(טבלה1[[#This Row],[המחיר לאחר ההנחה ומענק]]>1450000,טבלה1[[#This Row],[המחיר לאחר ההנחה ומענק]]-1350000,IF(טבלה1[[#This Row],[המחיר לאחר ההנחה ומענק]]>1000000,100000,IF(טבלה1[[#This Row],[המחיר לאחר ההנחה ומענק]]<1000000,100000)))))-IF(טבלה1[[#This Row],[מענק]]="V",40000,0) -> 497000 | R7: =(טבלה1[[#This Row],[המחיר לאחר ההנחה ומענק]]-טבלה1[[#This Row],[הון העצמי הנדרש]])/100000*530 -> 7902.3 | S7: =טבלה1[[#This Row],[הרווח לעומת מחיר השוק]]/טבלה1[[#This Row],[המחיר לאחר ההנחה ומענק]] -> 0.44042757 | T7: =VLOOKUP(A7,'מחירים שוק חופשי'!B:Q,16,0)-טבלה1[[#This Row],[המחיר לאחר ההנחה ומענק]] -> 875570 | V7: 0.0087
A8: דימונה | B8: 14 | C8: =טבלה1[[#This Row],[מתוכם דירות לכלל הציבור]]+טבלה1[[#This Row],[מתוכם דירות לבני מקום]] -> 20 | D8: 12 | E8: 8 | F8: 519500 | G8: =IF(טבלה1[[#This Row],[מחיר לאחר הנחה ומענק]]="","",IF(טבלה1[[#This Row],[מחיר לאחר הנחה ומענק]]>1800000,טבלה1[[#This Row],[מחיר לאחר הנחה ומענק]]*25%,IF(טבלה1[[#This Row],[מחיר לאחר הנחה ומענק]]>1450000,טבלה1[[#This Row],[מחיר לאחר הנחה ומענק]]-1350000,IF(טבלה1[[#This Row],[מחיר לאחר הנחה ומענק]]>1000000,100000,IF(טבלה1[[#This Row],[מחיר לאחר הנחה ומענק]]<1000000,100000)))))-IF(טבלה1[[#This Row],[מענק]]="V",40000,0) -> 100000 | H8: =(טבלה1[[#This Row],[מחיר לאחר הנחה ומענק]]-טבלה1[[#This Row],[הון עצמי נדרש]])/100000*530 -> 2223.35 | I8: =טבלה1[[#This Row],[רווח לעומת מחיר שוק]]/F8 -> 0.79953032 | J8: =VLOOKUP(A8,'מחירים שוק חופשי'!B:Q,14,0)-F8 -> 415356 | K8: 637519 | L8: =IF(טבלה1[[#This Row],[מחיר לאחר ההנחה ומענק]]="","",IF(טבלה1[[#This Row],[מחיר לאחר ההנחה ומענק]]>1800000,טבלה1[[#This Row],[מחיר לאחר ההנחה ומענק]]*25%,IF(טבלה1[[#This Row],[מחיר לאחר ההנחה ומענק]]>1450000,טבלה1[[#This Row],[מחיר לאחר ההנחה ומענק]]-1350000,IF(טבלה1[[#This Row],[מחיר לאחר ההנחה ומענק]]>1000000,100000,IF(טבלה1[[#This Row],[מחיר לאחר ההנחה ומענק]]<1000000,100000)))))-IF(טבלה1[[#This Row],[מענק]]="V",40000,0) -> 100000 | M8: =(טבלה1[[#This Row],[מחיר לאחר ההנחה ומענק]]-טבלה1[[#This Row],[הון עצמי הנדרש]])/100000*530 -> 2848.8507 | N8: =O8/K8 -> 0.81578275 | O8: =VLOOKUP(A8,'מחירים שוק חופשי'!B:Q,15,0)-K8 -> 520077 | P8: 881500 | Q8: =IF(טבלה1[[#This Row],[המחיר לאחר ההנחה ומענק]]="","",IF(טבלה1[[#This Row],[המחיר לאחר ההנחה ומענק]]>1800000,טבלה1[[#This Row],[המחיר לאחר ההנחה ומענק]]*25%,IF(טבלה1[[#This Row],[המחיר לאחר ההנחה ומענק]]>1450000,טבלה1[[#This Row],[המחיר לאחר ההנחה ומענק]]-1350000,IF(טבלה1[[#This Row],[המחיר לאחר ההנחה ומענק]]>1000000,100000,IF(טבלה1[[#This Row],[המחיר לאחר ההנחה ומענק]]<1000000,100000)))))-IF(טבלה1[[#This Row],[מענק]]="V",40000,0) -> 100000 | R8: =(טבלה1[[#This Row],[המחיר לאחר ההנחה ומענק]]-טבלה1[[#This Row],[הון העצמי הנדרש]])/100000*530 -> 4141.95 | S8: =טבלה1[[#This Row],[הרווח לעומת מחיר השוק]]/טבלה1[[#This Row],[המחיר לאחר ההנחה ומענק]] -> 0.64151446 | T8: =VLOOKUP(A8,'מחירים שוק חופשי'!B:Q,16,0)-טבלה1[[#This Row],[המחיר לאחר ההנחה ומענק]] -> 565495 | V8: 0.0035
A9: טבריה | B9: 11 | C9: =טבלה1[[#This Row],[מתוכם דירות לכלל הציבור]]+טבלה1[[#This Row],[מתוכם דירות לבני מקום]] -> 63 | D9: 37 | E9: 26 | F9: 622500 | G9: =IF(טבלה1[[#This Row],[מחיר לאחר הנחה ומענק]]="","",IF(טבלה1[[#This Row],[מחיר לאחר הנחה ומענק]]>1800000,טבלה1[[#This Row],[מחיר לאחר הנחה ומענק]]*25%,IF(טבלה1[[#This Row],[מחיר לאחר הנחה ומענק]]>1450000,טבלה1[[#This Row],[מחיר לאחר הנחה ומענק]]-1350000,IF(טבלה1[[#This Row],[מחיר לאחר הנחה ומענק]]>1000000,100000,IF(טבלה1[[#This Row],[מחיר לאחר הנחה ומענק]]<1000000,100000)))))-IF(טבלה1[[#This Row],[מענק]]="V",40000,0) -> 100000 | H9: =(טבלה1[[#This Row],[מחיר לאחר הנחה ומענק]]-טבלה1[[#This Row],[הון עצמי נדרש]])/100000*530 -> 2769.25 | I9: =טבלה1[[#This Row],[רווח לעומת מחיר שוק]]/F9 -> 0.73875663 | J9: =VLOOKUP(A9,'מחירים שוק חופשי'!B:Q,14,0)-F9 -> 459876 | K9: 764067 | L9: =IF(טבלה1[[#This Row],[מחיר לאחר ההנחה ומענק]]="","",IF(טבלה1[[#This Row],[מחיר לאחר ההנחה ומענק]]>1800000,טבלה1[[#This Row],[מחיר לאחר ההנחה ומענק]]*25%,IF(טבלה1[[#This Row],[מחיר לאחר ההנחה ומענק]]>1450000,טבלה1[[#This Row],[מחיר לאחר ההנחה ומענק]]-1350000,IF(טבלה1[[#This Row],[מחיר לאחר ההנחה ומענק]]>1000000,100000,IF(טבלה1[[#This Row],[מחיר לאחר ההנחה ומענק]]<1000000,100000)))))-IF(טבלה1[[#This Row],[מענק]]="V",40000,0) -> 100000 | M9: =(טבלה1[[#This Row],[מחיר לאחר ההנחה ומענק]]-טבלה1[[#This Row],[הון עצמי הנדרש]])/100000*530 -> 3519.5551 | N9: =O9/K9 -> 0.75497175 | O9: =VLOOKUP(A9,'מחירים שוק חופשי'!B:Q,15,0)-K9 -> 576849 | P9: 1027250 | Q9: =IF(טבלה1[[#This Row],[המחיר לאחר ההנחה ומענק]]="","",IF(טבלה1[[#This Row],[המחיר לאחר ההנחה ומענק]]>1800000,טבלה1[[#This Row],[המחיר לאחר ההנחה ומענק]]*25%,IF(טבלה1[[#This Row],[המחיר לאחר ההנחה ומענק]]>1450000,טבלה1[[#This Row],[המחיר לאחר ההנחה ומענק]]-1350000,IF(טבלה1[[#This Row],[המחיר לאחר ההנחה ומענק]]>1000000,100000,IF(טבלה1[[#This Row],[המחיר לאחר ההנחה ומענק]]<1000000,100000)))))-IF(טבלה1[[#This Row],[מענק]]="V",40000,0) -> 100000 | R9: =(טבלה1[[#This Row],[המחיר לאחר ההנחה ומענק]]-טבלה1[[#This Row],[הון העצמי הנדרש]])/100000*530 -> 4914.425 | S9: =טבלה1[[#This Row],[הרווח לעומת מחיר השוק]]/טבלה1[[#This Row],[המחיר לאחר ההנחה ומענק]] -> 0.63168167 | T9: =VLOOKUP(A9,'מחירים שוק חופשי'!B:Q,16,0)-טבלה1[[#This Row],[המחיר לאחר ההנחה ומענק]] -> 648895 | V9: 0.0076
A10: יבנה | B10: 9 | C10: =טבלה1[[#This Row],[מתוכם דירות לכלל הציבור]]+טבלה1[[#This Row],[מתוכם דירות לבני מקום]] -> 458 | D10: 313 | E10: 145 | F10: 1310000 | G10: =IF(טבלה1[[#This Row],[מחיר לאחר הנחה ומענק]]="","",IF(טבלה1[[#This Row],[מחיר לאחר הנחה ומענק]]>1800000,טבלה1[[#This Row],[מחיר לאחר הנחה ומענק]]*25%,IF(טבלה1[[#This Row],[מחיר לאחר הנחה ומענק]]>1450000,טבלה1[[#This Row],[מחיר לאחר הנחה ומענק]]-1350000,IF(טבלה1[[#This Row],[מחיר לאחר הנחה ומענק]]>1000000,100000,IF(טבלה1[[#This Row],[מחיר לאחר הנחה ומענק]]<1000000,100000)))))-IF(טבלה1[[#This Row],[מענק]]="V",40000,0) -> 100000 | H10: =(טבלה1[[#This Row],[מחיר לאחר הנחה ומענק]]-טבלה1[[#This Row],[הון עצמי נדרש]])/100000*530 -> 6413 | I10: =טבלה1[[#This Row],[רווח לעומת מחיר שוק]]/F10 -> 0.42964885 | J10: =VLOOKUP(A10,'מחירים שוק חופשי'!B:Q,14,0)-F10 -> 562840 | K10: 1700000 | L10: =IF(טבלה1[[#This Row],[מחיר לאחר ההנחה ומענק]]="","",IF(טבלה1[[#This Row],[מחיר לאחר ההנחה ומענק]]>1800000,טבלה1[[#This Row],[מחיר לאחר ההנחה ומענק]]*25%,IF(טבלה1[[#This Row],[מחיר לאחר ההנחה ומענק]]>1450000,טבלה1[[#This Row],[מחיר לאחר ההנחה ומענק]]-1350000,IF(טבלה1[[#This Row],[מחיר לאחר ההנחה ומענק]]>1000000,100000,IF(טבלה1[[#This Row],[מחיר לאחר ההנחה ומענק]]<1000000,100000)))))-IF(טבלה1[[#This Row],[מענק]]="V",40000,0) -> 350000 | M10: =(טבלה1[[#This Row],[מחיר לאחר ההנחה ומענק]]-טבלה1[[#This Row],[הון עצמי הנדרש]])/100000*530 -> 7155 | N10: =O10/K10 -> 0.36467059 | O10: =VLOOKUP(A10,'מחירים שוק חופשי'!B:Q,15,0)-K10 -> 619940 | P10: 2280000 | Q10: =IF(טבלה1[[#This Row],[המחיר לאחר ההנחה ומענק]]="","",IF(טבלה1[[#This Row],[המחיר לאחר ההנחה ומענק]]>1800000,טבלה1[[#This Row],[המחיר לאחר ההנחה ומענק]]*25%,IF(טבלה1[[#This Row],[המחיר לאחר ההנחה ומענק]]>1450000,טבלה1[[#This Row],[המחיר לאחר ההנחה ומענק]]-1350000,IF(טבלה1[[#This Row],[המחיר לאחר ההנחה ומענק]]>1000000,100000,IF(טבלה1[[#This Row],[המחיר לאחר ההנחה ומענק]]<1000000,100000)))))-IF(טבלה1[[#This Row],[מענק]]="V",40000,0) -> 570000 | R10: =(טבלה1[[#This Row],[המחיר לאחר ההנחה ומענק]]-טבלה1[[#This Row],[הון העצמי הנדרש]])/100000*530 -> 9063 | S10: =טבלה1[[#This Row],[הרווח לעומת מחיר השוק]]/טבלה1[[#This Row],[המחיר לאחר ההנחה ומענק]] -> 0.27189693 | T10: =VLOOKUP(A10,'מחירים שוק חופשי'!B:Q,16,0)-טבלה1[[#This Row],[המחיר לאחר ההנחה ומענק]] -> 619925 | V10: 0.0101
A11: יהוד | B11: 15 | C11: =טבלה1[[#This Row],[מתוכם דירות לכלל הציבור]]+טבלה1[[#This Row],[מתוכם דירות לבני מקום]] -> 74 | D11: 51 | E11: 23 | F11: 2157000 | G11: =IF(טבלה1[[#This Row],[מחיר לאחר הנחה ומענק]]="","",IF(טבלה1[[#This Row],[מחיר לאחר הנחה ומענק]]>1800000,טבלה1[[#This Row],[מחיר לאחר הנחה ומענק]]*25%,IF(טבלה1[[#This Row],[מחיר לאחר הנחה ומענק]]>1450000,טבלה1[[#This Row],[מחיר לאחר הנחה ומענק]]-1350000,IF(טבלה1[[#This Row],[מחיר לאחר הנחה ומענק]]>1000000,100000,IF(טבלה1[[#This Row],[מחיר לאחר הנחה ומענק]]<1000000,100000)))))-IF(טבלה1[[#This Row],[מענק]]="V",40000,0) -> 539250 | H11: =(טבלה1[[#This Row],[מחיר לאחר הנחה ומענק]]-טבלה1[[#This Row],[הון עצמי נדרש]])/100000*530 -> 8574.075 | I11: =טבלה1[[#This Row],[רווח לעומת מחיר שוק]]/F11 -> 0.18975614 | J11: =VLOOKUP(A11,'מחירים שוק חופשי'!B:Q,14,0)-F11 -> 409304 | K11: 2629215 | L11: =IF(טבלה1[[#This Row],[מחיר לאחר ההנחה ומענק]]="","",IF(טבלה1[[#This Row],[מחיר לאחר ההנחה ומענק]]>1800000,טבלה1[[#This Row],[מחיר לאחר ההנחה ומענק]]*25%,IF(טבלה1[[#This Row],[מחיר לאחר ההנחה ומענק]]>1450000,טבלה1[[#This Row],[מחיר לאחר ההנחה ומענק]]-1350000,IF(טבלה1[[#This Row],[מחיר לאחר ההנחה ומענק]]>1000000,100000,IF(טבלה1[[#This Row],[מחיר לאחר ההנחה ומענק]]<1000000,100000)))))-IF(טבלה1[[#This Row],[מענק]]="V",40000,0) -> 657303.75 | M11: =(טבלה1[[#This Row],[מחיר לאחר ההנחה ומענק]]-טבלה1[[#This Row],[הון עצמי הנדרש]])/100000*530 -> 10451.13 | N11: =O11/K11 -> 0.20738091 | O11: =VLOOKUP(A11,'מחירים שוק חופשי'!B:Q,15,0)-K11 -> 545249 | P11: 3301125 | Q11: =IF(טבלה1[[#This Row],[המחיר לאחר ההנחה ומענק]]="","",IF(טבלה1[[#This Row],[המחיר לאחר ההנחה ומענק]]>1800000,טבלה1[[#This Row],[המחיר לאחר ההנחה ומענק]]*25%,IF(טבלה1[[#This Row],[המחיר לאחר ההנחה ומענק]]>1450000,טבלה1[[#This Row],[המחיר לאחר ההנחה ומענק]]-1350000,IF(טבלה1[[#This Row],[המחיר לאחר ההנחה ומענק]]>1000000,100000,IF(טבלה1[[#This Row],[המחיר לאחר ההנחה ומענק]]<1000000,100000)))))-IF(טבלה1[[#This Row],[מענק]]="V",40000,0) -> 825281.25 | R11: =(טבלה1[[#This Row],[המחיר לאחר ההנחה ומענק]]-טבלה1[[#This Row],[הון העצמי הנדרש]])/100000*530 -> 13121.972 | S11: =טבלה1[[#This Row],[הרווח לעומת מחיר השוק]]/טבלה1[[#This Row],[המחיר לאחר ההנחה ומענק]] -> 0.2020387 | T11: =VLOOKUP(A11,'מחירים שוק חופשי'!B:Q,16,0)-טבלה1[[#This Row],[המחיר לאחר ההנחה ומענק]] -> 666955 | V11: 0.0067
A12: ירושלים הר הצופים | B12: 1 | C12: =טבלה1[[#This Row],[מתוכם דירות לכלל הציבור]]+טבלה1[[#This Row],[מתוכם דירות לבני מקום]] -> 164 | D12: 112 | E12: 52 | F12: 1659000 | G12: =IF(טבלה1[[#This Row],[מחיר לאחר הנחה ומענק]]="","",IF(טבלה1[[#This Row],[מחיר לאחר הנחה ומענק]]>1800000,טבלה1[[#This Row],[מחיר לאחר הנחה ומענק]]*25%,IF(טבלה1[[#This Row],[מחיר לאחר הנחה ומענק]]>1450000,טבלה1[[#This Row],[מחיר לאחר הנחה ומענק]]-1350000,IF(טבלה1[[#This Row],[מחיר לאחר הנחה ומענק]]>1000000,100000,IF(טבלה1[[#This Row],[מחיר לאחר הנחה ומענק]]<1000000,100000)))))-IF(טבלה1[[#This Row],[מענק]]="V",40000,0) -> 309000 | H12: =(טבלה1[[#This Row],[מחיר לאחר הנחה ומענק]]-טבלה1[[#This Row],[הון עצמי נדרש]])/100000*530 -> 7155 | I12: =טבלה1[[#This Row],[רווח לעומת מחיר שוק]]/F12 -> 0.48066064 | J12: =VLOOKUP(A12,'מחירים שוק חופשי'!B:Q,14,0)-F12 -> 797416 | K12: 2036109 | L12: =IF(טבלה1[[#This Row],[מחיר לאחר ההנחה ומענק]]="","",IF(טבלה1[[#This Row],[מחיר לאחר ההנחה ומענק]]>1800000,טבלה1[[#This Row],[מחיר לאחר ההנחה ומענק]]*25%,IF(טבלה1[[#This Row],[מחיר לאחר ההנחה ומענק]]>1450000,טבלה1[[#This Row],[מחיר לאחר ההנחה ומענק]]-1350000,IF(טבלה1[[#This Row],[מחיר לאחר ההנחה ומענק]]>1000000,100000,IF(טבלה1[[#This Row],[מחיר לאחר ההנחה ומענק]]<1000000,100000)))))-IF(טבלה1[[#This Row],[מענק]]="V",40000,0) -> 509027.25 | M12: =(טבלה1[[#This Row],[מחיר לאחר ההנחה ומענק]]-טבלה1[[#This Row],[הון עצמי הנדרש]])/100000*530 -> 8093.5333 | N12: =O12/K12 -> 0.49405361 | O12: =VLOOKUP(A12,'מחירים שוק חופשי'!B:Q,15,0)-K12 -> 1005947 | P12: 2545000 | Q12: =IF(טבלה1[[#This Row],[המחיר לאחר ההנחה ומענק]]="","",IF(טבלה1[[#This Row],[המחיר לאחר ההנחה ומענק]]>1800000,טבלה1[[#This Row],[המחיר לאחר ההנחה ומענק]]*25%,IF(טבלה1[[#This Row],[המחיר לאחר ההנחה ומענק]]>1450000,טבלה1[[#This Row],[המחיר לאחר ההנחה ומענק]]-1350000,IF(טבלה1[[#This Row],[המחיר לאחר ההנחה ומענק]]>1000000,100000,IF(טבלה1[[#This Row],[המחיר לאחר ההנחה ומענק]]<1000000,100000)))))-IF(טבלה1[[#This Row],[מענק]]="V",40000,0) -> 636250 | R12: =(טבלה1[[#This Row],[המחיר לאחר ההנחה ומענק]]-טבלה1[[#This Row],[הון העצמי הנדרש]])/100000*530 -> 10116.375 | S12: =טבלה1[[#This Row],[הרווח לעומת מחיר השוק]]/טבלה1[[#This Row],[המחיר לאחר ההנחה ומענק]] -> 0.4941336 | T12: =VLOOKUP(A12,'מחירים שוק חופשי'!B:Q,16,0)-טבלה1[[#This Row],[המחיר לאחר ההנחה ומענק]] -> 1257570 | V12: 0.0116
A13: ירושלים קטמון | B13: 1 | C13: =טבלה1[[#This Row],[מתוכם דירות לכלל הציבור]]+טבלה1[[#This Row],[מתוכם דירות לבני מקום]] -> 29 | D13: 20 | E13: 9 | F13: 2284500 | G13: =IF(טבלה1[[#This Row],[מחיר לאחר הנחה ומענק]]="","",IF(טבלה1[[#This Row],[מחיר לאחר הנחה ומענק]]>1800000,טבלה1[[#This Row],[מחיר לאחר הנחה ומענק]]*25%,IF(טבלה1[[#This Row],[מחיר לאחר הנחה ומענק]]>1450000,טבלה1[[#This Row],[מחיר לאחר הנחה ומענק]]-1350000,IF(טבלה1[[#This Row],[מחיר לאחר הנחה ומענק]]>1000000,100000,IF(טבלה1[[#This Row],[מחיר לאחר הנחה ומענק]]<1000000,100000)))))-IF(טבלה1[[#This Row],[מענק]]="V",40000,0) -> 571125 | H13: =(טבלה1[[#This Row],[מחיר לאחר הנחה ומענק]]-טבלה1[[#This Row],[הון עצמי נדרש]])/100000*530 -> 9080.8875 | I13: =טבלה1[[#This Row],[רווח לעומת מחיר שוק]]/F13 -> 0.36370147 | J13: =VLOOKUP(A13,'מחירים שוק חופשי'!B:Q,14,0)-F13 -> 830876 | K13: 2803680 | L13: =IF(טבלה1[[#This Row],[מחיר לאחר ההנחה ומענק]]="","",IF(טבלה1[[#This Row],[מחיר לאחר ההנחה ומענק]]>1800000,טבלה1[[#This Row],[מחיר לאחר ההנחה ומענק]]*25%,IF(טבלה1[[#This Row],[מחיר לאחר ההנחה ומענק]]>1450000,טבלה1[[#This Row],[מחיר לאחר ההנחה ומענק]]-1350000,IF(טבלה1[[#This Row],[מחיר לאחר ההנחה ומענק]]>1000000,100000,IF(טבלה1[[#This Row],[מחיר לאחר ההנחה ומענק]]<1000000,100000)))))-IF(טבלה1[[#This Row],[מענק]]="V",40000,0) -> 700920 | M13: =(טבלה1[[#This Row],[מחיר לאחר ההנחה ומענק]]-טבלה1[[#This Row],[הון עצמי הנדרש]])/100000*530 -> 11144.628 | N13: =O13/K13 -> 0.37726702 | O13: =VLOOKUP(A13,'מחירים שוק חופשי'!B:Q,15,0)-K13 -> 1057736 | P13: 3504600 | Q13: =IF(טבלה1[[#This Row],[המחיר לאחר ההנחה ומענק]]="","",IF(טבלה1[[#This Row],[המחיר לאחר ההנחה ומענק]]>1800000,טבלה1[[#This Row],[המחיר לאחר ההנחה ומענק]]*25%,IF(טבלה1[[#This Row],[המחיר לאחר ההנחה ומענק]]>1450000,טבלה1[[#This Row],[המחיר לאחר ההנחה ומענק]]-1350000,IF(טבלה1[[#This Row],[המחיר לאחר ההנחה ומענק]]>1000000,100000,IF(טבלה1[[#This Row],[המחיר לאחר ההנחה ומענק]]<1000000,100000)))))-IF(טבלה1[[#This Row],[מענק]]="V",40000,0) -> 876150 | R13: =(טבלה1[[#This Row],[המחיר לאחר ההנחה ומענק]]-טבלה1[[#This Row],[הון העצמי הנדרש]])/100000*530 -> 13930.785 | S13: =טבלה1[[#This Row],[הרווח לעומת מחיר השוק]]/טבלה1[[#This Row],[המחיר לאחר ההנחה ומענק]] -> 0.37726702 | T13: =VLOOKUP(A13,'מחירים שוק חופשי'!B:Q,16,0)-טבלה1[[#This Row],[המחיר לאחר ההנחה ומענק]] -> 1322170 | V13: 0.0116
A14: כפר ורדים (וילות 5 חד') | B14: 19 | C14: =טבלה1[[#This Row],[מתוכם דירות לכלל הציבור]]+טבלה1[[#This Row],[מתוכם דירות לבני מקום]] -> 59 | D14: 35 | E14: 24 | P14: 1611532 | Q14: =IF(טבלה1[[#This Row],[המחיר לאחר ההנחה ומענק]]="","",IF(טבלה1[[#This Row],[המחיר לאחר ההנחה ומענק]]>1800000,טבלה1[[#This Row],[המחיר לאחר ההנחה ומענק]]*25%,IF(טבלה1[[#This Row],[המחיר לאחר ההנחה ומענק]]>1450000,טבלה1[[#This Row],[המחיר לאחר ההנחה ומענק]]-1350000,IF(טבלה1[[#This Row],[המחיר לאחר ההנחה ומענק]]>1000000,100000,IF(טבלה1[[#This Row],[המחיר לאחר ההנחה ומענק]]<1000000,100000)))))-IF(טבלה1[[#This Row],[מענק]]="V",40000,0) -> 261532 | R14: =(טבלה1[[#This Row],[המחיר לאחר ההנחה ומענק]]-טבלה1[[#This Row],[הון העצמי הנדרש]])/100000*530 -> 7155 | S14: =טבלה1[[#This Row],[הרווח לעומת מחיר השוק]]/טבלה1[[#This Row],[המחיר לאחר ההנחה ומענק]] -> 0.17275983 | T14: =VLOOKUP(A14,'מחירים שוק חופשי'!B:Q,16,0)-טבלה1[[#This Row],[המחיר לאחר ההנחה ומענק]] -> 278408 | V14: 0.0133
A15: מעלות | B15: 17 | C15: =טבלה1[[#This Row],[מתוכם דירות לכלל הציבור]]+טבלה1[[#This Row],[מתוכם דירות לבני מקום]] -> 4 | D15: 2 | E15: 2 | P15: 1019631 | Q15: =IF(טבלה1[[#This Row],[המחיר לאחר ההנחה ומענק]]="","",IF(טבלה1[[#This Row],[המחיר לאחר ההנחה ומענק]]>1800000,טבלה1[[#This Row],[המחיר לאחר ההנחה ומענק]]*25%,IF(טבלה1[[#This Row],[המחיר לאחר ההנחה ומענק]]>1450000,טבלה1[[#This Row],[המחיר לאחר ההנחה ומענק]]-1350000,IF(טבלה1[[#This Row],[המחיר לאחר ההנחה ומענק]]>1000000,100000,IF(טבלה1[[#This Row],[המחיר לאחר ההנחה ומענק]]<1000000,100000)))))-IF(טבלה1[[#This Row],[מענק]]="V",40000,0) -> 100000 | R15: =(טבלה1[[#This Row],[המחיר לאחר ההנחה ומענק]]-טבלה1[[#This Row],[הון העצמי הנדרש]])/100000*530 -> 4874.0443 | S15: =טבלה1[[#This Row],[הרווח לעומת מחיר השוק]]/טבלה1[[#This Row],[המחיר לאחר ההנחה ומענק]] -> 0.57043332 | T15: =VLOOKUP(A15,'מחירים שוק חופשי'!B:Q,16,0)-טבלה1[[#This Row],[המחיר לאחר ההנחה ומענק]] -> 581631.5 | V15: 0.0044
A16: מצפה רמון | B16: 20 | C16: =טבלה1[[#This Row],[מתוכם דירות לכלל הציבור]]+טבלה1[[#This Row],[מתוכם דירות לבני מקום]] -> 44 | D16: 17 | E16: 27 | F16: 524911 | G16: =IF(טבלה1[[#This Row],[מחיר לאחר הנחה ומענק]]="","",IF(טבלה1[[#This Row],[מחיר לאחר הנחה ומענק]]>1800000,טבלה1[[#This Row],[מחיר לאחר הנחה ומענק]]*25%,IF(טבלה1[[#This Row],[מחיר לאחר הנחה ומענק]]>1450000,טבלה1[[#This Row],[מחיר לאחר הנחה ומענק]]-1350000,IF(טבלה1[[#This Row],[מחיר לאחר הנחה ומענק]]>1000000,100000,IF(טבלה1[[#This Row],[מחיר לאחר הנחה ומענק]]<1000000,100000)))))-IF(טבלה1[[#This Row],[מענק]]="V",40000,0) -> 100000 | H16: =(טבלה1[[#This Row],[מחיר לאחר הנחה ומענק]]-טבלה1[[#This Row],[הון עצמי נדרש]])/100000*530 -> 2252.0283 | I16: =טבלה1[[#This Row],[רווח לעומת מחיר שוק]]/F16 -> 0.77730701 | J16: =VLOOKUP(A16,'מחירים שוק חופשי'!B:Q,14,0)-F16 -> 408017 | K16: 644209 | L16: =IF(טבלה1[[#This Row],[מחיר לאחר ההנחה ומענק]]="","",IF(טבלה1[[#This Row],[מחיר לאחר ההנחה ומענק]]>1800000,טבלה1[[#This Row],[מחיר לאחר ההנחה ומענק]]*25%,IF(טבלה1[[#This Row],[מחיר לאחר ההנחה ומענק]]>1450000,טבלה1[[#This Row],[מחיר לאחר ההנחה ומענק]]-1350000,IF(טבלה1[[#This Row],[מחיר לאחר ההנחה ומענק]]>1000000,100000,IF(טבלה1[[#This Row],[מחיר לאחר ההנחה ומענק]]<1000000,100000)))))-IF(טבלה1[[#This Row],[מענק]]="V",40000,0) -> 100000 | M16: =(טבלה1[[#This Row],[מחיר לאחר ההנחה ומענק]]-טבלה1[[#This Row],[הון עצמי הנדרש]])/100000*530 -> 2884.3077 | N16: =O16/K16 -> 0.79452321 | O16: =VLOOKUP(A16,'מחירים שוק חופשי'!B:Q,15,0)-K16 -> 511839 | P16: 841000 | Q16: =IF(טבלה1[[#This Row],[המחיר לאחר ההנחה ומענק]]="","",IF(טבלה1[[#This Row],[המחיר לאחר ההנחה ומענק]]>1800000,טבלה1[[#This Row],[המחיר לאחר ההנחה ומענק]]*25%,IF(טבלה1[[#This Row],[המחיר לאחר ההנחה ומענק]]>1450000,טבלה1[[#This Row],[המחיר לאחר ההנחה ומענק]]-1350000,IF(טבלה1[[#This Row],[המחיר לאחר ההנחה ומענק]]>1000000,100000,IF(טבלה1[[#This Row],[המחיר לאחר ההנחה ומענק]]<1000000,100000)))))-IF(טבלה1[[#This Row],[מענק]]="V",40000,0) -> 100000 | R16: =(טבלה1[[#This Row],[המחיר לאחר ההנחה ומענק]]-טבלה1[[#This Row],[הון העצמי הנדרש]])/100000*530 -> 3927.3 | S16: =טבלה1[[#This Row],[הרווח לעומת מחיר השוק]]/טבלה1[[#This Row],[המחיר לאחר ההנחה ומענק]] -> 0.71826397 | T16: =VLOOKUP(A16,'מחירים שוק חופשי'!B:Q,16,0)-טבלה1[[#This Row],[המחיר לאחר ההנחה ומענק]] -> 604060 | V16: 0.029
A17: נוף הגליל | B17: 13 | C17: =טבלה1[[#This Row],[מתוכם דירות לכלל הציבור]]+טבלה1[[#This Row],[מתוכם דירות לבני מקום]] -> 348 | D17: 237 | E17: 111 | F17: 883159 | G17: =IF(טבלה1[[#This Row],[מחיר לאחר הנחה ומענק]]="","",IF(טבלה1[[#This Row],[מחיר לאחר הנחה ומענק]]>1800000,טבלה1[[#This Row],[מחיר לאחר הנחה ומענק]]*25%,IF(טבלה1[[#This Row],[מחיר לאחר הנחה ומענק]]>1450000,טבלה1[[#This Row],[מחיר לאחר הנחה ומענק]]-1350000,IF(טבלה1[[#This Row],[מחיר לאחר הנחה ומענק]]>1000000,100000,IF(טבלה1[[#This Row],[מחיר לאחר הנחה ומענק]]<1000000,100000)))))-IF(טבלה1[[#This Row],[מענק]]="V",40000,0) -> 100000 | H17: =(טבלה1[[#This Row],[מחיר לאחר הנחה ומענק]]-טבלה1[[#This Row],[הון עצמי נדרש]])/100000*530 -> 4150.7427 | I17: =טבלה1[[#This Row],[רווח לעומת מחיר שוק]]/F17 -> 0.3996619 | J17: =VLOOKUP(A17,'מחירים שוק חופשי'!B:Q,14,0)-F17 -> 352965 | K17: 1083877 | L17: =IF(טבלה1[[#This Row],[מחיר לאחר ההנחה ומענק]]="","",IF(טבלה1[[#This Row],[מחיר לאחר ההנחה ומענק]]>1800000,טבלה1[[#This Row],[מחיר לאחר ההנחה ומענק]]*25%,IF(טבלה1[[#This Row],[מחיר לאחר ההנחה ומענק]]>1450000,טבלה1[[#This Row],[מחיר לאחר ההנחה ומענק]]-1350000,IF(טבלה1[[#This Row],[מחיר לאחר ההנחה ומענק]]>1000000,100000,IF(טבלה1[[#This Row],[מחיר לאחר ההנחה ומענק]]<1000000,100000)))))-IF(טבלה1[[#This Row],[מענק]]="V",40000,0) -> 100000 | M17: =(טבלה1[[#This Row],[מחיר לאחר ההנחה ומענק]]-טבלה1[[#This Row],[הון עצמי הנדרש]])/100000*530 -> 5214.5481 | N17: =O17/K17 -> 0.41190744 | O17: =VLOOKUP(A17,'מחירים שוק חופשי'!B:Q,15,0)-K17 -> 446457 | P17: 1400000 | Q17: =IF(טבלה1[[#This Row],[המחיר לאחר ההנחה ומענק]]="","",IF(טבלה1[[#This Row],[המחיר לאחר ההנחה ומענק]]>1800000,טבלה1[[#This Row],[המחיר לאחר ההנחה ומענק]]*25%,IF(טבלה1[[#This Row],[המחיר לאחר ההנחה ומענק]]>1450000,טבלה1[[#This Row],[המחיר לאחר ההנחה ומענק]]-1350000,IF(טבלה1[[#This Row],[המחיר לאחר ההנחה ומענק]]>1000000,100000,IF(טבלה1[[#This Row],[המחיר לאחר ההנחה ומענק]]<1000000,100000)))))-IF(טבלה1[[#This Row],[מענק]]="V",40000,0) -> 100000 | R17: =(טבלה1[[#This Row],[המחיר לאחר ההנחה ומענק]]-טבלה1[[#This Row],[הון העצמי הנדרש]])/100000*530 -> 6890 | S17: =טבלה1[[#This Row],[הרווח לעומת מחיר השוק]]/טבלה1[[#This Row],[המחיר לאחר ההנחה ומענק]] -> 0.36636964 | T17: =VLOOKUP(A17,'מחירים שוק חופשי'!B:Q,16,0)-טבלה1[[#This Row],[המחיר לאחר ההנחה ומענק]] -> 512917.5 | V17: 0.0826
A18: נתניה כוכב הים | B18: 2 | C18: =טבלה1[[#This Row],[מתוכם דירות לכלל הציבור]]+טבלה1[[#This Row],[מתוכם דירות לבני מקום]] -> 41 | D18: 28 | E18: 13 | F18: 1705350 | G18: =IF(טבלה1[[#This Row],[מחיר לאחר הנחה ומענק]]="","",IF(טבלה1[[#This Row],[מחיר לאחר הנחה ומענק]]>1800000,טבלה1[[#This Row],[מחיר לאחר הנחה ומענק]]*25%,IF(טבלה1[[#This Row],[מחיר לאחר הנחה ומענק]]>1450000,טבלה1[[#This Row],[מחיר לאחר הנחה ומענק]]-1350000,IF(טבלה1[[#This Row],[מחיר לאחר הנחה ומענק]]>1000000,100000,IF(טבלה1[[#This Row],[מחיר לאחר הנחה ומענק]]<1000000,100000)))))-IF(טבלה1[[#This Row],[מענק]]="V",40000,0) -> 355350 | H18: =(טבלה1[[#This Row],[מחיר לאחר הנחה ומענק]]-טבלה1[[#This Row],[הון עצמי נדרש]])/100000*530 -> 7155 | I18: =טבלה1[[#This Row],[רווח לעומת מחיר שוק]]/F18 -> 0.42526989 | J18: =VLOOKUP(A18,'מחירים שוק חופשי'!B:Q,14,0)-F18 -> 725234 | K18: 2092947 | L18: =IF(טבלה1[[#This Row],[מחיר לאחר ההנחה ומענק]]="","",IF(טבלה1[[#This Row],[מחיר לאחר ההנחה ומענק]]>1800000,טבלה1[[#This Row],[מחיר לאחר ההנחה ומענק]]*25%,IF(טבלה1[[#This Row],[מחיר לאחר ההנחה ומענק]]>1450000,טבלה1[[#This Row],[מחיר לאחר ההנחה ומענק]]-1350000,IF(טבלה1[[#This Row],[מחיר לאחר ההנחה ומענק]]>1000000,100000,IF(טבלה1[[#This Row],[מחיר לאחר ההנחה ומענק]]<1000000,100000)))))-IF(טבלה1[[#This Row],[מענק]]="V",40000,0) -> 523236.75 | M18: =(טבלה1[[#This Row],[מחיר לאחר ההנחה ומענק]]-טבלה1[[#This Row],[הון עצמי הנדרש]])/100000*530 -> 8319.4643 | N18: =O18/K18 -> 0.43789785 | O18: =VLOOKUP(A18,'מחירים שוק חופשי'!B:Q,15,0)-K18 -> 916497 | P18: 2616000 | Q18: =IF(טבלה1[[#This Row],[המחיר לאחר ההנחה ומענק]]="","",IF(טבלה1[[#This Row],[המחיר לאחר ההנחה ומענק]]>1800000,טבלה1[[#This Row],[המחיר לאחר ההנחה ומענק]]*25%,IF(טבלה1[[#This Row],[המחיר לאחר ההנחה ומענק]]>1450000,טבלה1[[#This Row],[המחיר לאחר ההנחה ומענק]]-1350000,IF(טבלה1[[#This Row],[המחיר לאחר ההנחה ומענק]]>1000000,100000,IF(טבלה1[[#This Row],[המחיר לאחר ההנחה ומענק]]<1000000,100000)))))-IF(טבלה1[[#This Row],[מענק]]="V",40000,0) -> 654000 | R18: =(טבלה1[[#This Row],[המחיר לאחר ההנחה ומענק]]-טבלה1[[#This Row],[הון העצמי הנדרש]])/100000*530 -> 10398.6 | S18: =טבלה1[[#This Row],[הרווח לעומת מחיר השוק]]/טבלה1[[#This Row],[המחיר לאחר ההנחה ומענק]] -> 0.43799885 | T18: =VLOOKUP(A18,'מחירים שוק חופשי'!B:Q,16,0)-טבלה1[[#This Row],[המחיר לאחר ההנחה ומענק]] -> 1145805 | V18: 0.0076
A19: נתניה מזרח | B19: 2 | C19: =טבלה1[[#This Row],[מתוכם דירות לכלל הציבור]]+טבלה1[[#This Row],[מתוכם דירות לבני מקום]] -> 212 | D19: 145 | E19: 67 | F19: 1500000 | G19: =IF(טבלה1[[#This Row],[מחיר לאחר הנחה ומענק]]="","",IF(טבלה1[[#This Row],[מחיר לאחר הנחה ומענק]]>1800000,טבלה1[[#This Row],[מחיר לאחר הנחה ומענק]]*25%,IF(טבלה1[[#This Row],[מחיר לאחר הנחה ומענק]]>1450000,טבלה1[[#This Row],[מחיר לאחר הנחה ומענק]]-1350000,IF(טבלה1[[#This Row],[מחיר לאחר הנחה ומענק]]>1000000,100000,IF(טבלה1[[#This Row],[מחיר לאחר הנחה ומענק]]<1000000,100000)))))-IF(טבלה1[[#This Row],[מענק]]="V",40000,0) -> 150000 | H19: =(טבלה1[[#This Row],[מחיר לאחר הנחה ומענק]]-טבלה1[[#This Row],[הון עצמי נדרש]])/100000*530 -> 7155 | I19: =טבלה1[[#This Row],[רווח לעומת מחיר שוק]]/F19 -> 0.38711467 | J19: =VLOOKUP(A19,'מחירים שוק חופשי'!B:Q,14,0)-F19 -> 580672 | K19: 1841081 | L19: =IF(טבלה1[[#This Row],[מחיר לאחר ההנחה ומענק]]="","",IF(טבלה1[[#This Row],[מחיר לאחר ההנחה ומענק]]>1800000,טבלה1[[#This Row],[מחיר לאחר ההנחה ומענק]]*25%,IF(טבלה1[[#This Row],[מחיר לאחר ההנחה ומענק]]>1450000,טבלה1[[#This Row],[מחיר לאחר ההנחה ומענק]]-1350000,IF(טבלה1[[#This Row],[מחיר לאחר ההנחה ומענק]]>1000000,100000,IF(טבלה1[[#This Row],[מחיר לאחר ההנחה ומענק]]<1000000,100000)))))-IF(טבלה1[[#This Row],[מענק]]="V",40000,0) -> 460270.25 | M19: =(טבלה1[[#This Row],[מחיר לאחר ההנחה ומענק]]-טבלה1[[#This Row],[הון עצמי הנדרש]])/100000*530 -> 7318.297 | N19: =O19/K19 -> 0.40002097 | O19: =VLOOKUP(A19,'מחירים שוק חופשי'!B:Q,15,0)-K19 -> 736471 | P19: 2300000 | Q19: =IF(טבלה1[[#This Row],[המחיר לאחר ההנחה ומענק]]="","",IF(טבלה1[[#This Row],[המחיר לאחר ההנחה ומענק]]>1800000,טבלה1[[#This Row],[המחיר לאחר ההנחה ומענק]]*25%,IF(טבלה1[[#This Row],[המחיר לאחר ההנחה ומענק]]>1450000,טבלה1[[#This Row],[המחיר לאחר ההנחה ומענק]]-1350000,IF(טבלה1[[#This Row],[המחיר לאחר ההנחה ומענק]]>1000000,100000,IF(טבלה1[[#This Row],[המחיר לאחר ההנחה ומענק]]<1000000,100000)))))-IF(טבלה1[[#This Row],[מענק]]="V",40000,0) -> 575000 | R19: =(טבלה1[[#This Row],[המחיר לאחר ההנחה ומענק]]-טבלה1[[#This Row],[הון העצמי הנדרש]])/100000*530 -> 9142.5 | S19: =טבלה1[[#This Row],[הרווח לעומת מחיר השוק]]/טבלה1[[#This Row],[המחיר לאחר ההנחה ומענק]] -> 0.40084348 | T19: =VLOOKUP(A19,'מחירים שוק חופשי'!B:Q,16,0)-טבלה1[[#This Row],[המחיר לאחר ההנחה ומענק]] -> 921940 | V19: 0.0076
A20: עכו | B20: 10 | C20: =טבלה1[[#This Row],[מתוכם דירות לכלל הציבור]]+טבלה1[[#This Row],[מתוכם דירות לבני מקום]] -> 84 | D20: 49 | E20: 35 | F20: 780700 | G20: =IF(טבלה1[[#This Row],[מחיר לאחר הנחה ומענק]]="","",IF(טבלה1[[#This Row],[מחיר לאחר הנחה ומענק]]>1800000,טבלה1[[#This Row],[מחיר לאחר הנחה ומענק]]*25%,IF(טבלה1[[#This Row],[מחיר לאחר הנחה ומענק]]>1450000,טבלה1[[#This Row],[מחיר לאחר הנחה ומענק]]-1350000,IF(טבלה1[[#This Row],[מחיר לאחר הנחה ומענק]]>1000000,100000,IF(טבלה1[[#This Row],[מחיר לאחר הנחה ומענק]]<1000000,100000)))))-IF(טבלה1[[#This Row],[מענק]]="V",40000,0) -> 100000 | H20: =(טבלה1[[#This Row],[מחיר לאחר הנחה ומענק]]-טבלה1[[#This Row],[הון עצמי נדרש]])/100000*530 -> 3607.71 | I20: =טבלה1[[#This Row],[רווח לעומת מחיר שוק]]/F20 -> 0.62816959 | J20: =VLOOKUP(A20,'מחירים שוק חופשי'!B:Q,14,0)-F20 -> 490412 | K20: 1096688 | L20: =IF(טבלה1[[#This Row],[מחיר לאחר ההנחה ומענק]]="","",IF(טבלה1[[#This Row],[מחיר לאחר ההנחה ומענק]]>1800000,טבלה1[[#This Row],[מחיר לאחר ההנחה ומענק]]*25%,IF(טבלה1[[#This Row],[מחיר לאחר ההנחה ומענק]]>1450000,טבלה1[[#This Row],[מחיר לאחר ההנחה ומענק]]-1350000,IF(טבלה1[[#This Row],[מחיר לאחר ההנחה ומענק]]>1000000,100000,IF(טבלה1[[#This Row],[מחיר לאחר ההנחה ומענק]]<1000000,100000)))))-IF(טבלה1[[#This Row],[מענק]]="V",40000,0) -> 100000 | M20: =(טבלה1[[#This Row],[מחיר לאחר ההנחה ומענק]]-טבלה1[[#This Row],[הון עצמי הנדרש]])/100000*530 -> 5282.4464 | N20: =O20/K20 -> 0.43440249 | O20: =VLOOKUP(A20,'מחירים שוק חופשי'!B:Q,15,0)-K20 -> 476404 | P20: 1479000 | Q20: =IF(טבלה1[[#This Row],[המחיר לאחר ההנחה ומענק]]="","",IF(טבלה1[[#This Row],[המחיר לאחר ההנחה ומענק]]>1800000,טבלה1[[#This Row],[המחיר לאחר ההנחה ומענק]]*25%,IF(טבלה1[[#This Row],[המחיר לאחר ההנחה ומענק]]>1450000,טבלה1[[#This Row],[המחיר לאחר ההנחה ומענק]]-1350000,IF(טבלה1[[#This Row],[המחיר לאחר ההנחה ומענק]]>1000000,100000,IF(טבלה1[[#This Row],[המחיר לאחר ההנחה ומענק]]<1000000,100000)))))-IF(טבלה1[[#This Row],[מענק]]="V",40000,0) -> 129000 | R20: =(טבלה1[[#This Row],[המחיר לאחר ההנחה ומענק]]-טבלה1[[#This Row],[הון העצמי הנדרש]])/100000*530 -> 7155 | S20: =טבלה1[[#This Row],[הרווח לעומת מחיר השוק]]/טבלה1[[#This Row],[המחיר לאחר ההנחה ומענק]] -> 0.32952333 | T20: =VLOOKUP(A20,'מחירים שוק חופשי'!B:Q,16,0)-טבלה1[[#This Row],[המחיר לאחר ההנחה ומענק]] -> 487365 | V20: 0.0085
A21: עפולה | B21: 8 | C21: =טבלה1[[#This Row],[מתוכם דירות לכלל הציבור]]+טבלה1[[#This Row],[מתוכם דירות לבני מקום]] -> 349 | D21: 248 | E21: 101 | F21: 620000 | G21: =IF(טבלה1[[#This Row],[מחיר לאחר הנחה ומענק]]="","",IF(טבלה1[[#This Row],[מחיר לאחר הנחה ומענק]]>1800000,טבלה1[[#This Row],[מחיר לאחר הנחה ומענק]]*25%,IF(טבלה1[[#This Row],[מחיר לאחר הנחה ומענק]]>1450000,טבלה1[[#This Row],[מחיר לאחר הנחה ומענק]]-1350000,IF(טבלה1[[#This Row],[מחיר לאחר הנחה ומענק]]>1000000,100000,IF(טבלה1[[#This Row],[מחיר לאחר הנחה ומענק]]<1000000,100000)))))-IF(טבלה1[[#This Row],[מענק]]="V",40000,0) -> 100000 | H21: =(טבלה1[[#This Row],[מחיר לאחר הנחה ומענק]]-טבלה1[[#This Row],[הון עצמי נדרש]])/100000*530 -> 2756 | I21: =טבלה1[[#This Row],[רווח לעומת מחיר שוק]]/F21 -> 0.70483871 | J21: =VLOOKUP(A21,'מחירים שוק חופשי'!B:Q,14,0)-F21 -> 437000 | K21: 770000 | L21: =IF(טבלה1[[#This Row],[מחיר לאחר ההנחה ומענק]]="","",IF(טבלה1[[#This Row],[מחיר לאחר ההנחה ומענק]]>1800000,טבלה1[[#This Row],[מחיר לאחר ההנחה ומענק]]*25%,IF(טבלה1[[#This Row],[מחיר לאחר ההנחה ומענק]]>1450000,טבלה1[[#This Row],[מחיר לאחר ההנחה ומענק]]-1350000,IF(טבלה1[[#This Row],[מחיר לאחר ההנחה ומענק]]>1000000,100000,IF(טבלה1[[#This Row],[מחיר לאחר ההנחה ומענק]]<1000000,100000)))))-IF(טבלה1[[#This Row],[מענק]]="V",40000,0) -> 100000 | M21: =(טבלה1[[#This Row],[מחיר לאחר ההנחה ומענק]]-טבלה1[[#This Row],[הון עצמי הנדרש]])/100000*530 -> 3551 | N21: =O21/K21 -> 0.69935065 | O21: =VLOOKUP(A21,'מחירים שוק חופשי'!B:Q,15,0)-K21 -> 538500 | P21: 1078000 | Q21: =IF(טבלה1[[#This Row],[המחיר לאחר ההנחה ומענק]]="","",IF(טבלה1[[#This Row],[המחיר לאחר ההנחה ומענק]]>1800000,טבלה1[[#This Row],[המחיר לאחר ההנחה ומענק]]*25%,IF(טבלה1[[#This Row],[המחיר לאחר ההנחה ומענק]]>1450000,טבלה1[[#This Row],[המחיר לאחר ההנחה ומענק]]-1350000,IF(טבלה1[[#This Row],[המחיר לאחר ההנחה ומענק]]>1000000,100000,IF(טבלה1[[#This Row],[המחיר לאחר ההנחה ומענק]]<1000000,100000)))))-IF(טבלה1[[#This Row],[מענק]]="V",40000,0) -> 100000 | R21: =(טבלה1[[#This Row],[המחיר לאחר ההנחה ומענק]]-טבלה1[[#This Row],[הון העצמי הנדרש]])/100000*530 -> 5183.4 | S21: =טבלה1[[#This Row],[הרווח לעומת מחיר השוק]]/טבלה1[[#This Row],[המחיר לאחר ההנחה ומענק]] -> 0.51727737 | T21: =VLOOKUP(A21,'מחירים שוק חופשי'!B:Q,16,0)-טבלה1[[#This Row],[המחיר לאחר ההנחה ומענק]] -> 557625 | V21: 0.0219
A22: קרית ביאליק | B22: 12 | C22: =טבלה1[[#This Row],[מתוכם דירות לכלל הציבור]]+טבלה1[[#This Row],[מתוכם דירות לבני מקום]] -> 210 | D22: 144 | E22: 66 | F22: 944000 | G22: =IF(טבלה1[[#This Row],[מחיר לאחר הנחה ומענק]]="","",IF(טבלה1[[#This Row],[מחיר לאחר הנחה ומענק]]>1800000,טבלה1[[#This Row],[מחיר לאחר הנחה ומענק]]*25%,IF(טבלה1[[#This Row],[מחיר לאחר הנחה ומענק]]>1450000,טבלה1[[#This Row],[מחיר לאחר הנחה ומענק]]-1350000,IF(טבלה1[[#This Row],[מחיר לאחר הנחה ומענק]]>1000000,100000,IF(טבלה1[[#This Row],[מחיר לאחר הנחה ומענק]]<1000000,100000)))))-IF(טבלה1[[#This Row],[מענק]]="V",40000,0) -> 100000 | H22: =(טבלה1[[#This Row],[מחיר לאחר הנחה ומענק]]-טבלה1[[#This Row],[הון עצמי נדרש]])/100000*530 -> 4473.2 | I22: =טבלה1[[#This Row],[רווח לעומת מחיר שוק]]/F22 -> 0.5863178 | J22: =VLOOKUP(A22,'מחירים שוק חופשי'!B:Q,14,0)-F22 -> 553484 | K22: 1300000 | L22: =IF(טבלה1[[#This Row],[מחיר לאחר ההנחה ומענק]]="","",IF(טבלה1[[#This Row],[מחיר לאחר ההנחה ומענק]]>1800000,טבלה1[[#This Row],[מחיר לאחר ההנחה ומענק]]*25%,IF(טבלה1[[#This Row],[מחיר לאחר ההנחה ומענק]]>1450000,טבלה1[[#This Row],[מחיר לאחר ההנחה ומענק]]-1350000,IF(טבלה1[[#This Row],[מחיר לאחר ההנחה ומענק]]>1000000,100000,IF(טבלה1[[#This Row],[מחיר לאחר ההנחה ומענק]]<1000000,100000)))))-IF(טבלה1[[#This Row],[מענק]]="V",40000,0) -> 100000 | M22: =(טבלה1[[#This Row],[מחיר לאחר ההנחה ומענק]]-טבלה1[[#This Row],[הון עצמי הנדרש]])/100000*530 -> 6360 | N22: =O22/K22 -> 0.42622615 | O22: =VLOOKUP(A22,'מחירים שוק חופשי'!B:Q,15,0)-K22 -> 554094 | P22: 1663500 | Q22: =IF(טבלה1[[#This Row],[המחיר לאחר ההנחה ומענק]]="","",IF(טבלה1[[#This Row],[המחיר לאחר ההנחה ומענק]]>1800000,טבלה1[[#This Row],[המחיר לאחר ההנחה ומענק]]*25%,IF(טבלה1[[#This Row],[המחיר לאחר ההנחה ומענק]]>1450000,טבלה1[[#This Row],[המחיר לאחר ההנחה ומענק]]-1350000,IF(טבלה1[[#This Row],[המחיר לאחר ההנחה ומענק]]>1000000,100000,IF(טבלה1[[#This Row],[המחיר לאחר ההנחה ומענק]]<1000000,100000)))))-IF(טבלה1[[#This Row],[מענק]]="V",40000,0) -> 313500 | R22: =(טבלה1[[#This Row],[המחיר לאחר ההנחה ומענק]]-טבלה1[[#This Row],[הון העצמי הנדרש]])/100000*530 -> 7155 | S22: =טבלה1[[#This Row],[הרווח לעומת מחיר השוק]]/טבלה1[[#This Row],[המחיר לאחר ההנחה ומענק]] -> 0.39321761 | T22: =VLOOKUP(A22,'מחירים שוק חופשי'!B:Q,16,0)-טבלה1[[#This Row],[המחיר לאחר ההנחה ומענק]] -> 654117.5 | V22: 0.0119
A23: קרית גת | B23: 7 | C23: =טבלה1[[#This Row],[מתוכם דירות לכלל הציבור]]+טבלה1[[#This Row],[מתוכם דירות לבני מקום]] -> 152 | D23: 103 | E23: 49 | F23: 1015300 | G23: =IF(טבלה1[[#This Row],[מחיר לאחר הנחה ומענק]]="","",IF(טבלה1[[#This Row],[מחיר לאחר הנחה ומענק]]>1800000,טבלה1[[#This Row],[מחיר לאחר הנחה ומענק]]*25%,IF(טבלה1[[#This Row],[מחיר לאחר הנחה ומענק]]>1450000,טבלה1[[#This Row],[מחיר לאחר הנחה ומענק]]-1350000,IF(טבלה1[[#This Row],[מחיר לאחר הנחה ומענק]]>1000000,100000,IF(טבלה1[[#This Row],[מחיר לאחר הנחה ומענק]]<1000000,100000)))))-IF(טבלה1[[#This Row],[מענק]]="V",40000,0) -> 100000 | H23: =(טבלה1[[#This Row],[מחיר לאחר הנחה ומענק]]-טבלה1[[#This Row],[הון עצמי נדרש]])/100000*530 -> 4851.09 | I23: =טבלה1[[#This Row],[רווח לעומת מחיר שוק]]/F23 -> 0.58737713 | J23: =VLOOKUP(A23,'מחירים שוק חופשי'!B:Q,14,0)-F23 -> 596364 | K23: 1382457 | L23: =IF(טבלה1[[#This Row],[מחיר לאחר ההנחה ומענק]]="","",IF(טבלה1[[#This Row],[מחיר לאחר ההנחה ומענק]]>1800000,טבלה1[[#This Row],[מחיר לאחר ההנחה ומענק]]*25%,IF(טבלה1[[#This Row],[מחיר לאחר ההנחה ומענק]]>1450000,טבלה1[[#This Row],[מחיר לאחר ההנחה ומענק]]-1350000,IF(טבלה1[[#This Row],[מחיר לאחר ההנחה ומענק]]>1000000,100000,IF(טבלה1[[#This Row],[מחיר לאחר ההנחה ומענק]]<1000000,100000)))))-IF(טבלה1[[#This Row],[מענק]]="V",40000,0) -> 100000 | M23: =(טבלה1[[#This Row],[מחיר לאחר ההנחה ומענק]]-טבלה1[[#This Row],[הון עצמי הנדרש]])/100000*530 -> 6797.0221 | N23: =O23/K23 -> 0.44396824 | O23: =VLOOKUP(A23,'מחירים שוק חופשי'!B:Q,15,0)-K23 -> 613767 | P23: 1733180 | Q23: =IF(טבלה1[[#This Row],[המחיר לאחר ההנחה ומענק]]="","",IF(טבלה1[[#This Row],[המחיר לאחר ההנחה ומענק]]>1800000,טבלה1[[#This Row],[המחיר לאחר ההנחה ומענק]]*25%,IF(טבלה1[[#This Row],[המחיר לאחר ההנחה ומענק]]>1450000,טבלה1[[#This Row],[המחיר לאחר ההנחה ומענק]]-1350000,IF(טבלה1[[#This Row],[המחיר לאחר ההנחה ומענק]]>1000000,100000,IF(טבלה1[[#This Row],[המחיר לאחר ההנחה ומענק]]<1000000,100000)))))-IF(טבלה1[[#This Row],[מענק]]="V",40000,0) -> 383180 | R23: =(טבלה1[[#This Row],[המחיר לאחר ההנחה ומענק]]-טבלה1[[#This Row],[הון העצמי הנדרש]])/100000*530 -> 7155 | S23: =טבלה1[[#This Row],[הרווח לעומת מחיר השוק]]/טבלה1[[#This Row],[המחיר לאחר ההנחה ומענק]] -> 0.43971197 | T23: =VLOOKUP(A23,'מחירים שוק חופשי'!B:Q,16,0)-טבלה1[[#This Row],[המחיר לאחר ההנחה ומענק]] -> 762100 | V23: 0.0126
A24: קרית עקרון | B24: 18 | C24: =טבלה1[[#This Row],[מתוכם דירות לכלל הציבור]]+טבלה1[[#This Row],[מתוכם דירות לבני מקום]] -> 600 | D24: 407 | E24: 193 | F24: 1300000 | G24: =IF(טבלה1[[#This Row],[מחיר לאחר הנחה ומענק]]="","",IF(טבלה1[[#This Row],[מחיר לאחר הנחה ומענק]]>1800000,טבלה1[[#This Row],[מחיר לאחר הנחה ומענק]]*25%,IF(טבלה1[[#This Row],[מחיר לאחר הנחה ומענק]]>1450000,טבלה1[[#This Row],[מחיר לאחר הנחה ומענק]]-1350000,IF(טבלה1[[#This Row],[מחיר לאחר הנחה ומענק]]>1000000,100000,IF(טבלה1[[#This Row],[מחיר לאחר הנחה ומענק]]<1000000,100000)))))-IF(טבלה1[[#This Row],[מענק]]="V",40000,0) -> 100000 | H24: =(טבלה1[[#This Row],[מחיר לאחר הנחה ומענק]]-טבלה1[[#This Row],[הון עצמי נדרש]])/100000*530 -> 6360 | I24: =טבלה1[[#This Row],[רווח לעומת מחיר שוק]]/F24 -> 0.35656923 | J24: =VLOOKUP(A24,'מחירים שוק חופשי'!B:Q,14,0)-F24 -> 463540 | K24: 1716545 | L24: =IF(טבלה1[[#This Row],[מחיר לאחר ההנחה ומענק]]="","",IF(טבלה1[[#This Row],[מחיר לאחר ההנחה ומענק]]>1800000,טבלה1[[#This Row],[מחיר לאחר ההנחה ומענק]]*25%,IF(טבלה1[[#This Row],[מחיר לאחר ההנחה ומענק]]>1450000,טבלה1[[#This Row],[מחיר לאחר ההנחה ומענק]]-1350000,IF(טבלה1[[#This Row],[מחיר לאחר ההנחה ומענק]]>1000000,100000,IF(טבלה1[[#This Row],[מחיר לאחר ההנחה ומענק]]<1000000,100000)))))-IF(טבלה1[[#This Row],[מענק]]="V",40000,0) -> 366545 | M24: =(טבלה1[[#This Row],[מחיר לאחר ההנחה ומענק]]-טבלה1[[#This Row],[הון עצמי הנדרש]])/100000*530 -> 7155 | N24: =O24/K24 -> 0.2722591 | O24: =VLOOKUP(A24,'מחירים שוק חופשי'!B:Q,15,0)-K24 -> 467345 | P24: 2144200 | Q24: =IF(טבלה1[[#This Row],[המחיר לאחר ההנחה ומענק]]="","",IF(טבלה1[[#This Row],[המחיר לאחר ההנחה ומענק]]>1800000,טבלה1[[#This Row],[המחיר לאחר ההנחה ומענק]]*25%,IF(טבלה1[[#This Row],[המחיר לאחר ההנחה ומענק]]>1450000,טבלה1[[#This Row],[המחיר לאחר ההנחה ומענק]]-1350000,IF(טבלה1[[#This Row],[המחיר לאחר ההנחה ומענק]]>1000000,100000,IF(טבלה1[[#This Row],[המחיר לאחר ההנחה ומענק]]<1000000,100000)))))-IF(טבלה1[[#This Row],[מענק]]="V",40000,0) -> 536050 | R24: =(טבלה1[[#This Row],[המחיר לאחר ההנחה ומענק]]-טבלה1[[#This Row],[הון העצמי הנדרש]])/100000*530 -> 8523.195 | S24: =טבלה1[[#This Row],[הרווח לעומת מחיר השוק]]/טבלה1[[#This Row],[המחיר לאחר ההנחה ומענק]] -> 0.273138 | T24: =VLOOKUP(A24,'מחירים שוק חופשי'!B:Q,16,0)-טבלה1[[#This Row],[המחיר לאחר ההנחה ומענק]] -> 585662.5 | V24: 0.0257
A25: רעננה | B25: 6 | C25: =טבלה1[[#This Row],[מתוכם דירות לכלל הציבור]]+טבלה1[[#This Row],[מתוכם דירות לבני מקום]] -> 768 | D25: 524 | E25: 244 | F25: 1998000 | G25: =IF(טבלה1[[#This Row],[מחיר לאחר הנחה ומענק]]="","",IF(טבלה1[[#This Row],[מחיר לאחר הנחה ומענק]]>1800000,טבלה1[[#This Row],[מחיר לאחר הנחה ומענק]]*25%,IF(טבלה1[[#This Row],[מחיר לאחר הנחה ומענק]]>1450000,טבלה1[[#This Row],[מחיר לאחר הנחה ומענק]]-1350000,IF(טבלה1[[#This Row],[מחיר לאחר הנחה ומענק]]>1000000,100000,IF(טבלה1[[#This Row],[מחיר לאחר הנחה ומענק]]<1000000,100000)))))-IF(טבלה1[[#This Row],[מענק]]="V",40000,0) -> 499500 | H25: =(טבלה1[[#This Row],[מחיר לאחר הנחה ומענק]]-טבלה1[[#This Row],[הון עצמי נדרש]])/100000*530 -> 7942.05 | I25: =טבלה1[[#This Row],[רווח לעומת מחיר שוק]]/F25 -> 0.36857057 | J25: =VLOOKUP(A25,'מחירים שוק חופשי'!B:Q,14,0)-F25 -> 736404 | K25: 2452771 | L25: =IF(טבלה1[[#This Row],[מחיר לאחר ההנחה ומענק]]="","",IF(טבלה1[[#This Row],[מחיר לאחר ההנחה ומענק]]>1800000,טבלה1[[#This Row],[מחיר לאחר ההנחה ומענק]]*25%,IF(טבלה1[[#This Row],[מחיר לאחר ההנחה ומענק]]>1450000,טבלה1[[#This Row],[מחיר לאחר ההנחה ומענק]]-1350000,IF(טבלה1[[#This Row],[מחיר לאחר ההנחה ומענק]]>1000000,100000,IF(טבלה1[[#This Row],[מחיר לאחר ההנחה ומענק]]<1000000,100000)))))-IF(טבלה1[[#This Row],[מענק]]="V",40000,0) -> 613192.75 | M25: =(טבלה1[[#This Row],[מחיר לאחר ההנחה ומענק]]-טבלה1[[#This Row],[הון עצמי הנדרש]])/100000*530 -> 9749.7647 | N25: =O25/K25 -> 0.38101519 | O25: =VLOOKUP(A25,'מחירים שוק חופשי'!B:Q,15,0)-K25 -> 934543 | P25: 3069390 | Q25: =IF(טבלה1[[#This Row],[המחיר לאחר ההנחה ומענק]]="","",IF(טבלה1[[#This Row],[המחיר לאחר ההנחה ומענק]]>1800000,טבלה1[[#This Row],[המחיר לאחר ההנחה ומענק]]*25%,IF(טבלה1[[#This Row],[המחיר לאחר ההנחה ומענק]]>1450000,טבלה1[[#This Row],[המחיר לאחר ההנחה ומענק]]-1350000,IF(טבלה1[[#This Row],[המחיר לאחר ההנחה ומענק]]>1000000,100000,IF(טבלה1[[#This Row],[המחיר לאחר ההנחה ומענק]]<1000000,100000)))))-IF(טבלה1[[#This Row],[מענק]]="V",40000,0) -> 767347.5 | R25: =(טבלה1[[#This Row],[המחיר לאחר ההנחה ומענק]]-טבלה1[[#This Row],[הון העצמי הנדרש]])/100000*530 -> 12200.825 | S25: =טבלה1[[#This Row],[הרווח לעומת מחיר השוק]]/טבלה1[[#This Row],[המחיר לאחר ההנחה ומענק]] -> 0.37947361 | T25: =VLOOKUP(A25,'מחירים שוק חופשי'!B:Q,16,0)-טבלה1[[#This Row],[המחיר לאחר ההנחה ומענק]] -> 1164752.5 | V25: 0.0176
A26: ס"ה | C26: =SUM(C4:C25) -> 4540 | D26: =SUBTOTAL(109,טבלה1[מתוכם דירות לכלל הציבור]) -> 3077 | E26: =SUBTOTAL(109,טבלה1[מתוכם דירות לבני מקום]) -> 1463

Sheet ממוצעים
A1: 3 | B1: 4 | H1: 3 | K1: 4
A2: =(I2+I3)/D2 -> 550733 | B2: =(L2+L3)/D2 -> 675899.5 | D2: 72 | E2: אכסאל | F2: 36 | H2: 535392 | I2: =H2*F2 -> 19274112 | K2: 657072 | L2: =K2*F2 -> 23654592
F3: 36 | H3: 566074 | I3: =H3*F3 -> 20378664 | K3: 694727 | L3: =K3*F3 -> 25010172
A4: =(I4+I5+I6)/D4 -> 1543792.9 | B4: =(L4+L5+L6)/D4 -> 1916527.3 | D4: 735 | E4: אלעד | F4: 368 | H4: 1560977 | I4: =H4*F4 -> 574439536 | K4: 1915744 | L4: =K4*F4 -> 704993792
F5: 179 | H5: 1526562 | I5: =H5*F5 -> 273254598 | K5: 1894010 | L5: =K5*F5 -> 339027790
F6: 188 | H6: 1526562 | I6: =H6*F6 -> 286993656 | K6: 1939500 | L6: =K6*F6 -> 364626000
A7: =(I7+I8+I9)/D7 -> 588508.9 | B7: =(L7+L8+L9)/D7 -> 722260.85 | D7: 67 | E7: דיר אל אסד | F7: 29 | H7: 564736 | I7: =H7*F7 -> 16377344 | K7: 693085 | L7: =K7*F7 -> 20099465
F8: 20 | H8: 605920 | I8: =H8*F8 -> 12118400 | K8: 743629 | L8: =K8*F8 -> 14872580
F9: 18 | H9: 607464 | I9: =H9*F9 -> 10934352 | K9: 745524 | L9: =K9*F9 -> 13419432
A10: =(I10+I11+I12+I13+I14)/D10 -> 740246.88 | B10: =(L10+L11+L12+L13+L14)/D10 -> 908484.98 | D10: 373 | E10: מגדל העמק | F10: 83 | H10: 712277 | I10: =H10*F10 -> 59118991 | K10: 874158 | L10: =K10*F10 -> 72555114
F11: 103 | H11: 749034 | I11: =H11*F11 -> 77150502 | K11: 919269 | L11: =K11*F11 -> 94684707
F12: 56 | H12: 747876 | I12: =H12*F12 -> 41881056 | K12: 917847 | L12: =K12*F12 -> 51399432
F13: 66 | H13: 747798 | I13: =H13*F13 -> 49354668 | K13: 917753 | L13: =K13*F13 -> 60571698
F14: 65 | H14: 747798 | I14: =H14*F14 -> 48606870 | K14: 917753 | L14: =K14*F14 -> 59653945
A15: =(I15+I16)/D15 -> 1216934.3 | B15: =(L15+L16)/D15 -> 1607146.8 | D15: 46 | E15: צור הדסה | F15: 27 | H15: 1202135 | I15: =H15*F15 -> 32457645 | K15: 1588984 | L15: =K15*F15 -> 42902568
F16: 19 | H16: 1237965 | I16: =H16*F16 -> 23521335 | K16: 1632957 | L16: =K16*F16 -> 31026183
A17: =(I17+I18+I19)/D17 -> 1607017.5 | B17: =(L17+L18+L19)/D17 -> 2040430.7 | D17: 164 | E17: ראשלצ | F17: 61 | H17: 1583550 | I17: =H17*F17 -> 96596550 | K17: 2011630 | L17: =K17*F17 -> 122709430
F18: 61 | H18: 1583550 | I18: =H18*F18 -> 96596550 | K18: 2011630 | L18: =K18*F18 -> 122709430
F19: 42 | H19: 1675185 | I19: =H19*F19 -> 70357770 | K19: 2124090 | L19: =K19*F19 -> 89211780
A20: =(I20+I21+I22+I23)/D20 -> 1384329.3 | B20: =(L20+L21+L22+L23)/D20 -> 1774726.8 | D20: 250 | E20: רחובות | F20: 37 | H20: 1690654 | I20: =H20*F20 -> 62554198 | K20: 2185270 | L20: =K20*F20 -> 80854990
F21: 29 | H21: 1331118 | I21: =H21*F21 -> 38602422 | K21: 1766892 | L21: =K21*F21 -> 51239868
F22: 74 | H22: 1331118 | I22: =H22*F22 -> 98502732 | K22: 1715842 | L22: =K22*F22 -> 126972308
F23: 110 | H23: 1331118 | I23: =H23*F23 -> 146422980 | K23: 1678314 | L23: =K23*F23 -> 184614540
A24: =(I24+I26+I25+I27)/D24 -> 838553.96 | B24: =(L24+L25+L26+L27)/D24 -> 1029134.5 | D24: 337 | E24: רכסים | F24: 25 | H24: 853127 | I24: =H24*F24 -> 21328175 | K24: 1047019 | L24: =K24*F24 -> 26175475
F25: 139 | H25: 837219 | I25: =H25*F25 -> 116373441 | K25: 1027496 | L25: =K25*F25 -> 142821944
F26: 83 | H26: 839690 | I26: =H26*F26 -> 69694270 | K26: 1030529 | L26: =K26*F26 -> 85533907
F27: 90 | H27: 835520 | I27: =H27*F27 -> 75196800 | K27: 1025411 | L27: =K27*F27 -> 92286990

Sheet מחירים שוק חופשי
A1: הגרלה נוכחית | B1: יישוב | C1: שמאי ממשלתי | D1: מדל"ן לפי עוד עו"ד | E1: ממוצע | F1: שלושה חדרים | G1: ארבעה חדרים | H1: חמשה חדרים | I1: 3 חד' מדלן | J1: 4 חד' מדלן | K1: 5 חד' מדלן | L1: 3 חד' שמאי | M1: 4 חד' שמאי | N1: 5 חד' שמאי | O1: ממוצע 3 | P1: ממוצע 4 | Q1: ממוצע 5 | R1: שיטות חישוב נוספות
B2: אופקים | D2: 13600 | F2: =E2*80 -> 0 | G2: =E2*100 -> 0
B3: אילת | C3: 16400 | F3: =E3*80 -> 0 | G3: =E3*100 -> 0 | R3: במדלן כל העיר 19,200
B4: אכסאל | F4: =E4*80 -> 0 | G4: =E4*100 -> 0
B5: אלעד | F5: =E5*80 -> 0 | G5: =E5*100 -> 0 | R5: 23600 במדלן
B6: אפרת | C6: 17900 | F6: =E6*80 -> 0 | G6: =E6*100 -> 0
A7: יש | B7: אשקלון | C7: 16628 | D7: 17300 | E7: =AVERAGE(C7:D7) -> 16964 | F7: =E7*80 -> 1357120 | G7: =E7*100 -> 1696400 | H7: =E7*125 -> 2120500 | I7: =D7*80 -> 1384000 | J7: =D7*100 -> 1730000 | K7: =D7*125 -> 2162500 | L7: =C7*88 -> 1463264 | M7: =C7*108 -> 1795824 | N7: =C7*135 -> 2244780 | O7: =AVERAGE(I7,L7) -> 1423632 | P7: =AVERAGE(J7,M7) -> 1762912 | Q7: =AVERAGE(K7,N7) -> 2203640
A8: יש | B8: באר יעקב | C8: 23363 | D8: 26100 | E8: =AVERAGE(C8:D8) -> 24731.5 | F8: =E8*80 -> 1978520 | G8: =E8*100 -> 2473150 | H8: =E8*125 -> 3091437.5 | I8: =D8*80 -> 2088000 | J8: =D8*100 -> 2610000 | K8: =D8*125 -> 3262500 | L8: =C8*88 -> 2055944 | M8: =C8*108 -> 2523204 | N8: =C8*135 -> 3154005 | O8: =AVERAGE(I8,L8) -> 2071972 | P8: =AVERAGE(J8,M8) -> 2566602 | Q8: =AVERAGE(K8,N8) -> 3208252.5
A9: יש | B9: באר שבע | C9: 15001 | D9: 14000 | E9: =AVERAGE(C9:D9) -> 14500.5 | F9: =E9*80 -> 1160040 | G9: =E9*100 -> 1450050 | H9: =E9*125 -> 1812562.5 | I9: =D9*80 -> 1120000 | J9: =D9*100 -> 1400000 | K9: =D9*125 -> 1750000 | L9: =C9*88 -> 1320088 | M9: =C9*108 -> 1620108 | N9: =C9*135 -> 2025135 | O9: =AVERAGE(I9,L9) -> 1220044 | P9: =AVERAGE(J9,M9) -> 1510054 | Q9: =AVERAGE(K9,N9) -> 1887567.5
B10: בית דגן | F10: =E10*80 -> 0 | G10: =E10*100 -> 0
B11: בית שאן | C11: 9950 | F11: =E11*80 -> 0 | G11: =E11*100 -> 0 | R11: במדלן 8,600
A12: יש | B12: בית שמש | C12: 20664 | D12: 23500 | E12: =AVERAGE(C12:D12) -> 22082 | F12: =E12*80 -> 1766560 | G12: =E12*100 -> 2208200 | H12: =E12*125 -> 2760250 | I12: =D12*80 -> 1880000 | J12: =D12*100 -> 2350000 | K12: =D12*125 -> 2937500 | L12: =C12*88 -> 1818432 | M12: =C12*108 -> 2231712 | N12: =C12*135 -> 2789640 | O12: =AVERAGE(I12,L12) -> 1849216 | P12: =AVERAGE(J12,M12) -> 2290856 | Q12: =AVERAGE(K12,N12) -> 2863570
B13: בני עי"ש | C13: 22100 | F13: =E13*80 -> 0 | G13: =E13*100 -> 0
B14: בת ים | F14: =E14*80 -> 0 | G14: =E14*100 -> 0
A15: יש | B15: דימונה | C15: 10974 | D15: 11300 | E15: =AVERAGE(C15:D15) -> 11137 | F15: =E15*80 -> 890960 | G15: =E15*100 -> 1113700 | H15: =E15*125 -> 1392125 | I15: =D15*80 -> 904000 | J15: =D15*100 -> 1130000 | K15: =D15*125 -> 1412500 | L15: =C15*88 -> 965712 | M15: =C15*108 -> 1185192 | N15: =C15*135 -> 1481490 | O15: =AVERAGE(I15,L15) -> 934856 | P15: =AVERAGE(J15,M15) -> 1157596 | Q15: =AVERAGE(K15,N15) -> 1446995
B16: חיפה | D16: 22000 | F16: =E16*80 -> 0 | G16: =E16*100 -> 0
A17: יש | B17: טבריה | C17: 12054 | D17: 13800 | E17: =AVERAGE(C17:D17) -> 12927 | F17: =E17*80 -> 1034160 | G17: =E17*100 -> 1292700 | H17: =E17*125 -> 1615875 | I17: =D17*80 -> 1104000 | J17: =D17*100 -> 1380000 | K17: =D17*125 -> 1725000 | L17: =C17*88 -> 1060752 | M17: =C17*108 -> 1301832 | N17: =C17*135 -> 1627290 | O17: =AVERAGE(I17,L17) -> 1082376 | P17: =AVERAGE(J17,M17) -> 1340916 | Q17: =AVERAGE(K17,N17) -> 1676145
B18: טירת הכרמל | C18: 19300 | F18: =E18*80 -> 0 | G18: =E18*100 -> 0
A19: יש | B19: יבנה | C19: 21110 | D19: 23600 | E19: =AVERAGE(C19:D19) -> 22355 | F19: =E19*80 -> 1788400 | G19: =E19*100 -> 2235500 | H19: =E19*125 -> 2794375 | I19: =D19*80 -> 1888000 | J19: =D19*100 -> 2360000 | K19: =D19*125 -> 2950000 | L19: =C19*88 -> 1857680 | M19: =C19*108 -> 2279880 | N19: =C19*135 -> 2849850 | O19: =AVERAGE(I19,L19) -> 1872840 | P19: =AVERAGE(J19,M19) -> 2319940 | Q19: =AVERAGE(K19,N19) -> 2899925
A20: יש | B20: יהוד | C20: 33416 | D20: 27400 | E20: =AVERAGE(C20:D20) -> 30408 | F20: =E20*80 -> 2432640 | G20: =E20*100 -> 3040800 | H20: =E20*125 -> 3801000 | I20: =D20*80 -> 2192000 | J20: =D20*100 -> 2740000 | K20: =D20*125 -> 3425000 | L20: =C20*88 -> 2940608 | M20: =C20*108 -> 3608928 | N20: =C20*135 -> 4511160 | O20: =AVERAGE(I20,L20) -> 2566304 | P20: =AVERAGE(J20,M20) -> 3174464 | Q20: =AVERAGE(K20,N20) -> 3968080
B21: ירושלים-רמות | F21: =E21*80 -> 0 | G21: =E21*100 -> 0
A22: יש | B22: ירושלים הר הצופים | C22: 28464 | D22: 30100 | E22: =AVERAGE(C22:D22) -> 29282 | F22: =E22*80 -> 2342560 | G22: =E22*100 -> 2928200 | H22: =E22*125 -> 3660250 | I22: =D22*80 -> 2408000 | J22: =D22*100 -> 3010000 | K22: =D22*125 -> 3762500 | L22: =C22*88 -> 2504832 | M22: =C22*108 -> 3074112 | N22: =C22*135 -> 3842640 | O22: =AVERAGE(I22,L22) -> 2456416 | P22: =AVERAGE(J22,M22) -> 3042056 | Q22: =AVERAGE(K22,N22) -> 3802570
A23: יש | B23: ירושלים קטמון | C23: 32804 | D23: 41800 | E23: =AVERAGE(C23:D23) -> 37302 | F23: =E23*80 -> 2984160 | G23: =E23*100 -> 3730200 | H23: =E23*125 -> 4662750 | I23: =D23*80 -> 3344000 | J23: =D23*100 -> 4180000 | K23: =D23*125 -> 5225000 | L23: =C23*88 -> 2886752 | M23: =C23*108 -> 3542832 | N23: =C23*135 -> 4428540 | O23: =AVERAGE(I23,L23) -> 3115376 | P23: =AVERAGE(J23,M23) -> 3861416 | Q23: =AVERAGE(K23,N23) -> 4826770
A24: יש | B24: כפר ורדים (וילות 5 חד') | C24: 14388 | D24: 14700 | E24: =AVERAGE(C24:D24) -> 14544 | F24: =E24*80 -> 1163520 | G24: =E24*100 -> 1454400 | H24: =E24*137 -> 1992528 | I24: =D24*80 -> 1176000 | J24: =D24*100 -> 1470000 | K24: =D24*125 -> 1837500 | L24: =C24*88 -> 1266144 | M24: =C24*108 -> 1553904 | N24: =C24*135 -> 1942380 | O24: =AVERAGE(I24,L24) -> 1221072 | P24: =AVERAGE(J24,M24) -> 1511952 | Q24: =AVERAGE(K24,N24) -> 1889940
B25: כפר סבא | C25: 27500 | F25: =E25*80 -> 0 | G25: =E25*100 -> 0
B26: מגדל העמק | D26: 10900 | F26: =E26*80 -> 0 | G26: =E26*100 -> 0
B27: מודיעין | F27: =E27*80 -> 0 | G27: =E27*100 -> 0
A28: יש | B28: מעלות | C28: 11315 | D28: 13400 | E28: =AVERAGE(C28:D28) -> 12357.5 | F28: =E28*80 -> 988600 | G28: =E28*100 -> 1235750 | H28: =E28*125 -> 1544687.5 | I28: =D28*80 -> 1072000 | J28: =D28*100 -> 1340000 | K28: =D28*125 -> 1675000 | L28: =C28*88 -> 995720 | M28: =C28*108 -> 1222020 | N28: =C28*135 -> 1527525 | O28: =AVERAGE(I28,L28) -> 1033860 | P28: =AVERAGE(J28,M28) -> 1281010 | Q28: =AVERAGE(K28,N28) -> 1601262.5
B29: מעלות תרשיחא | F29: =E29*80 -> 0 | G29: =E29*100 -> 0
A30: יש | B30: מצפה רמון | C30: 10112 | D30: 12200 | E30: =AVERAGE(C30:D30) -> 11156 | F30: =E30*80 -> 892480 | G30: =E30*100 -> 1115600 | H30: =E30*125 -> 1394500 | I30: =D30*80 -> 976000 | J30: =D30*100 -> 1220000 | K30: =D30*125 -> 1525000 | L30: =C30*88 -> 889856 | M30: =C30*108 -> 1092096 | N30: =C30*135 -> 1365120 | O30: =AVERAGE(I30,L30) -> 932928 | P30: =AVERAGE(J30,M30) -> 1156048 | Q30: =AVERAGE(K30,N30) -> 1445060
A31: יש | B31: נוף הגליל | C31: 14821 | D31: 14600 | E31: =AVERAGE(C31:D31) -> 14710.5 | F31: =E31*80 -> 1176840 | G31: =E31*100 -> 1471050 | H31: =E31*125 -> 1838812.5 | I31: =D31*80 -> 1168000 | J31: =D31*100 -> 1460000 | K31: =D31*125 -> 1825000 | L31: =C31*88 -> 1304248 | M31: =C31*108 -> 1600668 | N31: =C31*135 -> 2000835 | O31: =AVERAGE(I31,L31) -> 1236124 | P31: =AVERAGE(J31,M31) -> 1530334 | Q31: =AVERAGE(K31,N31) -> 1912917.5
B32: נצרת | D32: 12900 | F32: =E32*80 -> 0 | G32: =E32*100 -> 0
A33: יש | B33: נתניה כוכב הים | C33: 28786 | D33: 29100 | E33: =AVERAGE(C33:D33) -> 28943 | F33: =E33*80 -> 2315440 | G33: =E33*100 -> 2894300 | H33: =E33*125 -> 3617875 | I33: =D33*80 -> 2328000 | J33: =D33*100 -> 2910000 | K33: =D33*125 -> 3637500 | L33: =C33*88 -> 2533168 | M33: =C33*108 -> 3108888 | N33: =C33*135 -> 3886110 | O33: =AVERAGE(I33,L33) -> 2430584 | P33: =AVERAGE(J33,M33) -> 3009444 | Q33: =AVERAGE(K33,N33) -> 3761805
A34: יש | B34: נתניה מזרח | C34: 23288 | D34: 26400 | E34: =AVERAGE(C34:D34) -> 24844 | F34: =E34*80 -> 1987520 | G34: =E34*100 -> 2484400 | H34: =E34*125 -> 3105500 | I34: =D34*80 -> 2112000 | J34: =D34*100 -> 2640000 | K34: =D34*125 -> 3300000 | L34: =C34*88 -> 2049344 | M34: =C34*108 -> 2515104 | N34: =C34*135 -> 3143880 | O34: =AVERAGE(I34,L34) -> 2080672 | P34: =AVERAGE(J34,M34) -> 2577552 | Q34: =AVERAGE(K34,N34) -> 3221940
A35: יש | B35: עכו | C35: 15798 | D35: 14400 | E35: =AVERAGE(C35:D35) -> 15099 | F35: =E35*80 -> 1207920 | G35: =E35*100 -> 1509900 | H35: =E35*125 -> 1887375 | I35: =D35*80 -> 1152000 | J35: =D35*100 -> 1440000 | K35: =D35*125 -> 1800000 | L35: =C35*88 -> 1390224 | M35: =C35*108 -> 1706184 | N35: =C35*135 -> 2132730 | O35: =AVERAGE(I35,L35) -> 1271112 | P35: =AVERAGE(J35,M35) -> 1573092 | Q35: =AVERAGE(K35,N35) -> 1966365
A36: יש | B36: עפולה | C36: 12750 | D36: 12400 | E36: =AVERAGE(C36:D36) -> 12575 | F36: =E36*80 -> 1006000 | G36: =E36*100 -> 1257500 | H36: =E36*125 -> 1571875 | I36: =D36*80 -> 992000 | J36: =D36*100 -> 1240000 | K36: =D36*125 -> 1550000 | L36: =C36*88 -> 1122000 | M36: =C36*108 -> 1377000 | N36: =C36*135 -> 1721250 | O36: =AVERAGE(I36,L36) -> 1057000 | P36: =AVERAGE(J36,M36) -> 1308500 | Q36: =AVERAGE(K36,N36) -> 1635625
B37: פתח תקוה | F37: =E37*80 -> 0 | G37: =E37*100 -> 0
B38: צור הדסה | C38: 19500 | F38: =E38*80 -> 0 | G38: =E38*100 -> 0
B39: צפת | D39: 15800 | F39: =E39*80 -> 0 | G39: =E39*100 -> 0
A40: יש | B40: קרית ביאליק | C40: 17761 | D40: 17900 | E40: =AVERAGE(C40:D40) -> 17830.5 | F40: =E40*80 -> 1426440 | G40: =E40*100 -> 1783050 | H40: =E40*125 -> 2228812.5 | I40: =D40*80 -> 1432000 | J40: =D40*100 -> 1790000 | K40: =D40*125 -> 2237500 | L40: =C40*88 -> 1562968 | M40: =C40*108 -> 1918188 | N40: =C40*135 -> 2397735 | O40: =AVERAGE(I40,L40) -> 1497484 | P40: =AVERAGE(J40,M40) -> 1854094 | Q40: =AVERAGE(K40,N40) -> 2317617.5
B41: קרית גת-מערב | F41: =E41*80 -> 0 | G41: =E41*100 -> 0
B42: קרית גת-צפון | C42: 18200 | F42: =E42*80 -> 0 | G42: =E42*100 -> 0 | R42: במדלן כל העיר 17,000
B43: קרית מלאכי | C43: 16700 | F43: =E43*80 -> 0 | G43: =E43*100 -> 0
A44: יש | B44: קרית עקרון | C44: 20535 | D44: 21500 | E44: =AVERAGE(C44:D44) -> 21017.5 | F44: =E44*80 -> 1681400 | G44: =E44*100 -> 2101750 | H44: =E44*125 -> 2627187.5 | I44: =D44*80 -> 1720000 | J44: =D44*100 -> 2150000 | K44: =D44*125 -> 2687500 | L44: =C44*88 -> 1807080 | M44: =C44*108 -> 2217780 | N44: =C44*135 -> 2772225 | O44: =AVERAGE(I44,L44) -> 1763540 | P44: =AVERAGE(J44,M44) -> 2183890 | Q44: =AVERAGE(K44,N44) -> 2729862.5
B45: קרית שמונה | F45: =E45*80 -> 0 | G45: =E45*100 -> 0
B46: ראשון לציון | F46: =E46*80 -> 0 | G46: =E46*100 -> 0 | R46: במדלן כל העיר 27,200
B47: רחובות | D47: 25400 | F47: =E47*80 -> 0 | G47: =E47*100 -> 0
B48: רחובות קרית משה | F48: =E48*80 -> 0 | G48: =E48*100 -> 0
B49: רכסים | C49: 14800 | F49: =E49*80 -> 0 | G49: =E49*100 -> 0
B50: שדרות | D50: 13200 | F50: =E50*80 -> 0 | G50: =E50*100 -> 0
B51: תל אביב יפו | F51: =E51*80 -> 0 | G51: =E51*100 -> 0
A52: יש | B52: רעננה | C52: 30691 | D52: 34600 | E52: =AVERAGE(C52:D52) -> 32645.5 | F52: =E52*80 -> 2611640 | G52: =E52*100 -> 3264550 | H52: =E52*125 -> 4080687.5 | I52: =D52*80 -> 2768000 | J52: =D52*100 -> 3460000 | K52: =D52*125 -> 4325000 | L52: =C52*88 -> 2700808 | M52: =C52*108 -> 3314628 | N52: =C52*135 -> 4143285 | O52: =AVERAGE(I52,L52) -> 2734404 | P52: =AVERAGE(J52,M52) -> 3387314 | Q52: =AVERAGE(K52,N52) -> 4234142.5
A53: יש | B53: קרית גת | C53: 18356 | D53: 20100 | E53: =AVERAGE(C53:D53) -> 19228 | F53: =E53*80 -> 1538240 | G53: =E53*100 -> 1922800 | H53: =E53*125 -> 2403500 | I53: =D53*80 -> 1608000 | J53: =D53*100 -> 2010000 | K53: =D53*125 -> 2512500 | L53: =C53*88 -> 1615328 | M53: =C53*108 -> 1982448 | N53: =C53*135 -> 2478060 | O53: =AVERAGE(I53,L53) -> 1611664 | P53: =AVERAGE(J53,M53) -> 1996224 | Q53: =AVERAGE(K53,N53) -> 2495280
