Workbook

Sheet ראשי
A1: 1 | B1: 2 | C1: 3 | F1: 4 | G1: 5 | H1: 6 | I1: 7 | K1: 4 | L1: 5 | M1: 6 | N1: 7 | P1: 8 | Q1: 9
F2: דירת 3 חדרים של 80 מ"ר | K2: דירת 4 חדרים של 100 מ"ר
A3: יישוב | B3: מיקום בסדר ההגרלות | C3: סך דירות בהגרלה | D3: דירות לכלל הציבור | E3: דירות לבני מקום | F3: מחיר לאחר הנחה ומענק | G3: הון עצמי נדרש | H3: החזר חודשי | I3: רווח באחוזים לעומת מחיר שוק | J3: רווח לעומת מחיר שוק | K3: מחיר לאחר ההנחה ומענק | L3: הון עצמי הנדרש | M3: ההחזר חודשי | N3: רווח באחוזים לעומת מחיר השוק | O3: רווח לעומת מחיר השוק | P3: מענק | Q3: סיכוי זכייה לחיצוני נכון לעכשיו
A4: ירושלים | B4: 1 | C4: 232 | D4: =טבלה1[[#This Row],[סך דירות בהגרלה]]*50% -> 116 | E4: =טבלה1[[#This Row],[סך דירות בהגרלה]]*27% -> 62.64 | F4: 1626845 | G4: =IF(טבלה1[[#This Row],[מחיר לאחר הנחה ומענק]]="","",IF(טבלה1[[#This Row],[מחיר לאחר הנחה ומענק]]>1800000,טבלה1[[#This Row],[מחיר לאחר הנחה ומענק]]*25%,IF(טבלה1[[#This Row],[מחיר לאחר הנחה ומענק]]>1450000,טבלה1[[#This Row],[מחיר לאחר הנחה ומענק]]-1350000,IF(טבלה1[[#This Row],[מחיר לאחר הנחה ומענק]]>1000000,100000,IF(טבלה1[[#This Row],[מחיר לאחר הנחה ומענק]]<1000000,100000)))))-IF(טבלה1[[#This Row],[מענק]]="V",40000,0) -> 276845 | H4: =(טבלה1[[#This Row],[מחיר לאחר הנחה ומענק]]-טבלה1[[#This Row],[הון עצמי נדרש]])/100000*530 -> 7155 | I4: =F4/VLOOKUP(A4,'מחירים שוק חופשי'!B:F,5,0)-1 -> -0.2551076 | J4: =VLOOKUP(A4,'מחירים שוק חופשי'!B:F,5,0)-F4 -> 557155 | K4: 2095878 | L4: =IF(טבלה1[[#This Row],[מחיר לאחר ההנחה ומענק]]="","",IF(טבלה1[[#This Row],[מחיר לאחר ההנחה ומענק]]>1800000,טבלה1[[#This Row],[מחיר לאחר ההנחה ומענק]]*25%,IF(טבלה1[[#This Row],[מחיר לאחר ההנחה ומענק]]>1450000,טבלה1[[#This Row],[מחיר לאחר ההנחה ומענק]]-1350000,IF(טבלה1[[#This Row],[מחיר לאחר ההנחה ומענק]]>1000000,100000,IF(טבלה1[[#This Row],[מחיר לאחר ההנחה ומענק]]<1000000,100000)))))-IF(טבלה1[[#This Row],[מענק]]="V",40000,0) -> 523969.5 | M4: =(טבלה1[[#This Row],[מחיר לאחר ההנחה ומענק]]-טבלה1[[#This Row],[הון עצמי הנדרש]])/100000*530 -> 8331.1151 | N4: =K4/VLOOKUP(A4,'מחירים שוק חופשי'!B:G,6,0)-1 -> -0.23227912 | O4: =VLOOKUP(A4,'מחירים שוק חופשי'!B:G,6,0)-K4 -> 634122 | P4: - | Q4: 0.006
A5: חיפה | B5: 2 | C5: 269 | D5: =טבלה1[[#This Row],[סך דירות בהגרלה]]*50% -> 134.5 | E5: =טבלה1[[#This Row],[סך דירות בהגרלה]]*27% -> 72.63 | F5: 1246000 | G5: =IF(טבלה1[[#This Row],[מחיר לאחר הנחה ומענק]]="","",IF(טבלה1[[#This Row],[מחיר לאחר הנחה ומענק]]>1800000,טבלה1[[#This Row],[מחיר לאחר הנחה ומענק]]*25%,IF(טבלה1[[#This Row],[מחיר לאחר הנחה ומענק]]>1450000,טבלה1[[#This Row],[מחיר לאחר הנחה ומענק]]-1350000,IF(טבלה1[[#This Row],[מחיר לאחר הנחה ומענק]]>1000000,100000,IF(טבלה1[[#This Row],[מחיר לאחר הנחה ומענק]]<1000000,100000)))))-IF(טבלה1[[#This Row],[מענק]]="V",40000,0) -> 100000 | H5: =(טבלה1[[#This Row],[מחיר לאחר הנחה ומענק]]-טבלה1[[#This Row],[הון עצמי נדרש]])/100000*530 -> 6073.8 | I5: =F5/VLOOKUP(A5,'מחירים שוק חופשי'!B:F,5,0)-1 -> -0.29204545 | J5: =VLOOKUP(A5,'מחירים שוק חופשי'!B:F,5,0)-F5 -> 514000 | K5: 1610000 | L5: =IF(טבלה1[[#This Row],[מחיר לאחר ההנחה ומענק]]="","",IF(טבלה1[[#This Row],[מחיר לאחר ההנחה ומענק]]>1800000,טבלה1[[#This Row],[מחיר לאחר ההנחה ומענק]]*25%,IF(טבלה1[[#This Row],[מחיר לאחר ההנחה ומענק]]>1450000,טבלה1[[#This Row],[מחיר לאחר ההנחה ומענק]]-1350000,IF(טבלה1[[#This Row],[מחיר לאחר ההנחה ומענק]]>1000000,100000,IF(טבלה1[[#This Row],[מחיר לאחר ההנחה ומענק]]<1000000,100000)))))-IF(טבלה1[[#This Row],[מענק]]="V",40000,0) -> 260000 | M5: =(טבלה1[[#This Row],[מחיר לאחר ההנחה ומענק]]-טבלה1[[#This Row],[הון עצמי הנדרש]])/100000*530 -> 7155 | N5: =K5/VLOOKUP(A5,'מחירים שוק חופשי'!B:G,6,0)-1 -> -0.26818182 | O5: =VLOOKUP(A5,'מחירים שוק חופשי'!B:G,6,0)-K5 -> 590000 | P5: - | Q5: 0.009
A6: באר שבע | B6: 3 | C6: 205 | D6: =טבלה1[[#This Row],[סך דירות בהגרלה]]*50% -> 102.5 | E6: =טבלה1[[#This Row],[סך דירות בהגרלה]]*27% -> 55.35 | F6: 797600 | G6: =IF(טבלה1[[#This Row],[מחיר לאחר הנחה ומענק]]="","",IF(טבלה1[[#This Row],[מחיר לאחר הנחה ומענק]]>1800000,טבלה1[[#This Row],[מחיר לאחר הנחה ומענק]]*25%,IF(טבלה1[[#This Row],[מחיר לאחר הנחה ומענק]]>1450000,טבלה1[[#This Row],[מחיר לאחר הנחה ומענק]]-1350000,IF(טבלה1[[#This Row],[מחיר לאחר הנחה ומענק]]>1000000,100000,IF(טבלה1[[#This Row],[מחיר לאחר הנחה ומענק]]<1000000,100000)))))-IF(טבלה1[[#This Row],[מענק]]="V",40000,0) -> 100000 | H6: =(טבלה1[[#This Row],[מחיר לאחר הנחה ומענק]]-טבלה1[[#This Row],[הון עצמי נדרש]])/100000*530 -> 3697.28 | I6: =F6/VLOOKUP(A6,'מחירים שוק חופשי'!B:F,5,0)-1 -> -0.25597015 | J6: =VLOOKUP(A6,'מחירים שוק חופשי'!B:F,5,0)-F6 -> 274400 | K6: 979000 | L6: =IF(טבלה1[[#This Row],[מחיר לאחר ההנחה ומענק]]="","",IF(טבלה1[[#This Row],[מחיר לאחר ההנחה ומענק]]>1800000,טבלה1[[#This Row],[מחיר לאחר ההנחה ומענק]]*25%,IF(טבלה1[[#This Row],[מחיר לאחר ההנחה ומענק]]>1450000,טבלה1[[#This Row],[מחיר לאחר ההנחה ומענק]]-1350000,IF(טבלה1[[#This Row],[מחיר לאחר ההנחה ומענק]]>1000000,100000,IF(טבלה1[[#This Row],[מחיר לאחר ההנחה ומענק]]<1000000,100000)))))-IF(טבלה1[[#This Row],[מענק]]="V",40000,0) -> 100000 | M6: =(טבלה1[[#This Row],[מחיר לאחר ההנחה ומענק]]-טבלה1[[#This Row],[הון עצמי הנדרש]])/100000*530 -> 4658.7 | N6: =K6/VLOOKUP(A6,'מחירים שוק חופשי'!B:G,6,0)-1 -> -0.26940299 | O6: =VLOOKUP(A6,'מחירים שוק חופשי'!B:G,6,0)-K6 -> 361000 | P6: - | Q6: 0.008
A7: בית שמש | B7: 4 | C7: 237 | D7: =טבלה1[[#This Row],[סך דירות בהגרלה]]*50% -> 118.5 | E7: =טבלה1[[#This Row],[סך דירות בהגרלה]]*27% -> 63.99 | F7: 1300000 | G7: =IF(טבלה1[[#This Row],[מחיר לאחר הנחה ומענק]]="","",IF(טבלה1[[#This Row],[מחיר לאחר הנחה ומענק]]>1800000,טבלה1[[#This Row],[מחיר לאחר הנחה ומענק]]*25%,IF(טבלה1[[#This Row],[מחיר לאחר הנחה ומענק]]>1450000,טבלה1[[#This Row],[מחיר לאחר הנחה ומענק]]-1350000,IF(טבלה1[[#This Row],[מחיר לאחר הנחה ומענק]]>1000000,100000,IF(טבלה1[[#This Row],[מחיר לאחר הנחה ומענק]]<1000000,100000)))))-IF(טבלה1[[#This Row],[מענק]]="V",40000,0) -> 100000 | H7: =(טבלה1[[#This Row],[מחיר לאחר הנחה ומענק]]-טבלה1[[#This Row],[הון עצמי נדרש]])/100000*530 -> 6360 | I7: =F7/VLOOKUP(A7,'מחירים שוק חופשי'!B:F,5,0)-1 -> -0.30555556 | J7: =VLOOKUP(A7,'מחירים שוק חופשי'!B:F,5,0)-F7 -> 572000 | K7: 1595000 | L7: =IF(טבלה1[[#This Row],[מחיר לאחר ההנחה ומענק]]="","",IF(טבלה1[[#This Row],[מחיר לאחר ההנחה ומענק]]>1800000,טבלה1[[#This Row],[מחיר לאחר ההנחה ומענק]]*25%,IF(טבלה1[[#This Row],[מחיר לאחר ההנחה ומענק]]>1450000,טבלה1[[#This Row],[מחיר לאחר ההנחה ומענק]]-1350000,IF(טבלה1[[#This Row],[מחיר לאחר ההנחה ומענק]]>1000000,100000,IF(טבלה1[[#This Row],[מחיר לאחר ההנחה ומענק]]<1000000,100000)))))-IF(טבלה1[[#This Row],[מענק]]="V",40000,0) -> 245000 | M7: =(טבלה1[[#This Row],[מחיר לאחר ההנחה ומענק]]-טבלה1[[#This Row],[הון עצמי הנדרש]])/100000*530 -> 7155 | N7: =K7/VLOOKUP(A7,'מחירים שוק חופשי'!B:G,6,0)-1 -> -0.31837607 | O7: =VLOOKUP(A7,'מחירים שוק חופשי'!B:G,6,0)-K7 -> 745000 | P7: - | Q7: 0.008
A8: אשקלון | B8: 5 | C8: 719 | D8: =טבלה1[[#This Row],[סך דירות בהגרלה]]*50% -> 359.5 | E8: =טבלה1[[#This Row],[סך דירות בהגרלה]]*27% -> 194.13 | F8: 855000 | G8: =IF(טבלה1[[#This Row],[מחיר לאחר הנחה ומענק]]="","",IF(טבלה1[[#This Row],[מחיר לאחר הנחה ומענק]]>1800000,טבלה1[[#This Row],[מחיר לאחר הנחה ומענק]]*25%,IF(טבלה1[[#This Row],[מחיר לאחר הנחה ומענק]]>1450000,טבלה1[[#This Row],[מחיר לאחר הנחה ומענק]]-1350000,IF(טבלה1[[#This Row],[מחיר לאחר הנחה ומענק]]>1000000,100000,IF(טבלה1[[#This Row],[מחיר לאחר הנחה ומענק]]<1000000,100000)))))-IF(טבלה1[[#This Row],[מענק]]="V",40000,0) -> 100000 | H8: =(טבלה1[[#This Row],[מחיר לאחר הנחה ומענק]]-טבלה1[[#This Row],[הון עצמי נדרש]])/100000*530 -> 4001.5 | I8: =F8/VLOOKUP(A8,'מחירים שוק חופשי'!B:F,5,0)-1 -> -0.39275568 | J8: =VLOOKUP(A8,'מחירים שוק חופשי'!B:F,5,0)-F8 -> 553000 | K8: 1150000 | L8: =IF(טבלה1[[#This Row],[מחיר לאחר ההנחה ומענק]]="","",IF(טבלה1[[#This Row],[מחיר לאחר ההנחה ומענק]]>1800000,טבלה1[[#This Row],[מחיר לאחר ההנחה ומענק]]*25%,IF(טבלה1[[#This Row],[מחיר לאחר ההנחה ומענק]]>1450000,טבלה1[[#This Row],[מחיר לאחר ההנחה ומענק]]-1350000,IF(טבלה1[[#This Row],[מחיר לאחר ההנחה ומענק]]>1000000,100000,IF(טבלה1[[#This Row],[מחיר לאחר ההנחה ומענק]]<1000000,100000)))))-IF(טבלה1[[#This Row],[מענק]]="V",40000,0) -> 100000 | M8: =(טבלה1[[#This Row],[מחיר לאחר ההנחה ומענק]]-טבלה1[[#This Row],[הון עצמי הנדרש]])/100000*530 -> 5565 | N8: =K8/VLOOKUP(A8,'מחירים שוק חופשי'!B:G,6,0)-1 -> -0.34659091 | O8: =VLOOKUP(A8,'מחירים שוק חופשי'!B:G,6,0)-K8 -> 610000 | P8: - | Q8: 0.016
A9: רחובות | B9: 6 | C9: 34 | D9: =טבלה1[[#This Row],[סך דירות בהגרלה]]*50% -> 17 | E9: =טבלה1[[#This Row],[סך דירות בהגרלה]]*27% -> 9.18 | F9: 1449342 | G9: =IF(טבלה1[[#This Row],[מחיר לאחר הנחה ומענק]]="","",IF(טבלה1[[#This Row],[מחיר לאחר הנחה ומענק]]>1800000,טבלה1[[#This Row],[מחיר לאחר הנחה ומענק]]*25%,IF(טבלה1[[#This Row],[מחיר לאחר הנחה ומענק]]>1450000,טבלה1[[#This Row],[מחיר לאחר הנחה ומענק]]-1350000,IF(טבלה1[[#This Row],[מחיר לאחר הנחה ומענק]]>1000000,100000,IF(טבלה1[[#This Row],[מחיר לאחר הנחה ומענק]]<1000000,100000)))))-IF(טבלה1[[#This Row],[מענק]]="V",40000,0) -> 100000 | H9: =(טבלה1[[#This Row],[מחיר לאחר הנחה ומענק]]-טבלה1[[#This Row],[הון עצמי נדרש]])/100000*530 -> 7151.5126 | I9: =F9/VLOOKUP(A9,'מחירים שוק חופשי'!B:F,5,0)-1 -> -0.28674114 | J9: =VLOOKUP(A9,'מחירים שוק חופשי'!B:F,5,0)-F9 -> 582658 | K9: 1887641 | L9: =IF(טבלה1[[#This Row],[מחיר לאחר ההנחה ומענק]]="","",IF(טבלה1[[#This Row],[מחיר לאחר ההנחה ומענק]]>1800000,טבלה1[[#This Row],[מחיר לאחר ההנחה ומענק]]*25%,IF(טבלה1[[#This Row],[מחיר לאחר ההנחה ומענק]]>1450000,טבלה1[[#This Row],[מחיר לאחר ההנחה ומענק]]-1350000,IF(טבלה1[[#This Row],[מחיר לאחר ההנחה ומענק]]>1000000,100000,IF(טבלה1[[#This Row],[מחיר לאחר ההנחה ומענק]]<1000000,100000)))))-IF(טבלה1[[#This Row],[מענק]]="V",40000,0) -> 471910.25 | M9: =(טבלה1[[#This Row],[מחיר לאחר ההנחה ומענק]]-טבלה1[[#This Row],[הון עצמי הנדרש]])/100000*530 -> 7503.373 | N9: =K9/VLOOKUP(A9,'מחירים שוק חופשי'!B:G,6,0)-1 -> -0.25683425 | O9: =VLOOKUP(A9,'מחירים שוק חופשי'!B:G,6,0)-K9 -> 652359 | P9: - | Q9: 0.0009
A10: נצרת | B10: 7 | C10: 148 | D10: =טבלה1[[#This Row],[סך דירות בהגרלה]]*50% -> 74 | E10: =טבלה1[[#This Row],[סך דירות בהגרלה]]*27% -> 39.96 | F10: 596600 | G10: =IF(טבלה1[[#This Row],[מחיר לאחר הנחה ומענק]]="","",IF(טבלה1[[#This Row],[מחיר לאחר הנחה ומענק]]>1800000,טבלה1[[#This Row],[מחיר לאחר הנחה ומענק]]*25%,IF(טבלה1[[#This Row],[מחיר לאחר הנחה ומענק]]>1450000,טבלה1[[#This Row],[מחיר לאחר הנחה ומענק]]-1350000,IF(טבלה1[[#This Row],[מחיר לאחר הנחה ומענק]]>1000000,100000,IF(טבלה1[[#This Row],[מחיר לאחר הנחה ומענק]]<1000000,100000)))))-IF(טבלה1[[#This Row],[מענק]]="V",40000,0) -> 60000 | H10: =(טבלה1[[#This Row],[מחיר לאחר הנחה ומענק]]-טבלה1[[#This Row],[הון עצמי נדרש]])/100000*530 -> 2843.98 | I10: =F10/VLOOKUP(A10,'מחירים שוק חופשי'!B:F,5,0)-1 -> -0.42189922 | J10: =VLOOKUP(A10,'מחירים שוק חופשי'!B:F,5,0)-F10 -> 435400 | K10: 741000 | L10: =IF(טבלה1[[#This Row],[מחיר לאחר ההנחה ומענק]]="","",IF(טבלה1[[#This Row],[מחיר לאחר ההנחה ומענק]]>1800000,טבלה1[[#This Row],[מחיר לאחר ההנחה ומענק]]*25%,IF(טבלה1[[#This Row],[מחיר לאחר ההנחה ומענק]]>1450000,טבלה1[[#This Row],[מחיר לאחר ההנחה ומענק]]-1350000,IF(טבלה1[[#This Row],[מחיר לאחר ההנחה ומענק]]>1000000,100000,IF(טבלה1[[#This Row],[מחיר לאחר ההנחה ומענק]]<1000000,100000)))))-IF(טבלה1[[#This Row],[מענק]]="V",40000,0) -> 60000 | M10: =(טבלה1[[#This Row],[מחיר לאחר ההנחה ומענק]]-טבלה1[[#This Row],[הון עצמי הנדרש]])/100000*530 -> 3609.3 | N10: =K10/VLOOKUP(A10,'מחירים שוק חופשי'!B:G,6,0)-1 -> -0.4255814 | O10: =VLOOKUP(A10,'מחירים שוק חופשי'!B:G,6,0)-K10 -> 549000 | P10: V | Q10: 0.073
A11: נוף הגליל | B11: 8 | C11: 444 | D11: =טבלה1[[#This Row],[סך דירות בהגרלה]]*50% -> 222 | E11: =טבלה1[[#This Row],[סך דירות בהגרלה]]*27% -> 119.88 | F11: 878486 | G11: =IF(טבלה1[[#This Row],[מחיר לאחר הנחה ומענק]]="","",IF(טבלה1[[#This Row],[מחיר לאחר הנחה ומענק]]>1800000,טבלה1[[#This Row],[מחיר לאחר הנחה ומענק]]*25%,IF(טבלה1[[#This Row],[מחיר לאחר הנחה ומענק]]>1450000,טבלה1[[#This Row],[מחיר לאחר הנחה ומענק]]-1350000,IF(טבלה1[[#This Row],[מחיר לאחר הנחה ומענק]]>1000000,100000,IF(טבלה1[[#This Row],[מחיר לאחר הנחה ומענק]]<1000000,100000)))))-IF(טבלה1[[#This Row],[מענק]]="V",40000,0) -> 100000 | H11: =(טבלה1[[#This Row],[מחיר לאחר הנחה ומענק]]-טבלה1[[#This Row],[הון עצמי נדרש]])/100000*530 -> 4125.9758 | I11: =F11/VLOOKUP(A11,'מחירים שוק חופשי'!B:F,5,0)-1 -> -0.23742535 | J11: =VLOOKUP(A11,'מחירים שוק חופשי'!B:F,5,0)-F11 -> 273514 | K11: 1078142 | L11: =IF(טבלה1[[#This Row],[מחיר לאחר ההנחה ומענק]]="","",IF(טבלה1[[#This Row],[מחיר לאחר ההנחה ומענק]]>1800000,טבלה1[[#This Row],[מחיר לאחר ההנחה ומענק]]*25%,IF(טבלה1[[#This Row],[מחיר לאחר ההנחה ומענק]]>1450000,טבלה1[[#This Row],[מחיר לאחר ההנחה ומענק]]-1350000,IF(טבלה1[[#This Row],[מחיר לאחר ההנחה ומענק]]>1000000,100000,IF(טבלה1[[#This Row],[מחיר לאחר ההנחה ומענק]]<1000000,100000)))))-IF(טבלה1[[#This Row],[מענק]]="V",40000,0) -> 100000 | M11: =(טבלה1[[#This Row],[מחיר לאחר ההנחה ומענק]]-טבלה1[[#This Row],[הון עצמי הנדרש]])/100000*530 -> 5184.1526 | N11: =K11/VLOOKUP(A11,'מחירים שוק חופשי'!B:G,6,0)-1 -> -0.25129028 | O11: =VLOOKUP(A11,'מחירים שוק חופשי'!B:G,6,0)-K11 -> 361858 | P11: - | Q11: 0.038
A12: דימונה | B12: 9 | C12: 123 | D12: =טבלה1[[#This Row],[סך דירות בהגרלה]]*50% -> 61.5 | E12: =טבלה1[[#This Row],[סך דירות בהגרלה]]*27% -> 33.21 | F12: 469413 | G12: =IF(טבלה1[[#This Row],[מחיר לאחר הנחה ומענק]]="","",IF(טבלה1[[#This Row],[מחיר לאחר הנחה ומענק]]>1800000,טבלה1[[#This Row],[מחיר לאחר הנחה ומענק]]*25%,IF(טבלה1[[#This Row],[מחיר לאחר הנחה ומענק]]>1450000,טבלה1[[#This Row],[מחיר לאחר הנחה ומענק]]-1350000,IF(טבלה1[[#This Row],[מחיר לאחר הנחה ומענק]]>1000000,100000,IF(טבלה1[[#This Row],[מחיר לאחר הנחה ומענק]]<1000000,100000)))))-IF(טבלה1[[#This Row],[מענק]]="V",40000,0) -> 60000 | H12: =(טבלה1[[#This Row],[מחיר לאחר הנחה ומענק]]-טבלה1[[#This Row],[הון עצמי נדרש]])/100000*530 -> 2169.8889 | I12: =F12/VLOOKUP(A12,'מחירים שוק חופשי'!B:F,5,0)-1 -> -0.39508634 | J12: =VLOOKUP(A12,'מחירים שוק חופשי'!B:F,5,0)-F12 -> 306587 | K12: 585189 | L12: =IF(טבלה1[[#This Row],[מחיר לאחר ההנחה ומענק]]="","",IF(טבלה1[[#This Row],[מחיר לאחר ההנחה ומענק]]>1800000,טבלה1[[#This Row],[מחיר לאחר ההנחה ומענק]]*25%,IF(טבלה1[[#This Row],[מחיר לאחר ההנחה ומענק]]>1450000,טבלה1[[#This Row],[מחיר לאחר ההנחה ומענק]]-1350000,IF(טבלה1[[#This Row],[מחיר לאחר ההנחה ומענק]]>1000000,100000,IF(טבלה1[[#This Row],[מחיר לאחר ההנחה ומענק]]<1000000,100000)))))-IF(טבלה1[[#This Row],[מענק]]="V",40000,0) -> 60000 | M12: =(טבלה1[[#This Row],[מחיר לאחר ההנחה ומענק]]-טבלה1[[#This Row],[הון עצמי הנדרש]])/100000*530 -> 2783.5017 | N12: =K12/VLOOKUP(A12,'מחירים שוק חופשי'!B:G,6,0)-1 -> -0.39671237 | O12: =VLOOKUP(A12,'מחירים שוק חופשי'!B:G,6,0)-K12 -> 384811 | P12: V | Q12: 0.019
A13: צפת | B13: 10 | C13: 48 | D13: =טבלה1[[#This Row],[סך דירות בהגרלה]]*50% -> 24 | E13: =טבלה1[[#This Row],[סך דירות בהגרלה]]*27% -> 12.96 | F13: 619072 | G13: =IF(טבלה1[[#This Row],[מחיר לאחר הנחה ומענק]]="","",IF(טבלה1[[#This Row],[מחיר לאחר הנחה ומענק]]>1800000,טבלה1[[#This Row],[מחיר לאחר הנחה ומענק]]*25%,IF(טבלה1[[#This Row],[מחיר לאחר הנחה ומענק]]>1450000,טבלה1[[#This Row],[מחיר לאחר הנחה ומענק]]-1350000,IF(טבלה1[[#This Row],[מחיר לאחר הנחה ומענק]]>1000000,100000,IF(טבלה1[[#This Row],[מחיר לאחר הנחה ומענק]]<1000000,100000)))))-IF(טבלה1[[#This Row],[מענק]]="V",40000,0) -> 60000 | H13: =(טבלה1[[#This Row],[מחיר לאחר הנחה ומענק]]-טבלה1[[#This Row],[הון עצמי נדרש]])/100000*530 -> 2963.0816 | I13: =F13/VLOOKUP(A13,'מחירים שוק חופשי'!B:F,5,0)-1 -> -0.51022785 | J13: =VLOOKUP(A13,'מחירים שוק חופשי'!B:F,5,0)-F13 -> 644928 | K13: 768862 | L13: =IF(טבלה1[[#This Row],[מחיר לאחר ההנחה ומענק]]="","",IF(טבלה1[[#This Row],[מחיר לאחר ההנחה ומענק]]>1800000,טבלה1[[#This Row],[מחיר לאחר ההנחה ומענק]]*25%,IF(טבלה1[[#This Row],[מחיר לאחר ההנחה ומענק]]>1450000,טבלה1[[#This Row],[מחיר לאחר ההנחה ומענק]]-1350000,IF(טבלה1[[#This Row],[מחיר לאחר ההנחה ומענק]]>1000000,100000,IF(טבלה1[[#This Row],[מחיר לאחר ההנחה ומענק]]<1000000,100000)))))-IF(טבלה1[[#This Row],[מענק]]="V",40000,0) -> 60000 | M13: =(טבלה1[[#This Row],[מחיר לאחר ההנחה ומענק]]-טבלה1[[#This Row],[הון עצמי הנדרש]])/100000*530 -> 3756.9686 | N13: =K13/VLOOKUP(A13,'מחירים שוק חופשי'!B:G,6,0)-1 -> -0.51337848 | O13: =VLOOKUP(A13,'מחירים שוק חופשי'!B:G,6,0)-K13 -> 811138 | P13: V | Q13: 0.005
A14: אופקים | B14: 11 | C14: 417 | D14: =טבלה1[[#This Row],[סך דירות בהגרלה]]*50% -> 208.5 | E14: =טבלה1[[#This Row],[סך דירות בהגרלה]]*27% -> 112.59 | F14: 539000 | G14: =IF(טבלה1[[#This Row],[מחיר לאחר הנחה ומענק]]="","",IF(טבלה1[[#This Row],[מחיר לאחר הנחה ומענק]]>1800000,טבלה1[[#This Row],[מחיר לאחר הנחה ומענק]]*25%,IF(טבלה1[[#This Row],[מחיר לאחר הנחה ומענק]]>1450000,טבלה1[[#This Row],[מחיר לאחר הנחה ומענק]]-1350000,IF(טבלה1[[#This Row],[מחיר לאחר הנחה ומענק]]>1000000,100000,IF(טבלה1[[#This Row],[מחיר לאחר הנחה ומענק]]<1000000,100000)))))-IF(טבלה1[[#This Row],[מענק]]="V",40000,0) -> 60000 | H14: =(טבלה1[[#This Row],[מחיר לאחר הנחה ומענק]]-טבלה1[[#This Row],[הון עצמי נדרש]])/100000*530 -> 2538.7 | I14: =F14/VLOOKUP(A14,'מחירים שוק חופשי'!B:F,5,0)-1 -> -0.50459559 | J14: =VLOOKUP(A14,'מחירים שוק חופשי'!B:F,5,0)-F14 -> 549000 | K14: 674500 | L14: =IF(טבלה1[[#This Row],[מחיר לאחר ההנחה ומענק]]="","",IF(טבלה1[[#This Row],[מחיר לאחר ההנחה ומענק]]>1800000,טבלה1[[#This Row],[מחיר לאחר ההנחה ומענק]]*25%,IF(טבלה1[[#This Row],[מחיר לאחר ההנחה ומענק]]>1450000,טבלה1[[#This Row],[מחיר לאחר ההנחה ומענק]]-1350000,IF(טבלה1[[#This Row],[מחיר לאחר ההנחה ומענק]]>1000000,100000,IF(טבלה1[[#This Row],[מחיר לאחר ההנחה ומענק]]<1000000,100000)))))-IF(טבלה1[[#This Row],[מענק]]="V",40000,0) -> 60000 | M14: =(טבלה1[[#This Row],[מחיר לאחר ההנחה ומענק]]-טבלה1[[#This Row],[הון עצמי הנדרש]])/100000*530 -> 3256.85 | N14: =K14/VLOOKUP(A14,'מחירים שוק חופשי'!B:G,6,0)-1 -> -0.50404412 | O14: =VLOOKUP(A14,'מחירים שוק חופשי'!B:G,6,0)-K14 -> 685500 | P14: V | Q14: 0.015
A15: שדרות | B15: 12 | C15: 19 | D15: =טבלה1[[#This Row],[סך דירות בהגרלה]]*50% -> 9.5 | E15: =טבלה1[[#This Row],[סך דירות בהגרלה]]*27% -> 5.13 | F15: 564115 | G15: =IF(טבלה1[[#This Row],[מחיר לאחר הנחה ומענק]]="","",IF(טבלה1[[#This Row],[מחיר לאחר הנחה ומענק]]>1800000,טבלה1[[#This Row],[מחיר לאחר הנחה ומענק]]*25%,IF(טבלה1[[#This Row],[מחיר לאחר הנחה ומענק]]>1450000,טבלה1[[#This Row],[מחיר לאחר הנחה ומענק]]-1350000,IF(טבלה1[[#This Row],[מחיר לאחר הנחה ומענק]]>1000000,100000,IF(טבלה1[[#This Row],[מחיר לאחר הנחה ומענק]]<1000000,100000)))))-IF(טבלה1[[#This Row],[מענק]]="V",40000,0) -> 60000 | H15: =(טבלה1[[#This Row],[מחיר לאחר הנחה ומענק]]-טבלה1[[#This Row],[הון עצמי נדרש]])/100000*530 -> 2671.8095 | I15: =F15/VLOOKUP(A15,'מחירים שוק חופשי'!B:F,5,0)-1 -> -0.46580019 | J15: =VLOOKUP(A15,'מחירים שוק חופשי'!B:F,5,0)-F15 -> 491885 | K15: 717748 | L15: =IF(טבלה1[[#This Row],[מחיר לאחר ההנחה ומענק]]="","",IF(טבלה1[[#This Row],[מחיר לאחר ההנחה ומענק]]>1800000,טבלה1[[#This Row],[מחיר לאחר ההנחה ומענק]]*25%,IF(טבלה1[[#This Row],[מחיר לאחר ההנחה ומענק]]>1450000,טבלה1[[#This Row],[מחיר לאחר ההנחה ומענק]]-1350000,IF(טבלה1[[#This Row],[מחיר לאחר ההנחה ומענק]]>1000000,100000,IF(טבלה1[[#This Row],[מחיר לאחר ההנחה ומענק]]<1000000,100000)))))-IF(טבלה1[[#This Row],[מענק]]="V",40000,0) -> 60000 | M15: =(טבלה1[[#This Row],[מחיר לאחר ההנחה ומענק]]-טבלה1[[#This Row],[הון עצמי הנדרש]])/100000*530 -> 3486.0644 | N15: =K15/VLOOKUP(A15,'מחירים שוק חופשי'!B:G,6,0)-1 -> -0.45625152 | O15: =VLOOKUP(A15,'מחירים שוק חופשי'!B:G,6,0)-K15 -> 602252 | P15: V | Q15: 0.001
... A17: מגדל העמק | B17: 14 | C17: 182 | D17: =טבלה1[[#This Row],[סך דירות בהגרלה]]*50% -> 91 | E17: =טבלה1[[#This Row],[סך דירות בהגרלה]]*27% -> 49.14 | F17: 719600 | G17: =IF(טבלה1[[#This Row],[מחיר לאחר הנחה ומענק]]="","",IF(טבלה1[[#This Row],[מחיר לאחר הנחה ומענק]]>1800000,טבלה1[[#This Row],[מחיר לאחר הנחה ומענק]]*25%,IF(טבלה1[[#This Row],[מחיר לאחר הנחה ומענק]]>1450000,טבלה1[[#This Row],[מחיר לאחר הנחה ומענק]]-1350000,IF(טבלה1[[#This Row],[מחיר לאחר הנחה ומענק]]>1000000,100000,IF(טבלה1[[#This Row],[מחיר לאחר הנחה ומענק]]<1000000,100000)))))-IF(טבלה1[[#This Row],[מענק]]="V",40000,0) -> 100000 | H17: =(טבלה1[[#This Row],[מחיר לאחר הנחה ומענק]]-טבלה1[[#This Row],[הון עצמי נדרש]])/100000*530 -> 3283.88 | I17: =F17/VLOOKUP(A17,'מחירים שוק חופשי'!B:F,5,0)-1 -> -0.17477064 | J17: =VLOOKUP(A17,'מחירים שוק חופשי'!B:F,5,0)-F17 -> 152400 | K17: 895000 | L17: =IF(טבלה1[[#This Row],[מחיר לאחר ההנחה ומענק]]="","",IF(טבלה1[[#This Row],[מחיר לאחר ההנחה ומענק]]>1800000,טבלה1[[#This Row],[מחיר לאחר ההנחה ומענק]]*25%,IF(טבלה1[[#This Row],[מחיר לאחר ההנחה ומענק]]>1450000,טבלה1[[#This Row],[מחיר לאחר ההנחה ומענק]]-1350000,IF(טבלה1[[#This Row],[מחיר לאחר ההנחה ומענק]]>1000000,100000,IF(טבלה1[[#This Row],[מחיר לאחר ההנחה ומענק]]<1000000,100000)))))-IF(טבלה1[[#This Row],[מענק]]="V",40000,0) -> 100000 | M17: =(טבלה1[[#This Row],[מחיר לאחר ההנחה ומענק]]-טבלה1[[#This Row],[הון עצמי הנדרש]])/100000*530 -> 4213.5 | N17: =K17/VLOOKUP(A17,'מחירים שוק חופשי'!B:G,6,0)-1 -> -0.17889908 | O17: =VLOOKUP(A17,'מחירים שוק חופשי'!B:G,6,0)-K17 -> 195000 | P17: - | Q17: 0.015

Sheet ממוצעים
A1: 3 | B1: 4 | H1: 3 | K1: 4
A2: =(I2+I3)/D2 -> 550733 | B2: =(L2+L3)/D2 -> 675899.5 | D2: 72 | E2: אכסאל | F2: 36 | H2: 535392 | I2: =H2*F2 -> 19274112 | K2: 657072 | L2: =K2*F2 -> 23654592
F3: 36 | H3: 566074 | I3: =H3*F3 -> 20378664 | K3: 694727 | L3: =K3*F3 -> 25010172
A4: =(I4+I5+I6)/D4 -> 1543792.9 | B4: =(L4+L5+L6)/D4 -> 1916527.3 | D4: 735 | E4: אלעד | F4: 368 | H4: 1560977 | I4: =H4*F4 -> 574439536 | K4: 1915744 | L4: =K4*F4 -> 704993792
F5: 179 | H5: 1526562 | I5: =H5*F5 -> 273254598 | K5: 1894010 | L5: =K5*F5 -> 339027790
F6: 188 | H6: 1526562 | I6: =H6*F6 -> 286993656 | K6: 1939500 | L6: =K6*F6 -> 364626000
A7: =(I7+I8+I9)/D7 -> 588508.9 | B7: =(L7+L8+L9)/D7 -> 722260.85 | D7: 67 | E7: דיר אל אסד | F7: 29 | H7: 564736 | I7: =H7*F7 -> 16377344 | K7: 693085 | L7: =K7*F7 -> 20099465
F8: 20 | H8: 605920 | I8: =H8*F8 -> 12118400 | K8: 743629 | L8: =K8*F8 -> 14872580
F9: 18 | H9: 607464 | I9: =H9*F9 -> 10934352 | K9: 745524 | L9: =K9*F9 -> 13419432
A10: =(I10+I11+I12+I13+I14)/D10 -> 740246.88 | B10: =(L10+L11+L12+L13+L14)/D10 -> 908484.98 | D10: 373 | E10: מגדל העמק | F10: 83 | H10: 712277 | I10: =H10*F10 -> 59118991 | K10: 874158 | L10: =K10*F10 -> 72555114
F11: 103 | H11: 749034 | I11: =H11*F11 -> 77150502 | K11: 919269 | L11: =K11*F11 -> 94684707
F12: 56 | H12: 747876 | I12: =H12*F12 -> 41881056 | K12: 917847 | L12: =K12*F12 -> 51399432
F13: 66 | H13: 747798 | I13: =H13*F13 -> 49354668 | K13: 917753 | L13: =K13*F13 -> 60571698
F14: 65 | H14: 747798 | I14: =H14*F14 -> 48606870 | K14: 917753 | L14: =K14*F14 -> 59653945
A15: =(I15+I16)/D15 -> 1216934.3 | B15: =(L15+L16)/D15 -> 1607146.8 | D15: 46 | E15: צור הדסה | F15: 27 | H15: 1202135 | I15: =H15*F15 -> 32457645 | K15: 1588984 | L15: =K15*F15 -> 42902568
F16: 19 | H16: 1237965 | I16: =H16*F16 -> 23521335 | K16: 1632957 | L16: =K16*F16 -> 31026183
A17: =(I17+I18+I19)/D17 -> 1607017.5 | B17: =(L17+L18+L19)/D17 -> 2040430.7 | D17: 164 | E17: ראשלצ | F17: 61 | H17: 1583550 | I17: =H17*F17 -> 96596550 | K17: 2011630 | L17: =K17*F17 -> 122709430
F18: 61 | H18: 1583550 | I18: =H18*F18 -> 96596550 | K18: 2011630 | L18: =K18*F18 -> 122709430
F19: 42 | H19: 1675185 | I19: =H19*F19 -> 70357770 | K19: 2124090 | L19: =K19*F19 -> 89211780
A20: =(I20+I21+I22+I23)/D20 -> 1384329.3 | B20: =(L20+L21+L22+L23)/D20 -> 1774726.8 | D20: 250 | E20: רחובות | F20: 37 | H20: 1690654 | I20: =H20*F20 -> 62554198 | K20: 2185270 | L20: =K20*F20 -> 80854990
F21: 29 | H21: 1331118 | I21: =H21*F21 -> 38602422 | K21: 1766892 | L21: =K21*F21 -> 51239868
F22: 74 | H22: 1331118 | I22: =H22*F22 -> 98502732 | K22: 1715842 | L22: =K22*F22 -> 126972308
F23: 110 | H23: 1331118 | I23: =H23*F23 -> 146422980 | K23: 1678314 | L23: =K23*F23 -> 184614540
A24: =(I24+I26+I25+I27)/D24 -> 838553.96 | B24: =(L24+L25+L26+L27)/D24 -> 1029134.5 | D24: 337 | E24: רכסים | F24: 25 | H24: 853127 | I24: =H24*F24 -> 21328175 | K24: 1047019 | L24: =K24*F24 -> 26175475
F25: 139 | H25: 837219 | I25: =H25*F25 -> 116373441 | K25: 1027496 | L25: =K25*F25 -> 142821944
F26: 83 | H26: 839690 | I26: =H26*F26 -> 69694270 | K26: 1030529 | L26: =K26*F26 -> 85533907
F27: 90 | H27: 835520 | I27: =H27*F27 -> 75196800 | K27: 1025411 | L27: =K27*F27 -> 92286990

Sheet מחירים שוק חופשי
A1: הגרלה נוכחית | B1: יישוב | C1: שמאות | D1: בדיקה שלי מדלן (+יד 2) | E1: מדלן לפי עו"ד נתי וולך | F1: שלושה חדרים | G1: ארבעה חדרים | H1: הערות: מה בדקתי ? | I1: שיטות חישוב נוספות
A2: יש | B2: אופקים | E2: 13600 | F2: =E2*80 -> 1088000 | G2: =E2*100 -> 1360000
B3: אילת | C3: 16400 | D3: 17500 | F3: =E3*80 -> 0 | G3: =E3*100 -> 0 | H3: איזור השכונה | I3: במדלן כל העיר 19,200
B4: אכסאל | D4: 5000 | F4: =E4*80 -> 0 | G4: =E4*100 -> 0 | H4: כל העיר (רק די' ישנות)
B5: אלעד | D5: 22000 | F5: =E5*80 -> 0 | G5: =E5*100 -> 0 | H5: התרשמות מיד 2 | I5: 23600 במדלן
B6: אפרת | C6: 17900 | D6: 22500 | F6: =E6*80 -> 0 | G6: =E6*100 -> 0 | H6: כל העיר
A7: יש | B7: אשקלון | D7: 18900 | E7: 17600 | F7: =E7*80 -> 1408000 | G7: =E7*100 -> 1760000
A8: יש | B8: באר שבע | D8: 16000 | E8: 13400 | F8: =E8*80 -> 1072000 | G8: =E8*100 -> 1340000 | H8: פסגת רמות-ממוצע שלי
B9: בית דגן | D9: 20800 | F9: =E9*80 -> 0 | G9: =E9*100 -> 0
B10: בית שאן | C10: 9950 | D10: 10500 | F10: =E10*80 -> 0 | G10: =E10*100 -> 0 | H10: כל העיר לפי יד 2 | I10: במדלן 8,600
A11: יש | B11: בית שמש | C11: 21500 | D11: 23400 | E11: 23400 | F11: =E11*80 -> 1872000 | G11: =E11*100 -> 2340000 | H11: רמה ה-1 | I11: במדלן כל העיר 22,600
B12: בני עי"ש | C12: 22100 | D12: 20700 | F12: =E12*80 -> 0 | G12: =E12*100 -> 0 | H12: כל העיר
B13: בת ים | D13: 30100 | F13: =E13*80 -> 0 | G13: =E13*100 -> 0 | H13: כל העיר
A14: יש | B14: דימונה | C14: 11000 | D14: 11000 | E14: 9700 | F14: =E14*80 -> 776000 | G14: =E14*100 -> 970000 | H14: כל העיר (אתר יד 2) | I14: במדלן 9,700
A15: יש | B15: חיפה | E15: 22000 | F15: =E15*80 -> 1760000 | G15: =E15*100 -> 2200000
B16: טירת הכרמל | C16: 19300 | D16: 17700 | F16: =E16*80 -> 0 | G16: =E16*100 -> 0 | H16: כל העיר
A17: יש | B17: יהוד | C17: 31100 | D17: 25800 | E17: 25800 | F17: =E17*80 -> 2064000 | G17: =E17*100 -> 2580000 | H17: כל העיר
A18: יש | B18: ירושלים | D18: 38900 | E18: 27300 | F18: =E18*80 -> 2184000 | G18: =E18*100 -> 2730000
B19: ירושלים-רמות | D19: 33500 | F19: =E19*80 -> 0 | G19: =E19*100 -> 0 | H19: שכ' רמות
B20: כפר סבא | C20: 27500 | D20: 30400 | F20: =E20*80 -> 0 | G20: =E20*100 -> 0 | H20: כל העיר
A21: יש | B21: מגדל העמק | D21: 13000 | E21: 10900 | F21: =E21*80 -> 872000 | G21: =E21*100 -> 1090000 | H21: כל העיר
B22: מודיעין | D22: 29300 | F22: =E22*80 -> 0 | G22: =E22*100 -> 0
B23: מעלות תרשיחא | D23: 12700 | F23: =E23*80 -> 0 | G23: =E23*100 -> 0
A24: יש | B24: נוף הגליל | E24: 14400 | F24: =E24*80 -> 1152000 | G24: =E24*100 -> 1440000
A25: יש | B25: נצרת | E25: 12900 | F25: =E25*80 -> 1032000 | G25: =E25*100 -> 1290000
B26: פתח תקוה | D26: 26800 | F26: =E26*80 -> 0 | G26: =E26*100 -> 0
B27: צור הדסה | C27: 19500 | D27: 23900 | F27: =E27*80 -> 0 | G27: =E27*100 -> 0 | H27: כל העיר
A28: יש | B28: צפת | D28: 18200 | E28: 15800 | F28: =E28*80 -> 1264000 | G28: =E28*100 -> 1580000
B29: קרית ביאליק | D29: 15600 | F29: =E29*80 -> 0 | G29: =E29*100 -> 0 | H29: כל העיר
B30: קרית גת-מערב | D30: 18100 | F30: =E30*80 -> 0 | G30: =E30*100 -> 0 | H30: פעם קודמת
B31: קרית גת-צפון | C31: 18200 | D31: 19400 | F31: =E31*80 -> 0 | G31: =E31*100 -> 0 | H31: כרמי גת | I31: במדלן כל העיר 17,000
B32: קרית מלאכי | C32: 16700 | D32: 17600 | F32: =E32*80 -> 0 | G32: =E32*100 -> 0 | H32: כל העיר
B33: קרית עקרון | D33: 22300 | F33: =E33*80 -> 0 | G33: =E33*100 -> 0
B34: קרית שמונה | D34: 12400 | F34: =E34*80 -> 0 | G34: =E34*100 -> 0
B35: ראשון לציון | D35: 27200 | F35: =E35*80 -> 0 | G35: =E35*100 -> 0 | H35: כל העיר | I35: במדלן כל העיר 27,200
A36: יש | B36: רחובות | D36: 26700 | E36: 25400 | F36: =E36*80 -> 2032000 | G36: =E36*100 -> 2540000 | H36: כל העיר
B37: רחובות קרית משה | D37: 27600 | F37: =E37*80 -> 0 | G37: =E37*100 -> 0 | H37: קרית משה
B38: רכסים | C38: 14800 | D38: 18100 | F38: =E38*80 -> 0 | G38: =E38*100 -> 0 | H38: כל העיר
B39: תל אביב יפו | D39: 36900 | F39: =E39*80 -> 0 | G39: =E39*100 -> 0 | H39: קרית שלום
A40: יש | B40: שדרות | E40: 13200 | F40: =E40*80 -> 1056000 | G40: =E40*100 -> 1320000
