Workbook

Sheet ראשי
A1: 1 | B1: 2 | C1: 3 | F1: 4 | G1: 5 | H1: 6 | I1: 7 | K1: 4 | L1: 5 | M1: 6 | N1: 7 | P1: 4 | Q1: 5 | R1: 6 | S1: 7 | U1: 8 | V1: 9
F2: דירת 3 חדרים של 80 מ"ר | K2: דירת 4 חדרים של 100 מ"ר | P2: דירת 5 חדרים של 125 מ"ר (בכפר ורדים חושב לפי וילת 5 חד' מרווחת יותר)
A3: יישוב | B3: מיקום בסדר ההגרלות | C3: סך דירות הפתוחות גם לציבור החרדי | D3: מתוכם דירות לכלל הציבור | E3: מתוכם דירות לבני מקום | F3: מחיר לאחר הנחה ומענק | G3: הון עצמי נדרש | H3: החזר חודשי מקסימלי | I3: רווח באחוזים לכל ₪ מושקע | J3: רווח לעומת מחיר שוק | K3: מחיר לאחר ההנחה ומענק | L3: הון עצמי הנדרש | M3: החזר חודשי המקסימלי | N3: רווח באחוזים לכל שקל מושקע | O3: רווח לעומת מחיר השוק | P3: המחיר לאחר ההנחה ומענק | Q3: הון העצמי הנדרש | R3: החזר החודשי המקסימלי | S3: הרווח באחוזים לכל ₪ מושקע | T3: הרווח לעומת מחיר השוק | U3: מענק | V3: הערכת סיכוי זכייה לחיצוני
A4: אשקלון | B4: 5 | C4: =טבלה1[[#This Row],[מתוכם דירות לכלל הציבור]]+טבלה1[[#This Row],[מתוכם דירות לבני מקום]] -> 77 | D4: 54 | E4: 23 | F4: 861000 | G4: =IF(טבלה1[[#This Row],[מחיר לאחר הנחה ומענק]]="","",IF(טבלה1[[#This Row],[מחיר לאחר הנחה ומענק]]>1800000,טבלה1[[#This Row],[מחיר לאחר הנחה ומענק]]*25%,IF(טבלה1[[#This Row],[מחיר לאחר הנחה ומענק]]>1450000,טבלה1[[#This Row],[מחיר לאחר הנחה ומענק]]-1350000,IF(טבלה1[[#This Row],[מחיר לאחר הנחה ומענק]]>1000000,100000,IF(טבלה1[[#This Row],[מחיר לאחר הנחה ומענק]]<1000000,100000)))))-IF(טבלה1[[#This Row],[מענק]]="V",40000,0) -> 100000 | H4: =(טבלה1[[#This Row],[מחיר לאחר הנחה ומענק]]-טבלה1[[#This Row],[הון עצמי נדרש]])/100000*530 -> 4033.3 | I4: =טבלה1[[#This Row],[רווח לעומת מחיר שוק]]/F4 -> 0.5762137 | J4: =VLOOKUP(A4,'מחירים שוק חופשי'!B:F,5,0)-F4 -> 496120 | K4: 1186836 | L4: =IF(טבלה1[[#This Row],[מחיר לאחר ההנחה ומענק]]="","",IF(טבלה1[[#This Row],[מחיר לאחר ההנחה ומענק]]>1800000,טבלה1[[#This Row],[מחיר לאחר ההנחה ומענק]]*25%,IF(טבלה1[[#This Row],[מחיר לאחר ההנחה ומענק]]>1450000,טבלה1[[#This Row],[מחיר לאחר ההנחה ומענק]]-1350000,IF(טבלה1[[#This Row],[מחיר לאחר ההנחה ומענק]]>1000000,100000,IF(טבלה1[[#This Row],[מחיר לאחר ההנחה ומענק]]<1000000,100000)))))-IF(טבלה1[[#This Row],[מענק]]="V",40000,0) -> 100000 | M4: =(טבלה1[[#This Row],[מחיר לאחר ההנחה ומענק]]-טבלה1[[#This Row],[הון עצמי הנדרש]])/100000*530 -> 5760.2308 | N4: =O4/K4 -> 0.4293466 | O4: =VLOOKUP(A4,'מחירים שוק חופשי'!B:G,6,0)-K4 -> 509564 | P4: 1630000 | Q4: =IF(טבלה1[[#This Row],[המחיר לאחר ההנחה ומענק]]="","",IF(טבלה1[[#This Row],[המחיר לאחר ההנחה ומענק]]>1800000,טבלה1[[#This Row],[המחיר לאחר ההנחה ומענק]]*25%,IF(טבלה1[[#This Row],[המחיר לאחר ההנחה ומענק]]>1450000,טבלה1[[#This Row],[המחיר לאחר ההנחה ומענק]]-1350000,IF(טבלה1[[#This Row],[המחיר לאחר ההנחה ומענק]]>1000000,100000,IF(טבלה1[[#This Row],[המחיר לאחר ההנחה ומענק]]<1000000,100000)))))-IF(טבלה1[[#This Row],[מענק]]="V",40000,0) -> 280000 | R4: =(טבלה1[[#This Row],[המחיר לאחר ההנחה ומענק]]-טבלה1[[#This Row],[הון העצמי הנדרש]])/100000*530 -> 7155 | S4: =טבלה1[[#This Row],[הרווח לעומת מחיר השוק]]/טבלה1[[#This Row],[המחיר לאחר ההנחה ומענק]] -> 0.30092025 | T4: =VLOOKUP(A4,'מחירים שוק חופשי'!B:H,7,0)-טבלה1[[#This Row],[המחיר לאחר ההנחה ומענק]] -> 490500 | V4: 0.0024
A5: באר יעקב | B5: 16 | C5: =טבלה1[[#This Row],[מתוכם דירות לכלל הציבור]]+טבלה1[[#This Row],[מתוכם דירות לבני מקום]] -> 530 | D5: 365 | E5: 165 | F5: 1556500 | G5: =IF(טבלה1[[#This Row],[מחיר לאחר הנחה ומענק]]="","",IF(טבלה1[[#This Row],[מחיר לאחר הנחה ומענק]]>1800000,טבלה1[[#This Row],[מחיר לאחר הנחה ומענק]]*25%,IF(טבלה1[[#This Row],[מחיר לאחר הנחה ומענק]]>1450000,טבלה1[[#This Row],[מחיר לאחר הנחה ומענק]]-1350000,IF(טבלה1[[#This Row],[מחיר לאחר הנחה ומענק]]>1000000,100000,IF(טבלה1[[#This Row],[מחיר לאחר הנחה ומענק]]<1000000,100000)))))-IF(טבלה1[[#This Row],[מענק]]="V",40000,0) -> 206500 | H5: =(טבלה1[[#This Row],[מחיר לאחר הנחה ומענק]]-טבלה1[[#This Row],[הון עצמי נדרש]])/100000*530 -> 7155 | I5: =טבלה1[[#This Row],[רווח לעומת מחיר שוק]]/F5 -> 0.27113395 | J5: =VLOOKUP(A5,'מחירים שוק חופשי'!B:F,5,0)-F5 -> 422020 | K5: 1920995 | L5: =IF(טבלה1[[#This Row],[מחיר לאחר ההנחה ומענק]]="","",IF(טבלה1[[#This Row],[מחיר לאחר ההנחה ומענק]]>1800000,טבלה1[[#This Row],[מחיר לאחר ההנחה ומענק]]*25%,IF(טבלה1[[#This Row],[מחיר לאחר ההנחה ומענק]]>1450000,טבלה1[[#This Row],[מחיר לאחר ההנחה ומענק]]-1350000,IF(טבלה1[[#This Row],[מחיר לאחר ההנחה ומענק]]>1000000,100000,IF(טבלה1[[#This Row],[מחיר לאחר ההנחה ומענק]]<1000000,100000)))))-IF(טבלה1[[#This Row],[מענק]]="V",40000,0) -> 480248.75 | M5: =(טבלה1[[#This Row],[מחיר לאחר ההנחה ומענק]]-טבלה1[[#This Row],[הון עצמי הנדרש]])/100000*530 -> 7635.9551 | N5: =O5/K5 -> 0.28743177 | O5: =VLOOKUP(A5,'מחירים שוק חופשי'!B:G,6,0)-K5 -> 552155 | P5: 2415000 | Q5: =IF(טבלה1[[#This Row],[המחיר לאחר ההנחה ומענק]]="","",IF(טבלה1[[#This Row],[המחיר לאחר ההנחה ומענק]]>1800000,טבלה1[[#This Row],[המחיר לאחר ההנחה ומענק]]*25%,IF(טבלה1[[#This Row],[המחיר לאחר ההנחה ומענק]]>1450000,טבלה1[[#This Row],[המחיר לאחר ההנחה ומענק]]-1350000,IF(טבלה1[[#This Row],[המחיר לאחר ההנחה ומענק]]>1000000,100000,IF(טבלה1[[#This Row],[המחיר לאחר ההנחה ומענק]]<1000000,100000)))))-IF(טבלה1[[#This Row],[מענק]]="V",40000,0) -> 603750 | R5: =(טבלה1[[#This Row],[המחיר לאחר ההנחה ומענק]]-טבלה1[[#This Row],[הון העצמי הנדרש]])/100000*530 -> 9599.625 | S5: =טבלה1[[#This Row],[הרווח לעומת מחיר השוק]]/טבלה1[[#This Row],[המחיר לאחר ההנחה ומענק]] -> 0.28009834 | T5: =VLOOKUP(A5,'מחירים שוק חופשי'!B:H,7,0)-טבלה1[[#This Row],[המחיר לאחר ההנחה ומענק]] -> 676437.5 | V5: 0.0078
A6: באר שבע | B6: 3 | C6: =טבלה1[[#This Row],[מתוכם דירות לכלל הציבור]]+טבלה1[[#This Row],[מתוכם דירות לבני מקום]] -> 131 | D6: 90 | E6: 41 | F6: 745000 | G6: =IF(טבלה1[[#This Row],[מחיר לאחר הנחה ומענק]]="","",IF(טבלה1[[#This Row],[מחיר לאחר הנחה ומענק]]>1800000,טבלה1[[#This Row],[מחיר לאחר הנחה ומענק]]*25%,IF(טבלה1[[#This Row],[מחיר לאחר הנחה ומענק]]>1450000,טבלה1[[#This Row],[מחיר לאחר הנחה ומענק]]-1350000,IF(טבלה1[[#This Row],[מחיר לאחר הנחה ומענק]]>1000000,100000,IF(טבלה1[[#This Row],[מחיר לאחר הנחה ומענק]]<1000000,100000)))))-IF(טבלה1[[#This Row],[מענק]]="V",40000,0) -> 100000 | H6: =(טבלה1[[#This Row],[מחיר לאחר הנחה ומענק]]-טבלה1[[#This Row],[הון עצמי נדרש]])/100000*530 -> 3418.5 | I6: =טבלה1[[#This Row],[רווח לעומת מחיר שוק]]/F6 -> 0.55710067 | J6: =VLOOKUP(A6,'מחירים שוק חופשי'!B:F,5,0)-F6 -> 415040 | K6: 1014665 | L6: =IF(טבלה1[[#This Row],[מחיר לאחר ההנחה ומענק]]="","",IF(טבלה1[[#This Row],[מחיר לאחר ההנחה ומענק]]>1800000,טבלה1[[#This Row],[מחיר לאחר ההנחה ומענק]]*25%,IF(טבלה1[[#This Row],[מחיר לאחר ההנחה ומענק]]>1450000,טבלה1[[#This Row],[מחיר לאחר ההנחה ומענק]]-1350000,IF(טבלה1[[#This Row],[מחיר לאחר ההנחה ומענק]]>1000000,100000,IF(טבלה1[[#This Row],[מחיר לאחר ההנחה ומענק]]<1000000,100000)))))-IF(טבלה1[[#This Row],[מענק]]="V",40000,0) -> 100000 | M6: =(טבלה1[[#This Row],[מחיר לאחר ההנחה ומענק]]-טבלה1[[#This Row],[הון עצמי הנדרש]])/100000*530 -> 4847.7245 | N6: =O6/K6 -> 0.42909236 | O6: =VLOOKUP(A6,'מחירים שוק חופשי'!B:G,6,0)-K6 -> 435385 | P6: 1419000 | Q6: =IF(טבלה1[[#This Row],[המחיר לאחר ההנחה ומענק]]="","",IF(טבלה1[[#This Row],[המחיר לאחר ההנחה ומענק]]>1800000,טבלה1[[#This Row],[המחיר לאחר ההנחה ומענק]]*25%,IF(טבלה1[[#This Row],[המחיר לאחר ההנחה ומענק]]>1450000,טבלה1[[#This Row],[המחיר לאחר ההנחה ומענק]]-1350000,IF(טבלה1[[#This Row],[המחיר לאחר ההנחה ומענק]]>1000000,100000,IF(טבלה1[[#This Row],[המחיר לאחר ההנחה ומענק]]<1000000,100000)))))-IF(טבלה1[[#This Row],[מענק]]="V",40000,0) -> 100000 | R6: =(טבלה1[[#This Row],[המחיר לאחר ההנחה ומענק]]-טבלה1[[#This Row],[הון העצמי הנדרש]])/100000*530 -> 6990.7 | S6: =טבלה1[[#This Row],[הרווח לעומת מחיר השוק]]/טבלה1[[#This Row],[המחיר לאחר ההנחה ומענק]] -> 0.27735201 | T6: =VLOOKUP(A6,'מחירים שוק חופשי'!B:H,7,0)-טבלה1[[#This Row],[המחיר לאחר ההנחה ומענק]] -> 393562.5 | V6: 0.008
A7: בית שמש | B7: 4 | C7: =טבלה1[[#This Row],[מתוכם דירות לכלל הציבור]]+טבלה1[[#This Row],[מתוכם דירות לבני מקום]] -> 123 | D7: 84 | E7: 39 | F7: 1218500 | G7: =IF(טבלה1[[#This Row],[מחיר לאחר הנחה ומענק]]="","",IF(טבלה1[[#This Row],[מחיר לאחר הנחה ומענק]]>1800000,טבלה1[[#This Row],[מחיר לאחר הנחה ומענק]]*25%,IF(טבלה1[[#This Row],[מחיר לאחר הנחה ומענק]]>1450000,טבלה1[[#This Row],[מחיר לאחר הנחה ומענק]]-1350000,IF(טבלה1[[#This Row],[מחיר לאחר הנחה ומענק]]>1000000,100000,IF(טבלה1[[#This Row],[מחיר לאחר הנחה ומענק]]<1000000,100000)))))-IF(טבלה1[[#This Row],[מענק]]="V",40000,0) -> 100000 | H7: =(טבלה1[[#This Row],[מחיר לאחר הנחה ומענק]]-טבלה1[[#This Row],[הון עצמי נדרש]])/100000*530 -> 5928.05 | I7: =טבלה1[[#This Row],[רווח לעומת מחיר שוק]]/F7 -> 0.44978252 | J7: =VLOOKUP(A7,'מחירים שוק חופשי'!B:F,5,0)-F7 -> 548060 | K7: 1590579 | L7: =IF(טבלה1[[#This Row],[מחיר לאחר ההנחה ומענק]]="","",IF(טבלה1[[#This Row],[מחיר לאחר ההנחה ומענק]]>1800000,טבלה1[[#This Row],[מחיר לאחר ההנחה ומענק]]*25%,IF(טבלה1[[#This Row],[מחיר לאחר ההנחה ומענק]]>1450000,טבלה1[[#This Row],[מחיר לאחר ההנחה ומענק]]-1350000,IF(טבלה1[[#This Row],[מחיר לאחר ההנחה ומענק]]>1000000,100000,IF(טבלה1[[#This Row],[מחיר לאחר ההנחה ומענק]]<1000000,100000)))))-IF(טבלה1[[#This Row],[מענק]]="V",40000,0) -> 240579 | M7: =(טבלה1[[#This Row],[מחיר לאחר ההנחה ומענק]]-טבלה1[[#This Row],[הון עצמי הנדרש]])/100000*530 -> 7155 | N7: =O7/K7 -> 0.38829948 | O7: =VLOOKUP(A7,'מחירים שוק חופשי'!B:G,6,0)-K7 -> 617621 | P7: 1988000 | Q7: =IF(טבלה1[[#This Row],[המחיר לאחר ההנחה ומענק]]="","",IF(טבלה1[[#This Row],[המחיר לאחר ההנחה ומענק]]>1800000,טבלה1[[#This Row],[המחיר לאחר ההנחה ומענק]]*25%,IF(טבלה1[[#This Row],[המחיר לאחר ההנחה ומענק]]>1450000,טבלה1[[#This Row],[המחיר לאחר ההנחה ומענק]]-1350000,IF(טבלה1[[#This Row],[המחיר לאחר ההנחה ומענק]]>1000000,100000,IF(טבלה1[[#This Row],[המחיר לאחר ההנחה ומענק]]<1000000,100000)))))-IF(טבלה1[[#This Row],[מענק]]="V",40000,0) -> 497000 | R7: =(טבלה1[[#This Row],[המחיר לאחר ההנחה ומענק]]-טבלה1[[#This Row],[הון העצמי הנדרש]])/100000*530 -> 7902.3 | S7: =טבלה1[[#This Row],[הרווח לעומת מחיר השוק]]/טבלה1[[#This Row],[המחיר לאחר ההנחה ומענק]] -> 0.38845573 | T7: =VLOOKUP(A7,'מחירים שוק חופשי'!B:H,7,0)-טבלה1[[#This Row],[המחיר לאחר ההנחה ומענק]] -> 772250 | V7: 0.0087
A8: דימונה | B8: 14 | C8: =טבלה1[[#This Row],[מתוכם דירות לכלל הציבור]]+טבלה1[[#This Row],[מתוכם דירות לבני מקום]] -> 20 | D8: 12 | E8: 8 | F8: 519500 | G8: =IF(טבלה1[[#This Row],[מחיר לאחר הנחה ומענק]]="","",IF(טבלה1[[#This Row],[מחיר לאחר הנחה ומענק]]>1800000,טבלה1[[#This Row],[מחיר לאחר הנחה ומענק]]*25%,IF(טבלה1[[#This Row],[מחיר לאחר הנחה ומענק]]>1450000,טבלה1[[#This Row],[מחיר לאחר הנחה ומענק]]-1350000,IF(טבלה1[[#This Row],[מחיר לאחר הנחה ומענק]]>1000000,100000,IF(טבלה1[[#This Row],[מחיר לאחר הנחה ומענק]]<1000000,100000)))))-IF(טבלה1[[#This Row],[מענק]]="V",40000,0) -> 100000 | H8: =(טבלה1[[#This Row],[מחיר לאחר הנחה ומענק]]-טבלה1[[#This Row],[הון עצמי נדרש]])/100000*530 -> 2223.35 | I8: =טבלה1[[#This Row],[רווח לעומת מחיר שוק]]/F8 -> 0.71503369 | J8: =VLOOKUP(A8,'מחירים שוק חופשי'!B:F,5,0)-F8 -> 371460 | K8: 637519 | L8: =IF(טבלה1[[#This Row],[מחיר לאחר ההנחה ומענק]]="","",IF(טבלה1[[#This Row],[מחיר לאחר ההנחה ומענק]]>1800000,טבלה1[[#This Row],[מחיר לאחר ההנחה ומענק]]*25%,IF(טבלה1[[#This Row],[מחיר לאחר ההנחה ומענק]]>1450000,טבלה1[[#This Row],[מחיר לאחר ההנחה ומענק]]-1350000,IF(טבלה1[[#This Row],[מחיר לאחר ההנחה ומענק]]>1000000,100000,IF(טבלה1[[#This Row],[מחיר לאחר ההנחה ומענק]]<1000000,100000)))))-IF(טבלה1[[#This Row],[מענק]]="V",40000,0) -> 100000 | M8: =(טבלה1[[#This Row],[מחיר לאחר ההנחה ומענק]]-טבלה1[[#This Row],[הון עצמי הנדרש]])/100000*530 -> 2848.8507 | N8: =O8/K8 -> 0.74692833 | O8: =VLOOKUP(A8,'מחירים שוק חופשי'!B:G,6,0)-K8 -> 476181 | P8: 881500 | Q8: =IF(טבלה1[[#This Row],[המחיר לאחר ההנחה ומענק]]="","",IF(טבלה1[[#This Row],[המחיר לאחר ההנחה ומענק]]>1800000,טבלה1[[#This Row],[המחיר לאחר ההנחה ומענק]]*25%,IF(טבלה1[[#This Row],[המחיר לאחר ההנחה ומענק]]>1450000,טבלה1[[#This Row],[המחיר לאחר ההנחה ומענק]]-1350000,IF(טבלה1[[#This Row],[המחיר לאחר ההנחה ומענק]]>1000000,100000,IF(טבלה1[[#This Row],[המחיר לאחר ההנחה ומענק]]<1000000,100000)))))-IF(טבלה1[[#This Row],[מענק]]="V",40000,0) -> 100000 | R8: =(טבלה1[[#This Row],[המחיר לאחר ההנחה ומענק]]-טבלה1[[#This Row],[הון העצמי הנדרש]])/100000*530 -> 4141.95 | S8: =טבלה1[[#This Row],[הרווח לעומת מחיר השוק]]/טבלה1[[#This Row],[המחיר לאחר ההנחה ומענק]] -> 0.57926829 | T8: =VLOOKUP(A8,'מחירים שוק חופשי'!B:H,7,0)-טבלה1[[#This Row],[המחיר לאחר ההנחה ומענק]] -> 510625 | V8: 0.0035
A9: טבריה | B9: 11 | C9: =טבלה1[[#This Row],[מתוכם דירות לכלל הציבור]]+טבלה1[[#This Row],[מתוכם דירות לבני מקום]] -> 63 | D9: 37 | E9: 26 | F9: 622500 | G9: =IF(טבלה1[[#This Row],[מחיר לאחר הנחה ומענק]]="","",IF(טבלה1[[#This Row],[מחיר לאחר הנחה ומענק]]>1800000,טבלה1[[#This Row],[מחיר לאחר הנחה ומענק]]*25%,IF(טבלה1[[#This Row],[מחיר לאחר הנחה ומענק]]>1450000,טבלה1[[#This Row],[מחיר לאחר הנחה ומענק]]-1350000,IF(טבלה1[[#This Row],[מחיר לאחר הנחה ומענק]]>1000000,100000,IF(טבלה1[[#This Row],[מחיר לאחר הנחה ומענק]]<1000000,100000)))))-IF(טבלה1[[#This Row],[מענק]]="V",40000,0) -> 100000 | H9: =(טבלה1[[#This Row],[מחיר לאחר הנחה ומענק]]-טבלה1[[#This Row],[הון עצמי נדרש]])/100000*530 -> 2769.25 | I9: =טבלה1[[#This Row],[רווח לעומת מחיר שוק]]/F9 -> 0.6613012 | J9: =VLOOKUP(A9,'מחירים שוק חופשי'!B:F,5,0)-F9 -> 411660 | K9: 764067 | L9: =IF(טבלה1[[#This Row],[מחיר לאחר ההנחה ומענק]]="","",IF(טבלה1[[#This Row],[מחיר לאחר ההנחה ומענק]]>1800000,טבלה1[[#This Row],[מחיר לאחר ההנחה ומענק]]*25%,IF(טבלה1[[#This Row],[מחיר לאחר ההנחה ומענק]]>1450000,טבלה1[[#This Row],[מחיר לאחר ההנחה ומענק]]-1350000,IF(טבלה1[[#This Row],[מחיר לאחר ההנחה ומענק]]>1000000,100000,IF(טבלה1[[#This Row],[מחיר לאחר ההנחה ומענק]]<1000000,100000)))))-IF(טבלה1[[#This Row],[מענק]]="V",40000,0) -> 100000 | M9: =(טבלה1[[#This Row],[מחיר לאחר ההנחה ומענק]]-טבלה1[[#This Row],[הון עצמי הנדרש]])/100000*530 -> 3519.5551 | N9: =O9/K9 -> 0.69186734 | O9: =VLOOKUP(A9,'מחירים שוק חופשי'!B:G,6,0)-K9 -> 528633 | P9: 1027250 | Q9: =IF(טבלה1[[#This Row],[המחיר לאחר ההנחה ומענק]]="","",IF(טבלה1[[#This Row],[המחיר לאחר ההנחה ומענק]]>1800000,טבלה1[[#This Row],[המחיר לאחר ההנחה ומענק]]*25%,IF(טבלה1[[#This Row],[המחיר לאחר ההנחה ומענק]]>1450000,טבלה1[[#This Row],[המחיר לאחר ההנחה ומענק]]-1350000,IF(טבלה1[[#This Row],[המחיר לאחר ההנחה ומענק]]>1000000,100000,IF(טבלה1[[#This Row],[המחיר לאחר ההנחה ומענק]]<1000000,100000)))))-IF(טבלה1[[#This Row],[מענק]]="V",40000,0) -> 100000 | R9: =(טבלה1[[#This Row],[המחיר לאחר ההנחה ומענק]]-טבלה1[[#This Row],[הון העצמי הנדרש]])/100000*530 -> 4914.425 | S9: =טבלה1[[#This Row],[הרווח לעומת מחיר השוק]]/טבלה1[[#This Row],[המחיר לאחר ההנחה ומענק]] -> 0.57301046 | T9: =VLOOKUP(A9,'מחירים שוק חופשי'!B:H,7,0)-טבלה1[[#This Row],[המחיר לאחר ההנחה ומענק]] -> 588625 | V9: 0.0076
A10: יבנה | B10: 9 | C10: =טבלה1[[#This Row],[מתוכם דירות לכלל הציבור]]+טבלה1[[#This Row],[מתוכם דירות לבני מקום]] -> 458 | D10: 313 | E10: 145 | F10: 1310000 | G10: =IF(טבלה1[[#This Row],[מחיר לאחר הנחה ומענק]]="","",IF(טבלה1[[#This Row],[מחיר לאחר הנחה ומענק]]>1800000,טבלה1[[#This Row],[מחיר לאחר הנחה ומענק]]*25%,IF(טבלה1[[#This Row],[מחיר לאחר הנחה ומענק]]>1450000,טבלה1[[#This Row],[מחיר לאחר הנחה ומענק]]-1350000,IF(טבלה1[[#This Row],[מחיר לאחר הנחה ומענק]]>1000000,100000,IF(טבלה1[[#This Row],[מחיר לאחר הנחה ומענק]]<1000000,100000)))))-IF(טבלה1[[#This Row],[מענק]]="V",40000,0) -> 100000 | H10: =(טבלה1[[#This Row],[מחיר לאחר הנחה ומענק]]-טבלה1[[#This Row],[הון עצמי נדרש]])/100000*530 -> 6413 | I10: =טבלה1[[#This Row],[רווח לעומת מחיר שוק]]/F10 -> 0.36519084 | J10: =VLOOKUP(A10,'מחירים שוק חופשי'!B:F,5,0)-F10 -> 478400 | K10: 1700000 | L10: =IF(טבלה1[[#This Row],[מחיר לאחר ההנחה ומענק]]="","",IF(טבלה1[[#This Row],[מחיר לאחר ההנחה ומענק]]>1800000,טבלה1[[#This Row],[מחיר לאחר ההנחה ומענק]]*25%,IF(טבלה1[[#This Row],[מחיר לאחר ההנחה ומענק]]>1450000,טבלה1[[#This Row],[מחיר לאחר ההנחה ומענק]]-1350000,IF(טבלה1[[#This Row],[מחיר לאחר ההנחה ומענק]]>1000000,100000,IF(טבלה1[[#This Row],[מחיר לאחר ההנחה ומענק]]<1000000,100000)))))-IF(טבלה1[[#This Row],[מענק]]="V",40000,0) -> 350000 | M10: =(טבלה1[[#This Row],[מחיר לאחר ההנחה ומענק]]-טבלה1[[#This Row],[הון עצמי הנדרש]])/100000*530 -> 7155 | N10: =O10/K10 -> 0.315 | O10: =VLOOKUP(A10,'מחירים שוק חופשי'!B:G,6,0)-K10 -> 535500 | P10: 2280000 | Q10: =IF(טבלה1[[#This Row],[המחיר לאחר ההנחה ומענק]]="","",IF(טבלה1[[#This Row],[המחיר לאחר ההנחה ומענק]]>1800000,טבלה1[[#This Row],[המחיר לאחר ההנחה ומענק]]*25%,IF(טבלה1[[#This Row],[המחיר לאחר ההנחה ומענק]]>1450000,טבלה1[[#This Row],[המחיר לאחר ההנחה ומענק]]-1350000,IF(טבלה1[[#This Row],[המחיר לאחר ההנחה ומענק]]>1000000,100000,IF(טבלה1[[#This Row],[המחיר לאחר ההנחה ומענק]]<1000000,100000)))))-IF(טבלה1[[#This Row],[מענק]]="V",40000,0) -> 570000 | R10: =(טבלה1[[#This Row],[המחיר לאחר ההנחה ומענק]]-טבלה1[[#This Row],[הון העצמי הנדרש]])/100000*530 -> 9063 | S10: =טבלה1[[#This Row],[הרווח לעומת מחיר השוק]]/טבלה1[[#This Row],[המחיר לאחר ההנחה ומענק]] -> 0.22560307 | T10: =VLOOKUP(A10,'מחירים שוק חופשי'!B:H,7,0)-טבלה1[[#This Row],[המחיר לאחר ההנחה ומענק]] -> 514375 | V10: 0.0101
A11: יהוד | B11: 15 | C11: =טבלה1[[#This Row],[מתוכם דירות לכלל הציבור]]+טבלה1[[#This Row],[מתוכם דירות לבני מקום]] -> 74 | D11: 51 | E11: 23 | F11: 2157000 | G11: =IF(טבלה1[[#This Row],[מחיר לאחר הנחה ומענק]]="","",IF(טבלה1[[#This Row],[מחיר לאחר הנחה ומענק]]>1800000,טבלה1[[#This Row],[מחיר לאחר הנחה ומענק]]*25%,IF(טבלה1[[#This Row],[מחיר לאחר הנחה ומענק]]>1450000,טבלה1[[#This Row],[מחיר לאחר הנחה ומענק]]-1350000,IF(טבלה1[[#This Row],[מחיר לאחר הנחה ומענק]]>1000000,100000,IF(טבלה1[[#This Row],[מחיר לאחר הנחה ומענק]]<1000000,100000)))))-IF(טבלה1[[#This Row],[מענק]]="V",40000,0) -> 539250 | H11: =(טבלה1[[#This Row],[מחיר לאחר הנחה ומענק]]-טבלה1[[#This Row],[הון עצמי נדרש]])/100000*530 -> 8574.075 | I11: =טבלה1[[#This Row],[רווח לעומת מחיר שוק]]/F11 -> 0.1277886 | J11: =VLOOKUP(A11,'מחירים שוק חופשי'!B:F,5,0)-F11 -> 275640 | K11: 2629215 | L11: =IF(טבלה1[[#This Row],[מחיר לאחר ההנחה ומענק]]="","",IF(טבלה1[[#This Row],[מחיר לאחר ההנחה ומענק]]>1800000,טבלה1[[#This Row],[מחיר לאחר ההנחה ומענק]]*25%,IF(טבלה1[[#This Row],[מחיר לאחר ההנחה ומענק]]>1450000,טבלה1[[#This Row],[מחיר לאחר ההנחה ומענק]]-1350000,IF(טבלה1[[#This Row],[מחיר לאחר ההנחה ומענק]]>1000000,100000,IF(טבלה1[[#This Row],[מחיר לאחר ההנחה ומענק]]<1000000,100000)))))-IF(טבלה1[[#This Row],[מענק]]="V",40000,0) -> 657303.75 | M11: =(טבלה1[[#This Row],[מחיר לאחר ההנחה ומענק]]-טבלה1[[#This Row],[הון עצמי הנדרש]])/100000*530 -> 10451.13 | N11: =O11/K11 -> 0.15654292 | O11: =VLOOKUP(A11,'מחירים שוק חופשי'!B:G,6,0)-K11 -> 411585 | P11: 3301125 | Q11: =IF(טבלה1[[#This Row],[המחיר לאחר ההנחה ומענק]]="","",IF(טבלה1[[#This Row],[המחיר לאחר ההנחה ומענק]]>1800000,טבלה1[[#This Row],[המחיר לאחר ההנחה ומענק]]*25%,IF(טבלה1[[#This Row],[המחיר לאחר ההנחה ומענק]]>1450000,טבלה1[[#This Row],[המחיר לאחר ההנחה ומענק]]-1350000,IF(טבלה1[[#This Row],[המחיר לאחר ההנחה ומענק]]>1000000,100000,IF(טבלה1[[#This Row],[המחיר לאחר ההנחה ומענק]]<1000000,100000)))))-IF(טבלה1[[#This Row],[מענק]]="V",40000,0) -> 825281.25 | R11: =(טבלה1[[#This Row],[המחיר לאחר ההנחה ומענק]]-טבלה1[[#This Row],[הון העצמי הנדרש]])/100000*530 -> 13121.972 | S11: =טבלה1[[#This Row],[הרווח לעומת מחיר השוק]]/טבלה1[[#This Row],[המחיר לאחר ההנחה ומענק]] -> 0.15142565 | T11: =VLOOKUP(A11,'מחירים שוק חופשי'!B:H,7,0)-טבלה1[[#This Row],[המחיר לאחר ההנחה ומענק]] -> 499875 | V11: 0.0067
A12: ירושלים הר הצופים | B12: 1 | C12: =טבלה1[[#This Row],[מתוכם דירות לכלל הציבור]]+טבלה1[[#This Row],[מתוכם דירות לבני מקום]] -> 164 | D12: 112 | E12: 52 | F12: 1659000 | G12: =IF(טבלה1[[#This Row],[מחיר לאחר הנחה ומענק]]="","",IF(טבלה1[[#This Row],[מחיר לאחר הנחה ומענק]]>1800000,טבלה1[[#This Row],[מחיר לאחר הנחה ומענק]]*25%,IF(טבלה1[[#This Row],[מחיר לאחר הנחה ומענק]]>1450000,טבלה1[[#This Row],[מחיר לאחר הנחה ומענק]]-1350000,IF(טבלה1[[#This Row],[מחיר לאחר הנחה ומענק]]>1000000,100000,IF(טבלה1[[#This Row],[מחיר לאחר הנחה ומענק]]<1000000,100000)))))-IF(טבלה1[[#This Row],[מענק]]="V",40000,0) -> 309000 | H12: =(טבלה1[[#This Row],[מחיר לאחר הנחה ומענק]]-טבלה1[[#This Row],[הון עצמי נדרש]])/100000*530 -> 7155 | I12: =טבלה1[[#This Row],[רווח לעומת מחיר שוק]]/F12 -> 0.41203134 | J12: =VLOOKUP(A12,'מחירים שוק חופשי'!B:F,5,0)-F12 -> 683560 | K12: 2036109 | L12: =IF(טבלה1[[#This Row],[מחיר לאחר ההנחה ומענק]]="","",IF(טבלה1[[#This Row],[מחיר לאחר ההנחה ומענק]]>1800000,טבלה1[[#This Row],[מחיר לאחר ההנחה ומענק]]*25%,IF(טבלה1[[#This Row],[מחיר לאחר ההנחה ומענק]]>1450000,טבלה1[[#This Row],[מחיר לאחר ההנחה ומענק]]-1350000,IF(טבלה1[[#This Row],[מחיר לאחר ההנחה ומענק]]>1000000,100000,IF(טבלה1[[#This Row],[מחיר לאחר ההנחה ומענק]]<1000000,100000)))))-IF(טבלה1[[#This Row],[מענק]]="V",40000,0) -> 509027.25 | M12: =(טבלה1[[#This Row],[מחיר לאחר ההנחה ומענק]]-טבלה1[[#This Row],[הון עצמי הנדרש]])/100000*530 -> 8093.5333 | N12: =O12/K12 -> 0.43813519 | O12: =VLOOKUP(A12,'מחירים שוק חופשי'!B:G,6,0)-K12 -> 892091 | P12: 2545000 | Q12: =IF(טבלה1[[#This Row],[המחיר לאחר ההנחה ומענק]]="","",IF(טבלה1[[#This Row],[המחיר לאחר ההנחה ומענק]]>1800000,טבלה1[[#This Row],[המחיר לאחר ההנחה ומענק]]*25%,IF(טבלה1[[#This Row],[המחיר לאחר ההנחה ומענק]]>1450000,טבלה1[[#This Row],[המחיר לאחר ההנחה ומענק]]-1350000,IF(טבלה1[[#This Row],[המחיר לאחר ההנחה ומענק]]>1000000,100000,IF(טבלה1[[#This Row],[המחיר לאחר ההנחה ומענק]]<1000000,100000)))))-IF(טבלה1[[#This Row],[מענק]]="V",40000,0) -> 636250 | R12: =(טבלה1[[#This Row],[המחיר לאחר ההנחה ומענק]]-טבלה1[[#This Row],[הון העצמי הנדרש]])/100000*530 -> 10116.375 | S12: =טבלה1[[#This Row],[הרווח לעומת מחיר השוק]]/טבלה1[[#This Row],[המחיר לאחר ההנחה ומענק]] -> 0.43821218 | T12: =VLOOKUP(A12,'מחירים שוק חופשי'!B:H,7,0)-טבלה1[[#This Row],[המחיר לאחר ההנחה ומענק]] -> 1115250 | V12: 0.0116
A13: ירושלים קטמון | B13: 1 | C13: =טבלה1[[#This Row],[מתוכם דירות לכלל הציבור]]+טבלה1[[#This Row],[מתוכם דירות לבני מקום]] -> 29 | D13: 20 | E13: 9 | F13: 2284500 | G13: =IF(טבלה1[[#This Row],[מחיר לאחר הנחה ומענק]]="","",IF(טבלה1[[#This Row],[מחיר לאחר הנחה ומענק]]>1800000,טבלה1[[#This Row],[מחיר לאחר הנחה ומענק]]*25%,IF(טבלה1[[#This Row],[מחיר לאחר הנחה ומענק]]>1450000,טבלה1[[#This Row],[מחיר לאחר הנחה ומענק]]-1350000,IF(טבלה1[[#This Row],[מחיר לאחר הנחה ומענק]]>1000000,100000,IF(טבלה1[[#This Row],[מחיר לאחר הנחה ומענק]]<1000000,100000)))))-IF(טבלה1[[#This Row],[מענק]]="V",40000,0) -> 571125 | H13: =(טבלה1[[#This Row],[מחיר לאחר הנחה ומענק]]-טבלה1[[#This Row],[הון עצמי נדרש]])/100000*530 -> 9080.8875 | I13: =טבלה1[[#This Row],[רווח לעומת מחיר שוק]]/F13 -> 0.30626395 | J13: =VLOOKUP(A13,'מחירים שוק חופשי'!B:F,5,0)-F13 -> 699660 | K13: 2803680 | L13: =IF(טבלה1[[#This Row],[מחיר לאחר ההנחה ומענק]]="","",IF(טבלה1[[#This Row],[מחיר לאחר ההנחה ומענק]]>1800000,טבלה1[[#This Row],[מחיר לאחר ההנחה ומענק]]*25%,IF(טבלה1[[#This Row],[מחיר לאחר ההנחה ומענק]]>1450000,טבלה1[[#This Row],[מחיר לאחר ההנחה ומענק]]-1350000,IF(טבלה1[[#This Row],[מחיר לאחר ההנחה ומענק]]>1000000,100000,IF(טבלה1[[#This Row],[מחיר לאחר ההנחה ומענק]]<1000000,100000)))))-IF(טבלה1[[#This Row],[מענק]]="V",40000,0) -> 700920 | M13: =(טבלה1[[#This Row],[מחיר לאחר ההנחה ומענק]]-טבלה1[[#This Row],[הון עצמי הנדרש]])/100000*530 -> 11144.628 | N13: =O13/K13 -> 0.33046567 | O13: =VLOOKUP(A13,'מחירים שוק חופשי'!B:G,6,0)-K13 -> 926520 | P13: 3504600 | Q13: =IF(טבלה1[[#This Row],[המחיר לאחר ההנחה ומענק]]="","",IF(טבלה1[[#This Row],[המחיר לאחר ההנחה ומענק]]>1800000,טבלה1[[#This Row],[המחיר לאחר ההנחה ומענק]]*25%,IF(טבלה1[[#This Row],[המחיר לאחר ההנחה ומענק]]>1450000,טבלה1[[#This Row],[המחיר לאחר ההנחה ומענק]]-1350000,IF(טבלה1[[#This Row],[המחיר לאחר ההנחה ומענק]]>1000000,100000,IF(טבלה1[[#This Row],[המחיר לאחר ההנחה ומענק]]<1000000,100000)))))-IF(טבלה1[[#This Row],[מענק]]="V",40000,0) -> 876150 | R13: =(טבלה1[[#This Row],[המחיר לאחר ההנחה ומענק]]-טבלה1[[#This Row],[הון העצמי הנדרש]])/100000*530 -> 13930.785 | S13: =טבלה1[[#This Row],[הרווח לעומת מחיר השוק]]/טבלה1[[#This Row],[המחיר לאחר ההנחה ומענק]] -> 0.33046567 | T13: =VLOOKUP(A13,'מחירים שוק חופשי'!B:H,7,0)-טבלה1[[#This Row],[המחיר לאחר ההנחה ומענק]] -> 1158150 | V13: 0.0116
A14: כפר ורדים (וילות 5 חד') | B14: 19 | C14: =טבלה1[[#This Row],[מתוכם דירות לכלל הציבור]]+טבלה1[[#This Row],[מתוכם דירות לבני מקום]] -> 59 | D14: 35 | E14: 24 | P14: 1611532 | Q14: =IF(טבלה1[[#This Row],[המחיר לאחר ההנחה ומענק]]="","",IF(טבלה1[[#This Row],[המחיר לאחר ההנחה ומענק]]>1800000,טבלה1[[#This Row],[המחיר לאחר ההנחה ומענק]]*25%,IF(טבלה1[[#This Row],[המחיר לאחר ההנחה ומענק]]>1450000,טבלה1[[#This Row],[המחיר לאחר ההנחה ומענק]]-1350000,IF(טבלה1[[#This Row],[המחיר לאחר ההנחה ומענק]]>1000000,100000,IF(טבלה1[[#This Row],[המחיר לאחר ההנחה ומענק]]<1000000,100000)))))-IF(טבלה1[[#This Row],[מענק]]="V",40000,0) -> 261532 | R14: =(טבלה1[[#This Row],[המחיר לאחר ההנחה ומענק]]-טבלה1[[#This Row],[הון העצמי הנדרש]])/100000*530 -> 7155 | S14: =טבלה1[[#This Row],[הרווח לעומת מחיר השוק]]/טבלה1[[#This Row],[המחיר לאחר ההנחה ומענק]] -> 0.23641851 | T14: =VLOOKUP(A14,'מחירים שוק חופשי'!B:H,7,0)-טבלה1[[#This Row],[המחיר לאחר ההנחה ומענק]] -> 380996 | V14: 0.0133
A15: מעלות | B15: 17 | C15: =טבלה1[[#This Row],[מתוכם דירות לכלל הציבור]]+טבלה1[[#This Row],[מתוכם דירות לבני מקום]] -> 4 | D15: 2 | E15: 2 | P15: 1019631 | Q15: =IF(טבלה1[[#This Row],[המחיר לאחר ההנחה ומענק]]="","",IF(טבלה1[[#This Row],[המחיר לאחר ההנחה ומענק]]>1800000,טבלה1[[#This Row],[המחיר לאחר ההנחה ומענק]]*25%,IF(טבלה1[[#This Row],[המחיר לאחר ההנחה ומענק]]>1450000,טבלה1[[#This Row],[המחיר לאחר ההנחה ומענק]]-1350000,IF(טבלה1[[#This Row],[המחיר לאחר ההנחה ומענק]]>1000000,100000,IF(טבלה1[[#This Row],[המחיר לאחר ההנחה ומענק]]<1000000,100000)))))-IF(טבלה1[[#This Row],[מענק]]="V",40000,0) -> 100000 | R15: =(טבלה1[[#This Row],[המחיר לאחר ההנחה ומענק]]-טבלה1[[#This Row],[הון העצמי הנדרש]])/100000*530 -> 4874.0443 | S15: =טבלה1[[#This Row],[הרווח לעומת מחיר השוק]]/טבלה1[[#This Row],[המחיר לאחר ההנחה ומענק]] -> 0.51494756 | T15: =VLOOKUP(A15,'מחירים שוק חופשי'!B:H,7,0)-טבלה1[[#This Row],[המחיר לאחר ההנחה ומענק]] -> 525056.5 | V15: 0.0044
A16: מצפה רמון | B16: 20 | C16: =טבלה1[[#This Row],[מתוכם דירות לכלל הציבור]]+טבלה1[[#This Row],[מתוכם דירות לבני מקום]] -> 44 | D16: 17 | E16: 27 | F16: 524911 | G16: =IF(טבלה1[[#This Row],[מחיר לאחר הנחה ומענק]]="","",IF(טבלה1[[#This Row],[מחיר לאחר הנחה ומענק]]>1800000,טבלה1[[#This Row],[מחיר לאחר הנחה ומענק]]*25%,IF(טבלה1[[#This Row],[מחיר לאחר הנחה ומענק]]>1450000,טבלה1[[#This Row],[מחיר לאחר הנחה ומענק]]-1350000,IF(טבלה1[[#This Row],[מחיר לאחר הנחה ומענק]]>1000000,100000,IF(טבלה1[[#This Row],[מחיר לאחר הנחה ומענק]]<1000000,100000)))))-IF(טבלה1[[#This Row],[מענק]]="V",40000,0) -> 100000 | H16: =(טבלה1[[#This Row],[מחיר לאחר הנחה ומענק]]-טבלה1[[#This Row],[הון עצמי נדרש]])/100000*530 -> 2252.0283 | I16: =טבלה1[[#This Row],[רווח לעומת מחיר שוק]]/F16 -> 0.70025014 | J16: =VLOOKUP(A16,'מחירים שוק חופשי'!B:F,5,0)-F16 -> 367569 | K16: 644209 | L16: =IF(טבלה1[[#This Row],[מחיר לאחר ההנחה ומענק]]="","",IF(טבלה1[[#This Row],[מחיר לאחר ההנחה ומענק]]>1800000,טבלה1[[#This Row],[מחיר לאחר ההנחה ומענק]]*25%,IF(טבלה1[[#This Row],[מחיר לאחר ההנחה ומענק]]>1450000,טבלה1[[#This Row],[מחיר לאחר ההנחה ומענק]]-1350000,IF(טבלה1[[#This Row],[מחיר לאחר ההנחה ומענק]]>1000000,100000,IF(טבלה1[[#This Row],[מחיר לאחר ההנחה ומענק]]<1000000,100000)))))-IF(טבלה1[[#This Row],[מענק]]="V",40000,0) -> 100000 | M16: =(טבלה1[[#This Row],[מחיר לאחר ההנחה ומענק]]-טבלה1[[#This Row],[הון עצמי הנדרש]])/100000*530 -> 2884.3077 | N16: =O16/K16 -> 0.73173613 | O16: =VLOOKUP(A16,'מחירים שוק חופשי'!B:G,6,0)-K16 -> 471391 | P16: 841000 | Q16: =IF(טבלה1[[#This Row],[המחיר לאחר ההנחה ומענק]]="","",IF(טבלה1[[#This Row],[המחיר לאחר ההנחה ומענק]]>1800000,טבלה1[[#This Row],[המחיר לאחר ההנחה ומענק]]*25%,IF(טבלה1[[#This Row],[המחיר לאחר ההנחה ומענק]]>1450000,טבלה1[[#This Row],[המחיר לאחר ההנחה ומענק]]-1350000,IF(טבלה1[[#This Row],[המחיר לאחר ההנחה ומענק]]>1000000,100000,IF(טבלה1[[#This Row],[המחיר לאחר ההנחה ומענק]]<1000000,100000)))))-IF(טבלה1[[#This Row],[מענק]]="V",40000,0) -> 100000 | R16: =(טבלה1[[#This Row],[המחיר לאחר ההנחה ומענק]]-טבלה1[[#This Row],[הון העצמי הנדרש]])/100000*530 -> 3927.3 | S16: =טבלה1[[#This Row],[הרווח לעומת מחיר השוק]]/טבלה1[[#This Row],[המחיר לאחר ההנחה ומענק]] -> 0.65814507 | T16: =VLOOKUP(A16,'מחירים שוק חופשי'!B:H,7,0)-טבלה1[[#This Row],[המחיר לאחר ההנחה ומענק]] -> 553500 | V16: 0.029
A17: נוף הגליל | B17: 13 | C17: =טבלה1[[#This Row],[מתוכם דירות לכלל הציבור]]+טבלה1[[#This Row],[מתוכם דירות לבני מקום]] -> 348 | D17: 237 | E17: 111 | F17: 883159 | G17: =IF(טבלה1[[#This Row],[מחיר לאחר הנחה ומענק]]="","",IF(טבלה1[[#This Row],[מחיר לאחר הנחה ומענק]]>1800000,טבלה1[[#This Row],[מחיר לאחר הנחה ומענק]]*25%,IF(טבלה1[[#This Row],[מחיר לאחר הנחה ומענק]]>1450000,טבלה1[[#This Row],[מחיר לאחר הנחה ומענק]]-1350000,IF(טבלה1[[#This Row],[מחיר לאחר הנחה ומענק]]>1000000,100000,IF(טבלה1[[#This Row],[מחיר לאחר הנחה ומענק]]<1000000,100000)))))-IF(טבלה1[[#This Row],[מענק]]="V",40000,0) -> 100000 | H17: =(טבלה1[[#This Row],[מחיר לאחר הנחה ומענק]]-טבלה1[[#This Row],[הון עצמי נדרש]])/100000*530 -> 4150.7427 | I17: =טבלה1[[#This Row],[רווח לעומת מחיר שוק]]/F17 -> 0.33253469 | J17: =VLOOKUP(A17,'מחירים שוק חופשי'!B:F,5,0)-F17 -> 293681 | K17: 1083877 | L17: =IF(טבלה1[[#This Row],[מחיר לאחר ההנחה ומענק]]="","",IF(טבלה1[[#This Row],[מחיר לאחר ההנחה ומענק]]>1800000,טבלה1[[#This Row],[מחיר לאחר ההנחה ומענק]]*25%,IF(טבלה1[[#This Row],[מחיר לאחר ההנחה ומענק]]>1450000,טבלה1[[#This Row],[מחיר לאחר ההנחה ומענק]]-1350000,IF(טבלה1[[#This Row],[מחיר לאחר ההנחה ומענק]]>1000000,100000,IF(טבלה1[[#This Row],[מחיר לאחר ההנחה ומענק]]<1000000,100000)))))-IF(טבלה1[[#This Row],[מענק]]="V",40000,0) -> 100000 | M17: =(טבלה1[[#This Row],[מחיר לאחר ההנחה ומענק]]-טבלה1[[#This Row],[הון עצמי הנדרש]])/100000*530 -> 5214.5481 | N17: =O17/K17 -> 0.3572112 | O17: =VLOOKUP(A17,'מחירים שוק חופשי'!B:G,6,0)-K17 -> 387173 | P17: 1400000 | Q17: =IF(טבלה1[[#This Row],[המחיר לאחר ההנחה ומענק]]="","",IF(טבלה1[[#This Row],[המחיר לאחר ההנחה ומענק]]>1800000,טבלה1[[#This Row],[המחיר לאחר ההנחה ומענק]]*25%,IF(טבלה1[[#This Row],[המחיר לאחר ההנחה ומענק]]>1450000,טבלה1[[#This Row],[המחיר לאחר ההנחה ומענק]]-1350000,IF(טבלה1[[#This Row],[המחיר לאחר ההנחה ומענק]]>1000000,100000,IF(טבלה1[[#This Row],[המחיר לאחר ההנחה ומענק]]<1000000,100000)))))-IF(טבלה1[[#This Row],[מענק]]="V",40000,0) -> 100000 | R17: =(טבלה1[[#This Row],[המחיר לאחר ההנחה ומענק]]-טבלה1[[#This Row],[הון העצמי הנדרש]])/100000*530 -> 6890 | S17: =טבלה1[[#This Row],[הרווח לעומת מחיר השוק]]/טבלה1[[#This Row],[המחיר לאחר ההנחה ומענק]] -> 0.3134375 | T17: =VLOOKUP(A17,'מחירים שוק חופשי'!B:H,7,0)-טבלה1[[#This Row],[המחיר לאחר ההנחה ומענק]] -> 438812.5 | V17: 0.0826
A18: נתניה כוכב הים | B18: 2 | C18: =טבלה1[[#This Row],[מתוכם דירות לכלל הציבור]]+טבלה1[[#This Row],[מתוכם דירות לבני מקום]] -> 41 | D18: 28 | E18: 13 | F18: 1705350 | G18: =IF(טבלה1[[#This Row],[מחיר לאחר הנחה ומענק]]="","",IF(טבלה1[[#This Row],[מחיר לאחר הנחה ומענק]]>1800000,טבלה1[[#This Row],[מחיר לאחר הנחה ומענק]]*25%,IF(טבלה1[[#This Row],[מחיר לאחר הנחה ומענק]]>1450000,טבלה1[[#This Row],[מחיר לאחר הנחה ומענק]]-1350000,IF(טבלה1[[#This Row],[מחיר לאחר הנחה ומענק]]>1000000,100000,IF(טבלה1[[#This Row],[מחיר לאחר הנחה ומענק]]<1000000,100000)))))-IF(טבלה1[[#This Row],[מענק]]="V",40000,0) -> 355350 | H18: =(טבלה1[[#This Row],[מחיר לאחר הנחה ומענק]]-טבלה1[[#This Row],[הון עצמי נדרש]])/100000*530 -> 7155 | I18: =טבלה1[[#This Row],[רווח לעומת מחיר שוק]]/F18 -> 0.35775061 | J18: =VLOOKUP(A18,'מחירים שוק חופשי'!B:F,5,0)-F18 -> 610090 | K18: 2092947 | L18: =IF(טבלה1[[#This Row],[מחיר לאחר ההנחה ומענק]]="","",IF(טבלה1[[#This Row],[מחיר לאחר ההנחה ומענק]]>1800000,טבלה1[[#This Row],[מחיר לאחר ההנחה ומענק]]*25%,IF(טבלה1[[#This Row],[מחיר לאחר ההנחה ומענק]]>1450000,טבלה1[[#This Row],[מחיר לאחר ההנחה ומענק]]-1350000,IF(טבלה1[[#This Row],[מחיר לאחר ההנחה ומענק]]>1000000,100000,IF(טבלה1[[#This Row],[מחיר לאחר ההנחה ומענק]]<1000000,100000)))))-IF(טבלה1[[#This Row],[מענק]]="V",40000,0) -> 523236.75 | M18: =(טבלה1[[#This Row],[מחיר לאחר ההנחה ומענק]]-טבלה1[[#This Row],[הון עצמי הנדרש]])/100000*530 -> 8319.4643 | N18: =O18/K18 -> 0.38288261 | O18: =VLOOKUP(A18,'מחירים שוק חופשי'!B:G,6,0)-K18 -> 801353 | P18: 2616000 | Q18: =IF(טבלה1[[#This Row],[המחיר לאחר ההנחה ומענק]]="","",IF(טבלה1[[#This Row],[המחיר לאחר ההנחה ומענק]]>1800000,טבלה1[[#This Row],[המחיר לאחר ההנחה ומענק]]*25%,IF(טבלה1[[#This Row],[המחיר לאחר ההנחה ומענק]]>1450000,טבלה1[[#This Row],[המחיר לאחר ההנחה ומענק]]-1350000,IF(טבלה1[[#This Row],[המחיר לאחר ההנחה ומענק]]>1000000,100000,IF(טבלה1[[#This Row],[המחיר לאחר ההנחה ומענק]]<1000000,100000)))))-IF(טבלה1[[#This Row],[מענק]]="V",40000,0) -> 654000 | R18: =(טבלה1[[#This Row],[המחיר לאחר ההנחה ומענק]]-טבלה1[[#This Row],[הון העצמי הנדרש]])/100000*530 -> 10398.6 | S18: =טבלה1[[#This Row],[הרווח לעומת מחיר השוק]]/טבלה1[[#This Row],[המחיר לאחר ההנחה ומענק]] -> 0.38297974 | T18: =VLOOKUP(A18,'מחירים שוק חופשי'!B:H,7,0)-טבלה1[[#This Row],[המחיר לאחר ההנחה ומענק]] -> 1001875 | V18: 0.0076
A19: נתניה מזרח | B19: 2 | C19: =טבלה1[[#This Row],[מתוכם דירות לכלל הציבור]]+טבלה1[[#This Row],[מתוכם דירות לבני מקום]] -> 212 | D19: 145 | E19: 67 | F19: 1500000 | G19: =IF(טבלה1[[#This Row],[מחיר לאחר הנחה ומענק]]="","",IF(טבלה1[[#This Row],[מחיר לאחר הנחה ומענק]]>1800000,טבלה1[[#This Row],[מחיר לאחר הנחה ומענק]]*25%,IF(טבלה1[[#This Row],[מחיר לאחר הנחה ומענק]]>1450000,טבלה1[[#This Row],[מחיר לאחר הנחה ומענק]]-1350000,IF(טבלה1[[#This Row],[מחיר לאחר הנחה ומענק]]>1000000,100000,IF(טבלה1[[#This Row],[מחיר לאחר הנחה ומענק]]<1000000,100000)))))-IF(טבלה1[[#This Row],[מענק]]="V",40000,0) -> 150000 | H19: =(טבלה1[[#This Row],[מחיר לאחר הנחה ומענק]]-טבלה1[[#This Row],[הון עצמי נדרש]])/100000*530 -> 7155 | I19: =טבלה1[[#This Row],[רווח לעומת מחיר שוק]]/F19 -> 5.9142133 | J19: =VLOOKUP(A19,'מחירים שוק חופשי'!B:F,5,0)-F19 -> 8871320 | K19: 1841081 | L19: =IF(טבלה1[[#This Row],[מחיר לאחר ההנחה ומענק]]="","",IF(טבלה1[[#This Row],[מחיר לאחר ההנחה ומענק]]>1800000,טבלה1[[#This Row],[מחיר לאחר ההנחה ומענק]]*25%,IF(טבלה1[[#This Row],[מחיר לאחר ההנחה ומענק]]>1450000,טבלה1[[#This Row],[מחיר לאחר ההנחה ומענק]]-1350000,IF(טבלה1[[#This Row],[מחיר לאחר ההנחה ומענק]]>1000000,100000,IF(טבלה1[[#This Row],[מחיר לאחר ההנחה ומענק]]<1000000,100000)))))-IF(טבלה1[[#This Row],[מענק]]="V",40000,0) -> 460270.25 | M19: =(טבלה1[[#This Row],[מחיר לאחר ההנחה ומענק]]-טבלה1[[#This Row],[הון עצמי הנדרש]])/100000*530 -> 7318.297 | N19: =O19/K19 -> 6.0415968 | O19: =VLOOKUP(A19,'מחירים שוק חופשי'!B:G,6,0)-K19 -> 11123069 | P19: 2300000 | Q19: =IF(טבלה1[[#This Row],[המחיר לאחר ההנחה ומענק]]="","",IF(טבלה1[[#This Row],[המחיר לאחר ההנחה ומענק]]>1800000,טבלה1[[#This Row],[המחיר לאחר ההנחה ומענק]]*25%,IF(טבלה1[[#This Row],[המחיר לאחר ההנחה ומענק]]>1450000,טבלה1[[#This Row],[המחיר לאחר ההנחה ומענק]]-1350000,IF(טבלה1[[#This Row],[המחיר לאחר ההנחה ומענק]]>1000000,100000,IF(טבלה1[[#This Row],[המחיר לאחר ההנחה ומענק]]<1000000,100000)))))-IF(טבלה1[[#This Row],[מענק]]="V",40000,0) -> 575000 | R19: =(טבלה1[[#This Row],[המחיר לאחר ההנחה ומענק]]-טבלה1[[#This Row],[הון העצמי הנדרש]])/100000*530 -> 9142.5 | S19: =טבלה1[[#This Row],[הרווח לעומת מחיר השוק]]/טבלה1[[#This Row],[המחיר לאחר ההנחה ומענק]] -> 6.0457337 | T19: =VLOOKUP(A19,'מחירים שוק חופשי'!B:H,7,0)-טבלה1[[#This Row],[המחיר לאחר ההנחה ומענק]] -> 13905188 | V19: 0.0076
A20: עכו | B20: 10 | C20: =טבלה1[[#This Row],[מתוכם דירות לכלל הציבור]]+טבלה1[[#This Row],[מתוכם דירות לבני מקום]] -> 84 | D20: 49 | E20: 35 | F20: 780700 | G20: =IF(טבלה1[[#This Row],[מחיר לאחר הנחה ומענק]]="","",IF(טבלה1[[#This Row],[מחיר לאחר הנחה ומענק]]>1800000,טבלה1[[#This Row],[מחיר לאחר הנחה ומענק]]*25%,IF(טבלה1[[#This Row],[מחיר לאחר הנחה ומענק]]>1450000,טבלה1[[#This Row],[מחיר לאחר הנחה ומענק]]-1350000,IF(טבלה1[[#This Row],[מחיר לאחר הנחה ומענק]]>1000000,100000,IF(טבלה1[[#This Row],[מחיר לאחר הנחה ומענק]]<1000000,100000)))))-IF(טבלה1[[#This Row],[מענק]]="V",40000,0) -> 100000 | H20: =(טבלה1[[#This Row],[מחיר לאחר הנחה ומענק]]-טבלה1[[#This Row],[הון עצמי נדרש]])/100000*530 -> 3607.71 | I20: =טבלה1[[#This Row],[רווח לעומת מחיר שוק]]/F20 -> 0.54722685 | J20: =VLOOKUP(A20,'מחירים שוק חופשי'!B:F,5,0)-F20 -> 427220 | K20: 1096688 | L20: =IF(טבלה1[[#This Row],[מחיר לאחר ההנחה ומענק]]="","",IF(טבלה1[[#This Row],[מחיר לאחר ההנחה ומענק]]>1800000,טבלה1[[#This Row],[מחיר לאחר ההנחה ומענק]]*25%,IF(טבלה1[[#This Row],[מחיר לאחר ההנחה ומענק]]>1450000,טבלה1[[#This Row],[מחיר לאחר ההנחה ומענק]]-1350000,IF(טבלה1[[#This Row],[מחיר לאחר ההנחה ומענק]]>1000000,100000,IF(טבלה1[[#This Row],[מחיר לאחר ההנחה ומענק]]<1000000,100000)))))-IF(טבלה1[[#This Row],[מענק]]="V",40000,0) -> 100000 | M20: =(טבלה1[[#This Row],[מחיר לאחר ההנחה ומענק]]-טבלה1[[#This Row],[הון עצמי הנדרש]])/100000*530 -> 5282.4464 | N20: =O20/K20 -> 0.37678173 | O20: =VLOOKUP(A20,'מחירים שוק חופשי'!B:G,6,0)-K20 -> 413212 | P20: 1479000 | Q20: =IF(טבלה1[[#This Row],[המחיר לאחר ההנחה ומענק]]="","",IF(טבלה1[[#This Row],[המחיר לאחר ההנחה ומענק]]>1800000,טבלה1[[#This Row],[המחיר לאחר ההנחה ומענק]]*25%,IF(טבלה1[[#This Row],[המחיר לאחר ההנחה ומענק]]>1450000,טבלה1[[#This Row],[המחיר לאחר ההנחה ומענק]]-1350000,IF(טבלה1[[#This Row],[המחיר לאחר ההנחה ומענק]]>1000000,100000,IF(טבלה1[[#This Row],[המחיר לאחר ההנחה ומענק]]<1000000,100000)))))-IF(טבלה1[[#This Row],[מענק]]="V",40000,0) -> 129000 | R20: =(טבלה1[[#This Row],[המחיר לאחר ההנחה ומענק]]-טבלה1[[#This Row],[הון העצמי הנדרש]])/100000*530 -> 7155 | S20: =טבלה1[[#This Row],[הרווח לעומת מחיר השוק]]/טבלה1[[#This Row],[המחיר לאחר ההנחה ומענק]] -> 0.27611562 | T20: =VLOOKUP(A20,'מחירים שוק חופשי'!B:H,7,0)-טבלה1[[#This Row],[המחיר לאחר ההנחה ומענק]] -> 408375 | V20: 0.0085
A21: עפולה | B21: 8 | C21: =טבלה1[[#This Row],[מתוכם דירות לכלל הציבור]]+טבלה1[[#This Row],[מתוכם דירות לבני מקום]] -> 349 | D21: 248 | E21: 101 | F21: 620000 | G21: =IF(טבלה1[[#This Row],[מחיר לאחר הנחה ומענק]]="","",IF(טבלה1[[#This Row],[מחיר לאחר הנחה ומענק]]>1800000,טבלה1[[#This Row],[מחיר לאחר הנחה ומענק]]*25%,IF(טבלה1[[#This Row],[מחיר לאחר הנחה ומענק]]>1450000,טבלה1[[#This Row],[מחיר לאחר הנחה ומענק]]-1350000,IF(טבלה1[[#This Row],[מחיר לאחר הנחה ומענק]]>1000000,100000,IF(טבלה1[[#This Row],[מחיר לאחר הנחה ומענק]]<1000000,100000)))))-IF(טבלה1[[#This Row],[מענק]]="V",40000,0) -> 100000 | H21: =(טבלה1[[#This Row],[מחיר לאחר הנחה ומענק]]-טבלה1[[#This Row],[הון עצמי נדרש]])/100000*530 -> 2756 | I21: =טבלה1[[#This Row],[רווח לעומת מחיר שוק]]/F21 -> 0.62258065 | J21: =VLOOKUP(A21,'מחירים שוק חופשי'!B:F,5,0)-F21 -> 386000 | K21: 770000 | L21: =IF(טבלה1[[#This Row],[מחיר לאחר ההנחה ומענק]]="","",IF(טבלה1[[#This Row],[מחיר לאחר ההנחה ומענק]]>1800000,טבלה1[[#This Row],[מחיר לאחר ההנחה ומענק]]*25%,IF(טבלה1[[#This Row],[מחיר לאחר ההנחה ומענק]]>1450000,טבלה1[[#This Row],[מחיר לאחר ההנחה ומענק]]-1350000,IF(טבלה1[[#This Row],[מחיר לאחר ההנחה ומענק]]>1000000,100000,IF(טבלה1[[#This Row],[מחיר לאחר ההנחה ומענק]]<1000000,100000)))))-IF(טבלה1[[#This Row],[מענק]]="V",40000,0) -> 100000 | M21: =(טבלה1[[#This Row],[מחיר לאחר ההנחה ומענק]]-טבלה1[[#This Row],[הון עצמי הנדרש]])/100000*530 -> 3551 | N21: =O21/K21 -> 0.63311688 | O21: =VLOOKUP(A21,'מחירים שוק חופשי'!B:G,6,0)-K21 -> 487500 | P21: 1078000 | Q21: =IF(טבלה1[[#This Row],[המחיר לאחר ההנחה ומענק]]="","",IF(טבלה1[[#This Row],[המחיר לאחר ההנחה ומענק]]>1800000,טבלה1[[#This Row],[המחיר לאחר ההנחה ומענק]]*25%,IF(טבלה1[[#This Row],[המחיר לאחר ההנחה ומענק]]>1450000,טבלה1[[#This Row],[המחיר לאחר ההנחה ומענק]]-1350000,IF(טבלה1[[#This Row],[המחיר לאחר ההנחה ומענק]]>1000000,100000,IF(טבלה1[[#This Row],[המחיר לאחר ההנחה ומענק]]<1000000,100000)))))-IF(טבלה1[[#This Row],[מענק]]="V",40000,0) -> 100000 | R21: =(טבלה1[[#This Row],[המחיר לאחר ההנחה ומענק]]-טבלה1[[#This Row],[הון העצמי הנדרש]])/100000*530 -> 5183.4 | S21: =טבלה1[[#This Row],[הרווח לעומת מחיר השוק]]/טבלה1[[#This Row],[המחיר לאחר ההנחה ומענק]] -> 0.45814007 | T21: =VLOOKUP(A21,'מחירים שוק חופשי'!B:H,7,0)-טבלה1[[#This Row],[המחיר לאחר ההנחה ומענק]] -> 493875 | V21: 0.0219
A22: קרית ביאליק | B22: 12 | C22: =טבלה1[[#This Row],[מתוכם דירות לכלל הציבור]]+טבלה1[[#This Row],[מתוכם דירות לבני מקום]] -> 210 | D22: 144 | E22: 66 | F22: 944000 | G22: =IF(טבלה1[[#This Row],[מחיר לאחר הנחה ומענק]]="","",IF(טבלה1[[#This Row],[מחיר לאחר הנחה ומענק]]>1800000,טבלה1[[#This Row],[מחיר לאחר הנחה ומענק]]*25%,IF(טבלה1[[#This Row],[מחיר לאחר הנחה ומענק]]>1450000,טבלה1[[#This Row],[מחיר לאחר הנחה ומענק]]-1350000,IF(טבלה1[[#This Row],[מחיר לאחר הנחה ומענק]]>1000000,100000,IF(טבלה1[[#This Row],[מחיר לאחר הנחה ומענק]]<1000000,100000)))))-IF(טבלה1[[#This Row],[מענק]]="V",40000,0) -> 100000 | H22: =(טבלה1[[#This Row],[מחיר לאחר הנחה ומענק]]-טבלה1[[#This Row],[הון עצמי נדרש]])/100000*530 -> 4473.2 | I22: =טבלה1[[#This Row],[רווח לעומת מחיר שוק]]/F22 -> 0.51105932 | J22: =VLOOKUP(A22,'מחירים שוק חופשי'!B:F,5,0)-F22 -> 482440 | K22: 1300000 | L22: =IF(טבלה1[[#This Row],[מחיר לאחר ההנחה ומענק]]="","",IF(טבלה1[[#This Row],[מחיר לאחר ההנחה ומענק]]>1800000,טבלה1[[#This Row],[מחיר לאחר ההנחה ומענק]]*25%,IF(טבלה1[[#This Row],[מחיר לאחר ההנחה ומענק]]>1450000,טבלה1[[#This Row],[מחיר לאחר ההנחה ומענק]]-1350000,IF(טבלה1[[#This Row],[מחיר לאחר ההנחה ומענק]]>1000000,100000,IF(טבלה1[[#This Row],[מחיר לאחר ההנחה ומענק]]<1000000,100000)))))-IF(טבלה1[[#This Row],[מענק]]="V",40000,0) -> 100000 | M22: =(טבלה1[[#This Row],[מחיר לאחר ההנחה ומענק]]-טבלה1[[#This Row],[הון עצמי הנדרש]])/100000*530 -> 6360 | N22: =O22/K22 -> 0.37157692 | O22: =VLOOKUP(A22,'מחירים שוק חופשי'!B:G,6,0)-K22 -> 483050 | P22: 1663500 | Q22: =IF(טבלה1[[#This Row],[המחיר לאחר ההנחה ומענק]]="","",IF(טבלה1[[#This Row],[המחיר לאחר ההנחה ומענק]]>1800000,טבלה1[[#This Row],[המחיר לאחר ההנחה ומענק]]*25%,IF(טבלה1[[#This Row],[המחיר לאחר ההנחה ומענק]]>1450000,טבלה1[[#This Row],[המחיר לאחר ההנחה ומענק]]-1350000,IF(טבלה1[[#This Row],[המחיר לאחר ההנחה ומענק]]>1000000,100000,IF(טבלה1[[#This Row],[המחיר לאחר ההנחה ומענק]]<1000000,100000)))))-IF(טבלה1[[#This Row],[מענק]]="V",40000,0) -> 313500 | R22: =(טבלה1[[#This Row],[המחיר לאחר ההנחה ומענק]]-טבלה1[[#This Row],[הון העצמי הנדרש]])/100000*530 -> 7155 | S22: =טבלה1[[#This Row],[הרווח לעומת מחיר השוק]]/טבלה1[[#This Row],[המחיר לאחר ההנחה ומענק]] -> 0.33983318 | T22: =VLOOKUP(A22,'מחירים שוק חופשי'!B:H,7,0)-טבלה1[[#This Row],[המחיר לאחר ההנחה ומענק]] -> 565312.5 | V22: 0.0119
A23: קרית גת | B23: 7 | C23: =טבלה1[[#This Row],[מתוכם דירות לכלל הציבור]]+טבלה1[[#This Row],[מתוכם דירות לבני מקום]] -> 152 | D23: 103 | E23: 49 | F23: 1015300 | G23: =IF(טבלה1[[#This Row],[מחיר לאחר הנחה ומענק]]="","",IF(טבלה1[[#This Row],[מחיר לאחר הנחה ומענק]]>1800000,טבלה1[[#This Row],[מחיר לאחר הנחה ומענק]]*25%,IF(טבלה1[[#This Row],[מחיר לאחר הנחה ומענק]]>1450000,טבלה1[[#This Row],[מחיר לאחר הנחה ומענק]]-1350000,IF(טבלה1[[#This Row],[מחיר לאחר הנחה ומענק]]>1000000,100000,IF(טבלה1[[#This Row],[מחיר לאחר הנחה ומענק]]<1000000,100000)))))-IF(טבלה1[[#This Row],[מענק]]="V",40000,0) -> 100000 | H23: =(טבלה1[[#This Row],[מחיר לאחר הנחה ומענק]]-טבלה1[[#This Row],[הון עצמי נדרש]])/100000*530 -> 4851.09 | I23: =טבלה1[[#This Row],[רווח לעומת מחיר שוק]]/F23 -> 0.51505959 | J23: =VLOOKUP(A23,'מחירים שוק חופשי'!B:F,5,0)-F23 -> 522940 | K23: 1382457 | L23: =IF(טבלה1[[#This Row],[מחיר לאחר ההנחה ומענק]]="","",IF(טבלה1[[#This Row],[מחיר לאחר ההנחה ומענק]]>1800000,טבלה1[[#This Row],[מחיר לאחר ההנחה ומענק]]*25%,IF(טבלה1[[#This Row],[מחיר לאחר ההנחה ומענק]]>1450000,טבלה1[[#This Row],[מחיר לאחר ההנחה ומענק]]-1350000,IF(טבלה1[[#This Row],[מחיר לאחר ההנחה ומענק]]>1000000,100000,IF(טבלה1[[#This Row],[מחיר לאחר ההנחה ומענק]]<1000000,100000)))))-IF(טבלה1[[#This Row],[מענק]]="V",40000,0) -> 100000 | M23: =(טבלה1[[#This Row],[מחיר לאחר ההנחה ומענק]]-טבלה1[[#This Row],[הון עצמי הנדרש]])/100000*530 -> 6797.0221 | N23: =O23/K23 -> 0.390857 | O23: =VLOOKUP(A23,'מחירים שוק חופשי'!B:G,6,0)-K23 -> 540343 | P23: 1733180 | Q23: =IF(טבלה1[[#This Row],[המחיר לאחר ההנחה ומענק]]="","",IF(טבלה1[[#This Row],[המחיר לאחר ההנחה ומענק]]>1800000,טבלה1[[#This Row],[המחיר לאחר ההנחה ומענק]]*25%,IF(טבלה1[[#This Row],[המחיר לאחר ההנחה ומענק]]>1450000,טבלה1[[#This Row],[המחיר לאחר ההנחה ומענק]]-1350000,IF(טבלה1[[#This Row],[המחיר לאחר ההנחה ומענק]]>1000000,100000,IF(טבלה1[[#This Row],[המחיר לאחר ההנחה ומענק]]<1000000,100000)))))-IF(טבלה1[[#This Row],[מענק]]="V",40000,0) -> 383180 | R23: =(טבלה1[[#This Row],[המחיר לאחר ההנחה ומענק]]-טבלה1[[#This Row],[הון העצמי הנדרש]])/100000*530 -> 7155 | S23: =טבלה1[[#This Row],[הרווח לעומת מחיר השוק]]/טבלה1[[#This Row],[המחיר לאחר ההנחה ומענק]] -> 0.38675729 | T23: =VLOOKUP(A23,'מחירים שוק חופשי'!B:H,7,0)-טבלה1[[#This Row],[המחיר לאחר ההנחה ומענק]] -> 670320 | V23: 0.0126
A24: קרית עקרון | B24: 18 | C24: =טבלה1[[#This Row],[מתוכם דירות לכלל הציבור]]+טבלה1[[#This Row],[מתוכם דירות לבני מקום]] -> 600 | D24: 407 | E24: 193 | F24: 1300000 | G24: =IF(טבלה1[[#This Row],[מחיר לאחר הנחה ומענק]]="","",IF(טבלה1[[#This Row],[מחיר לאחר הנחה ומענק]]>1800000,טבלה1[[#This Row],[מחיר לאחר הנחה ומענק]]*25%,IF(טבלה1[[#This Row],[מחיר לאחר הנחה ומענק]]>1450000,טבלה1[[#This Row],[מחיר לאחר הנחה ומענק]]-1350000,IF(טבלה1[[#This Row],[מחיר לאחר הנחה ומענק]]>1000000,100000,IF(טבלה1[[#This Row],[מחיר לאחר הנחה ומענק]]<1000000,100000)))))-IF(טבלה1[[#This Row],[מענק]]="V",40000,0) -> 100000 | H24: =(טבלה1[[#This Row],[מחיר לאחר הנחה ומענק]]-טבלה1[[#This Row],[הון עצמי נדרש]])/100000*530 -> 6360 | I24: =טבלה1[[#This Row],[רווח לעומת מחיר שוק]]/F24 -> 0.29338462 | J24: =VLOOKUP(A24,'מחירים שוק חופשי'!B:F,5,0)-F24 -> 381400 | K24: 1716545 | L24: =IF(טבלה1[[#This Row],[מחיר לאחר ההנחה ומענק]]="","",IF(טבלה1[[#This Row],[מחיר לאחר ההנחה ומענק]]>1800000,טבלה1[[#This Row],[מחיר לאחר ההנחה ומענק]]*25%,IF(טבלה1[[#This Row],[מחיר לאחר ההנחה ומענק]]>1450000,טבלה1[[#This Row],[מחיר לאחר ההנחה ומענק]]-1350000,IF(טבלה1[[#This Row],[מחיר לאחר ההנחה ומענק]]>1000000,100000,IF(טבלה1[[#This Row],[מחיר לאחר ההנחה ומענק]]<1000000,100000)))))-IF(טבלה1[[#This Row],[מענק]]="V",40000,0) -> 366545 | M24: =(טבלה1[[#This Row],[מחיר לאחר ההנחה ומענק]]-טבלה1[[#This Row],[הון עצמי הנדרש]])/100000*530 -> 7155 | N24: =O24/K24 -> 0.22440717 | O24: =VLOOKUP(A24,'מחירים שוק חופשי'!B:G,6,0)-K24 -> 385205 | P24: 2144200 | Q24: =IF(טבלה1[[#This Row],[המחיר לאחר ההנחה ומענק]]="","",IF(טבלה1[[#This Row],[המחיר לאחר ההנחה ומענק]]>1800000,טבלה1[[#This Row],[המחיר לאחר ההנחה ומענק]]*25%,IF(טבלה1[[#This Row],[המחיר לאחר ההנחה ומענק]]>1450000,טבלה1[[#This Row],[המחיר לאחר ההנחה ומענק]]-1350000,IF(טבלה1[[#This Row],[המחיר לאחר ההנחה ומענק]]>1000000,100000,IF(טבלה1[[#This Row],[המחיר לאחר ההנחה ומענק]]<1000000,100000)))))-IF(טבלה1[[#This Row],[מענק]]="V",40000,0) -> 536050 | R24: =(טבלה1[[#This Row],[המחיר לאחר ההנחה ומענק]]-טבלה1[[#This Row],[הון העצמי הנדרש]])/100000*530 -> 8523.195 | S24: =טבלה1[[#This Row],[הרווח לעומת מחיר השוק]]/טבלה1[[#This Row],[המחיר לאחר ההנחה ומענק]] -> 0.22525301 | T24: =VLOOKUP(A24,'מחירים שוק חופשי'!B:H,7,0)-טבלה1[[#This Row],[המחיר לאחר ההנחה ומענק]] -> 482987.5 | V24: 0.0257
A25: רעננה | B25: 6 | C25: =טבלה1[[#This Row],[מתוכם דירות לכלל הציבור]]+טבלה1[[#This Row],[מתוכם דירות לבני מקום]] -> 768 | D25: 524 | E25: 244 | F25: 1998000 | G25: =IF(טבלה1[[#This Row],[מחיר לאחר הנחה ומענק]]="","",IF(טבלה1[[#This Row],[מחיר לאחר הנחה ומענק]]>1800000,טבלה1[[#This Row],[מחיר לאחר הנחה ומענק]]*25%,IF(טבלה1[[#This Row],[מחיר לאחר הנחה ומענק]]>1450000,טבלה1[[#This Row],[מחיר לאחר הנחה ומענק]]-1350000,IF(טבלה1[[#This Row],[מחיר לאחר הנחה ומענק]]>1000000,100000,IF(טבלה1[[#This Row],[מחיר לאחר הנחה ומענק]]<1000000,100000)))))-IF(טבלה1[[#This Row],[מענק]]="V",40000,0) -> 499500 | H25: =(טבלה1[[#This Row],[מחיר לאחר הנחה ומענק]]-טבלה1[[#This Row],[הון עצמי נדרש]])/100000*530 -> 7942.05 | I25: =טבלה1[[#This Row],[רווח לעומת מחיר שוק]]/F25 -> 0.30712713 | J25: =VLOOKUP(A25,'מחירים שוק חופשי'!B:F,5,0)-F25 -> 613640 | K25: 2452771 | L25: =IF(טבלה1[[#This Row],[מחיר לאחר ההנחה ומענק]]="","",IF(טבלה1[[#This Row],[מחיר לאחר ההנחה ומענק]]>1800000,טבלה1[[#This Row],[מחיר לאחר ההנחה ומענק]]*25%,IF(טבלה1[[#This Row],[מחיר לאחר ההנחה ומענק]]>1450000,טבלה1[[#This Row],[מחיר לאחר ההנחה ומענק]]-1350000,IF(טבלה1[[#This Row],[מחיר לאחר ההנחה ומענק]]>1000000,100000,IF(טבלה1[[#This Row],[מחיר לאחר ההנחה ומענק]]<1000000,100000)))))-IF(טבלה1[[#This Row],[מענק]]="V",40000,0) -> 613192.75 | M25: =(טבלה1[[#This Row],[מחיר לאחר ההנחה ומענק]]-טבלה1[[#This Row],[הון עצמי הנדרש]])/100000*530 -> 9749.7647 | N25: =O25/K25 -> 0.33096404 | O25: =VLOOKUP(A25,'מחירים שוק חופשי'!B:G,6,0)-K25 -> 811779 | P25: 3069390 | Q25: =IF(טבלה1[[#This Row],[המחיר לאחר ההנחה ומענק]]="","",IF(טבלה1[[#This Row],[המחיר לאחר ההנחה ומענק]]>1800000,טבלה1[[#This Row],[המחיר לאחר ההנחה ומענק]]*25%,IF(טבלה1[[#This Row],[המחיר לאחר ההנחה ומענק]]>1450000,טבלה1[[#This Row],[המחיר לאחר ההנחה ומענק]]-1350000,IF(טבלה1[[#This Row],[המחיר לאחר ההנחה ומענק]]>1000000,100000,IF(טבלה1[[#This Row],[המחיר לאחר ההנחה ומענק]]<1000000,100000)))))-IF(טבלה1[[#This Row],[מענק]]="V",40000,0) -> 767347.5 | R25: =(טבלה1[[#This Row],[המחיר לאחר ההנחה ומענק]]-טבלה1[[#This Row],[הון העצמי הנדרש]])/100000*530 -> 12200.825 | S25: =טבלה1[[#This Row],[הרווח לעומת מחיר השוק]]/טבלה1[[#This Row],[המחיר לאחר ההנחה ומענק]] -> 0.32947833 | T25: =VLOOKUP(A25,'מחירים שוק חופשי'!B:H,7,0)-טבלה1[[#This Row],[המחיר לאחר ההנחה ומענק]] -> 1011297.5 | V25: 0.0176
A26: ס"ה | C26: =SUM(C4:C25) -> 4540 | D26: =SUBTOTAL(109,טבלה1[מתוכם דירות לכלל הציבור]) -> 3077 | E26: =SUBTOTAL(109,טבלה1[מתוכם דירות לבני מקום]) -> 1463

Sheet ממוצעים
A1: 3 | B1: 4 | H1: 3 | K1: 4
A2: =(I2+I3)/D2 -> 550733 | B2: =(L2+L3)/D2 -> 675899.5 | D2: 72 | E2: אכסאל | F2: 36 | H2: 535392 | I2: =H2*F2 -> 19274112 | K2: 657072 | L2: =K2*F2 -> 23654592
F3: 36 | H3: 566074 | I3: =H3*F3 -> 20378664 | K3: 694727 | L3: =K3*F3 -> 25010172
A4: =(I4+I5+I6)/D4 -> 1543792.9 | B4: =(L4+L5+L6)/D4 -> 1916527.3 | D4: 735 | E4: אלעד | F4: 368 | H4: 1560977 | I4: =H4*F4 -> 574439536 | K4: 1915744 | L4: =K4*F4 -> 704993792
F5: 179 | H5: 1526562 | I5: =H5*F5 -> 273254598 | K5: 1894010 | L5: =K5*F5 -> 339027790
F6: 188 | H6: 1526562 | I6: =H6*F6 -> 286993656 | K6: 1939500 | L6: =K6*F6 -> 364626000
A7: =(I7+I8+I9)/D7 -> 588508.9 | B7: =(L7+L8+L9)/D7 -> 722260.85 | D7: 67 | E7: דיר אל אסד | F7: 29 | H7: 564736 | I7: =H7*F7 -> 16377344 | K7: 693085 | L7: =K7*F7 -> 20099465
F8: 20 | H8: 605920 | I8: =H8*F8 -> 12118400 | K8: 743629 | L8: =K8*F8 -> 14872580
F9: 18 | H9: 607464 | I9: =H9*F9 -> 10934352 | K9: 745524 | L9: =K9*F9 -> 13419432
A10: =(I10+I11+I12+I13+I14)/D10 -> 740246.88 | B10: =(L10+L11+L12+L13+L14)/D10 -> 908484.98 | D10: 373 | E10: מגדל העמק | F10: 83 | H10: 712277 | I10: =H10*F10 -> 59118991 | K10: 874158 | L10: =K10*F10 -> 72555114
F11: 103 | H11: 749034 | I11: =H11*F11 -> 77150502 | K11: 919269 | L11: =K11*F11 -> 94684707
F12: 56 | H12: 747876 | I12: =H12*F12 -> 41881056 | K12: 917847 | L12: =K12*F12 -> 51399432
F13: 66 | H13: 747798 | I13: =H13*F13 -> 49354668 | K13: 917753 | L13: =K13*F13 -> 60571698
F14: 65 | H14: 747798 | I14: =H14*F14 -> 48606870 | K14: 917753 | L14: =K14*F14 -> 59653945
A15: =(I15+I16)/D15 -> 1216934.3 | B15: =(L15+L16)/D15 -> 1607146.8 | D15: 46 | E15: צור הדסה | F15: 27 | H15: 1202135 | I15: =H15*F15 -> 32457645 | K15: 1588984 | L15: =K15*F15 -> 42902568
F16: 19 | H16: 1237965 | I16: =H16*F16 -> 23521335 | K16: 1632957 | L16: =K16*F16 -> 31026183
A17: =(I17+I18+I19)/D17 -> 1607017.5 | B17: =(L17+L18+L19)/D17 -> 2040430.7 | D17: 164 | E17: ראשלצ | F17: 61 | H17: 1583550 | I17: =H17*F17 -> 96596550 | K17: 2011630 | L17: =K17*F17 -> 122709430
F18: 61 | H18: 1583550 | I18: =H18*F18 -> 96596550 | K18: 2011630 | L18: =K18*F18 -> 122709430
F19: 42 | H19: 1675185 | I19: =H19*F19 -> 70357770 | K19: 2124090 | L19: =K19*F19 -> 89211780
A20: =(I20+I21+I22+I23)/D20 -> 1384329.3 | B20: =(L20+L21+L22+L23)/D20 -> 1774726.8 | D20: 250 | E20: רחובות | F20: 37 | H20: 1690654 | I20: =H20*F20 -> 62554198 | K20: 2185270 | L20: =K20*F20 -> 80854990
F21: 29 | H21: 1331118 | I21: =H21*F21 -> 38602422 | K21: 1766892 | L21: =K21*F21 -> 51239868
F22: 74 | H22: 1331118 | I22: =H22*F22 -> 98502732 | K22: 1715842 | L22: =K22*F22 -> 126972308
F23: 110 | H23: 1331118 | I23: =H23*F23 -> 146422980 | K23: 1678314 | L23: =K23*F23 -> 184614540
A24: =(I24+I26+I25+I27)/D24 -> 838553.96 | B24: =(L24+L25+L26+L27)/D24 -> 1029134.5 | D24: 337 | E24: רכסים | F24: 25 | H24: 853127 | I24: =H24*F24 -> 21328175 | K24: 1047019 | L24: =K24*F24 -> 26175475
F25: 139 | H25: 837219 | I25: =H25*F25 -> 116373441 | K25: 1027496 | L25: =K25*F25 -> 142821944
F26: 83 | H26: 839690 | I26: =H26*F26 -> 69694270 | K26: 1030529 | L26: =K26*F26 -> 85533907
F27: 90 | H27: 835520 | I27: =H27*F27 -> 75196800 | K27: 1025411 | L27: =K27*F27 -> 92286990

Sheet מחירים שוק חופשי
A1: הגרלה נוכחית | B1: יישוב | C1: שמאי ממשלתי | D1: מדל"ן לפי עוד עו"ד | E1: ממוצע | F1: שלושה חדרים | G1: ארבעה חדרים | H1: חמשה חדרים | I1: שיטות חישוב נוספות
B2: אופקים | D2: 13600 | F2: =E2*80 -> 0 | G2: =E2*100 -> 0
B3: אילת | C3: 16400 | F3: =E3*80 -> 0 | G3: =E3*100 -> 0 | I3: במדלן כל העיר 19,200
B4: אכסאל | F4: =E4*80 -> 0 | G4: =E4*100 -> 0
B5: אלעד | F5: =E5*80 -> 0 | G5: =E5*100 -> 0 | I5: 23600 במדלן
B6: אפרת | C6: 17900 | F6: =E6*80 -> 0 | G6: =E6*100 -> 0
A7: יש | B7: אשקלון | C7: 16628 | D7: 17300 | E7: =AVERAGE(C7:D7) -> 16964 | F7: =E7*80 -> 1357120 | G7: =E7*100 -> 1696400 | H7: =E7*125 -> 2120500
A8: יש | B8: באר יעקב | C8: 23363 | D8: 26100 | E8: =AVERAGE(C8:D8) -> 24731.5 | F8: =E8*80 -> 1978520 | G8: =E8*100 -> 2473150 | H8: =E8*125 -> 3091437.5
A9: יש | B9: באר שבע | C9: 15001 | D9: 14000 | E9: =AVERAGE(C9:D9) -> 14500.5 | F9: =E9*80 -> 1160040 | G9: =E9*100 -> 1450050 | H9: =E9*125 -> 1812562.5
B10: בית דגן | F10: =E10*80 -> 0 | G10: =E10*100 -> 0
B11: בית שאן | C11: 9950 | F11: =E11*80 -> 0 | G11: =E11*100 -> 0 | I11: במדלן 8,600
A12: יש | B12: בית שמש | C12: 20664 | D12: 23500 | E12: =AVERAGE(C12:D12) -> 22082 | F12: =E12*80 -> 1766560 | G12: =E12*100 -> 2208200 | H12: =E12*125 -> 2760250
B13: בני עי"ש | C13: 22100 | F13: =E13*80 -> 0 | G13: =E13*100 -> 0
B14: בת ים | F14: =E14*80 -> 0 | G14: =E14*100 -> 0
A15: יש | B15: דימונה | C15: 10974 | D15: 11300 | E15: =AVERAGE(C15:D15) -> 11137 | F15: =E15*80 -> 890960 | G15: =E15*100 -> 1113700 | H15: =E15*125 -> 1392125
B16: חיפה | D16: 22000 | F16: =E16*80 -> 0 | G16: =E16*100 -> 0
A17: יש | B17: טבריה | C17: 12054 | D17: 13800 | E17: =AVERAGE(C17:D17) -> 12927 | F17: =E17*80 -> 1034160 | G17: =E17*100 -> 1292700 | H17: =E17*125 -> 1615875
B18: טירת הכרמל | C18: 19300 | F18: =E18*80 -> 0 | G18: =E18*100 -> 0
A19: יש | B19: יבנה | C19: 21110 | D19: 23600 | E19: =AVERAGE(C19:D19) -> 22355 | F19: =E19*80 -> 1788400 | G19: =E19*100 -> 2235500 | H19: =E19*125 -> 2794375
A20: יש | B20: יהוד | C20: 33416 | D20: 27400 | E20: =AVERAGE(C20:D20) -> 30408 | F20: =E20*80 -> 2432640 | G20: =E20*100 -> 3040800 | H20: =E20*125 -> 3801000
B21: ירושלים-רמות | F21: =E21*80 -> 0 | G21: =E21*100 -> 0
A22: יש | B22: ירושלים הר הצופים | C22: 28464 | D22: 30100 | E22: =AVERAGE(C22:D22) -> 29282 | F22: =E22*80 -> 2342560 | G22: =E22*100 -> 2928200 | H22: =E22*125 -> 3660250
A23: יש | B23: ירושלים קטמון | C23: 32804 | D23: 41800 | E23: =AVERAGE(C23:D23) -> 37302 | F23: =E23*80 -> 2984160 | G23: =E23*100 -> 3730200 | H23: =E23*125 -> 4662750
A24: יש | B24: כפר ורדים (וילות 5 חד') | C24: 14388 | D24: 14700 | E24: =AVERAGE(C24:D24) -> 14544 | F24: =E24*80 -> 1163520 | G24: =E24*100 -> 1454400 | H24: =E24*137 -> 1992528
B25: כפר סבא | C25: 27500 | F25: =E25*80 -> 0 | G25: =E25*100 -> 0
B26: מגדל העמק | D26: 10900 | F26: =E26*80 -> 0 | G26: =E26*100 -> 0
B27: מודיעין | F27: =E27*80 -> 0 | G27: =E27*100 -> 0
A28: יש | B28: מעלות | C28: 11315 | D28: 13400 | E28: =AVERAGE(C28:D28) -> 12357.5 | F28: =E28*80 -> 988600 | G28: =E28*100 -> 1235750 | H28: =E28*125 -> 1544687.5
B29: מעלות תרשיחא | F29: =E29*80 -> 0 | G29: =E29*100 -> 0
A30: יש | B30: מצפה רמון | C30: 10112 | D30: 12200 | E30: =AVERAGE(C30:D30) -> 11156 | F30: =E30*80 -> 892480 | G30: =E30*100 -> 1115600 | H30: =E30*125 -> 1394500
A31: יש | B31: נוף הגליל | C31: 14821 | D31: 14600 | E31: =AVERAGE(C31:D31) -> 14710.5 | F31: =E31*80 -> 1176840 | G31: =E31*100 -> 1471050 | H31: =E31*125 -> 1838812.5
B32: נצרת | D32: 12900 | F32: =E32*80 -> 0 | G32: =E32*100 -> 0
A33: יש | B33: נתניה כוכב הים | C33: 28786 | D33: 29100 | E33: =AVERAGE(C33:D33) -> 28943 | F33: =E33*80 -> 2315440 | G33: =E33*100 -> 2894300 | H33: =E33*125 -> 3617875
A34: יש | B34: נתניה מזרח | C34: 232883 | D34: 26400 | E34: =AVERAGE(C34:D34) -> 129641.5 | F34: =E34*80 -> 10371320 | G34: =E34*100 -> 12964150 | H34: =E34*125 -> 16205188
A35: יש | B35: עכו | C35: 15798 | D35: 14400 | E35: =AVERAGE(C35:D35) -> 15099 | F35: =E35*80 -> 1207920 | G35: =E35*100 -> 1509900 | H35: =E35*125 -> 1887375
A36: יש | B36: עפולה | C36: 12750 | D36: 12400 | E36: =AVERAGE(C36:D36) -> 12575 | F36: =E36*80 -> 1006000 | G36: =E36*100 -> 1257500 | H36: =E36*125 -> 1571875
B37: פתח תקוה | F37: =E37*80 -> 0 | G37: =E37*100 -> 0
B38: צור הדסה | C38: 19500 | F38: =E38*80 -> 0 | G38: =E38*100 -> 0
B39: צפת | D39: 15800 | F39: =E39*80 -> 0 | G39: =E39*100 -> 0
A40: יש | B40: קרית ביאליק | C40: 17761 | D40: 17900 | E40: =AVERAGE(C40:D40) -> 17830.5 | F40: =E40*80 -> 1426440 | G40: =E40*100 -> 1783050 | H40: =E40*125 -> 2228812.5
B41: קרית גת-מערב | F41: =E41*80 -> 0 | G41: =E41*100 -> 0
B42: קרית גת-צפון | C42: 18200 | F42: =E42*80 -> 0 | G42: =E42*100 -> 0 | I42: במדלן כל העיר 17,000
B43: קרית מלאכי | C43: 16700 | F43: =E43*80 -> 0 | G43: =E43*100 -> 0
A44: יש | B44: קרית עקרון | C44: 20535 | D44: 21500 | E44: =AVERAGE(C44:D44) -> 21017.5 | F44: =E44*80 -> 1681400 | G44: =E44*100 -> 2101750 | H44: =E44*125 -> 2627187.5
B45: קרית שמונה | F45: =E45*80 -> 0 | G45: =E45*100 -> 0
B46: ראשון לציון | F46: =E46*80 -> 0 | G46: =E46*100 -> 0 | I46: במדלן כל העיר 27,200
B47: רחובות | D47: 25400 | F47: =E47*80 -> 0 | G47: =E47*100 -> 0
B48: רחובות קרית משה | F48: =E48*80 -> 0 | G48: =E48*100 -> 0
B49: רכסים | C49: 14800 | F49: =E49*80 -> 0 | G49: =E49*100 -> 0
B50: שדרות | D50: 13200 | F50: =E50*80 -> 0 | G50: =E50*100 -> 0
B51: תל אביב יפו | F51: =E51*80 -> 0 | G51: =E51*100 -> 0
A52: יש | B52: רעננה | C52: 30691 | D52: 34600 | E52: =AVERAGE(C52:D52) -> 32645.5 | F52: =E52*80 -> 2611640 | G52: =E52*100 -> 3264550 | H52: =E52*125 -> 4080687.5
A53: יש | B53: קרית גת | C53: 18356 | D53: 20100 | E53: =AVERAGE(C53:D53) -> 19228 | F53: =E53*80 -> 1538240 | G53: =E53*100 -> 1922800 | H53: =E53*125 -> 2403500
