Workbook

Sheet ראשי
A1: 1 | B1: 2 | C1: 3 | F1: 4 | G1: 5 | H1: 6 | J1: 4 | K1: 5 | L1: 6 | N1: 7 | O1: 8
F2: דירת 3 חדרים של 80 מ"ר | J2: דירת 4 חדרים של 100 מ"ר
A3: יישוב | B3: מיקום בסדר ההגרלות | C3: סה"כ דירות בהגרלה | D3: דירות לכלל הציבור | E3: דירות לבני מקום | F3: מחיר לאחר הנחה | G3: הון עצמי נדרש | H3: רווח באחוזים לעומת מחיר שוק | I3: רווח לעומת מחיר שוק | J3: מחיר לאחר הנחה2 | K3: הון עצמי נדרש2 | L3: רווח באחוזים לעומת מחיר שוק2 | M3: רווח לעומת מחיר שוק2 | N3: מענק | O3: אחוזי זכייה נכון לעכשיו
A4: אילת | B4: 7 | C4: 114 | D4: 58 | E4: 56 | F4: 835661 | G4: =IF(F4>1800000,F4*25%,IF(F4>1500000,F4-1350000,IF(F4>1000000,F4*10%,IF(F4<1000000,100000)))) -> 100000 | H4: =F4/VLOOKUP(A4,'מחירים שוק חופשי 2023'!A:C,3,0)-1 -> -0.40309929 | I4: =VLOOKUP(A4,'מחירים שוק חופשי 2023'!A:C,3,0)-F4 -> 564339 | J4: 1062149 | K4: =IF(J4>1800000,J4*25%,IF(J4>1500000,J4-1350000,IF(J4>1000000,J4*10%,IF(J4<1000000,100000)))) -> 106214.9 | L4: =J4/VLOOKUP(A4,'מחירים שוק חופשי 2023'!A:D,4,0)-1 -> -0.39305771 | M4: =VLOOKUP(A4,'מחירים שוק חופשי 2023'!A:D,4,0)-J4 -> 687851 | N4: - | O4: 0.011
A5: אלעד | B5: 8 | C5: 931 | D5: 610 | E5: 321 | F5: 1217439 | G5: =IF(F5>1800000,F5*25%,IF(F5>1500000,F5-1350000,IF(F5>1000000,F5*10%,IF(F5<1000000,100000)))) -> 121743.9 | H5: =F5/VLOOKUP(A5,'מחירים שוק חופשי 2023'!A:C,3,0)-1 -> -0.32062556 | I5: =VLOOKUP(A5,'מחירים שוק חופשי 2023'!A:C,3,0)-F5 -> 574561 | J5: 1627204 | K5: =IF(J5>1800000,J5*25%,IF(J5>1500000,J5-1350000,IF(J5>1000000,J5*10%,IF(J5<1000000,100000)))) -> 277204 | L5: =J5/VLOOKUP(A5,'מחירים שוק חופשי 2023'!A:D,4,0)-1 -> -0.27356964 | M5: =VLOOKUP(A5,'מחירים שוק חופשי 2023'!A:D,4,0)-J5 -> 612796 | N5: - | O5: 0.041
A6: אשקלון | B6: 3 | C6: 546 | D6: 361 | E6: 185 | F6: 884549 | G6: =IF(F6>1800000,F6*25%,IF(F6>1500000,F6-1350000,IF(F6>1000000,F6*10%,IF(F6<1000000,100000)))) -> 100000 | H6: =F6/VLOOKUP(A6,'מחירים שוק חופשי 2023'!A:C,3,0)-1 -> -0.41498082 | I6: =VLOOKUP(A6,'מחירים שוק חופשי 2023'!A:C,3,0)-F6 -> 627451 | J6: 1124287 | K6: =IF(J6>1800000,J6*25%,IF(J6>1500000,J6-1350000,IF(J6>1000000,J6*10%,IF(J6<1000000,100000)))) -> 112428.7 | L6: =J6/VLOOKUP(A6,'מחירים שוק חופשי 2023'!A:D,4,0)-1 -> -0.40513915 | M6: =VLOOKUP(A6,'מחירים שוק חופשי 2023'!A:D,4,0)-J6 -> 765713 | N6: - | O6: 0.022
A7: בית דגן | B7: 15 | C7: 63 | D7: 41 | E7: 22 | F7: 946156 | G7: =IF(F7>1800000,F7*25%,IF(F7>1500000,F7-1350000,IF(F7>1000000,F7*10%,IF(F7<1000000,100000)))) -> 100000 | H7: =F7/VLOOKUP(A7,'מחירים שוק חופשי 2023'!A:C,3,0)-1 -> -0.43139663 | I7: =VLOOKUP(A7,'מחירים שוק חופשי 2023'!A:C,3,0)-F7 -> 717844 | J7: 1203238 | K7: =IF(J7>1800000,J7*25%,IF(J7>1500000,J7-1350000,IF(J7>1000000,J7*10%,IF(J7<1000000,100000)))) -> 120323.8 | L7: =J7/VLOOKUP(A7,'מחירים שוק חופשי 2023'!A:D,4,0)-1 -> -0.42152019 | M7: =VLOOKUP(A7,'מחירים שוק חופשי 2023'!A:D,4,0)-J7 -> 876762 | N7: - | O7: 0.002
A8: בני עי"ש | B8: 16 | C8: 556 | D8: 364 | E8: 192 | F8: 1290169 | G8: =IF(F8>1800000,F8*25%,IF(F8>1500000,F8-1350000,IF(F8>1000000,F8*10%,IF(F8<1000000,100000)))) -> 129016.9 | H8: =F8/VLOOKUP(A8,'מחירים שוק חופשי 2023'!A:C,3,0)-1 -> -0.22091244 | I8: =VLOOKUP(A8,'מחירים שוק חופשי 2023'!A:C,3,0)-F8 -> 365831 | J8: 1622960 | K8: =IF(J8>1800000,J8*25%,IF(J8>1500000,J8-1350000,IF(J8>1000000,J8*10%,IF(J8<1000000,100000)))) -> 272960 | L8: =J8/VLOOKUP(A8,'מחירים שוק חופשי 2023'!A:D,4,0)-1 -> -0.21596135 | M8: =VLOOKUP(A8,'מחירים שוק חופשי 2023'!A:D,4,0)-J8 -> 447040 | N8: - | O8: 0.048
A9: ירושלים | B9: 1 | C9: 46 | D9: 30 | E9: 16 | F9: 2289529 | G9: =IF(F9>1800000,F9*25%,IF(F9>1500000,F9-1350000,IF(F9>1000000,F9*10%,IF(F9<1000000,100000)))) -> 572382.25 | H9: =F9/VLOOKUP(A9,'מחירים שוק חופשי 2023'!A:C,3,0)-1 -> -0.26429017 | I9: =VLOOKUP(A9,'מחירים שוק חופשי 2023'!A:C,3,0)-F9 -> 822471 | J9: 3045570 | K9: =IF(J9>1800000,J9*25%,IF(J9>1500000,J9-1350000,IF(J9>1000000,J9*10%,IF(J9<1000000,100000)))) -> 761392.5 | L9: =J9/VLOOKUP(A9,'מחירים שוק חופשי 2023'!A:D,4,0)-1 -> -0.21707712 | M9: =VLOOKUP(A9,'מחירים שוק חופשי 2023'!A:D,4,0)-J9 -> 844430 | N9: - | O9: 0.003
A10: מודיעין | B10: 5 | C10: 187 | D10: 123 | E10: 64 | F10: 1595475 | G10: =IF(F10>1800000,F10*25%,IF(F10>1500000,F10-1350000,IF(F10>1000000,F10*10%,IF(F10<1000000,100000)))) -> 245475 | H10: =F10/VLOOKUP(A10,'מחירים שוק חופשי 2023'!A:C,3,0)-1 -> -0.3193366 | I10: =VLOOKUP(A10,'מחירים שוק חופשי 2023'!A:C,3,0)-F10 -> 748525 | J10: 2155948 | K10: =IF(J10>1800000,J10*25%,IF(J10>1500000,J10-1350000,IF(J10>1000000,J10*10%,IF(J10<1000000,100000)))) -> 538987 | L10: =J10/VLOOKUP(A10,'מחירים שוק חופשי 2023'!A:D,4,0)-1 -> -0.26418157 | M10: =VLOOKUP(A10,'מחירים שוק חופשי 2023'!A:D,4,0)-J10 -> 774052 | N10: - | O10: 0.006
A11: מעלות תרשיחא | B11: 11 | C11: 114 | D11: 71 | E11: 70 | F11: 620141 | G11: =IF(F11>1800000,F11*25%,IF(F11>1500000,F11-1350000,IF(F11>1000000,F11*10%,IF(F11<1000000,100000)))) -> 100000 | H11: =F11/VLOOKUP(A11,'מחירים שוק חופשי 2023'!A:C,3,0)-1 -> -0.389625 | I11: =VLOOKUP(A11,'מחירים שוק חופשי 2023'!A:C,3,0)-F11 -> 395859 | J11: 788216 | K11: =IF(J11>1800000,J11*25%,IF(J11>1500000,J11-1350000,IF(J11>1000000,J11*10%,IF(J11<1000000,100000)))) -> 100000 | L11: =J11/VLOOKUP(A11,'מחירים שוק חופשי 2023'!A:D,4,0)-1 -> -0.37935748 | M11: =VLOOKUP(A11,'מחירים שוק חופשי 2023'!A:D,4,0)-J11 -> 481784 | N11: 40000 | O11: 0.022
A12: פתח תקוה | B12: 2 | C12: 154 | D12: 101 | E12: 53 | F12: 1166090 | G12: =IF(F12>1800000,F12*25%,IF(F12>1500000,F12-1350000,IF(F12>1000000,F12*10%,IF(F12<1000000,100000)))) -> 116609 | H12: =F12/VLOOKUP(A12,'מחירים שוק חופשי 2023'!A:C,3,0)-1 -> -0.45611474 | I12: =VLOOKUP(A12,'מחירים שוק חופשי 2023'!A:C,3,0)-F12 -> 977910 | J12: 1552666 | K12: =IF(J12>1800000,J12*25%,IF(J12>1500000,J12-1350000,IF(J12>1000000,J12*10%,IF(J12<1000000,100000)))) -> 202666 | L12: =J12/VLOOKUP(A12,'מחירים שוק חופשי 2023'!A:D,4,0)-1 -> -0.42064701 | M12: =VLOOKUP(A12,'מחירים שוק חופשי 2023'!A:D,4,0)-J12 -> 1127334 | N12: - | O12: 0.004
A13: צפת | B13: 9 | C13: 41 | D13: 21 | E13: 20 | F13: 741025 | G13: =IF(F13>1800000,F13*25%,IF(F13>1500000,F13-1350000,IF(F13>1000000,F13*10%,IF(F13<1000000,100000)))) -> 100000 | H13: =F13/VLOOKUP(A13,'מחירים שוק חופשי 2023'!A:C,3,0)-1 -> -0.49105426 | I13: =VLOOKUP(A13,'מחירים שוק חופשי 2023'!A:C,3,0)-F13 -> 714975 | J13: 941863 | K13: =IF(J13>1800000,J13*25%,IF(J13>1500000,J13-1350000,IF(J13>1000000,J13*10%,IF(J13<1000000,100000)))) -> 100000 | L13: =J13/VLOOKUP(A13,'מחירים שוק חופשי 2023'!A:D,4,0)-1 -> -0.48249286 | M13: =VLOOKUP(A13,'מחירים שוק חופשי 2023'!A:D,4,0)-J13 -> 878137 | N13: 60000 | O13: 0.003
A14: קרית גת-מערב | B14: 6 | C14: 745 | D14: 487 | E14: 258 | F14: 814386 | G14: =IF(F14>1800000,F14*25%,IF(F14>1500000,F14-1350000,IF(F14>1000000,F14*10%,IF(F14<1000000,100000)))) -> 100000 | H14: =F14/VLOOKUP(A14,'מחירים שוק חופשי 2023'!A:C,3,0)-1 -> -0.43757873 | I14: =VLOOKUP(A14,'מחירים שוק חופשי 2023'!A:C,3,0)-F14 -> 633614 | J14: 1184308 | K14: =IF(J14>1800000,J14*25%,IF(J14>1500000,J14-1350000,IF(J14>1000000,J14*10%,IF(J14<1000000,100000)))) -> 118430.8 | L14: =J14/VLOOKUP(A14,'מחירים שוק חופשי 2023'!A:D,4,0)-1 -> -0.34568619 | M14: =VLOOKUP(A14,'מחירים שוק חופשי 2023'!A:D,4,0)-J14 -> 625692 | N14: - | O14: 0.08
A15: קרית גת-צפון | B15: 6 | C15: 1921 | D15: 1255 | E15: 666 | F15: 957965 | G15: =IF(F15>1800000,F15*25%,IF(F15>1500000,F15-1350000,IF(F15>1000000,F15*10%,IF(F15<1000000,100000)))) -> 100000 | H15: =F15/VLOOKUP(A15,'מחירים שוק חופשי 2023'!A:C,3,0)-1 -> -0.33842196 | I15: =VLOOKUP(A15,'מחירים שוק חופשי 2023'!A:C,3,0)-F15 -> 490035 | J15: 1380217 | K15: =IF(J15>1800000,J15*25%,IF(J15>1500000,J15-1350000,IF(J15>1000000,J15*10%,IF(J15<1000000,100000)))) -> 138021.7 | L15: =J15/VLOOKUP(A15,'מחירים שוק חופשי 2023'!A:D,4,0)-1 -> -0.23744917 | M15: =VLOOKUP(A15,'מחירים שוק חופשי 2023'!A:D,4,0)-J15 -> 429783 | N15: - | O15: 0.08
A16: קרית מלאכי | B16: 10 | C16: 59 | D16: 39 | E16: 20 | F16: 836981 | G16: =IF(F16>1800000,F16*25%,IF(F16>1500000,F16-1350000,IF(F16>1000000,F16*10%,IF(F16<1000000,100000)))) -> 100000 | H16: =F16/VLOOKUP(A16,'מחירים שוק חופשי 2023'!A:C,3,0)-1 -> -0.44935461 | I16: =VLOOKUP(A16,'מחירים שוק חופשי 2023'!A:C,3,0)-F16 -> 683019 | J16: 1226443 | K16: =IF(J16>1800000,J16*25%,IF(J16>1500000,J16-1350000,IF(J16>1000000,J16*10%,IF(J16<1000000,100000)))) -> 122644.3 | L16: =J16/VLOOKUP(A16,'מחירים שוק חופשי 2023'!A:D,4,0)-1 -> -0.35450368 | M16: =VLOOKUP(A16,'מחירים שוק חופשי 2023'!A:D,4,0)-J16 -> 673557 | N16: - | O16: 0.012
A17: קרית עקרון | B17: 14 | C17: 486 | D17: 317 | E17: 169 | F17: 1069703 | G17: =IF(F17>1800000,F17*25%,IF(F17>1500000,F17-1350000,IF(F17>1000000,F17*10%,IF(F17<1000000,100000)))) -> 106970.3 | H17: =F17/VLOOKUP(A17,'מחירים שוק חופשי 2023'!A:C,3,0)-1 -> -0.4003907 | I17: =VLOOKUP(A17,'מחירים שוק חופשי 2023'!A:C,3,0)-F17 -> 714297 | J17: 1399529 | K17: =IF(J17>1800000,J17*25%,IF(J17>1500000,J17-1350000,IF(J17>1000000,J17*10%,IF(J17<1000000,100000)))) -> 139952.9 | L17: =J17/VLOOKUP(A17,'מחירים שוק חופשי 2023'!A:D,4,0)-1 -> -0.37240852 | M17: =VLOOKUP(A17,'מחירים שוק חופשי 2023'!A:D,4,0)-J17 -> 830471 | N17: - | O17: 0.031
A18: קרית שמונה | B18: 12 | C18: 87 | D18: 44 | E18: 43 | F18: 645259 | G18: =IF(F18>1800000,F18*25%,IF(F18>1500000,F18-1350000,IF(F18>1000000,F18*10%,IF(F18<1000000,100000)))) -> 100000 | H18: =F18/VLOOKUP(A18,'מחירים שוק חופשי 2023'!A:C,3,0)-1 -> -0.3495373 | I18: =VLOOKUP(A18,'מחירים שוק חופשי 2023'!A:C,3,0)-F18 -> 346741 | J18: 820142 | K18: =IF(J18>1800000,J18*25%,IF(J18>1500000,J18-1350000,IF(J18>1000000,J18*10%,IF(J18<1000000,100000)))) -> 100000 | L18: =J18/VLOOKUP(A18,'מחירים שוק חופשי 2023'!A:D,4,0)-1 -> -0.33859516 | M18: =VLOOKUP(A18,'מחירים שוק חופשי 2023'!A:D,4,0)-J18 -> 419858 | N18: 40000 | O18: 0.018
A19: רחובות | B19: 4 | C19: 622 | D19: 407 | E19: 215 | F19: 1327593 | G19: =IF(F19>1800000,F19*25%,IF(F19>1500000,F19-1350000,IF(F19>1000000,F19*10%,IF(F19<1000000,100000)))) -> 132759.3 | H19: =F19/VLOOKUP(A19,'מחירים שוק חופשי 2023'!A:C,3,0)-1 -> -0.3784677 | I19: =VLOOKUP(A19,'מחירים שוק חופשי 2023'!A:C,3,0)-F19 -> 808407 | J19: 1781867 | K19: =IF(J19>1800000,J19*25%,IF(J19>1500000,J19-1350000,IF(J19>1000000,J19*10%,IF(J19<1000000,100000)))) -> 431867 | L19: =J19/VLOOKUP(A19,'מחירים שוק חופשי 2023'!A:D,4,0)-1 -> -0.33263408 | M19: =VLOOKUP(A19,'מחירים שוק חופשי 2023'!A:D,4,0)-J19 -> 888133 | N19: - | O19: 0.013
A20: רכסים | B20: 13 | C20: 117 | D20: 77 | E20: 40 | F20: 869480 | G20: =IF(F20>1800000,F20*25%,IF(F20>1500000,F20-1350000,IF(F20>1000000,F20*10%,IF(F20<1000000,100000)))) -> 100000 | H20: =F20/VLOOKUP(A20,'מחירים שוק חופשי 2023'!A:C,3,0)-1 -> -0.29880645 | I20: =VLOOKUP(A20,'מחירים שוק חופשי 2023'!A:C,3,0)-F20 -> 370520 | J20: 1105133 | K20: =IF(J20>1800000,J20*25%,IF(J20>1500000,J20-1350000,IF(J20>1000000,J20*10%,IF(J20<1000000,100000)))) -> 110513.3 | L20: =J20/VLOOKUP(A20,'מחירים שוק חופשי 2023'!A:D,4,0)-1 -> -0.28701097 | M20: =VLOOKUP(A20,'מחירים שוק חופשי 2023'!A:D,4,0)-J20 -> 444867 | N20: 40000 | O20: 0.014

Sheet מחירים שוק חופשי 2023
A1: יישוב | B1: ממוצע למ"ר | C1: שלושה חדרים | D1: ארבעה חדרים
A2: אילת | B2: 17500 | C2: ='מחירים שוק חופשי 2023'!B2*80 -> 1400000 | D2: ='מחירים שוק חופשי 2023'!B2*100 -> 1750000
A3: אלעד | B3: 22400 | C3: ='מחירים שוק חופשי 2023'!B3*80 -> 1792000 | D3: ='מחירים שוק חופשי 2023'!B3*100 -> 2240000
A4: אשקלון | B4: 18900 | C4: ='מחירים שוק חופשי 2023'!B4*80 -> 1512000 | D4: ='מחירים שוק חופשי 2023'!B4*100 -> 1890000
A5: בית דגן | B5: 20800 | C5: ='מחירים שוק חופשי 2023'!B5*80 -> 1664000 | D5: ='מחירים שוק חופשי 2023'!B5*100 -> 2080000
A6: בני עי"ש | B6: 20700 | C6: ='מחירים שוק חופשי 2023'!B6*80 -> 1656000 | D6: ='מחירים שוק חופשי 2023'!B6*100 -> 2070000
A7: ירושלים | B7: 38900 | C7: ='מחירים שוק חופשי 2023'!B7*80 -> 3112000 | D7: ='מחירים שוק חופשי 2023'!B7*100 -> 3890000
A8: מודיעין | B8: 29300 | C8: ='מחירים שוק חופשי 2023'!B8*80 -> 2344000 | D8: ='מחירים שוק חופשי 2023'!B8*100 -> 2930000
A9: מעלות תרשיחא | B9: 12700 | C9: ='מחירים שוק חופשי 2023'!B9*80 -> 1016000 | D9: ='מחירים שוק חופשי 2023'!B9*100 -> 1270000
A10: פתח תקוה | B10: 26800 | C10: ='מחירים שוק חופשי 2023'!B10*80 -> 2144000 | D10: ='מחירים שוק חופשי 2023'!B10*100 -> 2680000
A11: צפת | B11: 18200 | C11: ='מחירים שוק חופשי 2023'!B11*80 -> 1456000 | D11: ='מחירים שוק חופשי 2023'!B11*100 -> 1820000
A12: קרית גת-מערב | B12: 18100 | C12: ='מחירים שוק חופשי 2023'!B12*80 -> 1448000 | D12: ='מחירים שוק חופשי 2023'!B12*100 -> 1810000
A13: קרית גת-צפון | B13: 18100 | C13: ='מחירים שוק חופשי 2023'!B13*80 -> 1448000 | D13: ='מחירים שוק חופשי 2023'!B13*100 -> 1810000
... A18: רכסים | B18: 15500 | C18: ='מחירים שוק חופשי 2023'!B18*80 -> 1240000 | D18: ='מחירים שוק חופשי 2023'!B18*100 -> 1550000
