Workbook

Sheet ראשי
A1: 1 | B1: 2 | C1: 3 | F1: 4 | G1: 5 | H1: 6 | J1: 4 | K1: 5 | L1: 6 | N1: 7 | O1: 8
F2: דירת 3 חדרים של 80 מ"ר | J2: דירת 4 חדרים של 100 מ"ר
A3: יישוב | B3: מיקום בסדר ההגרלות | C3: סך דירות בהגרלה | D3: דירות לכלל הציבור | E3: דירות לבני מקום | F3: מחיר לאחר הנחה | G3: הון עצמי נדרש | H3: רווח באחוזים לעומת מחיר שוק | I3: רווח לעומת מחיר שוק | J3: מחיר לאחר ההנחה | K3: הון עצמי הנדרש | L3: רווח באחוזים לעומת מחיר השוק | M3: רווח לעומת מחיר השוק | N3: מענק | O3: אחוזי זכייה נכון לעכשיו
A4: אילת | B4: 14 | C4: 241 | D4: =טבלה1[[#This Row],[סך דירות בהגרלה]]*50% -> 120.5 | E4: =טבלה1[[#This Row],[סך דירות בהגרלה]]*27% -> 65.07 | F4: 843200 | G4: =IF(טבלה1[[#This Row],[מחיר לאחר הנחה]]="","",IF(טבלה1[[#This Row],[מחיר לאחר הנחה]]>1800000,טבלה1[[#This Row],[מחיר לאחר הנחה]]*25%,IF(טבלה1[[#This Row],[מחיר לאחר הנחה]]>1450000,טבלה1[[#This Row],[מחיר לאחר הנחה]]-1350000,IF(טבלה1[[#This Row],[מחיר לאחר הנחה]]>1000000,100000,IF(טבלה1[[#This Row],[מחיר לאחר הנחה]]<1000000,100000))))) -> 100000 | H4: =F4/VLOOKUP(A4,'מחירים שוק חופשי'!B:F,5,0)-1 -> -0.37817109 | I4: =VLOOKUP(A4,'מחירים שוק חופשי'!B:F,5,0)-F4 -> 512800 | J4: 1171200 | K4: =IF(טבלה1[[#This Row],[מחיר לאחר ההנחה]]="","",IF(טבלה1[[#This Row],[מחיר לאחר ההנחה]]>1800000,טבלה1[[#This Row],[מחיר לאחר ההנחה]]*25%,IF(טבלה1[[#This Row],[מחיר לאחר ההנחה]]>1450000,טבלה1[[#This Row],[מחיר לאחר ההנחה]]-1350000,IF(טבלה1[[#This Row],[מחיר לאחר ההנחה]]>1000000,100000,IF(טבלה1[[#This Row],[מחיר לאחר ההנחה]]<1000000,100000))))) -> 100000 | L4: =J4/VLOOKUP(A4,'מחירים שוק חופשי'!B:G,6,0)-1 -> -0.30902655 | M4: =VLOOKUP(A4,'מחירים שוק חופשי'!B:G,6,0)-J4 -> 523800 | N4: - | O4: 1.9
A5: אפרת | B5: 19 | C5: 25 | D5: =טבלה1[[#This Row],[סך דירות בהגרלה]]*50% -> 12.5 | E5: =טבלה1[[#This Row],[סך דירות בהגרלה]]*27% -> 6.75 | F5: 975288 | G5: =IF(טבלה1[[#This Row],[מחיר לאחר הנחה]]="","",IF(טבלה1[[#This Row],[מחיר לאחר הנחה]]>1800000,טבלה1[[#This Row],[מחיר לאחר הנחה]]*25%,IF(טבלה1[[#This Row],[מחיר לאחר הנחה]]>1450000,טבלה1[[#This Row],[מחיר לאחר הנחה]]-1350000,IF(טבלה1[[#This Row],[מחיר לאחר הנחה]]>1000000,100000,IF(טבלה1[[#This Row],[מחיר לאחר הנחה]]<1000000,100000))))) -> 100000 | H5: =F5/VLOOKUP(A5,'מחירים שוק חופשי'!B:F,5,0)-1 -> -0.3964802 | I5: =VLOOKUP(A5,'מחירים שוק חופשי'!B:F,5,0)-F5 -> 640712 | J5: 1295400 | K5: =IF(טבלה1[[#This Row],[מחיר לאחר ההנחה]]="","",IF(טבלה1[[#This Row],[מחיר לאחר ההנחה]]>1800000,טבלה1[[#This Row],[מחיר לאחר ההנחה]]*25%,IF(טבלה1[[#This Row],[מחיר לאחר ההנחה]]>1450000,טבלה1[[#This Row],[מחיר לאחר ההנחה]]-1350000,IF(טבלה1[[#This Row],[מחיר לאחר ההנחה]]>1000000,100000,IF(טבלה1[[#This Row],[מחיר לאחר ההנחה]]<1000000,100000))))) -> 100000 | L5: =J5/VLOOKUP(A5,'מחירים שוק חופשי'!B:G,6,0)-1 -> -0.35871287 | M5: =VLOOKUP(A5,'מחירים שוק חופשי'!B:G,6,0)-J5 -> 724600 | N5: - | O5: 1.4
A6: בית שאן | B6: 4 | C6: 275 | D6: =טבלה1[[#This Row],[סך דירות בהגרלה]]*50% -> 137.5 | E6: =טבלה1[[#This Row],[סך דירות בהגרלה]]*27% -> 74.25 | F6: 482162 | G6: =IF(טבלה1[[#This Row],[מחיר לאחר הנחה]]="","",IF(טבלה1[[#This Row],[מחיר לאחר הנחה]]>1800000,טבלה1[[#This Row],[מחיר לאחר הנחה]]*25%,IF(טבלה1[[#This Row],[מחיר לאחר הנחה]]>1450000,טבלה1[[#This Row],[מחיר לאחר הנחה]]-1350000,IF(טבלה1[[#This Row],[מחיר לאחר הנחה]]>1000000,100000,IF(טבלה1[[#This Row],[מחיר לאחר הנחה]]<1000000,100000))))) -> 100000 | H6: =F6/VLOOKUP(A6,'מחירים שוק חופשי'!B:F,5,0)-1 -> -0.4105599 | I6: =VLOOKUP(A6,'מחירים שוק חופשי'!B:F,5,0)-F6 -> 335838 | J6: 591744 | K6: =IF(טבלה1[[#This Row],[מחיר לאחר ההנחה]]="","",IF(טבלה1[[#This Row],[מחיר לאחר ההנחה]]>1800000,טבלה1[[#This Row],[מחיר לאחר ההנחה]]*25%,IF(טבלה1[[#This Row],[מחיר לאחר ההנחה]]>1450000,טבלה1[[#This Row],[מחיר לאחר ההנחה]]-1350000,IF(טבלה1[[#This Row],[מחיר לאחר ההנחה]]>1000000,100000,IF(טבלה1[[#This Row],[מחיר לאחר ההנחה]]<1000000,100000))))) -> 100000 | L6: =J6/VLOOKUP(A6,'מחירים שוק חופשי'!B:G,6,0)-1 -> -0.42127726 | M6: =VLOOKUP(A6,'מחירים שוק חופשי'!B:G,6,0)-J6 -> 430756 | N6: 40000 | O6: 3.6
A7: בית שמש | B7: 6 | C7: 2175 | D7: =טבלה1[[#This Row],[סך דירות בהגרלה]]*50% -> 1087.5 | E7: =טבלה1[[#This Row],[סך דירות בהגרלה]]*27% -> 587.25 | F7: 1290000 | G7: =IF(טבלה1[[#This Row],[מחיר לאחר הנחה]]="","",IF(טבלה1[[#This Row],[מחיר לאחר הנחה]]>1800000,טבלה1[[#This Row],[מחיר לאחר הנחה]]*25%,IF(טבלה1[[#This Row],[מחיר לאחר הנחה]]>1450000,טבלה1[[#This Row],[מחיר לאחר הנחה]]-1350000,IF(טבלה1[[#This Row],[מחיר לאחר הנחה]]>1000000,100000,IF(טבלה1[[#This Row],[מחיר לאחר הנחה]]<1000000,100000))))) -> 100000 | H7: =F7/VLOOKUP(A7,'מחירים שוק חופשי'!B:F,5,0)-1 -> -0.28173719 | I7: =VLOOKUP(A7,'מחירים שוק חופשי'!B:F,5,0)-F7 -> 506000 | J7: 1580000 | K7: =IF(טבלה1[[#This Row],[מחיר לאחר ההנחה]]="","",IF(טבלה1[[#This Row],[מחיר לאחר ההנחה]]>1800000,טבלה1[[#This Row],[מחיר לאחר ההנחה]]*25%,IF(טבלה1[[#This Row],[מחיר לאחר ההנחה]]>1450000,טבלה1[[#This Row],[מחיר לאחר ההנחה]]-1350000,IF(טבלה1[[#This Row],[מחיר לאחר ההנחה]]>1000000,100000,IF(טבלה1[[#This Row],[מחיר לאחר ההנחה]]<1000000,100000))))) -> 230000 | L7: =J7/VLOOKUP(A7,'מחירים שוק חופשי'!B:G,6,0)-1 -> -0.29621381 | M7: =VLOOKUP(A7,'מחירים שוק חופשי'!B:G,6,0)-J7 -> 665000 | N7: - | O7: 10.2
A8: בני עי"ש | B8: 20 | C8: 717 | D8: =טבלה1[[#This Row],[סך דירות בהגרלה]]*50% -> 358.5 | E8: =טבלה1[[#This Row],[סך דירות בהגרלה]]*27% -> 193.59 | F8: 1300000 | G8: =IF(טבלה1[[#This Row],[מחיר לאחר הנחה]]="","",IF(טבלה1[[#This Row],[מחיר לאחר הנחה]]>1800000,טבלה1[[#This Row],[מחיר לאחר הנחה]]*25%,IF(טבלה1[[#This Row],[מחיר לאחר הנחה]]>1450000,טבלה1[[#This Row],[מחיר לאחר הנחה]]-1350000,IF(טבלה1[[#This Row],[מחיר לאחר הנחה]]>1000000,100000,IF(טבלה1[[#This Row],[מחיר לאחר הנחה]]<1000000,100000))))) -> 100000 | H8: =F8/VLOOKUP(A8,'מחירים שוק חופשי'!B:F,5,0)-1 -> -0.24065421 | I8: =VLOOKUP(A8,'מחירים שוק חופשי'!B:F,5,0)-F8 -> 412000 | J8: 1600000 | K8: =IF(טבלה1[[#This Row],[מחיר לאחר ההנחה]]="","",IF(טבלה1[[#This Row],[מחיר לאחר ההנחה]]>1800000,טבלה1[[#This Row],[מחיר לאחר ההנחה]]*25%,IF(טבלה1[[#This Row],[מחיר לאחר ההנחה]]>1450000,טבלה1[[#This Row],[מחיר לאחר ההנחה]]-1350000,IF(טבלה1[[#This Row],[מחיר לאחר ההנחה]]>1000000,100000,IF(טבלה1[[#This Row],[מחיר לאחר ההנחה]]<1000000,100000))))) -> 250000 | L8: =J8/VLOOKUP(A8,'מחירים שוק חופשי'!B:G,6,0)-1 -> -0.25233645 | M8: =VLOOKUP(A8,'מחירים שוק חופשי'!B:G,6,0)-J8 -> 540000 | N8: - | O8: 6.3
A9: דימונה | B9: 11 | C9: 38 | D9: =טבלה1[[#This Row],[סך דירות בהגרלה]]*50% -> 19 | E9: =טבלה1[[#This Row],[סך דירות בהגרלה]]*27% -> 10.26 | F9: 509652 | G9: =IF(טבלה1[[#This Row],[מחיר לאחר הנחה]]="","",IF(טבלה1[[#This Row],[מחיר לאחר הנחה]]>1800000,טבלה1[[#This Row],[מחיר לאחר הנחה]]*25%,IF(טבלה1[[#This Row],[מחיר לאחר הנחה]]>1450000,טבלה1[[#This Row],[מחיר לאחר הנחה]]-1350000,IF(טבלה1[[#This Row],[מחיר לאחר הנחה]]>1000000,100000,IF(טבלה1[[#This Row],[מחיר לאחר הנחה]]<1000000,100000))))) -> 100000 | H9: =F9/VLOOKUP(A9,'מחירים שוק חופשי'!B:F,5,0)-1 -> -0.42085 | I9: =VLOOKUP(A9,'מחירים שוק חופשי'!B:F,5,0)-F9 -> 370348 | J9: 625482 | K9: =IF(טבלה1[[#This Row],[מחיר לאחר ההנחה]]="","",IF(טבלה1[[#This Row],[מחיר לאחר ההנחה]]>1800000,טבלה1[[#This Row],[מחיר לאחר ההנחה]]*25%,IF(טבלה1[[#This Row],[מחיר לאחר ההנחה]]>1450000,טבלה1[[#This Row],[מחיר לאחר ההנחה]]-1350000,IF(טבלה1[[#This Row],[מחיר לאחר ההנחה]]>1000000,100000,IF(טבלה1[[#This Row],[מחיר לאחר ההנחה]]<1000000,100000))))) -> 100000 | L9: =J9/VLOOKUP(A9,'מחירים שוק חופשי'!B:G,6,0)-1 -> -0.43138 | M9: =VLOOKUP(A9,'מחירים שוק חופשי'!B:G,6,0)-J9 -> 474518 | N9: 40000 | O9: 0.8
A10: טירת הכרמל | B10: 12 | C10: 93 | D10: =טבלה1[[#This Row],[סך דירות בהגרלה]]*50% -> 46.5 | E10: =טבלה1[[#This Row],[סך דירות בהגרלה]]*27% -> 25.11 | F10: 1100384 | G10: =IF(טבלה1[[#This Row],[מחיר לאחר הנחה]]="","",IF(טבלה1[[#This Row],[מחיר לאחר הנחה]]>1800000,טבלה1[[#This Row],[מחיר לאחר הנחה]]*25%,IF(טבלה1[[#This Row],[מחיר לאחר הנחה]]>1450000,טבלה1[[#This Row],[מחיר לאחר הנחה]]-1350000,IF(טבלה1[[#This Row],[מחיר לאחר הנחה]]>1000000,100000,IF(טבלה1[[#This Row],[מחיר לאחר הנחה]]<1000000,100000))))) -> 100000 | H10: =F10/VLOOKUP(A10,'מחירים שוק חופשי'!B:F,5,0)-1 -> -0.2564973 | I10: =VLOOKUP(A10,'מחירים שוק חופשי'!B:F,5,0)-F10 -> 379616 | J10: 1486385 | K10: =IF(טבלה1[[#This Row],[מחיר לאחר ההנחה]]="","",IF(טבלה1[[#This Row],[מחיר לאחר ההנחה]]>1800000,טבלה1[[#This Row],[מחיר לאחר ההנחה]]*25%,IF(טבלה1[[#This Row],[מחיר לאחר ההנחה]]>1450000,טבלה1[[#This Row],[מחיר לאחר ההנחה]]-1350000,IF(טבלה1[[#This Row],[מחיר לאחר ההנחה]]>1000000,100000,IF(טבלה1[[#This Row],[מחיר לאחר ההנחה]]<1000000,100000))))) -> 136385 | L10: =J10/VLOOKUP(A10,'מחירים שוק חופשי'!B:G,6,0)-1 -> -0.19654865 | M10: =VLOOKUP(A10,'מחירים שוק חופשי'!B:G,6,0)-J10 -> 363615 | N10: - | O10: 1.2
A11: יהוד | B11: 1 | C11: 166 | D11: =טבלה1[[#This Row],[סך דירות בהגרלה]]*50% -> 83 | E11: =טבלה1[[#This Row],[סך דירות בהגרלה]]*27% -> 44.82 | F11: 2015339 | G11: =IF(טבלה1[[#This Row],[מחיר לאחר הנחה]]="","",IF(טבלה1[[#This Row],[מחיר לאחר הנחה]]>1800000,טבלה1[[#This Row],[מחיר לאחר הנחה]]*25%,IF(טבלה1[[#This Row],[מחיר לאחר הנחה]]>1450000,טבלה1[[#This Row],[מחיר לאחר הנחה]]-1350000,IF(טבלה1[[#This Row],[מחיר לאחר הנחה]]>1000000,100000,IF(טבלה1[[#This Row],[מחיר לאחר הנחה]]<1000000,100000))))) -> 503834.75 | H11: =F11/VLOOKUP(A11,'מחירים שוק חופשי'!B:F,5,0)-1 -> -0.11452592 | I11: =VLOOKUP(A11,'מחירים שוק חופשי'!B:F,5,0)-F11 -> 260661 | J11: 2473371 | K11: =IF(טבלה1[[#This Row],[מחיר לאחר ההנחה]]="","",IF(טבלה1[[#This Row],[מחיר לאחר ההנחה]]>1800000,טבלה1[[#This Row],[מחיר לאחר ההנחה]]*25%,IF(טבלה1[[#This Row],[מחיר לאחר ההנחה]]>1450000,טבלה1[[#This Row],[מחיר לאחר ההנחה]]-1350000,IF(טבלה1[[#This Row],[מחיר לאחר ההנחה]]>1000000,100000,IF(טבלה1[[#This Row],[מחיר לאחר ההנחה]]<1000000,100000))))) -> 618342.75 | L11: =J11/VLOOKUP(A11,'מחירים שוק חופשי'!B:G,6,0)-1 -> -0.13062531 | M11: =VLOOKUP(A11,'מחירים שוק חופשי'!B:G,6,0)-J11 -> 371629 | N11: - | O11: 0.8
A12: כפר סבא | B12: 13 | C12: 898 | D12: =טבלה1[[#This Row],[סך דירות בהגרלה]]*50% -> 449 | E12: =טבלה1[[#This Row],[סך דירות בהגרלה]]*27% -> 242.46 | F12: 1770000 | G12: =IF(טבלה1[[#This Row],[מחיר לאחר הנחה]]="","",IF(טבלה1[[#This Row],[מחיר לאחר הנחה]]>1800000,טבלה1[[#This Row],[מחיר לאחר הנחה]]*25%,IF(טבלה1[[#This Row],[מחיר לאחר הנחה]]>1450000,טבלה1[[#This Row],[מחיר לאחר הנחה]]-1350000,IF(טבלה1[[#This Row],[מחיר לאחר הנחה]]>1000000,100000,IF(טבלה1[[#This Row],[מחיר לאחר הנחה]]<1000000,100000))))) -> 420000 | H12: =F12/VLOOKUP(A12,'מחירים שוק חופשי'!B:F,5,0)-1 -> -0.2357513 | I12: =VLOOKUP(A12,'מחירים שוק חופשי'!B:F,5,0)-F12 -> 546000 | J12: 2171000 | K12: =IF(טבלה1[[#This Row],[מחיר לאחר ההנחה]]="","",IF(טבלה1[[#This Row],[מחיר לאחר ההנחה]]>1800000,טבלה1[[#This Row],[מחיר לאחר ההנחה]]*25%,IF(טבלה1[[#This Row],[מחיר לאחר ההנחה]]>1450000,טבלה1[[#This Row],[מחיר לאחר ההנחה]]-1350000,IF(טבלה1[[#This Row],[מחיר לאחר ההנחה]]>1000000,100000,IF(טבלה1[[#This Row],[מחיר לאחר ההנחה]]<1000000,100000))))) -> 542750 | L12: =J12/VLOOKUP(A12,'מחירים שוק חופשי'!B:G,6,0)-1 -> -0.25008636 | M12: =VLOOKUP(A12,'מחירים שוק חופשי'!B:G,6,0)-J12 -> 724000 | N12: - | O12: 1.7
A13: צור הדסה | B13: 18 | C13: 192 | D13: =טבלה1[[#This Row],[סך דירות בהגרלה]]*50% -> 96 | E13: =טבלה1[[#This Row],[סך דירות בהגרלה]]*27% -> 51.84 | F13: 1237000 | G13: =IF(טבלה1[[#This Row],[מחיר לאחר הנחה]]="","",IF(טבלה1[[#This Row],[מחיר לאחר הנחה]]>1800000,טבלה1[[#This Row],[מחיר לאחר הנחה]]*25%,IF(טבלה1[[#This Row],[מחיר לאחר הנחה]]>1450000,טבלה1[[#This Row],[מחיר לאחר הנחה]]-1350000,IF(טבלה1[[#This Row],[מחיר לאחר הנחה]]>1000000,100000,IF(טבלה1[[#This Row],[מחיר לאחר הנחה]]<1000000,100000))))) -> 100000 | H13: =F13/VLOOKUP(A13,'מחירים שוק חופשי'!B:F,5,0)-1 -> -0.2874424 | I13: =VLOOKUP(A13,'מחירים שוק חופשי'!B:F,5,0)-F13 -> 499000 | J13: 1633000 | K13: =IF(טבלה1[[#This Row],[מחיר לאחר ההנחה]]="","",IF(טבלה1[[#This Row],[מחיר לאחר ההנחה]]>1800000,טבלה1[[#This Row],[מחיר לאחר ההנחה]]*25%,IF(טבלה1[[#This Row],[מחיר לאחר ההנחה]]>1450000,טבלה1[[#This Row],[מחיר לאחר ההנחה]]-1350000,IF(טבלה1[[#This Row],[מחיר לאחר ההנחה]]>1000000,100000,IF(טבלה1[[#This Row],[מחיר לאחר ההנחה]]<1000000,100000))))) -> 283000 | L13: =J13/VLOOKUP(A13,'מחירים שוק חופשי'!B:G,6,0)-1 -> -0.24746544 | M13: =VLOOKUP(A13,'מחירים שוק חופשי'!B:G,6,0)-J13 -> 537000 | N13: - | O13: 1.8
A14: קרית גת-צפון | B14: 8 | C14: 132 | D14: =טבלה1[[#This Row],[סך דירות בהגרלה]]*50% -> 66 | E14: =טבלה1[[#This Row],[סך דירות בהגרלה]]*27% -> 35.64 | F14: 1001646 | G14: =IF(טבלה1[[#This Row],[מחיר לאחר הנחה]]="","",IF(טבלה1[[#This Row],[מחיר לאחר הנחה]]>1800000,טבלה1[[#This Row],[מחיר לאחר הנחה]]*25%,IF(טבלה1[[#This Row],[מחיר לאחר הנחה]]>1450000,טבלה1[[#This Row],[מחיר לאחר הנחה]]-1350000,IF(טבלה1[[#This Row],[מחיר לאחר הנחה]]>1000000,100000,IF(טבלה1[[#This Row],[מחיר לאחר הנחה]]<1000000,100000))))) -> 100000 | H14: =F14/VLOOKUP(A14,'מחירים שוק חופשי'!B:F,5,0)-1 -> -0.33401197 | I14: =VLOOKUP(A14,'מחירים שוק חופשי'!B:F,5,0)-F14 -> 502354 | J14: 1365656 | K14: =IF(טבלה1[[#This Row],[מחיר לאחר ההנחה]]="","",IF(טבלה1[[#This Row],[מחיר לאחר ההנחה]]>1800000,טבלה1[[#This Row],[מחיר לאחר ההנחה]]*25%,IF(טבלה1[[#This Row],[מחיר לאחר ההנחה]]>1450000,טבלה1[[#This Row],[מחיר לאחר ההנחה]]-1350000,IF(טבלה1[[#This Row],[מחיר לאחר ההנחה]]>1000000,100000,IF(טבלה1[[#This Row],[מחיר לאחר ההנחה]]<1000000,100000))))) -> 100000 | L14: =J14/VLOOKUP(A14,'מחירים שוק חופשי'!B:G,6,0)-1 -> -0.27358723 | M14: =VLOOKUP(A14,'מחירים שוק חופשי'!B:G,6,0)-J14 -> 514344 | N14: - | O14: 0.9
A15: קרית מלאכי | B15: 7 | C15: 11 | D15: =טבלה1[[#This Row],[סך דירות בהגרלה]]*50% -> 5.5 | E15: =טבלה1[[#This Row],[סך דירות בהגרלה]]*27% -> 2.97 | G15: =IF(טבלה1[[#This Row],[מחיר לאחר הנחה]]="","",IF(טבלה1[[#This Row],[מחיר לאחר הנחה]]>1800000,טבלה1[[#This Row],[מחיר לאחר הנחה]]*25%,IF(טבלה1[[#This Row],[מחיר לאחר הנחה]]>1450000,טבלה1[[#This Row],[מחיר לאחר הנחה]]-1350000,IF(טבלה1[[#This Row],[מחיר לאחר הנחה]]>1000000,100000,IF(טבלה1[[#This Row],[מחיר לאחר הנחה]]<1000000,100000))))) | H15: =F15/VLOOKUP(A15,'מחירים שוק חופשי'!B:F,5,0)-1 -> -1 | I15: =VLOOKUP(A15,'מחירים שוק חופשי'!B:F,5,0)-F15 -> 1372000 | K15: =IF(טבלה1[[#This Row],[מחיר לאחר ההנחה]]="","",IF(טבלה1[[#This Row],[מחיר לאחר ההנחה]]>1800000,טבלה1[[#This Row],[מחיר לאחר ההנחה]]*25%,IF(טבלה1[[#This Row],[מחיר לאחר ההנחה]]>1450000,טבלה1[[#This Row],[מחיר לאחר ההנחה]]-1350000,IF(טבלה1[[#This Row],[מחיר לאחר ההנחה]]>1000000,100000,IF(טבלה1[[#This Row],[מחיר לאחר ההנחה]]<1000000,100000))))) | L15: =J15/VLOOKUP(A15,'מחירים שוק חופשי'!B:G,6,0)-1 -> -1 | M15: =VLOOKUP(A15,'מחירים שוק חופשי'!B:G,6,0)-J15 -> 1715000 | N15: - | O15: 0.12
A16: ראשון לציון | B16: 3 | C16: 58 | D16: =טבלה1[[#This Row],[סך דירות בהגרלה]]*50% -> 29 | E16: =טבלה1[[#This Row],[סך דירות בהגרלה]]*27% -> 15.66 | F16: 1493872 | G16: =IF(טבלה1[[#This Row],[מחיר לאחר הנחה]]="","",IF(טבלה1[[#This Row],[מחיר לאחר הנחה]]>1800000,טבלה1[[#This Row],[מחיר לאחר הנחה]]*25%,IF(טבלה1[[#This Row],[מחיר לאחר הנחה]]>1450000,טבלה1[[#This Row],[מחיר לאחר הנחה]]-1350000,IF(טבלה1[[#This Row],[מחיר לאחר הנחה]]>1000000,100000,IF(טבלה1[[#This Row],[מחיר לאחר הנחה]]<1000000,100000))))) -> 143872 | H16: =F16/VLOOKUP(A16,'מחירים שוק חופשי'!B:F,5,0)-1 -> -0.31347794 | I16: =VLOOKUP(A16,'מחירים שוק חופשי'!B:F,5,0)-F16 -> 682128 | J16: 1901570 | K16: =IF(טבלה1[[#This Row],[מחיר לאחר ההנחה]]="","",IF(טבלה1[[#This Row],[מחיר לאחר ההנחה]]>1800000,טבלה1[[#This Row],[מחיר לאחר ההנחה]]*25%,IF(טבלה1[[#This Row],[מחיר לאחר ההנחה]]>1450000,טבלה1[[#This Row],[מחיר לאחר ההנחה]]-1350000,IF(טבלה1[[#This Row],[מחיר לאחר ההנחה]]>1000000,100000,IF(טבלה1[[#This Row],[מחיר לאחר ההנחה]]<1000000,100000))))) -> 475392.5 | L16: =J16/VLOOKUP(A16,'מחירים שוק חופשי'!B:G,6,0)-1 -> -0.30089338 | M16: =VLOOKUP(A16,'מחירים שוק חופשי'!B:G,6,0)-J16 -> 818430 | N16: - | O16: 0.2
A17: רכסים | B17: 16 | C17: 20 | D17: =טבלה1[[#This Row],[סך דירות בהגרלה]]*50% -> 10 | E17: =טבלה1[[#This Row],[סך דירות בהגרלה]]*27% -> 5.4 | F17: 834594 | G17: =IF(טבלה1[[#This Row],[מחיר לאחר הנחה]]="","",IF(טבלה1[[#This Row],[מחיר לאחר הנחה]]>1800000,טבלה1[[#This Row],[מחיר לאחר הנחה]]*25%,IF(טבלה1[[#This Row],[מחיר לאחר הנחה]]>1450000,טבלה1[[#This Row],[מחיר לאחר הנחה]]-1350000,IF(טבלה1[[#This Row],[מחיר לאחר הנחה]]>1000000,100000,IF(טבלה1[[#This Row],[מחיר לאחר הנחה]]<1000000,100000))))) -> 100000 | H17: =F17/VLOOKUP(A17,'מחירים שוק חופשי'!B:F,5,0)-1 -> -0.36581003 | I17: =VLOOKUP(A17,'מחירים שוק חופשי'!B:F,5,0)-F17 -> 481406 | J17: 1024274 | K17: =IF(טבלה1[[#This Row],[מחיר לאחר ההנחה]]="","",IF(טבלה1[[#This Row],[מחיר לאחר ההנחה]]>1800000,טבלה1[[#This Row],[מחיר לאחר ההנחה]]*25%,IF(טבלה1[[#This Row],[מחיר לאחר ההנחה]]>1450000,טבלה1[[#This Row],[מחיר לאחר ההנחה]]-1350000,IF(טבלה1[[#This Row],[מחיר לאחר ההנחה]]>1000000,100000,IF(טבלה1[[#This Row],[מחיר לאחר ההנחה]]<1000000,100000))))) -> 100000 | L17: =J17/VLOOKUP(A17,'מחירים שוק חופשי'!B:G,6,0)-1 -> -0.37734103 | M17: =VLOOKUP(A17,'מחירים שוק חופשי'!B:G,6,0)-J17 -> 620726 | N17: 40000 | O17: 0.3

Sheet ממוצעים
A1: 3 | B1: 4 | H1: 3 | K1: 4
A2: =(I2+I3)/D2 -> 550733 | B2: =(L2+L3)/D2 -> 675899.5 | D2: 72 | E2: אכסאל | F2: 36 | H2: 535392 | I2: =H2*F2 -> 19274112 | K2: 657072 | L2: =K2*F2 -> 23654592
F3: 36 | H3: 566074 | I3: =H3*F3 -> 20378664 | K3: 694727 | L3: =K3*F3 -> 25010172
A4: =(I4+I5+I6)/D4 -> 1543792.9 | B4: =(L4+L5+L6)/D4 -> 1916527.3 | D4: 735 | E4: אלעד | F4: 368 | H4: 1560977 | I4: =H4*F4 -> 574439536 | K4: 1915744 | L4: =K4*F4 -> 704993792
F5: 179 | H5: 1526562 | I5: =H5*F5 -> 273254598 | K5: 1894010 | L5: =K5*F5 -> 339027790
F6: 188 | H6: 1526562 | I6: =H6*F6 -> 286993656 | K6: 1939500 | L6: =K6*F6 -> 364626000
A7: =(I7+I8+I9)/D7 -> 588508.9 | B7: =(L7+L8+L9)/D7 -> 722260.85 | D7: 67 | E7: דיר אל אסד | F7: 29 | H7: 564736 | I7: =H7*F7 -> 16377344 | K7: 693085 | L7: =K7*F7 -> 20099465
F8: 20 | H8: 605920 | I8: =H8*F8 -> 12118400 | K8: 743629 | L8: =K8*F8 -> 14872580
F9: 18 | H9: 607464 | I9: =H9*F9 -> 10934352 | K9: 745524 | L9: =K9*F9 -> 13419432
A10: =(I10+I11+I12+I13+I14)/D10 -> 740246.88 | B10: =(L10+L11+L12+L13+L14)/D10 -> 908484.98 | D10: 373 | E10: מגדל העמק | F10: 83 | H10: 712277 | I10: =H10*F10 -> 59118991 | K10: 874158 | L10: =K10*F10 -> 72555114
F11: 103 | H11: 749034 | I11: =H11*F11 -> 77150502 | K11: 919269 | L11: =K11*F11 -> 94684707
F12: 56 | H12: 747876 | I12: =H12*F12 -> 41881056 | K12: 917847 | L12: =K12*F12 -> 51399432
F13: 66 | H13: 747798 | I13: =H13*F13 -> 49354668 | K13: 917753 | L13: =K13*F13 -> 60571698
F14: 65 | H14: 747798 | I14: =H14*F14 -> 48606870 | K14: 917753 | L14: =K14*F14 -> 59653945
A15: =(I15+I16)/D15 -> 1216934.3 | B15: =(L15+L16)/D15 -> 1607146.8 | D15: 46 | E15: צור הדסה | F15: 27 | H15: 1202135 | I15: =H15*F15 -> 32457645 | K15: 1588984 | L15: =K15*F15 -> 42902568
F16: 19 | H16: 1237965 | I16: =H16*F16 -> 23521335 | K16: 1632957 | L16: =K16*F16 -> 31026183
A17: =(I17+I18+I19)/D17 -> 1607017.5 | B17: =(L17+L18+L19)/D17 -> 2040430.7 | D17: 164 | E17: ראשלצ | F17: 61 | H17: 1583550 | I17: =H17*F17 -> 96596550 | K17: 2011630 | L17: =K17*F17 -> 122709430
F18: 61 | H18: 1583550 | I18: =H18*F18 -> 96596550 | K18: 2011630 | L18: =K18*F18 -> 122709430
F19: 42 | H19: 1675185 | I19: =H19*F19 -> 70357770 | K19: 2124090 | L19: =K19*F19 -> 89211780
A20: =(I20+I21+I22+I23)/D20 -> 1384329.3 | B20: =(L20+L21+L22+L23)/D20 -> 1774726.8 | D20: 250 | E20: רחובות | F20: 37 | H20: 1690654 | I20: =H20*F20 -> 62554198 | K20: 2185270 | L20: =K20*F20 -> 80854990
F21: 29 | H21: 1331118 | I21: =H21*F21 -> 38602422 | K21: 1766892 | L21: =K21*F21 -> 51239868
F22: 74 | H22: 1331118 | I22: =H22*F22 -> 98502732 | K22: 1715842 | L22: =K22*F22 -> 126972308
F23: 110 | H23: 1331118 | I23: =H23*F23 -> 146422980 | K23: 1678314 | L23: =K23*F23 -> 184614540
A24: =(I24+I26+I25+I27)/D24 -> 838553.96 | B24: =(L24+L25+L26+L27)/D24 -> 1029134.5 | D24: 337 | E24: רכסים | F24: 25 | H24: 853127 | I24: =H24*F24 -> 21328175 | K24: 1047019 | L24: =K24*F24 -> 26175475
F25: 139 | H25: 837219 | I25: =H25*F25 -> 116373441 | K25: 1027496 | L25: =K25*F25 -> 142821944
F26: 83 | H26: 839690 | I26: =H26*F26 -> 69694270 | K26: 1030529 | L26: =K26*F26 -> 85533907
F27: 90 | H27: 835520 | I27: =H27*F27 -> 75196800 | K27: 1025411 | L27: =K27*F27 -> 92286990

Sheet מחירים שוק חופשי
A1: הגרלה נוכחית | B1: יישוב | C1: שמאות | D1: בדיקה שלי מדלן (+יד 2) | E1: ממוצע | F1: שלושה חדרים | G1: ארבעה חדרים | H1: הערות: מה בדקתי ? | I1: שיטות חישוב נוספות
A2: יש | B2: אילת | C2: 16400 | D2: 17500 | E2: =AVERAGE(C2:D2) -> 16950 | F2: =E2*80 -> 1356000 | G2: =E2*100 -> 1695000 | H2: איזור השכונה | I2: במדלן כל העיר 19,200
B3: אכסאל | D3: 5000 | F3: =E3*80 -> 0 | G3: =E3*100 -> 0 | H3: כל העיר (רק די' ישנות)
B4: אלעד | D4: 22000 | F4: =E4*80 -> 0 | G4: =E4*100 -> 0 | H4: התרשמות מיד 2 | I4: 23600 במדלן
A5: יש | B5: אפרת | C5: 17900 | D5: 22500 | E5: =AVERAGE(C5:D5) -> 20200 | F5: =E5*80 -> 1616000 | G5: =E5*100 -> 2020000 | H5: כל העיר
B6: אשקלון | D6: 18900 | F6: =E6*80 -> 0 | G6: =E6*100 -> 0
B7: באר שבע | D7: 16000 | F7: =E7*80 -> 0 | G7: =E7*100 -> 0 | H7: פסגת רמות-ממוצע שלי
B8: בית דגן | D8: 20800 | F8: =E8*80 -> 0 | G8: =E8*100 -> 0
A9: יש | B9: בית שאן | C9: 9950 | D9: 10500 | E9: =AVERAGE(C9:D9) -> 10225 | F9: =E9*80 -> 818000 | G9: =E9*100 -> 1022500 | H9: כל העיר לפי יד 2 | I9: במדלן 8,600
A10: יש | B10: בית שמש | C10: 21500 | D10: 23400 | E10: =AVERAGE(C10:D10) -> 22450 | F10: =E10*80 -> 1796000 | G10: =E10*100 -> 2245000 | H10: רמה ה-1 | I10: במדלן כל העיר 22,600
A11: יש | B11: בני עי"ש | C11: 22100 | D11: 20700 | E11: =AVERAGE(C11:D11) -> 21400 | F11: =E11*80 -> 1712000 | G11: =E11*100 -> 2140000 | H11: כל העיר
B12: בת ים | D12: 30100 | F12: =E12*80 -> 0 | G12: =E12*100 -> 0 | H12: כל העיר
A13: יש | B13: דימונה | C13: 11000 | D13: 11000 | E13: =AVERAGE(C13:D13) -> 11000 | F13: =E13*80 -> 880000 | G13: =E13*100 -> 1100000 | H13: כל העיר (אתר יד 2) | I13: במדלן 9,700
A14: יש | B14: טירת הכרמל | C14: 19300 | D14: 17700 | E14: =AVERAGE(C14:D14) -> 18500 | F14: =E14*80 -> 1480000 | G14: =E14*100 -> 1850000 | H14: כל העיר
A15: יש | B15: יהוד | C15: 31100 | D15: 25800 | E15: =AVERAGE(C15:D15) -> 28450 | F15: =E15*80 -> 2276000 | G15: =E15*100 -> 2845000 | H15: כל העיר
B16: ירושלים | D16: 38900 | F16: =E16*80 -> 0 | G16: =E16*100 -> 0
B17: ירושלים-רמות | D17: 33500 | F17: =E17*80 -> 0 | G17: =E17*100 -> 0 | H17: שכ' רמות
B18: מגדל העמק | D18: 13000 | F18: =E18*80 -> 0 | G18: =E18*100 -> 0 | H18: כל העיר
B19: מודיעין | D19: 29300 | F19: =E19*80 -> 0 | G19: =E19*100 -> 0
B20: מעלות תרשיחא | D20: 12700 | F20: =E20*80 -> 0 | G20: =E20*100 -> 0
B21: פתח תקוה | D21: 26800 | F21: =E21*80 -> 0 | G21: =E21*100 -> 0
A22: יש | B22: כפר סבא | C22: 27500 | D22: 30400 | E22: =AVERAGE(C22:D22) -> 28950 | F22: =E22*80 -> 2316000 | G22: =E22*100 -> 2895000 | H22: כל העיר
B23: צפת | D23: 18200 | F23: =E23*80 -> 0 | G23: =E23*100 -> 0
B24: קרית ביאליק | D24: 15600 | F24: =E24*80 -> 0 | G24: =E24*100 -> 0 | H24: כל העיר
A25: יש | B25: צור הדסה | C25: 19500 | D25: 23900 | E25: =AVERAGE(C25:D25) -> 21700 | F25: =E25*80 -> 1736000 | G25: =E25*100 -> 2170000 | H25: כל העיר
B26: קרית גת-מערב | D26: 18100 | F26: =E26*80 -> 0 | G26: =E26*100 -> 0 | H26: פעם קודמת
A27: יש | B27: קרית גת-צפון | C27: 18200 | D27: 19400 | E27: =AVERAGE(C27:D27) -> 18800 | F27: =E27*80 -> 1504000 | G27: =E27*100 -> 1880000 | H27: כרמי גת | I27: במדלן כל העיר 17,000
B28: קרית עקרון | D28: 22300 | F28: =E28*80 -> 0 | G28: =E28*100 -> 0
B29: קרית שמונה | D29: 12400 | F29: =E29*80 -> 0 | G29: =E29*100 -> 0
A30: יש | B30: קרית מלאכי | C30: 16700 | D30: 17600 | E30: =AVERAGE(C30:D30) -> 17150 | F30: =E30*80 -> 1372000 | G30: =E30*100 -> 1715000 | H30: כל העיר
B31: רחובות | D31: 26700 | F31: =E31*80 -> 0 | G31: =E31*100 -> 0 | H31: כל העיר
B32: רחובות קרית משה | D32: 27600 | F32: =E32*80 -> 0 | G32: =E32*100 -> 0 | H32: קרית משה
A33: יש | B33: ראשון לציון | D33: 27200 | E33: =AVERAGE(C33:D33) -> 27200 | F33: =E33*80 -> 2176000 | G33: =E33*100 -> 2720000 | H33: כל העיר | I33: במדלן כל העיר 27,200
A34: יש | B34: רכסים | C34: 14800 | D34: 18100 | E34: =AVERAGE(C34:D34) -> 16450 | F34: =E34*80 -> 1316000 | G34: =E34*100 -> 1645000 | H34: כל העיר
B35: תל אביב יפו | D35: 36900 | F35: =E35*80 -> 0 | G35: =E35*100 -> 0 | H35: קרית שלום
