Workbook

Sheet ציון שאלות
A1: 1 | B1: 20 | C1: 60 | D1: 90 | E1: 10 | F1: 0 | G1: 10 | H1: 100 | I1: 50 | J1: 60 | K1: 30 | L1: 100 | M1: 50 | N1: 50 | O1: 30 | P1: 0 | Q1: 50
A2: 2 | B2: 50 | C2: 80 | D2: 80 | E2: 10 | F2: 20 | G2: 40 | H2: 50 | I2: 80 | J2: 70 | K2: 70 | L2: 80 | M2: 100 | N2: 70 | O2: 100 | P2: 60 | Q2: 80
A3: 3 | B3: 20 | C3: 30 | D3: 80 | E3: 40 | F3: 30 | G3: 10 | H3: 10 | I3: 50 | J3: 80 | K3: 20 | L3: 10 | M3: 70 | N3: 100 | O3: 90 | P3: 70 | Q3: 80
A4: 4 | B4: 70 | C4: 30 | D4: 50 | E4: 100 | F4: 60 | G4: 30 | H4: 70 | I4: 20 | J4: 50 | K4: 100 | L4: 0 | M4: 80 | N4: 100 | O4: 0 | P4: 40 | Q4: 10
A5: 5 | B5: 100 | C5: 20 | D5: 100 | E5: 70 | F5: 30 | G5: 10 | H5: 80 | I5: 10 | J5: 80 | K5: 70 | L5: 100 | M5: 90 | N5: 50 | O5: 90 | P5: 80 | Q5: 60
A6: 6 | B6: 100 | C6: 50 | D6: 100 | E6: 50 | F6: 20 | G6: 100 | H6: 60 | I6: 60 | J6: 0 | K6: 50 | L6: 30 | M6: 70 | N6: 30 | O6: 100 | P6: 70 | Q6: 80
A7: 7 | B7: 90 | C7: 100 | D7: 100 | E7: 60 | F7: 0 | G7: 100 | H7: 90 | I7: 90 | J7: 30 | K7: 10 | L7: 20 | M7: 20 | N7: 10 | O7: 100 | P7: 0 | Q7: 20
A8: 8 | B8: 100 | C8: 20 | D8: 60 | E8: 50 | F8: 100 | G8: 30 | H8: 90 | I8: 100 | J8: 30 | K8: 100 | L8: 30 | M8: 50 | N8: 20 | O8: 100 | P8: 90 | Q8: 0
A9: 9 | B9: 100 | C9: 90 | D9: 100 | E9: 0 | F9: 90 | G9: 90 | H9: 90 | I9: 90 | J9: 90 | K9: 60 | L9: 30 | M9: 0 | N9: 90 | O9: 70 | P9: 70 | Q9: 100
A10: 10 | B10: 60 | C10: 100 | D10: 70 | E10: 50 | F10: 60 | G10: 100 | H10: 70 | I10: 60 | J10: 90 | K10: 10 | L10: 100 | M10: 100 | N10: 20 | O10: 0 | P10: 50 | Q10: 0
A11: 11 | B11: 60 | C11: 0 | D11: 60 | E11: 30 | F11: 0 | G11: 30 | H11: 100 | I11: 30 | J11: 100 | K11: 40 | L11: 90 | M11: 0 | N11: 20 | O11: 30 | P11: 10 | Q11: 60
A12: 12 | B12: 70 | C12: 100 | D12: 20 | E12: 80 | F12: 10 | G12: 0 | H12: 30 | I12: 0 | J12: 100 | K12: 100 | L12: 100 | M12: 90 | N12: 90 | O12: 0 | P12: 60 | Q12: 20
... A39: 39 | B39: 40 | C39: 10 | D39: 0 | E39: 20 | F39: 30 | G39: 10 | H39: 50 | I39: 90 | J39: 10 | K39: 70 | L39: 0 | M39: 100 | N39: 70 | O39: 40 | P39: 70 | Q39: 0

Sheet ציון נבחנים
A1: שאלות | B1: =COUNTIF('ציון שאלות'!B:B,">80") -> 16 | C1: =COUNTIF('ציון שאלות'!C:C,">80") -> 12 | D1: =COUNTIF('ציון שאלות'!D:D,">80") -> 9 | E1: =COUNTIF('ציון שאלות'!E:E,">80") -> 12 | F1: =COUNTIF('ציון שאלות'!F:F,">80") -> 6 | G1: =COUNTIF('ציון שאלות'!G:G,">80") -> 13 | H1: =COUNTIF('ציון שאלות'!H:H,">80") -> 13 | I1: =COUNTIF('ציון שאלות'!I:I,">80") -> 12 | J1: =COUNTIF('ציון שאלות'!J:J,">80") -> 10 | K1: =COUNTIF('ציון שאלות'!K:K,">80") -> 10 | L1: =COUNTIF('ציון שאלות'!L:L,">80") -> 13 | M1: =COUNTIF('ציון שאלות'!M:M,">80") -> 12 | N1: =COUNTIF('ציון שאלות'!N:N,">80") -> 18 | O1: =COUNTIF('ציון שאלות'!O:O,">80") -> 12 | P1: =COUNTIF('ציון שאלות'!P:P,">80") -> 13 | Q1: =COUNTIF('ציון שאלות'!Q:Q,">80") -> 9
A2: אחוז | B2: =B1/39 -> 0.41025641 | C2: =C1/39 -> 0.30769231 | D2: =D1/39 -> 0.23076923 | E2: =E1/39 -> 0.30769231 | F2: =F1/39 -> 0.15384615 | G2: =G1/39 -> 0.33333333 | H2: =H1/39 -> 0.33333333 | I2: =I1/39 -> 0.30769231 | ... Q2: =Q1/39 -> 0.23076923
