Workbook

Sheet גליון הזנת נתונים אישיים
B1: הזנת נתונים אישיים
B2: דמי ניהול מההפקדה | C2: 0.0149 | D2: הפרשת עובד ומעביד לפנסיה | F2: הפקדות עד הפרישה | G2: =INDEX('גיליון חישובים'!AR:AR,MATCH(9.99999999999999E+307,'גיליון חישובים'!AR:AR)) -> 290553.6 | J2: גיל | K2: דמי פרישה חודשיים
B3: דמי ניהול מהצבירה | C3: 0.0005 | D3: 0.185 | F3: תשואה בפרישה | G3: =INDEX('גיליון חישובים'!AS:AS,MATCH(9.99999999999999E+307,'גיליון חישובים'!AS:AS)) -> 1224410.9 | I3: דמי פרישה חודשיים צפויים בגיל: | J3: =C8 -> 64 | K3: =VLOOKUP(J3,'גיליון חישובים'!$AA$4:$AN$84,9,FALSE) -> 6691.0932
B4: שכר קובע לפנסיה | C4: 2270 | D4: =C4*D3 -> 419.95 | F4: צבירה בפרישה | G4: =INDEX('גיליון חישובים'!AQ:AQ,MATCH(9.99999999999999E+307,'גיליון חישובים'!AQ:AQ)) -> 1514964.5 | J4: =J3+1 -> 65 | K4: =VLOOKUP(J4,'גיליון חישובים'!$AA$4:$AN$84,9,FALSE) -> 6839.6292
B5: צבירה כעת בפנסיה | C5: 169608 | J5: =J4+1 -> 66 | K5: =VLOOKUP(J5,'גיליון חישובים'!$AA$4:$AN$84,9,FALSE) -> 6991.4698
B6: אחוזי תשואה | C6: 0.08 | J6: =J5+1 -> 67 | K6: =VLOOKUP(J6,'גיליון חישובים'!$AA$4:$AN$84,9,FALSE) -> 7146.6888
B7: גיל | C7: 40 | J7: =J6+1 -> 68 | K7: =VLOOKUP(J7,'גיליון חישובים'!$AA$4:$AN$84,9,FALSE) -> 7305.3611
B8: גיל פרישה | C8: 64 | J8: =J7+1 -> 69 | K8: =VLOOKUP(J8,'גיליון חישובים'!$AA$4:$AN$84,9,FALSE) -> 7467.5637
B9: משיכה שנתית בפרישה | C9: 0.053 | J9: =J8+1 -> 70 | K9: =VLOOKUP(J9,'גיליון חישובים'!$AA$4:$AN$84,9,FALSE) -> 7633.375
J10: =J9+1 -> 71 | K10: =VLOOKUP(J10,'גיליון חישובים'!$AA$4:$AN$84,9,FALSE) -> 7802.8754
J11: =J10+1 -> 72 | K11: =VLOOKUP(J11,'גיליון חישובים'!$AA$4:$AN$84,9,FALSE) -> 7976.147
J12: =J11+1 -> 73 | K12: =VLOOKUP(J12,'גיליון חישובים'!$AA$4:$AN$84,9,FALSE) -> 8153.2736
J13: =J12+1 -> 74 | K13: =VLOOKUP(J13,'גיליון חישובים'!$AA$4:$AN$84,9,FALSE) -> 8334.3411

Sheet גיליון חישובים
AS2: פרישה לפנסיה
AA3: גיל | AB3: שנה | AC3: הפקדה + תשואה - דמי ניהול | AD3: הפקדה + תשואה - דמי ניהול - פרישה | AE3: סה"כ דמי ניהול | AF3: דמי ניהול מההפקדה | AG3: דמי ניהול מהצבירה | AI3: דמי פרישה חודשיים | AJ3: דמי פרישה שנתיים | AL3: הפקדה שנתית בלי הפקדות בפרישה | AM3: הפקדה שנתית | AN3: צבירה | AO3: תשואה | AP3: הפקדה + תשואה
Z4: =IF(AA4>='גליון הזנת נתונים אישיים'!C$8,AS$2,"") | AA4: ='גליון הזנת נתונים אישיים'!C7 -> 40 | AB4: 1.1.2021 | AC4: =AP4-AG4-AF4 -> 185922.64 | AD4: =AC4-SUM(AJ4:AJ4) -> 185922.64 | AE4: =AG4+AF4 -> 2696.5559 | AF4: =AM4*'גליון הזנת נתונים אישיים'!C$2 -> 2602.2463 | AG4: =AP4*'גליון הזנת נתונים אישיים'!C$3 -> 94.309596 | AH4: =IF(Z4=AS$2,AJ4,"") | AI4: =AJ4/12 -> #VALUE! | AJ4: =IF(Z4=AS$2,AC4*'גליון הזנת נתונים אישיים'!C$9,"") | AL4: =IF(Z4=$AS$2,0,AM4) -> 174647.4 | AM4: ='גליון הזנת נתונים אישיים'!D$4*12+'גליון הזנת נתונים אישיים'!C5 -> 174647.4 | AN4: =AL4 -> 174647.4 | AO4: =AN4*'גליון הזנת נתונים אישיים'!C$6 -> 13971.792 | AP4: =AN4+AO4 -> 188619.19 | AQ4: =IF(AA4='גליון הזנת נתונים אישיים'!C$8,AC4,"") | AR4: =IF(AQ4=AC4,SUM(AM3:AM$4),"") | AS4: =IF(AQ4=AC4,AQ4-AR4,"")
Z5: =IF(AA5>='גליון הזנת נתונים אישיים'!C$8,AS$2,"") | AA5: =AA4+1 -> 41 | AB5: 1.1.2022 | AC5: =AP5-AG5-AF5 -> 206060.79 | AD5: =AC5-SUM(AJ5:AJ5) -> 206060.79 | AE5: =AG5+AF5 -> 178.20656 | AF5: =AM5*'גליון הזנת נתונים אישיים'!C$2 -> 75.08706 | AG5: =AP5*'גליון הזנת נתונים אישיים'!C$3 -> 103.1195 | AH5: =IF(Z5=AS$2,AJ5,"") | AI5: =AJ5/12 -> #VALUE! | AJ5: =IF(Z5=AS$2,AC5*'גליון הזנת נתונים אישיים'!C$9,"") | AL5: =IF(Z5=$AS$2,0,AM5) -> 5039.4 | AM5: ='גליון הזנת נתונים אישיים'!D$4*12 -> 5039.4 | AN5: =IF(AL5=AM5,AL5+AD4,AD4) -> 190962.04 | AO5: =AN5*'גליון הזנת נתונים אישיים'!C$6 -> 15276.963 | AP5: =AN5+AO5 -> 206239 | AQ5: =IF(AA5='גליון הזנת נתונים אישיים'!C$8,AC5,"") | AR5: =IF(AQ5=AC5,SUM(AM$4:AM4),"") | AS5: =IF(AQ5=AC5,AQ5-AR5,"")
Z6: =IF(AA6>='גליון הזנת נתונים אישיים'!C$8,AS$2,"") | AA6: =AA5+1 -> 42 | AB6: 1.1.2023 | AC6: =AP6-AG6-AF6 -> 227799.13 | AD6: =AC6-SUM(AJ6:AJ6) -> 227799.13 | AE6: =AG6+AF6 -> 189.08116 | AF6: =AM6*'גליון הזנת נתונים אישיים'!C$2 -> 75.08706 | AG6: =AP6*'גליון הזנת נתונים אישיים'!C$3 -> 113.9941 | AH6: =IF(Z6=AS$2,AJ6,"") | AI6: =AJ6/12 -> #VALUE! | AJ6: =IF(Z6=AS$2,AC6*'גליון הזנת נתונים אישיים'!C$9,"") | AL6: =IF(Z6=$AS$2,0,AM6) -> 5039.4 | AM6: ='גליון הזנת נתונים אישיים'!D$4*12 -> 5039.4 | AN6: =IF(AL6=AM6,AL6+AD5,AD5) -> 211100.19 | AO6: =AN6*'גליון הזנת נתונים אישיים'!C$6 -> 16888.015 | AP6: =AN6+AO6 -> 227988.21 | AQ6: =IF(AA6='גליון הזנת נתונים אישיים'!C$8,AC6,"") | AR6: =IF(AQ6=AC6,SUM(AM$4:AM5),"") | AS6: =IF(AQ6=AC6,AQ6-AR6,"")
Z7: =IF(AA7>='גליון הזנת נתונים אישיים'!C$8,AS$2,"") | AA7: =AA6+1 -> 43 | AB7: 1.1.2024 | AC7: =AP7-AG7-AF7 -> 251264.79 | AD7: =AC7-SUM(AJ7:AJ7) -> 251264.79 | AE7: =AG7+AF7 -> 200.81986 | AF7: =AM7*'גליון הזנת נתונים אישיים'!C$2 -> 75.08706 | AG7: =AP7*'גליון הזנת נתונים אישיים'!C$3 -> 125.7328 | AH7: =IF(Z7=AS$2,AJ7,"") | AI7: =AJ7/12 -> #VALUE! | AJ7: =IF(Z7=AS$2,AC7*'גליון הזנת נתונים אישיים'!C$9,"") | AL7: =IF(Z7=$AS$2,0,AM7) -> 5039.4 | AM7: ='גליון הזנת נתונים אישיים'!D$4*12 -> 5039.4 | AN7: =IF(AL7=AM7,AL7+AD6,AD6) -> 232838.53 | AO7: =AN7*'גליון הזנת נתונים אישיים'!C$6 -> 18627.082 | AP7: =AN7+AO7 -> 251465.61 | AQ7: =IF(AA7='גליון הזנת נתונים אישיים'!C$8,AC7,"") | AR7: =IF(AQ7=AC7,SUM(AM$4:AM6),"") | AS7: =IF(AQ7=AC7,AQ7-AR7,"")
Z8: =IF(AA8>='גליון הזנת נתונים אישיים'!C$8,AS$2,"") | AA8: =AA7+1 -> 44 | AB8: 1.1.2025 | AC8: =AP8-AG8-AF8 -> 276595.03 | AD8: =AC8-SUM(AJ8:AJ8) -> 276595.03 | AE8: =AG8+AF8 -> 213.49132 | AF8: =AM8*'גליון הזנת נתונים אישיים'!C$2 -> 75.08706 | AG8: =AP8*'גליון הזנת נתונים אישיים'!C$3 -> 138.40426 | AH8: =IF(Z8=AS$2,AJ8,"") | AI8: =AJ8/12 -> #VALUE! | AJ8: =IF(Z8=AS$2,AC8*'גליון הזנת נתונים אישיים'!C$9,"") | AL8: =IF(Z8=$AS$2,0,AM8) -> 5039.4 | AM8: ='גליון הזנת נתונים אישיים'!D$4*12 -> 5039.4 | AN8: =IF(AL8=AM8,AL8+AD7,AD7) -> 256304.19 | AO8: =AN8*'גליון הזנת נתונים אישיים'!C$6 -> 20504.335 | AP8: =AN8+AO8 -> 276808.52 | AQ8: =IF(AA8='גליון הזנת נתונים אישיים'!C$8,AC8,"") | AR8: =IF(AQ8=AC8,SUM(AM$4:AM7),"") | AS8: =IF(AQ8=AC8,AQ8-AR8,"")
Z9: =IF(AA9>='גליון הזנת נתונים אישיים'!C$8,AS$2,"") | AA9: =AA8+1 -> 45 | AB9: 1.1.2026 | AC9: =AP9-AG9-AF9 -> 303938.02 | AD9: =AC9-SUM(AJ9:AJ9) -> 303938.02 | AE9: =AG9+AF9 -> 227.16965 | AF9: =AM9*'גליון הזנת נתונים אישיים'!C$2 -> 75.08706 | AG9: =AP9*'גליון הזנת נתונים אישיים'!C$3 -> 152.08259 | AH9: =IF(Z9=AS$2,AJ9,"") | AI9: =AJ9/12 -> #VALUE! | AJ9: =IF(Z9=AS$2,AC9*'גליון הזנת נתונים אישיים'!C$9,"") | AL9: =IF(Z9=$AS$2,0,AM9) -> 5039.4 | AM9: ='גליון הזנת נתונים אישיים'!D$4*12 -> 5039.4 | AN9: =IF(AL9=AM9,AL9+AD8,AD8) -> 281634.43 | AO9: =AN9*'גליון הזנת נתונים אישיים'!C$6 -> 22530.755 | AP9: =AN9+AO9 -> 304165.19 | AQ9: =IF(AA9='גליון הזנת נתונים אישיים'!C$8,AC9,"") | AR9: =IF(AQ9=AC9,SUM(AM$4:AM8),"") | AS9: =IF(AQ9=AC9,AQ9-AR9,"")
Z10: =IF(AA10>='גליון הזנת נתונים אישיים'!C$8,AS$2,"") | AA10: =AA9+1 -> 46 | AB10: 1.1.2027 | AC10: =AP10-AG10-AF10 -> 333453.68 | AD10: =AC10-SUM(AJ10:AJ10) -> 333453.68 | AE10: =AG10+AF10 -> 241.93487 | AF10: =AM10*'גליון הזנת נתונים אישיים'!C$2 -> 75.08706 | AG10: =AP10*'גליון הזנת נתונים אישיים'!C$3 -> 166.84781 | AH10: =IF(Z10=AS$2,AJ10,"") | AI10: =AJ10/12 -> #VALUE! | AJ10: =IF(Z10=AS$2,AC10*'גליון הזנת נתונים אישיים'!C$9,"") | AL10: =IF(Z10=$AS$2,0,AM10) -> 5039.4 | AM10: ='גליון הזנת נתונים אישיים'!D$4*12 -> 5039.4 | AN10: =IF(AL10=AM10,AL10+AD9,AD9) -> 308977.42 | AO10: =AN10*'גליון הזנת נתונים אישיים'!C$6 -> 24718.193 | AP10: =AN10+AO10 -> 333695.61 | AQ10: =IF(AA10='גליון הזנת נתונים אישיים'!C$8,AC10,"") | AR10: =IF(AQ10=AC10,SUM(AM$4:AM9),"") | AS10: =IF(AQ10=AC10,AQ10-AR10,"")
Z11: =IF(AA11>='גליון הזנת נתונים אישיים'!C$8,AS$2,"") | AA11: =AA10+1 -> 47 | AB11: 1.1.2028 | AC11: =AP11-AG11-AF11 -> 365314.65 | AD11: =AC11-SUM(AJ11:AJ11) -> 365314.65 | AE11: =AG11+AF11 -> 257.87332 | AF11: =AM11*'גליון הזנת נתונים אישיים'!C$2 -> 75.08706 | AG11: =AP11*'גליון הזנת נתונים אישיים'!C$3 -> 182.78626 | AH11: =IF(Z11=AS$2,AJ11,"") | AI11: =AJ11/12 -> #VALUE! | AJ11: =IF(Z11=AS$2,AC11*'גליון הזנת נתונים אישיים'!C$9,"") | AL11: =IF(Z11=$AS$2,0,AM11) -> 5039.4 | AM11: ='גליון הזנת נתונים אישיים'!D$4*12 -> 5039.4 | AN11: =IF(AL11=AM11,AL11+AD10,AD10) -> 338493.08 | AO11: =AN11*'גליון הזנת נתונים אישיים'!C$6 -> 27079.446 | AP11: =AN11+AO11 -> 365572.52 | AQ11: =IF(AA11='גליון הזנת נתונים אישיים'!C$8,AC11,"") | AR11: =IF(AQ11=AC11,SUM(AM$4:AM10),"") | AS11: =IF(AQ11=AC11,AQ11-AR11,"")
Z12: =IF(AA12>='גליון הזנת נתונים אישיים'!C$8,AS$2,"") | AA12: =AA11+1 -> 48 | AB12: 1.1.2029 | AC12: =AP12-AG12-AF12 -> 399707.29 | AD12: =AC12-SUM(AJ12:AJ12) -> 399707.29 | AE12: =AG12+AF12 -> 275.07825 | AF12: =AM12*'גליון הזנת נתונים אישיים'!C$2 -> 75.08706 | AG12: =AP12*'גליון הזנת נתונים אישיים'!C$3 -> 199.99119 | AH12: =IF(Z12=AS$2,AJ12,"") | AI12: =AJ12/12 -> #VALUE! | AJ12: =IF(Z12=AS$2,AC12*'גליון הזנת נתונים אישיים'!C$9,"") | AL12: =IF(Z12=$AS$2,0,AM12) -> 5039.4 | AM12: ='גליון הזנת נתונים אישיים'!D$4*12 -> 5039.4 | AN12: =IF(AL12=AM12,AL12+AD11,AD11) -> 370354.05 | AO12: =AN12*'גליון הזנת נתונים אישיים'!C$6 -> 29628.324 | AP12: =AN12+AO12 -> 399982.37 | AQ12: =IF(AA12='גליון הזנת נתונים אישיים'!C$8,AC12,"") | AR12: =IF(AQ12=AC12,SUM(AM$4:AM11),"") | AS12: =IF(AQ12=AC12,AQ12-AR12,"")
Z13: =IF(AA13>='גליון הזנת נתונים אישיים'!C$8,AS$2,"") | AA13: =AA12+1 -> 49 | AB13: 1.1.2030 | AC13: =AP13-AG13-AF13 -> 436832.78 | AD13: =AC13-SUM(AJ13:AJ13) -> 436832.78 | AE13: =AG13+AF13 -> 293.65028 | AF13: =AM13*'גליון הזנת נתונים אישיים'!C$2 -> 75.08706 | AG13: =AP13*'גליון הזנת נתונים אישיים'!C$3 -> 218.56322 | AH13: =IF(Z13=AS$2,AJ13,"") | AI13: =AJ13/12 -> #VALUE! | AJ13: =IF(Z13=AS$2,AC13*'גליון הזנת נתונים אישיים'!C$9,"") | AL13: =IF(Z13=$AS$2,0,AM13) -> 5039.4 | AM13: ='גליון הזנת נתונים אישיים'!D$4*12 -> 5039.4 | AN13: =IF(AL13=AM13,AL13+AD12,AD12) -> 404746.69 | AO13: =AN13*'גליון הזנת נתונים אישיים'!C$6 -> 32379.736 | AP13: =AN13+AO13 -> 437126.43 | AQ13: =IF(AA13='גליון הזנת נתונים אישיים'!C$8,AC13,"") | AR13: =IF(AQ13=AC13,SUM(AM$4:AM12),"") | AS13: =IF(AQ13=AC13,AQ13-AR13,"")
Z14: =IF(AA14>='גליון הזנת נתונים אישיים'!C$8,AS$2,"") | AA14: =AA13+1 -> 50 | AB14: 1.1.2031 | AC14: =AP14-AG14-AF14 -> 476908.26 | AD14: =AC14-SUM(AJ14:AJ14) -> 476908.26 | AE14: =AG14+AF14 -> 313.69804 | AF14: =AM14*'גליון הזנת נתונים אישיים'!C$2 -> 75.08706 | AG14: =AP14*'גליון הזנת נתונים אישיים'!C$3 -> 238.61098 | AH14: =IF(Z14=AS$2,AJ14,"") | AI14: =AJ14/12 -> #VALUE! | AJ14: =IF(Z14=AS$2,AC14*'גליון הזנת נתונים אישיים'!C$9,"") | AL14: =IF(Z14=$AS$2,0,AM14) -> 5039.4 | AM14: ='גליון הזנת נתונים אישיים'!D$4*12 -> 5039.4 | AN14: =IF(AL14=AM14,AL14+AD13,AD13) -> 441872.18 | AO14: =AN14*'גליון הזנת נתונים אישיים'!C$6 -> 35349.774 | AP14: =AN14+AO14 -> 477221.95 | AQ14: =IF(AA14='גליון הזנת נתונים אישיים'!C$8,AC14,"") | AR14: =IF(AQ14=AC14,SUM(AM$4:AM13),"") | AS14: =IF(AQ14=AC14,AQ14-AR14,"")
Z15: =IF(AA15>='גליון הזנת נתונים אישיים'!C$8,AS$2,"") | AA15: =AA14+1 -> 51 | AB15: 1.1.2032 | AC15: =AP15-AG15-AF15 -> 520168.13 | AD15: =AC15-SUM(AJ15:AJ15) -> 520168.13 | AE15: =AG15+AF15 -> 335.33879 | AF15: =AM15*'גליון הזנת נתונים אישיים'!C$2 -> 75.08706 | AG15: =AP15*'גליון הזנת נתונים אישיים'!C$3 -> 260.25173 | AH15: =IF(Z15=AS$2,AJ15,"") | AI15: =AJ15/12 -> #VALUE! | AJ15: =IF(Z15=AS$2,AC15*'גליון הזנת נתונים אישיים'!C$9,"") | AL15: =IF(Z15=$AS$2,0,AM15) -> 5039.4 | AM15: ='גליון הזנת נתונים אישיים'!D$4*12 -> 5039.4 | AN15: =IF(AL15=AM15,AL15+AD14,AD14) -> 481947.66 | AO15: =AN15*'גליון הזנת נתונים אישיים'!C$6 -> 38555.813 | AP15: =AN15+AO15 -> 520503.47 | AQ15: =IF(AA15='גליון הזנת נתונים אישיים'!C$8,AC15,"") | AR15: =IF(AQ15=AC15,SUM(AM$4:AM14),"") | AS15: =IF(AQ15=AC15,AQ15-AR15,"")
Z16: =IF(AA16>='גליון הזנת נתונים אישיים'!C$8,AS$2,"") | AA16: =AA15+1 -> 52 | AB16: 1.1.2033 | AC16: =AP16-AG16-AF16 -> 566865.43 | AD16: =AC16-SUM(AJ16:AJ16) -> 566865.43 | AE16: =AG16+AF16 -> 358.69913 | AF16: =AM16*'גליון הזנת נתונים אישיים'!C$2 -> 75.08706 | AG16: =AP16*'גליון הזנת נתונים אישיים'!C$3 -> 283.61207 | AH16: =IF(Z16=AS$2,AJ16,"") | AI16: =AJ16/12 -> #VALUE! | AJ16: =IF(Z16=AS$2,AC16*'גליון הזנת נתונים אישיים'!C$9,"") | AL16: =IF(Z16=$AS$2,0,AM16) -> 5039.4 | AM16: ='גליון הזנת נתונים אישיים'!D$4*12 -> 5039.4 | AN16: =IF(AL16=AM16,AL16+AD15,AD15) -> 525207.53 | AO16: =AN16*'גליון הזנת נתונים אישיים'!C$6 -> 42016.602 | AP16: =AN16+AO16 -> 567224.13 | AQ16: =IF(AA16='גליון הזנת נתונים אישיים'!C$8,AC16,"") | AR16: =IF(AQ16=AC16,SUM(AM$4:AM15),"") | AS16: =IF(AQ16=AC16,AQ16-AR16,"")
... Z39: =IF(AA39>='גליון הזנת נתונים אישיים'!C$8,AS$2,"") -> פרישה לפנסיה | AA39: =AA38+1 -> 75 | AB39: 1.1.2056 | AC39: =AP39-AG39-AF39 -> 1928929.1 | AD39: =AC39-SUM(AJ39:AJ39) -> 1826695.9 | AE39: =AG39+AF39 -> 1040.0717 | AF39: =AM39*'גליון הזנת נתונים אישיים'!C$2 -> 75.08706 | AG39: =AP39*'גליון הזנת נתונים אישיים'!C$3 -> 964.98461 | AH39: =IF(Z39=AS$2,AJ39,"") -> 102233.24 | AI39: =AJ39/12 -> 8519.437 | AJ39: =IF(Z39=AS$2,AC39*'גליון הזנת נתונים אישיים'!C$9,"") -> 102233.24 | AL39: =IF(Z39=$AS$2,0,AM39) -> 0 | AM39: ='גליון הזנת נתונים אישיים'!D$4*12 -> 5039.4 | AN39: =IF(AL39=AM39,AL39+AD38,AD38) -> 1787008.5 | AO39: =AN39*'גליון הזנת נתונים אישיים'!C$6 -> 142960.68 | AP39: =AN39+AO39 -> 1929969.2 | AQ39: =IF(AA39='גליון הזנת נתונים אישיים'!C$8,AC39,"") | AR39: =IF(AQ39=AC39,SUM(AM$4:AM38),"") | AS39: =IF(AQ39=AC39,AQ39-AR39,"")
Z40: =IF(AA40>='גליון הזנת נתונים אישיים'!C$8,AS$2,"") -> פרישה לפנסיה | AA40: =AA39+1 -> 76 | AB40: 1.1.2057 | AC40: =AP40-AG40-AF40 -> 1971770.1 | AD40: =AC40-SUM(AJ40:AJ40) -> 1867266.3 | AE40: =AG40+AF40 -> 1061.5028 | AF40: =AM40*'גליון הזנת נתונים אישיים'!C$2 -> 75.08706 | AG40: =AP40*'גליון הזנת נתונים אישיים'!C$3 -> 986.41578 | AH40: =IF(Z40=AS$2,AJ40,"") -> 104503.81 | AI40: =AJ40/12 -> 8708.6511 | AJ40: =IF(Z40=AS$2,AC40*'גליון הזנת נתונים אישיים'!C$9,"") -> 104503.81 | AK40: =SUM(AF4:AG40) -> 24176.545 | AL40: =IF(Z40=$AS$2,0,AM40) -> 0 | AM40: ='גליון הזנת נתונים אישיים'!D$4*12 -> 5039.4 | AN40: =IF(AL40=AM40,AL40+AD39,AD39) -> 1826695.9 | AO40: =AN40*'גליון הזנת נתונים אישיים'!C$6 -> 146135.67 | AP40: =AN40+AO40 -> 1972831.6 | AQ40: =IF(AA40='גליון הזנת נתונים אישיים'!C$8,AC40,"") | AR40: =IF(AQ40=AC40,SUM(AM$4:AM39),"") | AS40: =IF(AQ40=AC40,AQ40-AR40,"")
Z41: =IF(AA41>='גליון הזנת נתונים אישיים'!C$8,AS$2,"") -> פרישה לפנסיה | AA41: =AA40+1 -> 77 | AB41: 1.1.2058 | AC41: =AP41-AG41-AF41 -> 2015564.1 | AD41: =AC41-SUM(AJ41:AJ41) -> 1908739.2 | AE41: =AG41+AF41 -> 1083.4108 | AF41: =AM41*'גליון הזנת נתונים אישיים'!C$2 -> 75.08706 | AG41: =AP41*'גליון הזנת נתונים אישיים'!C$3 -> 1008.3238 | AH41: =IF(Z41=AS$2,AJ41,"") -> 106824.9 | AI41: =AJ41/12 -> 8902.075 | AJ41: =IF(Z41=AS$2,AC41*'גליון הזנת נתונים אישיים'!C$9,"") -> 106824.9 | AL41: =IF(Z41=$AS$2,0,AM41) -> 0 | AM41: ='גליון הזנת נתונים אישיים'!D$4*12 -> 5039.4 | AN41: =IF(AL41=AM41,AL41+AD40,AD40) -> 1867266.3 | AO41: =AN41*'גליון הזנת נתונים אישיים'!C$6 -> 149381.3 | AP41: =AN41+AO41 -> 2016647.6 | AQ41: =IF(AA41='גליון הזנת נתונים אישיים'!C$8,AC41,"") | AR41: =IF(AQ41=AC41,SUM(AM$4:AM40),"") | AS41: =IF(AQ41=AC41,AQ41-AR41,"")
Z42: =IF(AA42>='גליון הזנת נתונים אישיים'!C$8,AS$2,"") -> פרישה לפנסיה | AA42: =AA41+1 -> 78 | AB42: 1.1.2059 | AC42: =AP42-AG42-AF42 -> 2060332.6 | AD42: =AC42-SUM(AJ42:AJ42) -> 1951135 | AE42: =AG42+AF42 -> 1105.8063 | AF42: =AM42*'גליון הזנת נתונים אישיים'!C$2 -> 75.08706 | AG42: =AP42*'גליון הזנת נתונים אישיים'!C$3 -> 1030.7192 | AH42: =IF(Z42=AS$2,AJ42,"") -> 109197.63 | AI42: =AJ42/12 -> 9099.8022 | AJ42: =IF(Z42=AS$2,AC42*'גליון הזנת נתונים אישיים'!C$9,"") -> 109197.63 | AL42: =IF(Z42=$AS$2,0,AM42) -> 0 | AM42: ='גליון הזנת נתונים אישיים'!D$4*12 -> 5039.4 | AN42: =IF(AL42=AM42,AL42+AD41,AD41) -> 1908739.2 | AO42: =AN42*'גליון הזנת נתונים אישיים'!C$6 -> 152699.14 | AP42: =AN42+AO42 -> 2061438.4 | AQ42: =IF(AA42='גליון הזנת נתונים אישיים'!C$8,AC42,"") | AR42: =IF(AQ42=AC42,SUM(AM$4:AM41),"") | AS42: =IF(AQ42=AC42,AQ42-AR42,"")
Z43: =IF(AA43>='גליון הזנת נתונים אישיים'!C$8,AS$2,"") -> פרישה לפנסיה | AA43: =AA42+1 -> 79 | AB43: 1.1.2060 | AC43: =AP43-AG43-AF43 -> 2106097 | AD43: =AC43-SUM(AJ43:AJ43) -> 1994473.9 | AE43: =AG43+AF43 -> 1128.6999 | AF43: =AM43*'גליון הזנת נתונים אישיים'!C$2 -> 75.08706 | AG43: =AP43*'גליון הזנת נתונים אישיים'!C$3 -> 1053.6129 | AH43: =IF(Z43=AS$2,AJ43,"") -> 111623.14 | AI43: =AJ43/12 -> 9301.9286 | AJ43: =IF(Z43=AS$2,AC43*'גליון הזנת נתונים אישיים'!C$9,"") -> 111623.14 | AL43: =IF(Z43=$AS$2,0,AM43) -> 0 | AM43: ='גליון הזנת נתונים אישיים'!D$4*12 -> 5039.4 | AN43: =IF(AL43=AM43,AL43+AD42,AD42) -> 1951135 | AO43: =AN43*'גליון הזנת נתונים אישיים'!C$6 -> 156090.8 | AP43: =AN43+AO43 -> 2107225.7 | AQ43: =IF(AA43='גליון הזנת נתונים אישיים'!C$8,AC43,"") | AR43: =IF(AQ43=AC43,SUM(AM$4:AM42),"") | AS43: =IF(AQ43=AC43,AQ43-AR43,"")
Z44: =IF(AA44>='גליון הזנת נתונים אישיים'!C$8,AS$2,"") -> פרישה לפנסיה | AA44: =AA43+1 -> 80 | AB44: 1.1.2061 | AC44: =AP44-AG44-AF44 -> 2152879.7 | AD44: =AC44-SUM(AJ44:AJ44) -> 2038777.1 | AE44: =AG44+AF44 -> 1152.103 | AF44: =AM44*'גליון הזנת נתונים אישיים'!C$2 -> 75.08706 | AG44: =AP44*'גליון הזנת נתונים אישיים'!C$3 -> 1077.0159 | AH44: =IF(Z44=AS$2,AJ44,"") -> 114102.62 | AI44: =AJ44/12 -> 9508.5521 | AJ44: =IF(Z44=AS$2,AC44*'גליון הזנת נתונים אישיים'!C$9,"") -> 114102.62 | AL44: =IF(Z44=$AS$2,0,AM44) -> 0 | AM44: ='גליון הזנת נתונים אישיים'!D$4*12 -> 5039.4 | AN44: =IF(AL44=AM44,AL44+AD43,AD43) -> 1994473.9 | AO44: =AN44*'גליון הזנת נתונים אישיים'!C$6 -> 159557.91 | AP44: =AN44+AO44 -> 2154031.8 | AQ44: =IF(AA44='גליון הזנת נתונים אישיים'!C$8,AC44,"") | AR44: =IF(AQ44=AC44,SUM(AM$4:AM43),"") | AS44: =IF(AQ44=AC44,AQ44-AR44,"")
Z45: =IF(AA45>='גליון הזנת נתונים אישיים'!C$8,AS$2,"") -> פרישה לפנסיה | AA45: =AA44+1 -> 81 | AB45: 1.1.2062 | AC45: =AP45-AG45-AF45 -> 2200703.2 | AD45: =AC45-SUM(AJ45:AJ45) -> 2084066 | AE45: =AG45+AF45 -> 1176.0267 | AF45: =AM45*'גליון הזנת נתונים אישיים'!C$2 -> 75.08706 | AG45: =AP45*'גליון הזנת נתונים אישיים'!C$3 -> 1100.9396 | AH45: =IF(Z45=AS$2,AJ45,"") -> 116637.27 | AI45: =AJ45/12 -> 9719.7726 | AJ45: =IF(Z45=AS$2,AC45*'גליון הזנת נתונים אישיים'!C$9,"") -> 116637.27 | AL45: =IF(Z45=$AS$2,0,AM45) -> 0 | AM45: ='גליון הזנת נתונים אישיים'!D$4*12 -> 5039.4 | AN45: =IF(AL45=AM45,AL45+AD44,AD44) -> 2038777.1 | AO45: =AN45*'גליון הזנת נתונים אישיים'!C$6 -> 163102.17 | AP45: =AN45+AO45 -> 2201879.3 | AQ45: =IF(AA45='גליון הזנת נתונים אישיים'!C$8,AC45,"") | AR45: =IF(AQ45=AC45,SUM(AM$4:AM44),"") | AS45: =IF(AQ45=AC45,AQ45-AR45,"")
Z46: =IF(AA46>='גליון הזנת נתונים אישיים'!C$8,AS$2,"") -> פרישה לפנסיה | AA46: =AA45+1 -> 82 | AB46: 1.1.2063 | AC46: =AP46-AG46-AF46 -> 2249590.8 | AD46: =AC46-SUM(AJ46:AJ46) -> 2130362.4 | AE46: =AG46+AF46 -> 1200.4827 | AF46: =AM46*'גליון הזנת נתונים אישיים'!C$2 -> 75.08706 | AG46: =AP46*'גליון הזנת נתונים אישיים'!C$3 -> 1125.3956 | AH46: =IF(Z46=AS$2,AJ46,"") -> 119228.31 | AI46: =AJ46/12 -> 9935.6925 | AJ46: =IF(Z46=AS$2,AC46*'גליון הזנת נתונים אישיים'!C$9,"") -> 119228.31 | AL46: =IF(Z46=$AS$2,0,AM46) -> 0 | AM46: ='גליון הזנת נתונים אישיים'!D$4*12 -> 5039.4 | AN46: =IF(AL46=AM46,AL46+AD45,AD45) -> 2084066 | AO46: =AN46*'גליון הזנת נתונים אישיים'!C$6 -> 166725.28 | AP46: =AN46+AO46 -> 2250791.2 | AQ46: =IF(AA46='גליון הזנת נתונים אישיים'!C$8,AC46,"") | AR46: =IF(AQ46=AC46,SUM(AM$4:AM45),"") | AS46: =IF(AQ46=AC46,AQ46-AR46,"")
Z47: =IF(AA47>='גליון הזנת נתונים אישיים'!C$8,AS$2,"") -> פרישה לפנסיה | AA47: =AA46+1 -> 83 | AB47: 1.1.2064 | AC47: =AP47-AG47-AF47 -> 2299566 | AD47: =AC47-SUM(AJ47:AJ47) -> 2177689 | AE47: =AG47+AF47 -> 1225.4828 | AF47: =AM47*'גליון הזנת נתונים אישיים'!C$2 -> 75.08706 | AG47: =AP47*'גליון הזנת נתונים אישיים'!C$3 -> 1150.3957 | AH47: =IF(Z47=AS$2,AJ47,"") -> 121877 | AI47: =AJ47/12 -> 10156.416 | AJ47: =IF(Z47=AS$2,AC47*'גליון הזנת נתונים אישיים'!C$9,"") -> 121877 | AL47: =IF(Z47=$AS$2,0,AM47) -> 0 | AM47: ='גליון הזנת נתונים אישיים'!D$4*12 -> 5039.4 | AN47: =IF(AL47=AM47,AL47+AD46,AD46) -> 2130362.4 | AO47: =AN47*'גליון הזנת נתונים אישיים'!C$6 -> 170429 | AP47: =AN47+AO47 -> 2300791.4 | AQ47: =IF(AA47='גליון הזנת נתונים אישיים'!C$8,AC47,"") | AR47: =IF(AQ47=AC47,SUM(AM$4:AM46),"") | AS47: =IF(AQ47=AC47,AQ47-AR47,"")
Z48: =IF(AA48>='גליון הזנת נתונים אישיים'!C$8,AS$2,"") -> פרישה לפנסיה | AA48: =AA47+1 -> 84 | AB48: 1.1.2065 | AC48: =AP48-AG48-AF48 -> 2350653 | AD48: =AC48-SUM(AJ48:AJ48) -> 2226068.4 | AE48: =AG48+AF48 -> 1251.0391 | AF48: =AM48*'גליון הזנת נתונים אישיים'!C$2 -> 75.08706 | AG48: =AP48*'גליון הזנת נתונים אישיים'!C$3 -> 1175.952 | AH48: =IF(Z48=AS$2,AJ48,"") -> 124584.61 | AI48: =AJ48/12 -> 10382.051 | AJ48: =IF(Z48=AS$2,AC48*'גליון הזנת נתונים אישיים'!C$9,"") -> 124584.61 | AL48: =IF(Z48=$AS$2,0,AM48) -> 0 | AM48: ='גליון הזנת נתונים אישיים'!D$4*12 -> 5039.4 | AN48: =IF(AL48=AM48,AL48+AD47,AD47) -> 2177689 | AO48: =AN48*'גליון הזנת נתונים אישיים'!C$6 -> 174215.12 | AP48: =AN48+AO48 -> 2351904.1 | AQ48: =IF(AA48='גליון הזנת נתונים אישיים'!C$8,AC48,"") | AR48: =IF(AQ48=AC48,SUM(AM$4:AM47),"") | AS48: =IF(AQ48=AC48,AQ48-AR48,"")
Z49: =IF(AA49>='גליון הזנת נתונים אישיים'!C$8,AS$2,"") -> פרישה לפנסיה | AA49: =AA48+1 -> 85 | AB49: 1.1.2066 | AC49: =AP49-AG49-AF49 -> 2402876.7 | AD49: =AC49-SUM(AJ49:AJ49) -> 2275524.3 | AE49: =AG49+AF49 -> 1277.164 | AF49: =AM49*'גליון הזנת נתונים אישיים'!C$2 -> 75.08706 | AG49: =AP49*'גליון הזנת נתונים אישיים'!C$3 -> 1202.0769 | AH49: =IF(Z49=AS$2,AJ49,"") -> 127352.47 | AI49: =AJ49/12 -> 10612.706 | AJ49: =IF(Z49=AS$2,AC49*'גליון הזנת נתונים אישיים'!C$9,"") -> 127352.47 | AL49: =IF(Z49=$AS$2,0,AM49) -> 0 | AM49: ='גליון הזנת נתונים אישיים'!D$4*12 -> 5039.4 | AN49: =IF(AL49=AM49,AL49+AD48,AD48) -> 2226068.4 | AO49: =AN49*'גליון הזנת נתונים אישיים'!C$6 -> 178085.47 | AP49: =AN49+AO49 -> 2404153.9 | AQ49: =IF(AA49='גליון הזנת נתונים אישיים'!C$8,AC49,"") | AR49: =IF(AQ49=AC49,SUM(AM$4:AM48),"") | AS49: =IF(AQ49=AC49,AQ49-AR49,"")
Z50: =IF(AA50>='גליון הזנת נתונים אישיים'!C$8,AS$2,"") -> פרישה לפנסיה | AA50: =AA49+1 -> 86 | AB50: 1.1.2067 | AC50: =AP50-AG50-AF50 -> 2456262.3 | AD50: =AC50-SUM(AJ50:AJ50) -> 2326080.4 | AE50: =AG50+AF50 -> 1303.8702 | AF50: =AM50*'גליון הזנת נתונים אישיים'!C$2 -> 75.08706 | AG50: =AP50*'גליון הזנת נתונים אישיים'!C$3 -> 1228.7831 | AH50: =IF(Z50=AS$2,AJ50,"") -> 130181.9 | AI50: =AJ50/12 -> 10848.492 | AJ50: =IF(Z50=AS$2,AC50*'גליון הזנת נתונים אישיים'!C$9,"") -> 130181.9 | AL50: =IF(Z50=$AS$2,0,AM50) -> 0 | AM50: ='גליון הזנת נתונים אישיים'!D$4*12 -> 5039.4 | AN50: =IF(AL50=AM50,AL50+AD49,AD49) -> 2275524.3 | AO50: =AN50*'גליון הזנת נתונים אישיים'!C$6 -> 182041.94 | AP50: =AN50+AO50 -> 2457566.2 | AQ50: =IF(AA50='גליון הזנת נתונים אישיים'!C$8,AC50,"") | AR50: =IF(AQ50=AC50,SUM(AM$4:AM49),"") | AS50: =IF(AQ50=AC50,AQ50-AR50,"")
Z51: =IF(AA51>='גליון הזנת נתונים אישיים'!C$8,AS$2,"") -> פרישה לפנסיה | AA51: =AA50+1 -> 87 | AB51: 1.1.2068 | AC51: =AP51-AG51-AF51 -> 2510835.7 | AD51: =AC51-SUM(AJ51:AJ51) -> 2377761.4 | AE51: =AG51+AF51 -> 1331.1705 | AF51: =AM51*'גליון הזנת נתונים אישיים'!C$2 -> 75.08706 | AG51: =AP51*'גליון הזנת נתונים אישיים'!C$3 -> 1256.0834 | AH51: =IF(Z51=AS$2,AJ51,"") -> 133074.29 | AI51: =AJ51/12 -> 11089.524 | AJ51: =IF(Z51=AS$2,AC51*'גליון הזנת נתונים אישיים'!C$9,"") -> 133074.29 | AL51: =IF(Z51=$AS$2,0,AM51) -> 0 | AM51: ='גליון הזנת נתונים אישיים'!D$4*12 -> 5039.4 | AN51: =IF(AL51=AM51,AL51+AD50,AD50) -> 2326080.4 | AO51: =AN51*'גליון הזנת נתונים אישיים'!C$6 -> 186086.43 | AP51: =AN51+AO51 -> 2512166.9 | AQ51: =IF(AA51='גליון הזנת נתונים אישיים'!C$8,AC51,"") | AR51: =IF(AQ51=AC51,SUM(AM$4:AM50),"") | AS51: =IF(AQ51=AC51,AQ51-AR51,"")
Z52: =IF(AA52>='גליון הזנת נתונים אישיים'!C$8,AS$2,"") -> פרישה לפנסיה | AA52: =AA51+1 -> 88 | AB52: 1.1.2069 | AC52: =AP52-AG52-AF52 -> 2566623.2 | AD52: =AC52-SUM(AJ52:AJ52) -> 2430592.2 | AE52: =AG52+AF52 -> 1359.0782 | AF52: =AM52*'גליון הזנת נתונים אישיים'!C$2 -> 75.08706 | AG52: =AP52*'גליון הזנת נתונים אישיים'!C$3 -> 1283.9912 | AH52: =IF(Z52=AS$2,AJ52,"") -> 136031.03 | AI52: =AJ52/12 -> 11335.919 | AJ52: =IF(Z52=AS$2,AC52*'גליון הזנת נתונים אישיים'!C$9,"") -> 136031.03 | AL52: =IF(Z52=$AS$2,0,AM52) -> 0 | AM52: ='גליון הזנת נתונים אישיים'!D$4*12 -> 5039.4 | AN52: =IF(AL52=AM52,AL52+AD51,AD51) -> 2377761.4 | AO52: =AN52*'גליון הזנת נתונים אישיים'!C$6 -> 190220.91 | AP52: =AN52+AO52 -> 2567982.3 | AQ52: =IF(AA52='גליון הזנת נתונים אישיים'!C$8,AC52,"") | AR52: =IF(AQ52=AC52,SUM(AM$4:AM51),"") | AS52: =IF(AQ52=AC52,AQ52-AR52,"")
... Z84: =IF(AA84>='גליון הזנת נתונים אישיים'!C$8,AS$2,"") -> פרישה לפנסיה | AA84: =AA83+1 -> 120 | AB84: 1.1.2101 | AC84: =AP84-AG84-AF84 -> 5186596 | AD84: =AC84-SUM(AJ84:AJ84) -> 4911706.5 | AE84: =AG84+AF84 -> 2669.7199 | AF84: =AM84*'גליון הזנת נתונים אישיים'!C$2 -> 75.08706 | AG84: =AP84*'גליון הזנת נתונים אישיים'!C$3 -> 2594.6329 | AH84: =IF(Z84=AS$2,AJ84,"") -> 274889.59 | AI84: =AJ84/12 -> 22907.466 | AJ84: =IF(Z84=AS$2,AC84*'גליון הזנת נתונים אישיים'!C$9,"") -> 274889.59 | AL84: =IF(Z84=$AS$2,0,AM84) -> 0 | AM84: ='גליון הזנת נתונים אישיים'!D$4*12 -> 5039.4 | AN84: =IF(AL84=AM84,AL84+AD83,AD83) -> 4804875.7 | AO84: =AN84*'גליון הזנת נתונים אישיים'!C$6 -> 384390.06 | AP84: =AN84+AO84 -> 5189265.8 | AQ84: =IF(AA84='גליון הזנת נתונים אישיים'!C$8,AC84,"") | AR84: =IF(AQ84=AC84,SUM(AM$4:AM83),"") | AS84: =IF(AQ84=AC84,AQ84-AR84,"")
