Workbook

Sheet גליון הזנת נתונים אישיים
B1: הזנת נתונים אישיים
C2: קרן השתלמות במעמד עצמאי | D2: תיק השקעות | G2: קרן השתלמות במעמד עצמאי | H2: תיק השקעות
B3: דמי ניהול | C3: 0.005 | F3: הפקדות עד משיכה | G3: =INDEX('גיליון חישובים קרן השתלמות'!AN:AN,MATCH(9.99999999999999E+307,'גיליון חישובים קרן השתלמות'!AN:AN)) -> 517440 | H3: =INDEX('גיליון חישובים תיק השקעות'!AP:AP,MATCH(9.99999999999999E+307,'גיליון חישובים תיק השקעות'!AP:AP)) -> 517440
B4: תשלום חודשי | D4: 30 | F4: תשואה עד משיכה | G4: =INDEX('גיליון חישובים קרן השתלמות'!AO:AO,MATCH(9.99999999999999E+307,'גיליון חישובים קרן השתלמות'!AO:AO)) -> 520951.93 | H4: =INDEX('גיליון חישובים תיק השקעות'!AQ:AQ,MATCH(9.99999999999999E+307,'גיליון חישובים תיק השקעות'!AQ:AQ)) -> 594778.79
B5: סכום הפקדה | C5: 18480 | D5: =C5 -> 18480 | F5: צבירה במשיכה לאחר ניכוי דמי ניהול | G5: =INDEX('גיליון חישובים קרן השתלמות'!AM:AM,MATCH(9.99999999999999E+307,'גיליון חישובים קרן השתלמות'!AM:AM)) -> 1038391.9 | H5: =INDEX('גיליון חישובים תיק השקעות'!AO:AO,MATCH(9.99999999999999E+307,'גיליון חישובים תיק השקעות'!AO:AO)) -> 1112218.8
B6: צבירה כעת בקרן השתלמות | D6: =C6 -> 0 | F6: דמי ניהול שישולמו עד למשיכה ראשונה | G6: =INDEX('גיליון חישובים קרן השתלמות'!AP:AP,MATCH(9.99999999999999E+307,'גיליון חישובים קרן השתלמות'!AP:AP)) -> 61117.266 | H6: =INDEX('גיליון חישובים תיק השקעות'!AS:AS,MATCH(9.99999999999999E+307,'גיליון חישובים תיק השקעות'!AS:AS)) -> 10440
B7: אחוזי תשואה | C7: 0.05 | D7: =C7 -> 0.05 | F7: תשואה לאחר ניכוי עליית מדד | H7: =H4-INDEX('גיליון חישובים תיק השקעות'!AR:AR,MATCH(9.99999999999999E+307,'גיליון חישובים תיק השקעות'!AR:AR)) -> 316993.42
B8: שנת תחילת ההפרשה | C8: 2021 | D8: =C8 -> 2021 | F8: מס 25% ריאלי במשיכה | H8: =H7*25% -> 79248.355
B9: משיכה בשנת | C9: 2049 | D9: =C9 -> 2049 | F9: משיכה נטו | G9: =G5 -> 1038391.9 | H9: =H5-H8 -> 1032970.4
B10: עליית מדד המחירים שנתית צפויה | D10: 0.02
C11: הזנת נתונים אישיים
E17: הטבלה מיועדת כדי לתת מבט כללי כמה תשואה, דמי ניהול ומס רווח הון קרטיים לגובה החיסכון בתיק השקעות או בקרן השתלמות. (הטבלה מיועדת רק למי שקרן השתלמות היא כלי לחיסכון. ולא למי שמעוניין לצאת לשנת שבתון)
E18: כמו"כ הטבלה תתן השוואה מה ריווחי יותר קרן השתלמות עם תשלום דמי ניהול גבוהים, או פתיחת תיק השקעות עם תשלום מס 25% ריאלי.
E19: הטבלה אינה יכולה להיות מדויקת מכמה סיבות:
B20: © | E20: א. כי לא נוכל לדעת מראש כמה תשואה תעניק לנו הקרן.
B21: ארי בכרמים | E21: ב. כי לא נוכל לדעת מראש בכמה יעלה מדד המחירים לצרכן.
B22: Aribakramim@gmail.com | E22: ג. הטבלה לא מחשבת הוצאות ניהול השקעה. (זהו סעיף זניח הקיים בקרן השתלמות)

Sheet גיליון חישובים קרן השתלמות
AO2: משיכה
AA3: שנה | AB3: משיכה חודשית | AD3: הפקדה שנתית | AE3: צבירה | AF3: תשואה | AG3: הפקדה + תשואה | AH3: דמי ניהול | AI3: הפקדה + תשואה - דמי ניהול | AJ3: משיכה שנתית | AK3: הפקדה + תשואה - דמי ניהול - משיכה | AL3: סיכום דמי הניהול | AM3: צבירה | AN3: הפקדה | AO3: תשואה | AP3: דמי ניהול
Z4: =IF(AA4>='גליון הזנת נתונים אישיים'!C$9,AO$2,"") | AA4: ='גליון הזנת נתונים אישיים'!C8 -> 2021 | AB4: =AJ4/12 -> #VALUE! | AD4: ='גליון הזנת נתונים אישיים'!C$5+'גליון הזנת נתונים אישיים'!C$6 -> 18480 | AE4: =AD4 -> 18480 | AF4: =AE4*'גליון הזנת נתונים אישיים'!C$7 -> 924 | AG4: =AE4+AF4 -> 19404 | AH4: =AG4*'גליון הזנת נתונים אישיים'!C$3 -> 97.02 | AI4: =AG4-AH4 -> 19306.98 | AJ4: =IF(Z4=AO$2,AK3*'גליון הזנת נתונים אישיים'!#REF!,"") | AK4: =AI4-SUM(AJ4) -> 19306.98 | AL4: =SUM(AH$4:AH4) -> 97.02 | AM4: =IF(AA4='גליון הזנת נתונים אישיים'!C$9,AI4,"") | AN4: =IF(AM4=AI4,SUM(AD3:AD$4),"") | AO4: =IF(AM4=AI4,AM4-AN4,"") | AP4: =IF(AM4=AI3,AL3,"")
Z5: =IF(AA5>='גליון הזנת נתונים אישיים'!C$9,AO$2,"") | AA5: =AA4+1 -> 2022 | AB5: =AJ5/12 -> #VALUE! | AD5: ='גליון הזנת נתונים אישיים'!C$5 -> 18480 | AE5: =AD5+AK4 -> 37786.98 | AF5: =AE5*'גליון הזנת נתונים אישיים'!C$7 -> 1889.349 | AG5: =AE5+AF5 -> 39676.329 | AH5: =AG5*'גליון הזנת נתונים אישיים'!C$3 -> 198.38164 | AI5: =AG5-AH5 -> 39477.947 | AJ5: =IF(Z5=AO$2,AK4*'גליון הזנת נתונים אישיים'!#REF!,"") | AK5: =AI5-SUM(AJ5) -> 39477.947 | AL5: =SUM(AH$4:AH5) -> 295.40164 | AM5: =IF(AA5='גליון הזנת נתונים אישיים'!C$9,AI4,"") | AN5: =IF(AM5=AI4,SUM(AD4:AD$4),"") | AO5: =IF(AM5=AI4,AM5-AN5,"") | AP5: =IF(AM5=AI4,AL4,"")
Z6: =IF(AA6>='גליון הזנת נתונים אישיים'!C$9,AO$2,"") | AA6: =AA5+1 -> 2023 | AB6: =AJ6/12 -> #VALUE! | AD6: ='גליון הזנת נתונים אישיים'!C$5 -> 18480 | AE6: =AD6+AK5 -> 57957.947 | AF6: =AE6*'גליון הזנת נתונים אישיים'!C$7 -> 2897.8974 | AG6: =AE6+AF6 -> 60855.845 | AH6: =AG6*'גליון הזנת נתונים אישיים'!C$3 -> 304.27922 | AI6: =AG6-AH6 -> 60551.565 | AJ6: =IF(Z6=AO$2,AK5*'גליון הזנת נתונים אישיים'!#REF!,"") | AK6: =AI6-SUM(AJ6) -> 60551.565 | AL6: =SUM(AH$4:AH6) -> 599.68087 | AM6: =IF(AA6='גליון הזנת נתונים אישיים'!C$9,AI5,"") | AN6: =IF(AM6=AI5,SUM(AD$4:AD5),"") | AO6: =IF(AM6=AI5,AM6-AN6,"") | AP6: =IF(AM6=AI5,AL5,"")
Z7: =IF(AA7>='גליון הזנת נתונים אישיים'!C$9,AO$2,"") | AA7: =AA6+1 -> 2024 | AB7: =AJ7/12 -> #VALUE! | AD7: ='גליון הזנת נתונים אישיים'!C$5 -> 18480 | AE7: =AD7+AK6 -> 79031.565 | AF7: =AE7*'גליון הזנת נתונים אישיים'!C$7 -> 3951.5783 | AG7: =AE7+AF7 -> 82983.144 | AH7: =AG7*'גליון הזנת נתונים אישיים'!C$3 -> 414.91572 | AI7: =AG7-AH7 -> 82568.228 | AJ7: =IF(Z7=AO$2,AK6*'גליון הזנת נתונים אישיים'!#REF!,"") | AK7: =AI7-SUM(AJ7) -> 82568.228 | AL7: =SUM(AH$4:AH7) -> 1014.5966 | AM7: =IF(AA7='גליון הזנת נתונים אישיים'!C$9,AI6,"") | AN7: =IF(AM7=AI6,SUM(AD$4:AD6),"") | AO7: =IF(AM7=AI6,AM7-AN7,"") | AP7: =IF(AM7=AI6,AL6,"")
Z8: =IF(AA8>='גליון הזנת נתונים אישיים'!C$9,AO$2,"") | AA8: =AA7+1 -> 2025 | AB8: =AJ8/12 -> #VALUE! | AD8: ='גליון הזנת נתונים אישיים'!C$5 -> 18480 | AE8: =AD8+AK7 -> 101048.23 | AF8: =AE8*'גליון הזנת נתונים אישיים'!C$7 -> 5052.4114 | AG8: =AE8+AF8 -> 106100.64 | AH8: =AG8*'גליון הזנת נתונים אישיים'!C$3 -> 530.5032 | AI8: =AG8-AH8 -> 105570.14 | AJ8: =IF(Z8=AO$2,AK7*'גליון הזנת נתונים אישיים'!#REF!,"") | AK8: =AI8-SUM(AJ8) -> 105570.14 | AL8: =SUM(AH$4:AH8) -> 1545.0998 | AM8: =IF(AA8='גליון הזנת נתונים אישיים'!C$9,AI7,"") | AN8: =IF(AM8=AI7,SUM(AD$4:AD7),"") | AO8: =IF(AM8=AI7,AM8-AN8,"") | AP8: =IF(AM8=AI7,AL7,"")
Z9: =IF(AA9>='גליון הזנת נתונים אישיים'!C$9,AO$2,"") | AA9: =AA8+1 -> 2026 | AB9: =AJ9/12 -> #VALUE! | AD9: ='גליון הזנת נתונים אישיים'!C$5 -> 18480 | AE9: =AD9+AK8 -> 124050.14 | AF9: =AE9*'גליון הזנת נתונים אישיים'!C$7 -> 6202.5068 | AG9: =AE9+AF9 -> 130252.64 | AH9: =AG9*'גליון הזנת נתונים אישיים'!C$3 -> 651.26322 | AI9: =AG9-AH9 -> 129601.38 | AJ9: =IF(Z9=AO$2,AK8*'גליון הזנת נתונים אישיים'!#REF!,"") | AK9: =AI9-SUM(AJ9) -> 129601.38 | AL9: =SUM(AH$4:AH9) -> 2196.363 | AM9: =IF(AA9='גליון הזנת נתונים אישיים'!C$9,AI8,"") | AN9: =IF(AM9=AI8,SUM(AD$4:AD8),"") | AO9: =IF(AM9=AI8,AM9-AN9,"") | AP9: =IF(AM9=AI8,AL8,"")
Z10: =IF(AA10>='גליון הזנת נתונים אישיים'!C$9,AO$2,"") | AA10: =AA9+1 -> 2027 | AB10: =AJ10/12 -> #VALUE! | AD10: ='גליון הזנת נתונים אישיים'!C$5 -> 18480 | AE10: =AD10+AK9 -> 148081.38 | AF10: =AE10*'גליון הזנת נתונים אישיים'!C$7 -> 7404.069 | AG10: =AE10+AF10 -> 155485.45 | AH10: =AG10*'גליון הזנת נתונים אישיים'!C$3 -> 777.42724 | AI10: =AG10-AH10 -> 154708.02 | AJ10: =IF(Z10=AO$2,AK9*'גליון הזנת נתונים אישיים'!#REF!,"") | AK10: =AI10-SUM(AJ10) -> 154708.02 | AL10: =SUM(AH$4:AH10) -> 2973.7902 | AM10: =IF(AA10='גליון הזנת נתונים אישיים'!C$9,AI9,"") | AN10: =IF(AM10=AI9,SUM(AD$4:AD9),"") | AO10: =IF(AM10=AI9,AM10-AN10,"") | AP10: =IF(AM10=AI9,AL9,"")
Z11: =IF(AA11>='גליון הזנת נתונים אישיים'!C$9,AO$2,"") | AA11: =AA10+1 -> 2028 | AB11: =AJ11/12 -> #VALUE! | AD11: ='גליון הזנת נתונים אישיים'!C$5 -> 18480 | AE11: =AD11+AK10 -> 173188.02 | AF11: =AE11*'גליון הזנת נתונים אישיים'!C$7 -> 8659.4011 | AG11: =AE11+AF11 -> 181847.42 | AH11: =AG11*'גליון הזנת נתונים אישיים'!C$3 -> 909.23711 | AI11: =AG11-AH11 -> 180938.19 | AJ11: =IF(Z11=AO$2,AK10*'גליון הזנת נתונים אישיים'!#REF!,"") | AK11: =AI11-SUM(AJ11) -> 180938.19 | AL11: =SUM(AH$4:AH11) -> 3883.0274 | AM11: =IF(AA11='גליון הזנת נתונים אישיים'!C$9,AI10,"") | AN11: =IF(AM11=AI10,SUM(AD$4:AD10),"") | AO11: =IF(AM11=AI10,AM11-AN11,"") | AP11: =IF(AM11=AI10,AL10,"")
Z12: =IF(AA12>='גליון הזנת נתונים אישיים'!C$9,AO$2,"") | AA12: =AA11+1 -> 2029 | AB12: =AJ12/12 -> #VALUE! | AD12: ='גליון הזנת נתונים אישיים'!C$5 -> 18480 | AE12: =AD12+AK11 -> 199418.19 | AF12: =AE12*'גליון הזנת נתונים אישיים'!C$7 -> 9970.9093 | AG12: =AE12+AF12 -> 209389.09 | AH12: =AG12*'גליון הזנת נתונים אישיים'!C$3 -> 1046.9455 | AI12: =AG12-AH12 -> 208342.15 | AJ12: =IF(Z12=AO$2,AK11*'גליון הזנת נתונים אישיים'!#REF!,"") | AK12: =AI12-SUM(AJ12) -> 208342.15 | AL12: =SUM(AH$4:AH12) -> 4929.9728 | AM12: =IF(AA12='גליון הזנת נתונים אישיים'!C$9,AI11,"") | AN12: =IF(AM12=AI11,SUM(AD$4:AD11),"") | AO12: =IF(AM12=AI11,AM12-AN12,"") | AP12: =IF(AM12=AI11,AL11,"")
Z13: =IF(AA13>='גליון הזנת נתונים אישיים'!C$9,AO$2,"") | AA13: =AA12+1 -> 2030 | AB13: =AJ13/12 -> #VALUE! | AD13: ='גליון הזנת נתונים אישיים'!C$5 -> 18480 | AE13: =AD13+AK12 -> 226822.15 | AF13: =AE13*'גליון הזנת נתונים אישיים'!C$7 -> 11341.107 | AG13: =AE13+AF13 -> 238163.26 | AH13: =AG13*'גליון הזנת נתונים אישיים'!C$3 -> 1190.8163 | AI13: =AG13-AH13 -> 236972.44 | AJ13: =IF(Z13=AO$2,AK12*'גליון הזנת נתונים אישיים'!#REF!,"") | AK13: =AI13-SUM(AJ13) -> 236972.44 | AL13: =SUM(AH$4:AH13) -> 6120.7891 | AM13: =IF(AA13='גליון הזנת נתונים אישיים'!C$9,AI12,"") | AN13: =IF(AM13=AI12,SUM(AD$4:AD12),"") | AO13: =IF(AM13=AI12,AM13-AN13,"") | AP13: =IF(AM13=AI12,AL12,"")
Z14: =IF(AA14>='גליון הזנת נתונים אישיים'!C$9,AO$2,"") | AA14: =AA13+1 -> 2031 | AB14: =AJ14/12 -> #VALUE! | AD14: ='גליון הזנת נתונים אישיים'!C$5 -> 18480 | AE14: =AD14+AK13 -> 255452.44 | AF14: =AE14*'גליון הזנת נתונים אישיים'!C$7 -> 12772.622 | AG14: =AE14+AF14 -> 268225.06 | AH14: =AG14*'גליון הזנת נתונים אישיים'!C$3 -> 1341.1253 | AI14: =AG14-AH14 -> 266883.94 | AJ14: =IF(Z14=AO$2,AK13*'גליון הזנת נתונים אישיים'!#REF!,"") | AK14: =AI14-SUM(AJ14) -> 266883.94 | AL14: =SUM(AH$4:AH14) -> 7461.9144 | AM14: =IF(AA14='גליון הזנת נתונים אישיים'!C$9,AI13,"") | AN14: =IF(AM14=AI13,SUM(AD$4:AD13),"") | AO14: =IF(AM14=AI13,AM14-AN14,"") | AP14: =IF(AM14=AI13,AL13,"")
Z15: =IF(AA15>='גליון הזנת נתונים אישיים'!C$9,AO$2,"") | AA15: =AA14+1 -> 2032 | AB15: =AJ15/12 -> #VALUE! | AD15: ='גליון הזנת נתונים אישיים'!C$5 -> 18480 | AE15: =AD15+AK14 -> 285363.94 | AF15: =AE15*'גליון הזנת נתונים אישיים'!C$7 -> 14268.197 | AG15: =AE15+AF15 -> 299632.13 | AH15: =AG15*'גליון הזנת נתונים אישיים'!C$3 -> 1498.1607 | AI15: =AG15-AH15 -> 298133.97 | AJ15: =IF(Z15=AO$2,AK14*'גליון הזנת נתונים אישיים'!#REF!,"") | AK15: =AI15-SUM(AJ15) -> 298133.97 | AL15: =SUM(AH$4:AH15) -> 8960.0751 | AM15: =IF(AA15='גליון הזנת נתונים אישיים'!C$9,AI14,"") | AN15: =IF(AM15=AI14,SUM(AD$4:AD14),"") | AO15: =IF(AM15=AI14,AM15-AN15,"") | AP15: =IF(AM15=AI14,AL14,"")
Z16: =IF(AA16>='גליון הזנת נתונים אישיים'!C$9,AO$2,"") | AA16: =AA15+1 -> 2033 | AB16: =AJ16/12 -> #VALUE! | AD16: ='גליון הזנת נתונים אישיים'!C$5 -> 18480 | AE16: =AD16+AK15 -> 316613.97 | AF16: =AE16*'גליון הזנת נתונים אישיים'!C$7 -> 15830.699 | AG16: =AE16+AF16 -> 332444.67 | AH16: =AG16*'גליון הזנת נתונים אישיים'!C$3 -> 1662.2234 | AI16: =AG16-AH16 -> 330782.45 | AJ16: =IF(Z16=AO$2,AK15*'גליון הזנת נתונים אישיים'!#REF!,"") | AK16: =AI16-SUM(AJ16) -> 330782.45 | AL16: =SUM(AH$4:AH16) -> 10622.298 | AM16: =IF(AA16='גליון הזנת נתונים אישיים'!C$9,AI15,"") | AN16: =IF(AM16=AI15,SUM(AD$4:AD15),"") | AO16: =IF(AM16=AI15,AM16-AN16,"") | AP16: =IF(AM16=AI15,AL15,"")
Z17: =IF(AA17>='גליון הזנת נתונים אישיים'!C$9,AO$2,"") | AA17: =AA16+1 -> 2034 | AB17: =AJ17/12 -> #VALUE! | AD17: ='גליון הזנת נתונים אישיים'!C$5 -> 18480 | AE17: =AD17+AK16 -> 349262.45 | AF17: =AE17*'גליון הזנת נתונים אישיים'!C$7 -> 17463.122 | AG17: =AE17+AF17 -> 366725.57 | AH17: =AG17*'גליון הזנת נתונים אישיים'!C$3 -> 1833.6279 | AI17: =AG17-AH17 -> 364891.94 | AJ17: =IF(Z17=AO$2,AK16*'גליון הזנת נתונים אישיים'!#REF!,"") | AK17: =AI17-SUM(AJ17) -> 364891.94 | AL17: =SUM(AH$4:AH17) -> 12455.926 | AM17: =IF(AA17='גליון הזנת נתונים אישיים'!C$9,AI16,"") | AN17: =IF(AM17=AI16,SUM(AD$4:AD16),"") | AO17: =IF(AM17=AI16,AM17-AN17,"") | AP17: =IF(AM17=AI16,AL16,"")
... Z39: =IF(AA39>='גליון הזנת נתונים אישיים'!C$9,AO$2,"") -> משיכה | AA39: =AA38+1 -> 2056 | AB39: =AJ39/12 -> #REF! | AD39: ='גליון הזנת נתונים אישיים'!C$5 -> 18480 | AE39: =AD39+AK38 -> #REF! | AF39: =AE39*'גליון הזנת נתונים אישיים'!C$7 -> #REF! | AG39: =AE39+AF39 -> #REF! | AH39: =AG39*'גליון הזנת נתונים אישיים'!C$3 -> #REF! | AI39: =AG39-AH39 -> #REF! | AJ39: =IF(Z39=AO$2,AK38*'גליון הזנת נתונים אישיים'!#REF!,"") -> #REF! | AK39: =AI39-SUM(AJ39) -> #REF! | AL39: =SUM(AH$4:AH39) -> #REF! | AM39: =IF(AA39='גליון הזנת נתונים אישיים'!C$9,AI38,"") | AN39: =IF(AM39=AI38,SUM(AD$4:AD38),"") -> #REF! | AO39: =IF(AM39=AI38,AM39-AN39,"") -> #REF! | AP39: =IF(AM39=AI38,AL38,"") -> #REF!
Z40: =IF(AA40>='גליון הזנת נתונים אישיים'!C$9,AO$2,"") -> משיכה | AA40: =AA39+1 -> 2057 | AB40: =AJ40/12 -> #REF! | AC40: =SUM(AH4:AH40) -> #REF! | AD40: ='גליון הזנת נתונים אישיים'!C$5 -> 18480 | AE40: =AD40+AK39 -> #REF! | AF40: =AE40*'גליון הזנת נתונים אישיים'!C$7 -> #REF! | AG40: =AE40+AF40 -> #REF! | AH40: =AG40*'גליון הזנת נתונים אישיים'!C$3 -> #REF! | AI40: =AG40-AH40 -> #REF! | AJ40: =IF(Z40=AO$2,AK39*'גליון הזנת נתונים אישיים'!#REF!,"") -> #REF! | AK40: =AI40-SUM(AJ40) -> #REF! | AL40: =SUM(AH$4:AH40) -> #REF! | AM40: =IF(AA40='גליון הזנת נתונים אישיים'!C$9,AI39,"") | AN40: =IF(AM40=AI39,SUM(AD$4:AD39),"") -> #REF! | AO40: =IF(AM40=AI39,AM40-AN40,"") -> #REF! | AP40: =IF(AM40=AI39,AL39,"") -> #REF!
Z41: =IF(AA41>='גליון הזנת נתונים אישיים'!C$9,AO$2,"") -> משיכה | AA41: =AA40+1 -> 2058 | AB41: =AJ41/12 -> #REF! | AD41: ='גליון הזנת נתונים אישיים'!C$5 -> 18480 | AE41: =AD41+AK40 -> #REF! | AF41: =AE41*'גליון הזנת נתונים אישיים'!C$7 -> #REF! | AG41: =AE41+AF41 -> #REF! | AH41: =AG41*'גליון הזנת נתונים אישיים'!C$3 -> #REF! | AI41: =AG41-AH41 -> #REF! | AJ41: =IF(Z41=AO$2,AK40*'גליון הזנת נתונים אישיים'!#REF!,"") -> #REF! | AK41: =AI41-SUM(AJ41) -> #REF! | AL41: =SUM(AH$4:AH41) -> #REF! | AM41: =IF(AA41='גליון הזנת נתונים אישיים'!C$9,AI40,"") | AN41: =IF(AM41=AI40,SUM(AD$4:AD40),"") -> #REF! | AO41: =IF(AM41=AI40,AM41-AN41,"") -> #REF! | AP41: =IF(AM41=AI40,AL40,"") -> #REF!
Z42: =IF(AA42>='גליון הזנת נתונים אישיים'!C$9,AO$2,"") -> משיכה | AA42: =AA41+1 -> 2059 | AB42: =AJ42/12 -> #REF! | AD42: ='גליון הזנת נתונים אישיים'!C$5 -> 18480 | AE42: =AD42+AK41 -> #REF! | AF42: =AE42*'גליון הזנת נתונים אישיים'!C$7 -> #REF! | AG42: =AE42+AF42 -> #REF! | AH42: =AG42*'גליון הזנת נתונים אישיים'!C$3 -> #REF! | AI42: =AG42-AH42 -> #REF! | AJ42: =IF(Z42=AO$2,AK41*'גליון הזנת נתונים אישיים'!#REF!,"") -> #REF! | AK42: =AI42-SUM(AJ42) -> #REF! | AL42: =SUM(AH$4:AH42) -> #REF! | AM42: =IF(AA42='גליון הזנת נתונים אישיים'!C$9,AI41,"") | AN42: =IF(AM42=AI41,SUM(AD$4:AD41),"") -> #REF! | AO42: =IF(AM42=AI41,AM42-AN42,"") -> #REF! | AP42: =IF(AM42=AI41,AL41,"") -> #REF!
Z43: =IF(AA43>='גליון הזנת נתונים אישיים'!C$9,AO$2,"") -> משיכה | AA43: =AA42+1 -> 2060 | AB43: =AJ43/12 -> #REF! | AD43: ='גליון הזנת נתונים אישיים'!C$5 -> 18480 | AE43: =AD43+AK42 -> #REF! | AF43: =AE43*'גליון הזנת נתונים אישיים'!C$7 -> #REF! | AG43: =AE43+AF43 -> #REF! | AH43: =AG43*'גליון הזנת נתונים אישיים'!C$3 -> #REF! | AI43: =AG43-AH43 -> #REF! | AJ43: =IF(Z43=AO$2,AK42*'גליון הזנת נתונים אישיים'!#REF!,"") -> #REF! | AK43: =AI43-SUM(AJ43) -> #REF! | AL43: =SUM(AH$4:AH43) -> #REF! | AM43: =IF(AA43='גליון הזנת נתונים אישיים'!C$9,AI42,"") | AN43: =IF(AM43=AI42,SUM(AD$4:AD42),"") -> #REF! | AO43: =IF(AM43=AI42,AM43-AN43,"") -> #REF! | AP43: =IF(AM43=AI42,AL42,"") -> #REF!
Z44: =IF(AA44>='גליון הזנת נתונים אישיים'!C$9,AO$2,"") -> משיכה | AA44: =AA43+1 -> 2061 | AB44: =AJ44/12 -> #REF! | AD44: ='גליון הזנת נתונים אישיים'!C$5 -> 18480 | AE44: =AD44+AK43 -> #REF! | AF44: =AE44*'גליון הזנת נתונים אישיים'!C$7 -> #REF! | AG44: =AE44+AF44 -> #REF! | AH44: =AG44*'גליון הזנת נתונים אישיים'!C$3 -> #REF! | AI44: =AG44-AH44 -> #REF! | AJ44: =IF(Z44=AO$2,AK43*'גליון הזנת נתונים אישיים'!#REF!,"") -> #REF! | AK44: =AI44-SUM(AJ44) -> #REF! | AL44: =SUM(AH$4:AH44) -> #REF! | AM44: =IF(AA44='גליון הזנת נתונים אישיים'!C$9,AI43,"") | AN44: =IF(AM44=AI43,SUM(AD$4:AD43),"") -> #REF! | AO44: =IF(AM44=AI43,AM44-AN44,"") -> #REF! | AP44: =IF(AM44=AI43,AL43,"") -> #REF!
Z45: =IF(AA45>='גליון הזנת נתונים אישיים'!C$9,AO$2,"") -> משיכה | AA45: =AA44+1 -> 2062 | AB45: =AJ45/12 -> #REF! | AD45: ='גליון הזנת נתונים אישיים'!C$5 -> 18480 | AE45: =AD45+AK44 -> #REF! | AF45: =AE45*'גליון הזנת נתונים אישיים'!C$7 -> #REF! | AG45: =AE45+AF45 -> #REF! | AH45: =AG45*'גליון הזנת נתונים אישיים'!C$3 -> #REF! | AI45: =AG45-AH45 -> #REF! | AJ45: =IF(Z45=AO$2,AK44*'גליון הזנת נתונים אישיים'!#REF!,"") -> #REF! | AK45: =AI45-SUM(AJ45) -> #REF! | AL45: =SUM(AH$4:AH45) -> #REF! | AM45: =IF(AA45='גליון הזנת נתונים אישיים'!C$9,AI44,"") | AN45: =IF(AM45=AI44,SUM(AD$4:AD44),"") -> #REF! | AO45: =IF(AM45=AI44,AM45-AN45,"") -> #REF! | AP45: =IF(AM45=AI44,AL44,"") -> #REF!
Z46: =IF(AA46>='גליון הזנת נתונים אישיים'!C$9,AO$2,"") -> משיכה | AA46: =AA45+1 -> 2063 | AB46: =AJ46/12 -> #REF! | AD46: ='גליון הזנת נתונים אישיים'!C$5 -> 18480 | AE46: =AD46+AK45 -> #REF! | AF46: =AE46*'גליון הזנת נתונים אישיים'!C$7 -> #REF! | AG46: =AE46+AF46 -> #REF! | AH46: =AG46*'גליון הזנת נתונים אישיים'!C$3 -> #REF! | AI46: =AG46-AH46 -> #REF! | AJ46: =IF(Z46=AO$2,AK45*'גליון הזנת נתונים אישיים'!#REF!,"") -> #REF! | AK46: =AI46-SUM(AJ46) -> #REF! | AL46: =SUM(AH$4:AH46) -> #REF! | AM46: =IF(AA46='גליון הזנת נתונים אישיים'!C$9,AI45,"") | AN46: =IF(AM46=AI45,SUM(AD$4:AD45),"") -> #REF! | AO46: =IF(AM46=AI45,AM46-AN46,"") -> #REF! | AP46: =IF(AM46=AI45,AL45,"") -> #REF!
Z47: =IF(AA47>='גליון הזנת נתונים אישיים'!C$9,AO$2,"") -> משיכה | AA47: =AA46+1 -> 2064 | AB47: =AJ47/12 -> #REF! | AD47: ='גליון הזנת נתונים אישיים'!C$5 -> 18480 | AE47: =AD47+AK46 -> #REF! | AF47: =AE47*'גליון הזנת נתונים אישיים'!C$7 -> #REF! | AG47: =AE47+AF47 -> #REF! | AH47: =AG47*'גליון הזנת נתונים אישיים'!C$3 -> #REF! | AI47: =AG47-AH47 -> #REF! | AJ47: =IF(Z47=AO$2,AK46*'גליון הזנת נתונים אישיים'!#REF!,"") -> #REF! | AK47: =AI47-SUM(AJ47) -> #REF! | AL47: =SUM(AH$4:AH47) -> #REF! | AM47: =IF(AA47='גליון הזנת נתונים אישיים'!C$9,AI46,"") | AN47: =IF(AM47=AI46,SUM(AD$4:AD46),"") -> #REF! | AO47: =IF(AM47=AI46,AM47-AN47,"") -> #REF! | AP47: =IF(AM47=AI46,AL46,"") -> #REF!
Z48: =IF(AA48>='גליון הזנת נתונים אישיים'!C$9,AO$2,"") -> משיכה | AA48: =AA47+1 -> 2065 | AB48: =AJ48/12 -> #REF! | AD48: ='גליון הזנת נתונים אישיים'!C$5 -> 18480 | AE48: =AD48+AK47 -> #REF! | AF48: =AE48*'גליון הזנת נתונים אישיים'!C$7 -> #REF! | AG48: =AE48+AF48 -> #REF! | AH48: =AG48*'גליון הזנת נתונים אישיים'!C$3 -> #REF! | AI48: =AG48-AH48 -> #REF! | AJ48: =IF(Z48=AO$2,AK47*'גליון הזנת נתונים אישיים'!#REF!,"") -> #REF! | AK48: =AI48-SUM(AJ48) -> #REF! | AL48: =SUM(AH$4:AH48) -> #REF! | AM48: =IF(AA48='גליון הזנת נתונים אישיים'!C$9,AI47,"") | AN48: =IF(AM48=AI47,SUM(AD$4:AD47),"") -> #REF! | AO48: =IF(AM48=AI47,AM48-AN48,"") -> #REF! | AP48: =IF(AM48=AI47,AL47,"") -> #REF!
Z49: =IF(AA49>='גליון הזנת נתונים אישיים'!C$9,AO$2,"") -> משיכה | AA49: =AA48+1 -> 2066 | AB49: =AJ49/12 -> #REF! | AD49: ='גליון הזנת נתונים אישיים'!C$5 -> 18480 | AE49: =AD49+AK48 -> #REF! | AF49: =AE49*'גליון הזנת נתונים אישיים'!C$7 -> #REF! | AG49: =AE49+AF49 -> #REF! | AH49: =AG49*'גליון הזנת נתונים אישיים'!C$3 -> #REF! | AI49: =AG49-AH49 -> #REF! | AJ49: =IF(Z49=AO$2,AK48*'גליון הזנת נתונים אישיים'!#REF!,"") -> #REF! | AK49: =AI49-SUM(AJ49) -> #REF! | AL49: =SUM(AH$4:AH49) -> #REF! | AM49: =IF(AA49='גליון הזנת נתונים אישיים'!C$9,AI48,"") | AN49: =IF(AM49=AI48,SUM(AD$4:AD48),"") -> #REF! | AO49: =IF(AM49=AI48,AM49-AN49,"") -> #REF! | AP49: =IF(AM49=AI48,AL48,"") -> #REF!
Z50: =IF(AA50>='גליון הזנת נתונים אישיים'!C$9,AO$2,"") -> משיכה | AA50: =AA49+1 -> 2067 | AB50: =AJ50/12 -> #REF! | AD50: ='גליון הזנת נתונים אישיים'!C$5 -> 18480 | AE50: =AD50+AK49 -> #REF! | AF50: =AE50*'גליון הזנת נתונים אישיים'!C$7 -> #REF! | AG50: =AE50+AF50 -> #REF! | AH50: =AG50*'גליון הזנת נתונים אישיים'!C$3 -> #REF! | AI50: =AG50-AH50 -> #REF! | AJ50: =IF(Z50=AO$2,AK49*'גליון הזנת נתונים אישיים'!#REF!,"") -> #REF! | AK50: =AI50-SUM(AJ50) -> #REF! | AL50: =SUM(AH$4:AH50) -> #REF! | AM50: =IF(AA50='גליון הזנת נתונים אישיים'!C$9,AI49,"") | AN50: =IF(AM50=AI49,SUM(AD$4:AD49),"") -> #REF! | AO50: =IF(AM50=AI49,AM50-AN50,"") -> #REF! | AP50: =IF(AM50=AI49,AL49,"") -> #REF!
Z51: =IF(AA51>='גליון הזנת נתונים אישיים'!C$9,AO$2,"") -> משיכה | AA51: =AA50+1 -> 2068 | AB51: =AJ51/12 -> #REF! | AD51: ='גליון הזנת נתונים אישיים'!C$5 -> 18480 | AE51: =AD51+AK50 -> #REF! | AF51: =AE51*'גליון הזנת נתונים אישיים'!C$7 -> #REF! | AG51: =AE51+AF51 -> #REF! | AH51: =AG51*'גליון הזנת נתונים אישיים'!C$3 -> #REF! | AI51: =AG51-AH51 -> #REF! | AJ51: =IF(Z51=AO$2,AK50*'גליון הזנת נתונים אישיים'!#REF!,"") -> #REF! | AK51: =AI51-SUM(AJ51) -> #REF! | AL51: =SUM(AH$4:AH51) -> #REF! | AM51: =IF(AA51='גליון הזנת נתונים אישיים'!C$9,AI50,"") | AN51: =IF(AM51=AI50,SUM(AD$4:AD50),"") -> #REF! | AO51: =IF(AM51=AI50,AM51-AN51,"") -> #REF! | AP51: =IF(AM51=AI50,AL50,"") -> #REF!
Z52: =IF(AA52>='גליון הזנת נתונים אישיים'!C$9,AO$2,"") -> משיכה | AA52: =AA51+1 -> 2069 | AB52: =AJ52/12 -> #REF! | AD52: ='גליון הזנת נתונים אישיים'!C$5 -> 18480 | AE52: =AD52+AK51 -> #REF! | AF52: =AE52*'גליון הזנת נתונים אישיים'!C$7 -> #REF! | AG52: =AE52+AF52 -> #REF! | AH52: =AG52*'גליון הזנת נתונים אישיים'!C$3 -> #REF! | AI52: =AG52-AH52 -> #REF! | AJ52: =IF(Z52=AO$2,AK51*'גליון הזנת נתונים אישיים'!#REF!,"") -> #REF! | AK52: =AI52-SUM(AJ52) -> #REF! | AL52: =SUM(AH$4:AH52) -> #REF! | AM52: =IF(AA52='גליון הזנת נתונים אישיים'!C$9,AI51,"") | AN52: =IF(AM52=AI51,SUM(AD$4:AD51),"") -> #REF! | AO52: =IF(AM52=AI51,AM52-AN52,"") -> #REF! | AP52: =IF(AM52=AI51,AL51,"") -> #REF!
... Z84: =IF(AA84>='גליון הזנת נתונים אישיים'!C$9,AO$2,"") -> משיכה | AA84: =AA83+1 -> 2101 | AB84: =AJ84/12 -> #REF! | AD84: ='גליון הזנת נתונים אישיים'!C$5 -> 18480 | AE84: =AD84+AK83 -> #REF! | AF84: =AE84*'גליון הזנת נתונים אישיים'!C$7 -> #REF! | AG84: =AE84+AF84 -> #REF! | AH84: =AG84*'גליון הזנת נתונים אישיים'!C$3 -> #REF! | AI84: =AG84-AH84 -> #REF! | AJ84: =IF(Z84=AO$2,AK83*'גליון הזנת נתונים אישיים'!#REF!,"") -> #REF! | AK84: =AI84-SUM(AJ84) -> #REF! | AL84: =SUM(AH$4:AH84) -> #REF! | AM84: =IF(AA84='גליון הזנת נתונים אישיים'!C$9,AI83,"") | AN84: =IF(AM84=AI83,SUM(AD$4:AD83),"") -> #REF! | AO84: =IF(AM84=AI83,AM84-AN84,"") -> #REF! | AP84: =IF(AM84=AI83,AL83,"") -> #REF!

Sheet גיליון חישובים תיק השקעות
AQ2: משיכה
AA3: שנה | AB3: משיכה חודשית | AD3: הפקדה שנתית | AE3: צבירה | AF3: תשואה | AG3: הפקדה + תשואה | AH3: עליית המדד | AI3: דמי ניהול שנתיים | AJ3: הפקדה + תשואה - דמי ניהול | AK3: משיכה שנתית | AL3: הפקדה + תשואה - דמי ניהול - משיכה | AM3: סיכום עליית המדד | AN3: סיכום דמי הניהול | AO3: צבירה | AP3: הפקדה | AQ3: תשואה | AR3: עליית מדד | AS3: דמי ניהול
Z4: =IF(AA4>='גליון הזנת נתונים אישיים'!D$9,AQ$2,"") | AA4: ='גליון הזנת נתונים אישיים'!$D$8 -> 2021 | AB4: =AK4/12 -> #VALUE! | AD4: ='גליון הזנת נתונים אישיים'!D$5+'גליון הזנת נתונים אישיים'!D6 -> 18480 | AE4: =AD4 -> 18480 | AF4: =AE4*'גליון הזנת נתונים אישיים'!D$7 -> 924 | AG4: =AE4+AF4 -> 19404 | AH4: =AG4*'גליון הזנת נתונים אישיים'!D$10 -> 388.08 | AI4: ='גליון הזנת נתונים אישיים'!D$4*12 -> 360 | AJ4: =AG4-AI4 -> 19044 | AK4: =IF(Z4=AQ$2,AL3*'גליון הזנת נתונים אישיים'!#REF!,"") | AL4: =AJ4-SUM(AK4) -> 19044 | AM4: =SUM(AH$4:AH4) -> 388.08 | AN4: =SUM(AI$4:AI4) -> 360 | AO4: =IF(AA4='גליון הזנת נתונים אישיים'!C$9,AJ4,"") | AP4: =IF(AO4=AJ4,SUM(AD3:AD$4),"") | AQ4: =IF(AO4=AJ4,AO4-AP4,"") | AR4: =IF(AO4=AJ3,AM4,"") | AS4: =IF(AO4=AJ3,AN4,"")
Z5: =IF(AA5>='גליון הזנת נתונים אישיים'!D$9,AQ$2,"") | AA5: =AA4+1 -> 2022 | AB5: =AK5/12 -> #VALUE! | AD5: ='גליון הזנת נתונים אישיים'!D$5 -> 18480 | AE5: =AD5+AL4 -> 37524 | AF5: =AE5*'גליון הזנת נתונים אישיים'!D$7 -> 1876.2 | AG5: =AE5+AF5 -> 39400.2 | AH5: =AG5*'גליון הזנת נתונים אישיים'!D$10 -> 788.004 | AI5: ='גליון הזנת נתונים אישיים'!D$4*12 -> 360 | AJ5: =AG5-AI5 -> 39040.2 | AK5: =IF(Z5=AQ$2,AL4*'גליון הזנת נתונים אישיים'!#REF!,"") | AL5: =AJ5-SUM(AK5) -> 39040.2 | AM5: =SUM(AH$4:AH5) -> 1176.084 | AN5: =SUM(AI$4:AI5) -> 720 | AO5: =IF(AA5='גליון הזנת נתונים אישיים'!C$9,AJ4,"") | AP5: =IF(AO5=AJ4,SUM(AD4:AD$4),"") | AQ5: =IF(AO5=AJ4,AO5-AP5,"") | AR5: =IF(AO5=AJ4,AM5,"") | AS5: =IF(AO5=AJ4,AN5,"")
Z6: =IF(AA6>='גליון הזנת נתונים אישיים'!D$9,AQ$2,"") | AA6: =AA5+1 -> 2023 | AB6: =AK6/12 -> #VALUE! | AD6: ='גליון הזנת נתונים אישיים'!D$5 -> 18480 | AE6: =AD6+AL5 -> 57520.2 | AF6: =AE6*'גליון הזנת נתונים אישיים'!D$7 -> 2876.01 | AG6: =AE6+AF6 -> 60396.21 | AH6: =AG6*'גליון הזנת נתונים אישיים'!D$10 -> 1207.9242 | AI6: ='גליון הזנת נתונים אישיים'!D$4*12 -> 360 | AJ6: =AG6-AI6 -> 60036.21 | AK6: =IF(Z6=AQ$2,AL5*'גליון הזנת נתונים אישיים'!#REF!,"") | AL6: =AJ6-SUM(AK6) -> 60036.21 | AM6: =SUM(AH$4:AH6) -> 2384.0082 | AN6: =SUM(AI$4:AI6) -> 1080 | AO6: =IF(AA6='גליון הזנת נתונים אישיים'!C$9,AJ5,"") | AP6: =IF(AO6=AJ5,SUM(AD$4:AD5),"") | AQ6: =IF(AO6=AJ5,AO6-AP6,"") | AR6: =IF(AO6=AJ5,AM6,"") | AS6: =IF(AO6=AJ5,AN6,"")
Z7: =IF(AA7>='גליון הזנת נתונים אישיים'!D$9,AQ$2,"") | AA7: =AA6+1 -> 2024 | AB7: =AK7/12 -> #VALUE! | AD7: ='גליון הזנת נתונים אישיים'!D$5 -> 18480 | AE7: =AD7+AL6 -> 78516.21 | AF7: =AE7*'גליון הזנת נתונים אישיים'!D$7 -> 3925.8105 | AG7: =AE7+AF7 -> 82442.02 | AH7: =AG7*'גליון הזנת נתונים אישיים'!D$10 -> 1648.8404 | AI7: ='גליון הזנת נתונים אישיים'!D$4*12 -> 360 | AJ7: =AG7-AI7 -> 82082.02 | AK7: =IF(Z7=AQ$2,AL6*'גליון הזנת נתונים אישיים'!#REF!,"") | AL7: =AJ7-SUM(AK7) -> 82082.02 | AM7: =SUM(AH$4:AH7) -> 4032.8486 | AN7: =SUM(AI$4:AI7) -> 1440 | AO7: =IF(AA7='גליון הזנת נתונים אישיים'!C$9,AJ6,"") | AP7: =IF(AO7=AJ6,SUM(AD$4:AD6),"") | AQ7: =IF(AO7=AJ6,AO7-AP7,"") | AR7: =IF(AO7=AJ6,AM7,"") | AS7: =IF(AO7=AJ6,AN7,"")
Z8: =IF(AA8>='גליון הזנת נתונים אישיים'!D$9,AQ$2,"") | AA8: =AA7+1 -> 2025 | AB8: =AK8/12 -> #VALUE! | AD8: ='גליון הזנת נתונים אישיים'!D$5 -> 18480 | AE8: =AD8+AL7 -> 100562.02 | AF8: =AE8*'גליון הזנת נתונים אישיים'!D$7 -> 5028.101 | AG8: =AE8+AF8 -> 105590.12 | AH8: =AG8*'גליון הזנת נתונים אישיים'!D$10 -> 2111.8024 | AI8: ='גליון הזנת נתונים אישיים'!D$4*12 -> 360 | AJ8: =AG8-AI8 -> 105230.12 | AK8: =IF(Z8=AQ$2,AL7*'גליון הזנת נתונים אישיים'!#REF!,"") | AL8: =AJ8-SUM(AK8) -> 105230.12 | AM8: =SUM(AH$4:AH8) -> 6144.651 | AN8: =SUM(AI$4:AI8) -> 1800 | AO8: =IF(AA8='גליון הזנת נתונים אישיים'!C$9,AJ7,"") | AP8: =IF(AO8=AJ7,SUM(AD$4:AD7),"") | AQ8: =IF(AO8=AJ7,AO8-AP8,"") | AR8: =IF(AO8=AJ7,AM8,"") | AS8: =IF(AO8=AJ7,AN8,"")
Z9: =IF(AA9>='גליון הזנת נתונים אישיים'!D$9,AQ$2,"") | AA9: =AA8+1 -> 2026 | AB9: =AK9/12 -> #VALUE! | AD9: ='גליון הזנת נתונים אישיים'!D$5 -> 18480 | AE9: =AD9+AL8 -> 123710.12 | AF9: =AE9*'גליון הזנת נתונים אישיים'!D$7 -> 6185.5061 | AG9: =AE9+AF9 -> 129895.63 | AH9: =AG9*'גליון הזנת נתונים אישיים'!D$10 -> 2597.9126 | AI9: ='גליון הזנת נתונים אישיים'!D$4*12 -> 360 | AJ9: =AG9-AI9 -> 129535.63 | AK9: =IF(Z9=AQ$2,AL8*'גליון הזנת נתונים אישיים'!#REF!,"") | AL9: =AJ9-SUM(AK9) -> 129535.63 | AM9: =SUM(AH$4:AH9) -> 8742.5636 | AN9: =SUM(AI$4:AI9) -> 2160 | AO9: =IF(AA9='גליון הזנת נתונים אישיים'!C$9,AJ8,"") | AP9: =IF(AO9=AJ8,SUM(AD$4:AD8),"") | AQ9: =IF(AO9=AJ8,AO9-AP9,"") | AR9: =IF(AO9=AJ8,AM9,"") | AS9: =IF(AO9=AJ8,AN9,"")
Z10: =IF(AA10>='גליון הזנת נתונים אישיים'!D$9,AQ$2,"") | AA10: =AA9+1 -> 2027 | AB10: =AK10/12 -> #VALUE! | AD10: ='גליון הזנת נתונים אישיים'!D$5 -> 18480 | AE10: =AD10+AL9 -> 148015.63 | AF10: =AE10*'גליון הזנת נתונים אישיים'!D$7 -> 7400.7814 | AG10: =AE10+AF10 -> 155416.41 | AH10: =AG10*'גליון הזנת נתונים אישיים'!D$10 -> 3108.3282 | AI10: ='גליון הזנת נתונים אישיים'!D$4*12 -> 360 | AJ10: =AG10-AI10 -> 155056.41 | AK10: =IF(Z10=AQ$2,AL9*'גליון הזנת נתונים אישיים'!#REF!,"") | AL10: =AJ10-SUM(AK10) -> 155056.41 | AM10: =SUM(AH$4:AH10) -> 11850.892 | AN10: =SUM(AI$4:AI10) -> 2520 | AO10: =IF(AA10='גליון הזנת נתונים אישיים'!C$9,AJ9,"") | AP10: =IF(AO10=AJ9,SUM(AD$4:AD9),"") | AQ10: =IF(AO10=AJ9,AO10-AP10,"") | AR10: =IF(AO10=AJ9,AM10,"") | AS10: =IF(AO10=AJ9,AN10,"")
Z11: =IF(AA11>='גליון הזנת נתונים אישיים'!D$9,AQ$2,"") | AA11: =AA10+1 -> 2028 | AB11: =AK11/12 -> #VALUE! | AD11: ='גליון הזנת נתונים אישיים'!D$5 -> 18480 | AE11: =AD11+AL10 -> 173536.41 | AF11: =AE11*'גליון הזנת נתונים אישיים'!D$7 -> 8676.8204 | AG11: =AE11+AF11 -> 182213.23 | AH11: =AG11*'גליון הזנת נתונים אישיים'!D$10 -> 3644.2646 | AI11: ='גליון הזנת נתונים אישיים'!D$4*12 -> 360 | AJ11: =AG11-AI11 -> 181853.23 | AK11: =IF(Z11=AQ$2,AL10*'גליון הזנת נתונים אישיים'!#REF!,"") | AL11: =AJ11-SUM(AK11) -> 181853.23 | AM11: =SUM(AH$4:AH11) -> 15495.156 | AN11: =SUM(AI$4:AI11) -> 2880 | AO11: =IF(AA11='גליון הזנת נתונים אישיים'!C$9,AJ10,"") | AP11: =IF(AO11=AJ10,SUM(AD$4:AD10),"") | AQ11: =IF(AO11=AJ10,AO11-AP11,"") | AR11: =IF(AO11=AJ10,AM11,"") | AS11: =IF(AO11=AJ10,AN11,"")
Z12: =IF(AA12>='גליון הזנת נתונים אישיים'!D$9,AQ$2,"") | AA12: =AA11+1 -> 2029 | AB12: =AK12/12 -> #VALUE! | AD12: ='גליון הזנת נתונים אישיים'!D$5 -> 18480 | AE12: =AD12+AL11 -> 200333.23 | AF12: =AE12*'גליון הזנת נתונים אישיים'!D$7 -> 10016.661 | AG12: =AE12+AF12 -> 210349.89 | AH12: =AG12*'גליון הזנת נתונים אישיים'!D$10 -> 4206.9978 | AI12: ='גליון הזנת נתונים אישיים'!D$4*12 -> 360 | AJ12: =AG12-AI12 -> 209989.89 | AK12: =IF(Z12=AQ$2,AL11*'גליון הזנת נתונים אישיים'!#REF!,"") | AL12: =AJ12-SUM(AK12) -> 209989.89 | AM12: =SUM(AH$4:AH12) -> 19702.154 | AN12: =SUM(AI$4:AI12) -> 3240 | AO12: =IF(AA12='גליון הזנת נתונים אישיים'!C$9,AJ11,"") | AP12: =IF(AO12=AJ11,SUM(AD$4:AD11),"") | AQ12: =IF(AO12=AJ11,AO12-AP12,"") | AR12: =IF(AO12=AJ11,AM12,"") | AS12: =IF(AO12=AJ11,AN12,"")
Z13: =IF(AA13>='גליון הזנת נתונים אישיים'!D$9,AQ$2,"") | AA13: =AA12+1 -> 2030 | AB13: =AK13/12 -> #VALUE! | AD13: ='גליון הזנת נתונים אישיים'!D$5 -> 18480 | AE13: =AD13+AL12 -> 228469.89 | AF13: =AE13*'גליון הזנת נתונים אישיים'!D$7 -> 11423.495 | AG13: =AE13+AF13 -> 239893.39 | AH13: =AG13*'גליון הזנת נתונים אישיים'!D$10 -> 4797.8677 | AI13: ='גליון הזנת נתונים אישיים'!D$4*12 -> 360 | AJ13: =AG13-AI13 -> 239533.39 | AK13: =IF(Z13=AQ$2,AL12*'גליון הזנת נתונים אישיים'!#REF!,"") | AL13: =AJ13-SUM(AK13) -> 239533.39 | AM13: =SUM(AH$4:AH13) -> 24500.022 | AN13: =SUM(AI$4:AI13) -> 3600 | AO13: =IF(AA13='גליון הזנת נתונים אישיים'!C$9,AJ12,"") | AP13: =IF(AO13=AJ12,SUM(AD$4:AD12),"") | AQ13: =IF(AO13=AJ12,AO13-AP13,"") | AR13: =IF(AO13=AJ12,AM13,"") | AS13: =IF(AO13=AJ12,AN13,"")
Z14: =IF(AA14>='גליון הזנת נתונים אישיים'!D$9,AQ$2,"") | AA14: =AA13+1 -> 2031 | AB14: =AK14/12 -> #VALUE! | AD14: ='גליון הזנת נתונים אישיים'!D$5 -> 18480 | AE14: =AD14+AL13 -> 258013.39 | AF14: =AE14*'גליון הזנת נתונים אישיים'!D$7 -> 12900.669 | AG14: =AE14+AF14 -> 270914.05 | AH14: =AG14*'גליון הזנת נתונים אישיים'!D$10 -> 5418.2811 | AI14: ='גליון הזנת נתונים אישיים'!D$4*12 -> 360 | AJ14: =AG14-AI14 -> 270554.05 | AK14: =IF(Z14=AQ$2,AL13*'גליון הזנת נתונים אישיים'!#REF!,"") | AL14: =AJ14-SUM(AK14) -> 270554.05 | AM14: =SUM(AH$4:AH14) -> 29918.303 | AN14: =SUM(AI$4:AI14) -> 3960 | AO14: =IF(AA14='גליון הזנת נתונים אישיים'!C$9,AJ13,"") | AP14: =IF(AO14=AJ13,SUM(AD$4:AD13),"") | AQ14: =IF(AO14=AJ13,AO14-AP14,"") | AR14: =IF(AO14=AJ13,AM14,"") | AS14: =IF(AO14=AJ13,AN14,"")
Z15: =IF(AA15>='גליון הזנת נתונים אישיים'!D$9,AQ$2,"") | AA15: =AA14+1 -> 2032 | AB15: =AK15/12 -> #VALUE! | AD15: ='גליון הזנת נתונים אישיים'!D$5 -> 18480 | AE15: =AD15+AL14 -> 289034.05 | AF15: =AE15*'גליון הזנת נתונים אישיים'!D$7 -> 14451.703 | AG15: =AE15+AF15 -> 303485.76 | AH15: =AG15*'גליון הזנת נתונים אישיים'!D$10 -> 6069.7151 | AI15: ='גליון הזנת נתונים אישיים'!D$4*12 -> 360 | AJ15: =AG15-AI15 -> 303125.76 | AK15: =IF(Z15=AQ$2,AL14*'גליון הזנת נתונים אישיים'!#REF!,"") | AL15: =AJ15-SUM(AK15) -> 303125.76 | AM15: =SUM(AH$4:AH15) -> 35988.018 | AN15: =SUM(AI$4:AI15) -> 4320 | AO15: =IF(AA15='גליון הזנת נתונים אישיים'!C$9,AJ14,"") | AP15: =IF(AO15=AJ14,SUM(AD$4:AD14),"") | AQ15: =IF(AO15=AJ14,AO15-AP15,"") | AR15: =IF(AO15=AJ14,AM15,"") | AS15: =IF(AO15=AJ14,AN15,"")
Z16: =IF(AA16>='גליון הזנת נתונים אישיים'!D$9,AQ$2,"") | AA16: =AA15+1 -> 2033 | AB16: =AK16/12 -> #VALUE! | AD16: ='גליון הזנת נתונים אישיים'!D$5 -> 18480 | AE16: =AD16+AL15 -> 321605.76 | AF16: =AE16*'גליון הזנת נתונים אישיים'!D$7 -> 16080.288 | AG16: =AE16+AF16 -> 337686.05 | AH16: =AG16*'גליון הזנת נתונים אישיים'!D$10 -> 6753.7209 | AI16: ='גליון הזנת נתונים אישיים'!D$4*12 -> 360 | AJ16: =AG16-AI16 -> 337326.05 | AK16: =IF(Z16=AQ$2,AL15*'גליון הזנת נתונים אישיים'!#REF!,"") | AL16: =AJ16-SUM(AK16) -> 337326.05 | AM16: =SUM(AH$4:AH16) -> 42741.739 | AN16: =SUM(AI$4:AI16) -> 4680 | AO16: =IF(AA16='גליון הזנת נתונים אישיים'!C$9,AJ15,"") | AP16: =IF(AO16=AJ15,SUM(AD$4:AD15),"") | AQ16: =IF(AO16=AJ15,AO16-AP16,"") | AR16: =IF(AO16=AJ15,AM16,"") | AS16: =IF(AO16=AJ15,AN16,"")
Z17: =IF(AA17>='גליון הזנת נתונים אישיים'!D$9,AQ$2,"") | AA17: =AA16+1 -> 2034 | AB17: =AK17/12 -> #VALUE! | AD17: ='גליון הזנת נתונים אישיים'!D$5 -> 18480 | AE17: =AD17+AL16 -> 355806.05 | AF17: =AE17*'גליון הזנת נתונים אישיים'!D$7 -> 17790.302 | AG17: =AE17+AF17 -> 373596.35 | AH17: =AG17*'גליון הזנת נתונים אישיים'!D$10 -> 7471.927 | AI17: ='גליון הזנת נתונים אישיים'!D$4*12 -> 360 | AJ17: =AG17-AI17 -> 373236.35 | AK17: =IF(Z17=AQ$2,AL16*'גליון הזנת נתונים אישיים'!#REF!,"") | AL17: =AJ17-SUM(AK17) -> 373236.35 | AM17: =SUM(AH$4:AH17) -> 50213.666 | AN17: =SUM(AI$4:AI17) -> 5040 | AO17: =IF(AA17='גליון הזנת נתונים אישיים'!C$9,AJ16,"") | AP17: =IF(AO17=AJ16,SUM(AD$4:AD16),"") | AQ17: =IF(AO17=AJ16,AO17-AP17,"") | AR17: =IF(AO17=AJ16,AM17,"") | AS17: =IF(AO17=AJ16,AN17,"")
... Z39: =IF(AA39>='גליון הזנת נתונים אישיים'!D$9,AQ$2,"") -> משיכה | AA39: =AA38+1 -> 2056 | AB39: =AK39/12 -> #REF! | AD39: ='גליון הזנת נתונים אישיים'!D$5 -> 18480 | AE39: =AD39+AL38 -> #REF! | AF39: =AE39*'גליון הזנת נתונים אישיים'!D$7 -> #REF! | AG39: =AE39+AF39 -> #REF! | AH39: =AG39*'גליון הזנת נתונים אישיים'!D$10 -> #REF! | AI39: ='גליון הזנת נתונים אישיים'!D$4*12 -> 360 | AJ39: =AG39-AI39 -> #REF! | AK39: =IF(Z39=AQ$2,AL38*'גליון הזנת נתונים אישיים'!#REF!,"") -> #REF! | AL39: =AJ39-SUM(AK39) -> #REF! | AM39: =SUM(AH$4:AH39) -> #REF! | AN39: =SUM(AI$4:AI39) -> 12960 | AO39: =IF(AA39='גליון הזנת נתונים אישיים'!C$9,AJ38,"") | AP39: =IF(AO39=AJ38,SUM(AD$4:AD38),"") -> #REF! | AQ39: =IF(AO39=AJ38,AO39-AP39,"") -> #REF! | AR39: =IF(AO39=AJ38,AM39,"") -> #REF! | AS39: =IF(AO39=AJ38,AN39,"") -> #REF!
Z40: =IF(AA40>='גליון הזנת נתונים אישיים'!D$9,AQ$2,"") -> משיכה | AA40: =AA39+1 -> 2057 | AB40: =AK40/12 -> #REF! | AC40: =SUM(AI4:AI40) -> 13320 | AD40: ='גליון הזנת נתונים אישיים'!D$5 -> 18480 | AE40: =AD40+AL39 -> #REF! | AF40: =AE40*'גליון הזנת נתונים אישיים'!D$7 -> #REF! | AG40: =AE40+AF40 -> #REF! | AH40: =AG40*'גליון הזנת נתונים אישיים'!D$10 -> #REF! | AI40: ='גליון הזנת נתונים אישיים'!D$4*12 -> 360 | AJ40: =AG40-AI40 -> #REF! | AK40: =IF(Z40=AQ$2,AL39*'גליון הזנת נתונים אישיים'!#REF!,"") -> #REF! | AL40: =AJ40-SUM(AK40) -> #REF! | AM40: =SUM(AH$4:AH40) -> #REF! | AN40: =SUM(AI$4:AI40) -> 13320 | AO40: =IF(AA40='גליון הזנת נתונים אישיים'!C$9,AJ39,"") | AP40: =IF(AO40=AJ39,SUM(AD$4:AD39),"") -> #REF! | AQ40: =IF(AO40=AJ39,AO40-AP40,"") -> #REF! | AR40: =IF(AO40=AJ39,AM40,"") -> #REF! | AS40: =IF(AO40=AJ39,AN40,"") -> #REF!
Z41: =IF(AA41>='גליון הזנת נתונים אישיים'!D$9,AQ$2,"") -> משיכה | AA41: =AA40+1 -> 2058 | AB41: =AK41/12 -> #REF! | AD41: ='גליון הזנת נתונים אישיים'!D$5 -> 18480 | AE41: =AD41+AL40 -> #REF! | AF41: =AE41*'גליון הזנת נתונים אישיים'!D$7 -> #REF! | AG41: =AE41+AF41 -> #REF! | AH41: =AG41*'גליון הזנת נתונים אישיים'!D$10 -> #REF! | AI41: ='גליון הזנת נתונים אישיים'!D$4*12 -> 360 | AJ41: =AG41-AI41 -> #REF! | AK41: =IF(Z41=AQ$2,AL40*'גליון הזנת נתונים אישיים'!#REF!,"") -> #REF! | AL41: =AJ41-SUM(AK41) -> #REF! | AM41: =SUM(AH$4:AH41) -> #REF! | AN41: =SUM(AI$4:AI41) -> 13680 | AO41: =IF(AA41='גליון הזנת נתונים אישיים'!C$9,AJ40,"") | AP41: =IF(AO41=AJ40,SUM(AD$4:AD40),"") -> #REF! | AQ41: =IF(AO41=AJ40,AO41-AP41,"") -> #REF! | AR41: =IF(AO41=AJ40,AM41,"") -> #REF! | AS41: =IF(AO41=AJ40,AN41,"") -> #REF!
Z42: =IF(AA42>='גליון הזנת נתונים אישיים'!D$9,AQ$2,"") -> משיכה | AA42: =AA41+1 -> 2059 | AB42: =AK42/12 -> #REF! | AD42: ='גליון הזנת נתונים אישיים'!D$5 -> 18480 | AE42: =AD42+AL41 -> #REF! | AF42: =AE42*'גליון הזנת נתונים אישיים'!D$7 -> #REF! | AG42: =AE42+AF42 -> #REF! | AH42: =AG42*'גליון הזנת נתונים אישיים'!D$10 -> #REF! | AI42: ='גליון הזנת נתונים אישיים'!D$4*12 -> 360 | AJ42: =AG42-AI42 -> #REF! | AK42: =IF(Z42=AQ$2,AL41*'גליון הזנת נתונים אישיים'!#REF!,"") -> #REF! | AL42: =AJ42-SUM(AK42) -> #REF! | AM42: =SUM(AH$4:AH42) -> #REF! | AN42: =SUM(AI$4:AI42) -> 14040 | AO42: =IF(AA42='גליון הזנת נתונים אישיים'!C$9,AJ41,"") | AP42: =IF(AO42=AJ41,SUM(AD$4:AD41),"") -> #REF! | AQ42: =IF(AO42=AJ41,AO42-AP42,"") -> #REF! | AR42: =IF(AO42=AJ41,AM42,"") -> #REF! | AS42: =IF(AO42=AJ41,AN42,"") -> #REF!
Z43: =IF(AA43>='גליון הזנת נתונים אישיים'!D$9,AQ$2,"") -> משיכה | AA43: =AA42+1 -> 2060 | AB43: =AK43/12 -> #REF! | AD43: ='גליון הזנת נתונים אישיים'!D$5 -> 18480 | AE43: =AD43+AL42 -> #REF! | AF43: =AE43*'גליון הזנת נתונים אישיים'!D$7 -> #REF! | AG43: =AE43+AF43 -> #REF! | AH43: =AG43*'גליון הזנת נתונים אישיים'!D$10 -> #REF! | AI43: ='גליון הזנת נתונים אישיים'!D$4*12 -> 360 | AJ43: =AG43-AI43 -> #REF! | AK43: =IF(Z43=AQ$2,AL42*'גליון הזנת נתונים אישיים'!#REF!,"") -> #REF! | AL43: =AJ43-SUM(AK43) -> #REF! | AM43: =SUM(AH$4:AH43) -> #REF! | AN43: =SUM(AI$4:AI43) -> 14400 | AO43: =IF(AA43='גליון הזנת נתונים אישיים'!C$9,AJ42,"") | AP43: =IF(AO43=AJ42,SUM(AD$4:AD42),"") -> #REF! | AQ43: =IF(AO43=AJ42,AO43-AP43,"") -> #REF! | AR43: =IF(AO43=AJ42,AM43,"") -> #REF! | AS43: =IF(AO43=AJ42,AN43,"") -> #REF!
Z44: =IF(AA44>='גליון הזנת נתונים אישיים'!D$9,AQ$2,"") -> משיכה | AA44: =AA43+1 -> 2061 | AB44: =AK44/12 -> #REF! | AD44: ='גליון הזנת נתונים אישיים'!D$5 -> 18480 | AE44: =AD44+AL43 -> #REF! | AF44: =AE44*'גליון הזנת נתונים אישיים'!D$7 -> #REF! | AG44: =AE44+AF44 -> #REF! | AH44: =AG44*'גליון הזנת נתונים אישיים'!D$10 -> #REF! | AI44: ='גליון הזנת נתונים אישיים'!D$4*12 -> 360 | AJ44: =AG44-AI44 -> #REF! | AK44: =IF(Z44=AQ$2,AL43*'גליון הזנת נתונים אישיים'!#REF!,"") -> #REF! | AL44: =AJ44-SUM(AK44) -> #REF! | AM44: =SUM(AH$4:AH44) -> #REF! | AN44: =SUM(AI$4:AI44) -> 14760 | AO44: =IF(AA44='גליון הזנת נתונים אישיים'!C$9,AJ43,"") | AP44: =IF(AO44=AJ43,SUM(AD$4:AD43),"") -> #REF! | AQ44: =IF(AO44=AJ43,AO44-AP44,"") -> #REF! | AR44: =IF(AO44=AJ43,AM44,"") -> #REF! | AS44: =IF(AO44=AJ43,AN44,"") -> #REF!
Z45: =IF(AA45>='גליון הזנת נתונים אישיים'!D$9,AQ$2,"") -> משיכה | AA45: =AA44+1 -> 2062 | AB45: =AK45/12 -> #REF! | AD45: ='גליון הזנת נתונים אישיים'!D$5 -> 18480 | AE45: =AD45+AL44 -> #REF! | AF45: =AE45*'גליון הזנת נתונים אישיים'!D$7 -> #REF! | AG45: =AE45+AF45 -> #REF! | AH45: =AG45*'גליון הזנת נתונים אישיים'!D$10 -> #REF! | AI45: ='גליון הזנת נתונים אישיים'!D$4*12 -> 360 | AJ45: =AG45-AI45 -> #REF! | AK45: =IF(Z45=AQ$2,AL44*'גליון הזנת נתונים אישיים'!#REF!,"") -> #REF! | AL45: =AJ45-SUM(AK45) -> #REF! | AM45: =SUM(AH$4:AH45) -> #REF! | AN45: =SUM(AI$4:AI45) -> 15120 | AO45: =IF(AA45='גליון הזנת נתונים אישיים'!C$9,AJ44,"") | AP45: =IF(AO45=AJ44,SUM(AD$4:AD44),"") -> #REF! | AQ45: =IF(AO45=AJ44,AO45-AP45,"") -> #REF! | AR45: =IF(AO45=AJ44,AM45,"") -> #REF! | AS45: =IF(AO45=AJ44,AN45,"") -> #REF!
Z46: =IF(AA46>='גליון הזנת נתונים אישיים'!D$9,AQ$2,"") -> משיכה | AA46: =AA45+1 -> 2063 | AB46: =AK46/12 -> #REF! | AD46: ='גליון הזנת נתונים אישיים'!D$5 -> 18480 | AE46: =AD46+AL45 -> #REF! | AF46: =AE46*'גליון הזנת נתונים אישיים'!D$7 -> #REF! | AG46: =AE46+AF46 -> #REF! | AH46: =AG46*'גליון הזנת נתונים אישיים'!D$10 -> #REF! | AI46: ='גליון הזנת נתונים אישיים'!D$4*12 -> 360 | AJ46: =AG46-AI46 -> #REF! | AK46: =IF(Z46=AQ$2,AL45*'גליון הזנת נתונים אישיים'!#REF!,"") -> #REF! | AL46: =AJ46-SUM(AK46) -> #REF! | AM46: =SUM(AH$4:AH46) -> #REF! | AN46: =SUM(AI$4:AI46) -> 15480 | AO46: =IF(AA46='גליון הזנת נתונים אישיים'!C$9,AJ45,"") | AP46: =IF(AO46=AJ45,SUM(AD$4:AD45),"") -> #REF! | AQ46: =IF(AO46=AJ45,AO46-AP46,"") -> #REF! | AR46: =IF(AO46=AJ45,AM46,"") -> #REF! | AS46: =IF(AO46=AJ45,AN46,"") -> #REF!
Z47: =IF(AA47>='גליון הזנת נתונים אישיים'!D$9,AQ$2,"") -> משיכה | AA47: =AA46+1 -> 2064 | AB47: =AK47/12 -> #REF! | AD47: ='גליון הזנת נתונים אישיים'!D$5 -> 18480 | AE47: =AD47+AL46 -> #REF! | AF47: =AE47*'גליון הזנת נתונים אישיים'!D$7 -> #REF! | AG47: =AE47+AF47 -> #REF! | AH47: =AG47*'גליון הזנת נתונים אישיים'!D$10 -> #REF! | AI47: ='גליון הזנת נתונים אישיים'!D$4*12 -> 360 | AJ47: =AG47-AI47 -> #REF! | AK47: =IF(Z47=AQ$2,AL46*'גליון הזנת נתונים אישיים'!#REF!,"") -> #REF! | AL47: =AJ47-SUM(AK47) -> #REF! | AM47: =SUM(AH$4:AH47) -> #REF! | AN47: =SUM(AI$4:AI47) -> 15840 | AO47: =IF(AA47='גליון הזנת נתונים אישיים'!C$9,AJ46,"") | AP47: =IF(AO47=AJ46,SUM(AD$4:AD46),"") -> #REF! | AQ47: =IF(AO47=AJ46,AO47-AP47,"") -> #REF! | AR47: =IF(AO47=AJ46,AM47,"") -> #REF! | AS47: =IF(AO47=AJ46,AN47,"") -> #REF!
Z48: =IF(AA48>='גליון הזנת נתונים אישיים'!D$9,AQ$2,"") -> משיכה | AA48: =AA47+1 -> 2065 | AB48: =AK48/12 -> #REF! | AD48: ='גליון הזנת נתונים אישיים'!D$5 -> 18480 | AE48: =AD48+AL47 -> #REF! | AF48: =AE48*'גליון הזנת נתונים אישיים'!D$7 -> #REF! | AG48: =AE48+AF48 -> #REF! | AH48: =AG48*'גליון הזנת נתונים אישיים'!D$10 -> #REF! | AI48: ='גליון הזנת נתונים אישיים'!D$4*12 -> 360 | AJ48: =AG48-AI48 -> #REF! | AK48: =IF(Z48=AQ$2,AL47*'גליון הזנת נתונים אישיים'!#REF!,"") -> #REF! | AL48: =AJ48-SUM(AK48) -> #REF! | AM48: =SUM(AH$4:AH48) -> #REF! | AN48: =SUM(AI$4:AI48) -> 16200 | AO48: =IF(AA48='גליון הזנת נתונים אישיים'!C$9,AJ47,"") | AP48: =IF(AO48=AJ47,SUM(AD$4:AD47),"") -> #REF! | AQ48: =IF(AO48=AJ47,AO48-AP48,"") -> #REF! | AR48: =IF(AO48=AJ47,AM48,"") -> #REF! | AS48: =IF(AO48=AJ47,AN48,"") -> #REF!
Z49: =IF(AA49>='גליון הזנת נתונים אישיים'!D$9,AQ$2,"") -> משיכה | AA49: =AA48+1 -> 2066 | AB49: =AK49/12 -> #REF! | AD49: ='גליון הזנת נתונים אישיים'!D$5 -> 18480 | AE49: =AD49+AL48 -> #REF! | AF49: =AE49*'גליון הזנת נתונים אישיים'!D$7 -> #REF! | AG49: =AE49+AF49 -> #REF! | AH49: =AG49*'גליון הזנת נתונים אישיים'!D$10 -> #REF! | AI49: ='גליון הזנת נתונים אישיים'!D$4*12 -> 360 | AJ49: =AG49-AI49 -> #REF! | AK49: =IF(Z49=AQ$2,AL48*'גליון הזנת נתונים אישיים'!#REF!,"") -> #REF! | AL49: =AJ49-SUM(AK49) -> #REF! | AM49: =SUM(AH$4:AH49) -> #REF! | AN49: =SUM(AI$4:AI49) -> 16560 | AO49: =IF(AA49='גליון הזנת נתונים אישיים'!C$9,AJ48,"") | AP49: =IF(AO49=AJ48,SUM(AD$4:AD48),"") -> #REF! | AQ49: =IF(AO49=AJ48,AO49-AP49,"") -> #REF! | AR49: =IF(AO49=AJ48,AM49,"") -> #REF! | AS49: =IF(AO49=AJ48,AN49,"") -> #REF!
Z50: =IF(AA50>='גליון הזנת נתונים אישיים'!D$9,AQ$2,"") -> משיכה | AA50: =AA49+1 -> 2067 | AB50: =AK50/12 -> #REF! | AD50: ='גליון הזנת נתונים אישיים'!D$5 -> 18480 | AE50: =AD50+AL49 -> #REF! | AF50: =AE50*'גליון הזנת נתונים אישיים'!D$7 -> #REF! | AG50: =AE50+AF50 -> #REF! | AH50: =AG50*'גליון הזנת נתונים אישיים'!D$10 -> #REF! | AI50: ='גליון הזנת נתונים אישיים'!D$4*12 -> 360 | AJ50: =AG50-AI50 -> #REF! | AK50: =IF(Z50=AQ$2,AL49*'גליון הזנת נתונים אישיים'!#REF!,"") -> #REF! | AL50: =AJ50-SUM(AK50) -> #REF! | AM50: =SUM(AH$4:AH50) -> #REF! | AN50: =SUM(AI$4:AI50) -> 16920 | AO50: =IF(AA50='גליון הזנת נתונים אישיים'!C$9,AJ49,"") | AP50: =IF(AO50=AJ49,SUM(AD$4:AD49),"") -> #REF! | AQ50: =IF(AO50=AJ49,AO50-AP50,"") -> #REF! | AR50: =IF(AO50=AJ49,AM50,"") -> #REF! | AS50: =IF(AO50=AJ49,AN50,"") -> #REF!
Z51: =IF(AA51>='גליון הזנת נתונים אישיים'!D$9,AQ$2,"") -> משיכה | AA51: =AA50+1 -> 2068 | AB51: =AK51/12 -> #REF! | AD51: ='גליון הזנת נתונים אישיים'!D$5 -> 18480 | AE51: =AD51+AL50 -> #REF! | AF51: =AE51*'גליון הזנת נתונים אישיים'!D$7 -> #REF! | AG51: =AE51+AF51 -> #REF! | AH51: =AG51*'גליון הזנת נתונים אישיים'!D$10 -> #REF! | AI51: ='גליון הזנת נתונים אישיים'!D$4*12 -> 360 | AJ51: =AG51-AI51 -> #REF! | AK51: =IF(Z51=AQ$2,AL50*'גליון הזנת נתונים אישיים'!#REF!,"") -> #REF! | AL51: =AJ51-SUM(AK51) -> #REF! | AM51: =SUM(AH$4:AH51) -> #REF! | AN51: =SUM(AI$4:AI51) -> 17280 | AO51: =IF(AA51='גליון הזנת נתונים אישיים'!C$9,AJ50,"") | AP51: =IF(AO51=AJ50,SUM(AD$4:AD50),"") -> #REF! | AQ51: =IF(AO51=AJ50,AO51-AP51,"") -> #REF! | AR51: =IF(AO51=AJ50,AM51,"") -> #REF! | AS51: =IF(AO51=AJ50,AN51,"") -> #REF!
Z52: =IF(AA52>='גליון הזנת נתונים אישיים'!D$9,AQ$2,"") -> משיכה | AA52: =AA51+1 -> 2069 | AB52: =AK52/12 -> #REF! | AD52: ='גליון הזנת נתונים אישיים'!D$5 -> 18480 | AE52: =AD52+AL51 -> #REF! | AF52: =AE52*'גליון הזנת נתונים אישיים'!D$7 -> #REF! | AG52: =AE52+AF52 -> #REF! | AH52: =AG52*'גליון הזנת נתונים אישיים'!D$10 -> #REF! | AI52: ='גליון הזנת נתונים אישיים'!D$4*12 -> 360 | AJ52: =AG52-AI52 -> #REF! | AK52: =IF(Z52=AQ$2,AL51*'גליון הזנת נתונים אישיים'!#REF!,"") -> #REF! | AL52: =AJ52-SUM(AK52) -> #REF! | AM52: =SUM(AH$4:AH52) -> #REF! | AN52: =SUM(AI$4:AI52) -> 17640 | AO52: =IF(AA52='גליון הזנת נתונים אישיים'!C$9,AJ51,"") | AP52: =IF(AO52=AJ51,SUM(AD$4:AD51),"") -> #REF! | AQ52: =IF(AO52=AJ51,AO52-AP52,"") -> #REF! | AR52: =IF(AO52=AJ51,AM52,"") -> #REF! | AS52: =IF(AO52=AJ51,AN52,"") -> #REF!
... Z84: =IF(AA84>='גליון הזנת נתונים אישיים'!D$9,AQ$2,"") -> משיכה | AA84: =AA83+1 -> 2101 | AB84: =AK84/12 -> #REF! | AD84: ='גליון הזנת נתונים אישיים'!D$5 -> 18480 | AE84: =AD84+AL83 -> #REF! | AF84: =AE84*'גליון הזנת נתונים אישיים'!D$7 -> #REF! | AG84: =AE84+AF84 -> #REF! | AH84: =AG84*'גליון הזנת נתונים אישיים'!D$10 -> #REF! | AI84: ='גליון הזנת נתונים אישיים'!D$4*12 -> 360 | AJ84: =AG84-AI84 -> #REF! | AK84: =IF(Z84=AQ$2,AL83*'גליון הזנת נתונים אישיים'!#REF!,"") -> #REF! | AL84: =AJ84-SUM(AK84) -> #REF! | AM84: =SUM(AH$4:AH84) -> #REF! | AN84: =SUM(AI$4:AI84) -> 29160 | AO84: =IF(AA84='גליון הזנת נתונים אישיים'!C$9,AJ83,"") | AP84: =IF(AO84=AJ83,SUM(AD$4:AD83),"") -> #REF! | AQ84: =IF(AO84=AJ83,AO84-AP84,"") -> #REF! | AR84: =IF(AO84=AJ83,AM84,"") -> #REF! | AS84: =IF(AO84=AJ83,AN84,"") -> #REF!
