Workbook

Sheet גליון הזנת נתונים אישיים
B1: הזנת נתונים אישיים
B2: דמי ניהול | C2: 0.006 | D2: הפרשת עובד ומעביד לפנסיה | F2: הפקדות עד משיכה | G2: =INDEX('גיליון חישובים'!AM:AM,MATCH(9.99999999999999E+307,'גיליון חישובים'!AM:AM)) -> 78000 | J2: גיל | K2: =IF(C8=100%,"משיכת כל הצבירה",IF(C8<100%,"משיכה שנתית","")) -> משיכת כל הצבירה
B3: שכר קובע לפנסיה | C3: 10000 | D3: 0.1 | F3: תשואה עד משיכה | G3: =INDEX('גיליון חישובים'!AN:AN,MATCH(9.99999999999999E+307,'גיליון חישובים'!AN:AN)) -> 16518.874 | I3: משיכה חודשית צפויה בשנת: | J3: =C7 -> 2025 | K3: =VLOOKUP($J3,'גיליון חישובים'!$AA$4:$AJ$84,10,FALSE) -> 94518.874
B4: צבירה כעת בקרן השתלמות | C4: 30000 | D4: =C3*D3 -> 1000 | F4: צבירה במשיכה | G4: =INDEX('גיליון חישובים'!AL:AL,MATCH(9.99999999999999E+307,'גיליון חישובים'!AL:AL)) -> 94518.874 | J4: =J3+1 -> 2026 | K4: =VLOOKUP($J4,'גיליון חישובים'!$AA$4:$AJ$84,10,FALSE) -> 18772.47
B5: אחוזי תשואה | C5: 0.07 | J5: =J4+1 -> 2027 | K5: =VLOOKUP($J5,'גיליון חישובים'!$AA$4:$AJ$84,10,FALSE) -> 13956.514
B6: שנת תחילת ההפרשה | C6: 2021 | J6: =J5+1 -> 2028 | K6: =VLOOKUP($J6,'גיליון חישובים'!$AA$4:$AJ$84,10,FALSE) -> 13650.315
B7: בני הבכור צפוי להינשא בשנת | C7: 2025 | J7: =J6+1 -> 2029 | K7: =VLOOKUP($J7,'גיליון חישובים'!$AA$4:$AJ$84,10,FALSE) -> 13630.847
B8: משיכה שנתית בנישואי הילדים | C8: 1 | J8: =J7+1 -> 2030 | K8: =VLOOKUP($J8,'גיליון חישובים'!$AA$4:$AJ$84,10,FALSE) -> 13629.609
J9: =J8+1 -> 2031 | K9: =VLOOKUP($J9,'גיליון חישובים'!$AA$4:$AJ$84,10,FALSE) -> 13629.531
J10: =J9+1 -> 2032 | K10: =VLOOKUP($J10,'גיליון חישובים'!$AA$4:$AJ$84,10,FALSE) -> 13629.526
J11: =J10+1 -> 2033 | K11: =VLOOKUP($J11,'גיליון חישובים'!$AA$4:$AJ$84,10,FALSE) -> 13629.525
J12: =J11+1 -> 2034 | K12: =VLOOKUP($J12,'גיליון חישובים'!$AA$4:$AJ$84,10,FALSE) -> 13629.525
J13: =J12+1 -> 2035 | K13: =VLOOKUP($J13,'גיליון חישובים'!$AA$4:$AJ$84,10,FALSE) -> 13629.525
B17: שנה | C17: צבירה | D17: דמי ניהול
B18: =C6 -> 2021 | C18: =VLOOKUP(B18,'גיליון חישובים'!$AA$4:$AH$84,7,FALSE) -> 44940 | D18: =VLOOKUP(B18,'גיליון חישובים'!$AA$4:$AH$84,8,FALSE) -> 269.64
B19: =B18+1 -> 2022 | C19: =VLOOKUP(B19,'גיליון חישובים'!$AA$4:$AH$84,7,FALSE) -> 60637.285 | D19: =VLOOKUP(B19,'גיליון חישובים'!$AA$4:$AH$84,8,FALSE) -> 363.82371
B20: =B19+1 -> 2023 | C20: =VLOOKUP(B20,'גיליון חישובים'!$AA$4:$AH$84,7,FALSE) -> 77332.604 | D20: =VLOOKUP(B20,'גיליון חישובים'!$AA$4:$AH$84,8,FALSE) -> 463.99562
B21: =B20+1 -> 2024 | C21: =VLOOKUP(B21,'גיליון חישובים'!$AA$4:$AH$84,7,FALSE) -> 95089.411 | D21: =VLOOKUP(B21,'גיליון חישובים'!$AA$4:$AH$84,8,FALSE) -> 570.53646
B22: =B21+1 -> 2025 | C22: =VLOOKUP(B22,'גיליון חישובים'!$AA$4:$AH$84,7,FALSE) -> 113975.2 | D22: =VLOOKUP(B22,'גיליון חישובים'!$AA$4:$AH$84,8,FALSE) -> 683.85117
B23: =B22+1 -> 2026 | C23: =VLOOKUP(B23,'גיליון חישובים'!$AA$4:$AH$84,7,FALSE) -> 32926.543 | D23: =VLOOKUP(B23,'גיליון חישובים'!$AA$4:$AH$84,8,FALSE) -> 197.55926
B24: =B23+1 -> 2027 | C24: =VLOOKUP(B24,'גיליון חישובים'!$AA$4:$AH$84,7,FALSE) -> 27773.47 | D24: =VLOOKUP(B24,'גיליון חישובים'!$AA$4:$AH$84,8,FALSE) -> 166.64082
B25: =B24+1 -> 2028 | C25: =VLOOKUP(B25,'גיליון חישובים'!$AA$4:$AH$84,7,FALSE) -> 27445.837 | D25: =VLOOKUP(B25,'גיליון חישובים'!$AA$4:$AH$84,8,FALSE) -> 164.67502
B26: =B25+1 -> 2029 | C26: =VLOOKUP(B26,'גיליון חישובים'!$AA$4:$AH$84,7,FALSE) -> 27425.006 | D26: =VLOOKUP(B26,'גיליון חישובים'!$AA$4:$AH$84,8,FALSE) -> 164.55004
B27: =B26+1 -> 2030 | C27: =VLOOKUP(B27,'גיליון חישובים'!$AA$4:$AH$84,7,FALSE) -> 27423.682 | D27: =VLOOKUP(B27,'גיליון חישובים'!$AA$4:$AH$84,8,FALSE) -> 164.54209
B28: =B27+1 -> 2031 | C28: =VLOOKUP(B28,'גיליון חישובים'!$AA$4:$AH$84,7,FALSE) -> 27423.598 | D28: =VLOOKUP(B28,'גיליון חישובים'!$AA$4:$AH$84,8,FALSE) -> 164.54159
B29: =B28+1 -> 2032 | C29: =VLOOKUP(B29,'גיליון חישובים'!$AA$4:$AH$84,7,FALSE) -> 27423.592 | D29: =VLOOKUP(B29,'גיליון חישובים'!$AA$4:$AH$84,8,FALSE) -> 164.54155
B30: =B29+1 -> 2033 | C30: =VLOOKUP(B30,'גיליון חישובים'!$AA$4:$AH$84,7,FALSE) -> 27423.592 | D30: =VLOOKUP(B30,'גיליון חישובים'!$AA$4:$AH$84,8,FALSE) -> 164.54155
... B98: =B97+1 -> 2101 | C98: =VLOOKUP(B98,'גיליון חישובים'!$AA$4:$AH$84,7,FALSE) -> 27423.592 | D98: =VLOOKUP(B98,'גיליון חישובים'!$AA$4:$AH$84,8,FALSE) -> 164.54155

Sheet גיליון חישובים
AN2: משיכה
AA3: שנה | AB3: משיכה חודשית | AD3: הפקדה שנתית | AE3: צבירה | AF3: תשואה | AG3: הפקדה + תשואה | AH3: דמי ניהול | AI3: הפקדה + תשואה - דמי ניהול | AJ3: משיכה שנתית | AK3: הפקדה + תשואה - דמי ניהול - משיכה
Z4: =IF(AA4>='גליון הזנת נתונים אישיים'!C$7,AN$2,"") | AA4: ='גליון הזנת נתונים אישיים'!C6 -> 2021 | AB4: =AJ4/12 -> #VALUE! | AD4: ='גליון הזנת נתונים אישיים'!D$4*12+'גליון הזנת נתונים אישיים'!C4 -> 42000 | AE4: =AD4 -> 42000 | AF4: =AE4*'גליון הזנת נתונים אישיים'!C$5 -> 2940 | AG4: =AE4+AF4 -> 44940 | AH4: =AG4*'גליון הזנת נתונים אישיים'!C$2 -> 269.64 | AI4: =AG4-AH4 -> 44670.36 | AJ4: =IF(Z4=AN$2,AI4*'גליון הזנת נתונים אישיים'!C$8,"") | AK4: =AI4-SUM(AJ4:AJ4) -> 44670.36 | AL4: =IF(AA4='גליון הזנת נתונים אישיים'!C$7,AI4,"") | AM4: =IF(AL4=AI4,SUM(AD3:AD$4),"") | AN4: =IF(AL4=AI4,AL4-AM4,"")
Z5: =IF(AA5>='גליון הזנת נתונים אישיים'!C$7,AN$2,"") | AA5: =AA4+1 -> 2022 | AB5: =AJ5/12 -> #VALUE! | AD5: ='גליון הזנת נתונים אישיים'!D$4*12 -> 12000 | AE5: =AD5+AK4 -> 56670.36 | AF5: =AE5*'גליון הזנת נתונים אישיים'!C$5 -> 3966.9252 | AG5: =AE5+AF5 -> 60637.285 | AH5: =AG5*'גליון הזנת נתונים אישיים'!C$2 -> 363.82371 | AI5: =AG5-AH5 -> 60273.461 | AJ5: =IF(Z5=AN$2,AK4*'גליון הזנת נתונים אישיים'!C$8,"") | AK5: =AI5-SUM(AJ5:AJ5) -> 60273.461 | AL5: =IF(AA5='גליון הזנת נתונים אישיים'!C$7,AI4,"") | AM5: =IF(AL5=AI4,SUM(AD$4:AD4),"") | AN5: =IF(AL5=AI4,AL5-AM5,"")
Z6: =IF(AA6>='גליון הזנת נתונים אישיים'!C$7,AN$2,"") | AA6: =AA5+1 -> 2023 | AB6: =AJ6/12 -> #VALUE! | AD6: ='גליון הזנת נתונים אישיים'!D$4*12 -> 12000 | AE6: =AD6+AK5 -> 72273.461 | AF6: =AE6*'גליון הזנת נתונים אישיים'!C$5 -> 5059.1423 | AG6: =AE6+AF6 -> 77332.604 | AH6: =AG6*'גליון הזנת נתונים אישיים'!C$2 -> 463.99562 | AI6: =AG6-AH6 -> 76868.608 | AJ6: =IF(Z6=AN$2,AK5*'גליון הזנת נתונים אישיים'!C$8,"") | AK6: =AI6-SUM(AJ6:AJ6) -> 76868.608 | AL6: =IF(AA6='גליון הזנת נתונים אישיים'!C$7,AI5,"") | AM6: =IF(AL6=AI5,SUM(AD$4:AD5),"") | AN6: =IF(AL6=AI5,AL6-AM6,"")
Z7: =IF(AA7>='גליון הזנת נתונים אישיים'!C$7,AN$2,"") | AA7: =AA6+1 -> 2024 | AB7: =AJ7/12 -> #VALUE! | AD7: ='גליון הזנת נתונים אישיים'!D$4*12 -> 12000 | AE7: =AD7+AK6 -> 88868.608 | AF7: =AE7*'גליון הזנת נתונים אישיים'!C$5 -> 6220.8026 | AG7: =AE7+AF7 -> 95089.411 | AH7: =AG7*'גליון הזנת נתונים אישיים'!C$2 -> 570.53646 | AI7: =AG7-AH7 -> 94518.874 | AJ7: =IF(Z7=AN$2,AK6*'גליון הזנת נתונים אישיים'!C$8,"") | AK7: =AI7-SUM(AJ7:AJ7) -> 94518.874 | AL7: =IF(AA7='גליון הזנת נתונים אישיים'!C$7,AI6,"") | AM7: =IF(AL7=AI6,SUM(AD$4:AD6),"") | AN7: =IF(AL7=AI6,AL7-AM7,"")
Z8: =IF(AA8>='גליון הזנת נתונים אישיים'!C$7,AN$2,"") -> משיכה | AA8: =AA7+1 -> 2025 | AB8: =AJ8/12 -> 7876.5729 | AD8: ='גליון הזנת נתונים אישיים'!D$4*12 -> 12000 | AE8: =AD8+AK7 -> 106518.87 | AF8: =AE8*'גליון הזנת נתונים אישיים'!C$5 -> 7456.3212 | AG8: =AE8+AF8 -> 113975.2 | AH8: =AG8*'גליון הזנת נתונים אישיים'!C$2 -> 683.85117 | AI8: =AG8-AH8 -> 113291.34 | AJ8: =IF(Z8=AN$2,AK7*'גליון הזנת נתונים אישיים'!C$8,"") -> 94518.874 | AK8: =AI8-SUM(AJ8:AJ8) -> 18772.47 | AL8: =IF(AA8='גליון הזנת נתונים אישיים'!C$7,AI7,"") -> 94518.874 | AM8: =IF(AL8=AI7,SUM(AD$4:AD7),"") -> 78000 | AN8: =IF(AL8=AI7,AL8-AM8,"") -> 16518.874
Z9: =IF(AA9>='גליון הזנת נתונים אישיים'!C$7,AN$2,"") -> משיכה | AA9: =AA8+1 -> 2026 | AB9: =AJ9/12 -> 1564.3725 | AD9: ='גליון הזנת נתונים אישיים'!D$4*12 -> 12000 | AE9: =AD9+AK8 -> 30772.47 | AF9: =AE9*'גליון הזנת נתונים אישיים'!C$5 -> 2154.0729 | AG9: =AE9+AF9 -> 32926.543 | AH9: =AG9*'גליון הזנת נתונים אישיים'!C$2 -> 197.55926 | AI9: =AG9-AH9 -> 32728.984 | AJ9: =IF(Z9=AN$2,AK8*'גליון הזנת נתונים אישיים'!C$8,"") -> 18772.47 | AK9: =AI9-SUM(AJ9:AJ9) -> 13956.514 | AL9: =IF(AA9='גליון הזנת נתונים אישיים'!C$7,AI8,"") | AM9: =IF(AL9=AI8,SUM(AD$4:AD8),"") | AN9: =IF(AL9=AI8,AL9-AM9,"")
Z10: =IF(AA10>='גליון הזנת נתונים אישיים'!C$7,AN$2,"") -> משיכה | AA10: =AA9+1 -> 2027 | AB10: =AJ10/12 -> 1163.0428 | AD10: ='גליון הזנת נתונים אישיים'!D$4*12 -> 12000 | AE10: =AD10+AK9 -> 25956.514 | AF10: =AE10*'גליון הזנת נתונים אישיים'!C$5 -> 1816.956 | AG10: =AE10+AF10 -> 27773.47 | AH10: =AG10*'גליון הזנת נתונים אישיים'!C$2 -> 166.64082 | AI10: =AG10-AH10 -> 27606.829 | AJ10: =IF(Z10=AN$2,AK9*'גליון הזנת נתונים אישיים'!C$8,"") -> 13956.514 | AK10: =AI10-SUM(AJ10:AJ10) -> 13650.315 | AL10: =IF(AA10='גליון הזנת נתונים אישיים'!C$7,AI9,"") | AM10: =IF(AL10=AI9,SUM(AD$4:AD9),"") | AN10: =IF(AL10=AI9,AL10-AM10,"")
Z11: =IF(AA11>='גליון הזנת נתונים אישיים'!C$7,AN$2,"") -> משיכה | AA11: =AA10+1 -> 2028 | AB11: =AJ11/12 -> 1137.5263 | AD11: ='גליון הזנת נתונים אישיים'!D$4*12 -> 12000 | AE11: =AD11+AK10 -> 25650.315 | AF11: =AE11*'גליון הזנת נתונים אישיים'!C$5 -> 1795.5221 | AG11: =AE11+AF11 -> 27445.837 | AH11: =AG11*'גליון הזנת נתונים אישיים'!C$2 -> 164.67502 | AI11: =AG11-AH11 -> 27281.162 | AJ11: =IF(Z11=AN$2,AK10*'גליון הזנת נתונים אישיים'!C$8,"") -> 13650.315 | AK11: =AI11-SUM(AJ11:AJ11) -> 13630.847 | AL11: =IF(AA11='גליון הזנת נתונים אישיים'!C$7,AI10,"") | AM11: =IF(AL11=AI10,SUM(AD$4:AD10),"") | AN11: =IF(AL11=AI10,AL11-AM11,"")
Z12: =IF(AA12>='גליון הזנת נתונים אישיים'!C$7,AN$2,"") -> משיכה | AA12: =AA11+1 -> 2029 | AB12: =AJ12/12 -> 1135.9039 | AD12: ='גליון הזנת נתונים אישיים'!D$4*12 -> 12000 | AE12: =AD12+AK11 -> 25630.847 | AF12: =AE12*'גליון הזנת נתונים אישיים'!C$5 -> 1794.1593 | AG12: =AE12+AF12 -> 27425.006 | AH12: =AG12*'גליון הזנת נתונים אישיים'!C$2 -> 164.55004 | AI12: =AG12-AH12 -> 27260.456 | AJ12: =IF(Z12=AN$2,AK11*'גליון הזנת נתונים אישיים'!C$8,"") -> 13630.847 | AK12: =AI12-SUM(AJ12:AJ12) -> 13629.609 | AL12: =IF(AA12='גליון הזנת נתונים אישיים'!C$7,AI11,"") | AM12: =IF(AL12=AI11,SUM(AD$4:AD11),"") | AN12: =IF(AL12=AI11,AL12-AM12,"")
Z13: =IF(AA13>='גליון הזנת נתונים אישיים'!C$7,AN$2,"") -> משיכה | AA13: =AA12+1 -> 2030 | AB13: =AJ13/12 -> 1135.8008 | AD13: ='גליון הזנת נתונים אישיים'!D$4*12 -> 12000 | AE13: =AD13+AK12 -> 25629.609 | AF13: =AE13*'גליון הזנת נתונים אישיים'!C$5 -> 1794.0726 | AG13: =AE13+AF13 -> 27423.682 | AH13: =AG13*'גליון הזנת נתונים אישיים'!C$2 -> 164.54209 | AI13: =AG13-AH13 -> 27259.14 | AJ13: =IF(Z13=AN$2,AK12*'גליון הזנת נתונים אישיים'!C$8,"") -> 13629.609 | AK13: =AI13-SUM(AJ13:AJ13) -> 13629.531 | AL13: =IF(AA13='גליון הזנת נתונים אישיים'!C$7,AI12,"") | AM13: =IF(AL13=AI12,SUM(AD$4:AD12),"") | AN13: =IF(AL13=AI12,AL13-AM13,"")
Z14: =IF(AA14>='גליון הזנת נתונים אישיים'!C$7,AN$2,"") -> משיכה | AA14: =AA13+1 -> 2031 | AB14: =AJ14/12 -> 1135.7942 | AD14: ='גליון הזנת נתונים אישיים'!D$4*12 -> 12000 | AE14: =AD14+AK13 -> 25629.531 | AF14: =AE14*'גליון הזנת נתונים אישיים'!C$5 -> 1794.0671 | AG14: =AE14+AF14 -> 27423.598 | AH14: =AG14*'גליון הזנת נתונים אישיים'!C$2 -> 164.54159 | AI14: =AG14-AH14 -> 27259.056 | AJ14: =IF(Z14=AN$2,AK13*'גליון הזנת נתונים אישיים'!C$8,"") -> 13629.531 | AK14: =AI14-SUM(AJ14:AJ14) -> 13629.526 | AL14: =IF(AA14='גליון הזנת נתונים אישיים'!C$7,AI13,"") | AM14: =IF(AL14=AI13,SUM(AD$4:AD13),"") | AN14: =IF(AL14=AI13,AL14-AM14,"")
Z15: =IF(AA15>='גליון הזנת נתונים אישיים'!C$7,AN$2,"") -> משיכה | AA15: =AA14+1 -> 2032 | AB15: =AJ15/12 -> 1135.7938 | AD15: ='גליון הזנת נתונים אישיים'!D$4*12 -> 12000 | AE15: =AD15+AK14 -> 25629.526 | AF15: =AE15*'גליון הזנת נתונים אישיים'!C$5 -> 1794.0668 | AG15: =AE15+AF15 -> 27423.592 | AH15: =AG15*'גליון הזנת נתונים אישיים'!C$2 -> 164.54155 | AI15: =AG15-AH15 -> 27259.051 | AJ15: =IF(Z15=AN$2,AK14*'גליון הזנת נתונים אישיים'!C$8,"") -> 13629.526 | AK15: =AI15-SUM(AJ15:AJ15) -> 13629.525 | AL15: =IF(AA15='גליון הזנת נתונים אישיים'!C$7,AI14,"") | AM15: =IF(AL15=AI14,SUM(AD$4:AD14),"") | AN15: =IF(AL15=AI14,AL15-AM15,"")
Z16: =IF(AA16>='גליון הזנת נתונים אישיים'!C$7,AN$2,"") -> משיכה | AA16: =AA15+1 -> 2033 | AB16: =AJ16/12 -> 1135.7938 | AD16: ='גליון הזנת נתונים אישיים'!D$4*12 -> 12000 | AE16: =AD16+AK15 -> 25629.525 | AF16: =AE16*'גליון הזנת נתונים אישיים'!C$5 -> 1794.0668 | AG16: =AE16+AF16 -> 27423.592 | AH16: =AG16*'גליון הזנת נתונים אישיים'!C$2 -> 164.54155 | AI16: =AG16-AH16 -> 27259.05 | AJ16: =IF(Z16=AN$2,AK15*'גליון הזנת נתונים אישיים'!C$8,"") -> 13629.525 | AK16: =AI16-SUM(AJ16:AJ16) -> 13629.525 | AL16: =IF(AA16='גליון הזנת נתונים אישיים'!C$7,AI15,"") | AM16: =IF(AL16=AI15,SUM(AD$4:AD15),"") | AN16: =IF(AL16=AI15,AL16-AM16,"")
... Z39: =IF(AA39>='גליון הזנת נתונים אישיים'!C$7,AN$2,"") -> משיכה | AA39: =AA38+1 -> 2056 | AB39: =AJ39/12 -> 1135.7938 | AD39: ='גליון הזנת נתונים אישיים'!D$4*12 -> 12000 | AE39: =AD39+AK38 -> 25629.525 | AF39: =AE39*'גליון הזנת נתונים אישיים'!C$5 -> 1794.0668 | AG39: =AE39+AF39 -> 27423.592 | AH39: =AG39*'גליון הזנת נתונים אישיים'!C$2 -> 164.54155 | AI39: =AG39-AH39 -> 27259.05 | AJ39: =IF(Z39=AN$2,AK38*'גליון הזנת נתונים אישיים'!C$8,"") -> 13629.525 | AK39: =AI39-SUM(AJ39:AJ39) -> 13629.525 | AL39: =IF(AA39='גליון הזנת נתונים אישיים'!C$7,AI38,"") | AM39: =IF(AL39=AI38,SUM(AD$4:AD38),"") | AN39: =IF(AL39=AI38,AL39-AM39,"")
Z40: =IF(AA40>='גליון הזנת נתונים אישיים'!C$7,AN$2,"") -> משיכה | AA40: =AA39+1 -> 2057 | AB40: =AJ40/12 -> 1135.7938 | AC40: =SUM(AH4:AH40) -> 7652.4361 | AD40: ='גליון הזנת נתונים אישיים'!D$4*12 -> 12000 | AE40: =AD40+AK39 -> 25629.525 | AF40: =AE40*'גליון הזנת נתונים אישיים'!C$5 -> 1794.0668 | AG40: =AE40+AF40 -> 27423.592 | AH40: =AG40*'גליון הזנת נתונים אישיים'!C$2 -> 164.54155 | AI40: =AG40-AH40 -> 27259.05 | AJ40: =IF(Z40=AN$2,AK39*'גליון הזנת נתונים אישיים'!C$8,"") -> 13629.525 | AK40: =AI40-SUM(AJ40:AJ40) -> 13629.525 | AL40: =IF(AA40='גליון הזנת נתונים אישיים'!C$7,AI39,"") | AM40: =IF(AL40=AI39,SUM(AD$4:AD39),"") | AN40: =IF(AL40=AI39,AL40-AM40,"")
Z41: =IF(AA41>='גליון הזנת נתונים אישיים'!C$7,AN$2,"") -> משיכה | AA41: =AA40+1 -> 2058 | AB41: =AJ41/12 -> 1135.7938 | AD41: ='גליון הזנת נתונים אישיים'!D$4*12 -> 12000 | AE41: =AD41+AK40 -> 25629.525 | AF41: =AE41*'גליון הזנת נתונים אישיים'!C$5 -> 1794.0668 | AG41: =AE41+AF41 -> 27423.592 | AH41: =AG41*'גליון הזנת נתונים אישיים'!C$2 -> 164.54155 | AI41: =AG41-AH41 -> 27259.05 | AJ41: =IF(Z41=AN$2,AK40*'גליון הזנת נתונים אישיים'!C$8,"") -> 13629.525 | AK41: =AI41-SUM(AJ41:AJ41) -> 13629.525 | AL41: =IF(AA41='גליון הזנת נתונים אישיים'!C$7,AI40,"") | AM41: =IF(AL41=AI40,SUM(AD$4:AD40),"") | AN41: =IF(AL41=AI40,AL41-AM41,"")
Z42: =IF(AA42>='גליון הזנת נתונים אישיים'!C$7,AN$2,"") -> משיכה | AA42: =AA41+1 -> 2059 | AB42: =AJ42/12 -> 1135.7938 | AD42: ='גליון הזנת נתונים אישיים'!D$4*12 -> 12000 | AE42: =AD42+AK41 -> 25629.525 | AF42: =AE42*'גליון הזנת נתונים אישיים'!C$5 -> 1794.0668 | AG42: =AE42+AF42 -> 27423.592 | AH42: =AG42*'גליון הזנת נתונים אישיים'!C$2 -> 164.54155 | AI42: =AG42-AH42 -> 27259.05 | AJ42: =IF(Z42=AN$2,AK41*'גליון הזנת נתונים אישיים'!C$8,"") -> 13629.525 | AK42: =AI42-SUM(AJ42:AJ42) -> 13629.525 | AL42: =IF(AA42='גליון הזנת נתונים אישיים'!C$7,AI41,"") | AM42: =IF(AL42=AI41,SUM(AD$4:AD41),"") | AN42: =IF(AL42=AI41,AL42-AM42,"")
Z43: =IF(AA43>='גליון הזנת נתונים אישיים'!C$7,AN$2,"") -> משיכה | AA43: =AA42+1 -> 2060 | AB43: =AJ43/12 -> 1135.7938 | AD43: ='גליון הזנת נתונים אישיים'!D$4*12 -> 12000 | AE43: =AD43+AK42 -> 25629.525 | AF43: =AE43*'גליון הזנת נתונים אישיים'!C$5 -> 1794.0668 | AG43: =AE43+AF43 -> 27423.592 | AH43: =AG43*'גליון הזנת נתונים אישיים'!C$2 -> 164.54155 | AI43: =AG43-AH43 -> 27259.05 | AJ43: =IF(Z43=AN$2,AK42*'גליון הזנת נתונים אישיים'!C$8,"") -> 13629.525 | AK43: =AI43-SUM(AJ43:AJ43) -> 13629.525 | AL43: =IF(AA43='גליון הזנת נתונים אישיים'!C$7,AI42,"") | AM43: =IF(AL43=AI42,SUM(AD$4:AD42),"") | AN43: =IF(AL43=AI42,AL43-AM43,"")
Z44: =IF(AA44>='גליון הזנת נתונים אישיים'!C$7,AN$2,"") -> משיכה | AA44: =AA43+1 -> 2061 | AB44: =AJ44/12 -> 1135.7938 | AD44: ='גליון הזנת נתונים אישיים'!D$4*12 -> 12000 | AE44: =AD44+AK43 -> 25629.525 | AF44: =AE44*'גליון הזנת נתונים אישיים'!C$5 -> 1794.0668 | AG44: =AE44+AF44 -> 27423.592 | AH44: =AG44*'גליון הזנת נתונים אישיים'!C$2 -> 164.54155 | AI44: =AG44-AH44 -> 27259.05 | AJ44: =IF(Z44=AN$2,AK43*'גליון הזנת נתונים אישיים'!C$8,"") -> 13629.525 | AK44: =AI44-SUM(AJ44:AJ44) -> 13629.525 | AL44: =IF(AA44='גליון הזנת נתונים אישיים'!C$7,AI43,"") | AM44: =IF(AL44=AI43,SUM(AD$4:AD43),"") | AN44: =IF(AL44=AI43,AL44-AM44,"")
Z45: =IF(AA45>='גליון הזנת נתונים אישיים'!C$7,AN$2,"") -> משיכה | AA45: =AA44+1 -> 2062 | AB45: =AJ45/12 -> 1135.7938 | AD45: ='גליון הזנת נתונים אישיים'!D$4*12 -> 12000 | AE45: =AD45+AK44 -> 25629.525 | AF45: =AE45*'גליון הזנת נתונים אישיים'!C$5 -> 1794.0668 | AG45: =AE45+AF45 -> 27423.592 | AH45: =AG45*'גליון הזנת נתונים אישיים'!C$2 -> 164.54155 | AI45: =AG45-AH45 -> 27259.05 | AJ45: =IF(Z45=AN$2,AK44*'גליון הזנת נתונים אישיים'!C$8,"") -> 13629.525 | AK45: =AI45-SUM(AJ45:AJ45) -> 13629.525 | AL45: =IF(AA45='גליון הזנת נתונים אישיים'!C$7,AI44,"") | AM45: =IF(AL45=AI44,SUM(AD$4:AD44),"") | AN45: =IF(AL45=AI44,AL45-AM45,"")
Z46: =IF(AA46>='גליון הזנת נתונים אישיים'!C$7,AN$2,"") -> משיכה | AA46: =AA45+1 -> 2063 | AB46: =AJ46/12 -> 1135.7938 | AD46: ='גליון הזנת נתונים אישיים'!D$4*12 -> 12000 | AE46: =AD46+AK45 -> 25629.525 | AF46: =AE46*'גליון הזנת נתונים אישיים'!C$5 -> 1794.0668 | AG46: =AE46+AF46 -> 27423.592 | AH46: =AG46*'גליון הזנת נתונים אישיים'!C$2 -> 164.54155 | AI46: =AG46-AH46 -> 27259.05 | AJ46: =IF(Z46=AN$2,AK45*'גליון הזנת נתונים אישיים'!C$8,"") -> 13629.525 | AK46: =AI46-SUM(AJ46:AJ46) -> 13629.525 | AL46: =IF(AA46='גליון הזנת נתונים אישיים'!C$7,AI45,"") | AM46: =IF(AL46=AI45,SUM(AD$4:AD45),"") | AN46: =IF(AL46=AI45,AL46-AM46,"")
Z47: =IF(AA47>='גליון הזנת נתונים אישיים'!C$7,AN$2,"") -> משיכה | AA47: =AA46+1 -> 2064 | AB47: =AJ47/12 -> 1135.7938 | AD47: ='גליון הזנת נתונים אישיים'!D$4*12 -> 12000 | AE47: =AD47+AK46 -> 25629.525 | AF47: =AE47*'גליון הזנת נתונים אישיים'!C$5 -> 1794.0668 | AG47: =AE47+AF47 -> 27423.592 | AH47: =AG47*'גליון הזנת נתונים אישיים'!C$2 -> 164.54155 | AI47: =AG47-AH47 -> 27259.05 | AJ47: =IF(Z47=AN$2,AK46*'גליון הזנת נתונים אישיים'!C$8,"") -> 13629.525 | AK47: =AI47-SUM(AJ47:AJ47) -> 13629.525 | AL47: =IF(AA47='גליון הזנת נתונים אישיים'!C$7,AI46,"") | AM47: =IF(AL47=AI46,SUM(AD$4:AD46),"") | AN47: =IF(AL47=AI46,AL47-AM47,"")
Z48: =IF(AA48>='גליון הזנת נתונים אישיים'!C$7,AN$2,"") -> משיכה | AA48: =AA47+1 -> 2065 | AB48: =AJ48/12 -> 1135.7938 | AD48: ='גליון הזנת נתונים אישיים'!D$4*12 -> 12000 | AE48: =AD48+AK47 -> 25629.525 | AF48: =AE48*'גליון הזנת נתונים אישיים'!C$5 -> 1794.0668 | AG48: =AE48+AF48 -> 27423.592 | AH48: =AG48*'גליון הזנת נתונים אישיים'!C$2 -> 164.54155 | AI48: =AG48-AH48 -> 27259.05 | AJ48: =IF(Z48=AN$2,AK47*'גליון הזנת נתונים אישיים'!C$8,"") -> 13629.525 | AK48: =AI48-SUM(AJ48:AJ48) -> 13629.525 | AL48: =IF(AA48='גליון הזנת נתונים אישיים'!C$7,AI47,"") | AM48: =IF(AL48=AI47,SUM(AD$4:AD47),"") | AN48: =IF(AL48=AI47,AL48-AM48,"")
Z49: =IF(AA49>='גליון הזנת נתונים אישיים'!C$7,AN$2,"") -> משיכה | AA49: =AA48+1 -> 2066 | AB49: =AJ49/12 -> 1135.7938 | AD49: ='גליון הזנת נתונים אישיים'!D$4*12 -> 12000 | AE49: =AD49+AK48 -> 25629.525 | AF49: =AE49*'גליון הזנת נתונים אישיים'!C$5 -> 1794.0668 | AG49: =AE49+AF49 -> 27423.592 | AH49: =AG49*'גליון הזנת נתונים אישיים'!C$2 -> 164.54155 | AI49: =AG49-AH49 -> 27259.05 | AJ49: =IF(Z49=AN$2,AK48*'גליון הזנת נתונים אישיים'!C$8,"") -> 13629.525 | AK49: =AI49-SUM(AJ49:AJ49) -> 13629.525 | AL49: =IF(AA49='גליון הזנת נתונים אישיים'!C$7,AI48,"") | AM49: =IF(AL49=AI48,SUM(AD$4:AD48),"") | AN49: =IF(AL49=AI48,AL49-AM49,"")
Z50: =IF(AA50>='גליון הזנת נתונים אישיים'!C$7,AN$2,"") -> משיכה | AA50: =AA49+1 -> 2067 | AB50: =AJ50/12 -> 1135.7938 | AD50: ='גליון הזנת נתונים אישיים'!D$4*12 -> 12000 | AE50: =AD50+AK49 -> 25629.525 | AF50: =AE50*'גליון הזנת נתונים אישיים'!C$5 -> 1794.0668 | AG50: =AE50+AF50 -> 27423.592 | AH50: =AG50*'גליון הזנת נתונים אישיים'!C$2 -> 164.54155 | AI50: =AG50-AH50 -> 27259.05 | AJ50: =IF(Z50=AN$2,AK49*'גליון הזנת נתונים אישיים'!C$8,"") -> 13629.525 | AK50: =AI50-SUM(AJ50:AJ50) -> 13629.525 | AL50: =IF(AA50='גליון הזנת נתונים אישיים'!C$7,AI49,"") | AM50: =IF(AL50=AI49,SUM(AD$4:AD49),"") | AN50: =IF(AL50=AI49,AL50-AM50,"")
Z51: =IF(AA51>='גליון הזנת נתונים אישיים'!C$7,AN$2,"") -> משיכה | AA51: =AA50+1 -> 2068 | AB51: =AJ51/12 -> 1135.7938 | AD51: ='גליון הזנת נתונים אישיים'!D$4*12 -> 12000 | AE51: =AD51+AK50 -> 25629.525 | AF51: =AE51*'גליון הזנת נתונים אישיים'!C$5 -> 1794.0668 | AG51: =AE51+AF51 -> 27423.592 | AH51: =AG51*'גליון הזנת נתונים אישיים'!C$2 -> 164.54155 | AI51: =AG51-AH51 -> 27259.05 | AJ51: =IF(Z51=AN$2,AK50*'גליון הזנת נתונים אישיים'!C$8,"") -> 13629.525 | AK51: =AI51-SUM(AJ51:AJ51) -> 13629.525 | AL51: =IF(AA51='גליון הזנת נתונים אישיים'!C$7,AI50,"") | AM51: =IF(AL51=AI50,SUM(AD$4:AD50),"") | AN51: =IF(AL51=AI50,AL51-AM51,"")
Z52: =IF(AA52>='גליון הזנת נתונים אישיים'!C$7,AN$2,"") -> משיכה | AA52: =AA51+1 -> 2069 | AB52: =AJ52/12 -> 1135.7938 | AD52: ='גליון הזנת נתונים אישיים'!D$4*12 -> 12000 | AE52: =AD52+AK51 -> 25629.525 | AF52: =AE52*'גליון הזנת נתונים אישיים'!C$5 -> 1794.0668 | AG52: =AE52+AF52 -> 27423.592 | AH52: =AG52*'גליון הזנת נתונים אישיים'!C$2 -> 164.54155 | AI52: =AG52-AH52 -> 27259.05 | AJ52: =IF(Z52=AN$2,AK51*'גליון הזנת נתונים אישיים'!C$8,"") -> 13629.525 | AK52: =AI52-SUM(AJ52:AJ52) -> 13629.525 | AL52: =IF(AA52='גליון הזנת נתונים אישיים'!C$7,AI51,"") | AM52: =IF(AL52=AI51,SUM(AD$4:AD51),"") | AN52: =IF(AL52=AI51,AL52-AM52,"")
... Z84: =IF(AA84>='גליון הזנת נתונים אישיים'!C$7,AN$2,"") -> משיכה | AA84: =AA83+1 -> 2101 | AB84: =AJ84/12 -> 1135.7938 | AD84: ='גליון הזנת נתונים אישיים'!D$4*12 -> 12000 | AE84: =AD84+AK83 -> 25629.525 | AF84: =AE84*'גליון הזנת נתונים אישיים'!C$5 -> 1794.0668 | AG84: =AE84+AF84 -> 27423.592 | AH84: =AG84*'גליון הזנת נתונים אישיים'!C$2 -> 164.54155 | AI84: =AG84-AH84 -> 27259.05 | AJ84: =IF(Z84=AN$2,AK83*'גליון הזנת נתונים אישיים'!C$8,"") -> 13629.525 | AK84: =AI84-SUM(AJ84:AJ84) -> 13629.525 | AL84: =IF(AA84='גליון הזנת נתונים אישיים'!C$7,AI83,"") | AM84: =IF(AL84=AI83,SUM(AD$4:AD83),"") | AN84: =IF(AL84=AI83,AL84-AM84,"")
