Workbook

Sheet גיליון1
A1: בס"ד
C3: נכנס לקופה | H3: הוצאות | L3: סך כל ההוצאות | M3: סך כל ההכנסות | N3: מאזן
L4: =SUM(J7:J226) -> 16793.1 | M4: =SUM(E7:E130) -> 21496.8 | N4: =M4-L4 -> 4703.7
C6: שם | D6: סוג ההוצאה | E6: סכום | H6: תאריך | I6: סוג הוצאה | J6: סכום
C7: אחר | D7: מזומן | E7: 2500 | H7: 45741 | I7: אחר | J7: 870
C8: אחר | D8: מזומן | E8: 750 | H8: 45742 | I8: אחר | J8: 870
C9: אחר | D9: מזומן | E9: 2800 | H9: 45743 | I9: אחר | J9: 870
C10: אחר | D10: מזומן | E10: 2500 | H10: 45744 | I10: אחר | J10: 870
C11: אחר | D11: מזומן | E11: 1500 | H11: 45745 | I11: אחר | J11: 523
C12: אחר | D12: מזומן | E12: 1000 | H12: 45746 | I12: אחר | J12: 508
C13: אחר | D13: מזומן | E13: 1500 | H13: 45747 | I13: אחר | J13: 508
C14: אחר | D14: מזומן | E14: 750 | H14: 45748 | I14: אחר | J14: 508
C15: אחר | D15: מזומן | E15: 300 | H15: 45749 | I15: אחר | J15: 508
C16: אחר | D16: מזומן | E16: 3000 | H16: 45750 | I16: אחר | J16: 508
C17: אחר | D17: מזומן | E17: 1750 | H17: 45751 | I17: אחר | J17: 508
C18: אחר | D18: מזומן | E18: 500 | H18: 45752 | I18: אחר | J18: 137.7
... C20: אחר | D20: מזומן | E20: 750 | H20: 45754 | I20: אחר | J20: 480
C21: אחר | D21: מזומן | E21: 750 | I21: אחר | J21: 1059
C22: אחר | D22: בלעכן | E22: 360 | I22: אחר | J22: 1059
C23: אחר | D23: רכב | E23: 220 | I23: אחר | J23: 830
C24: אחר | D24: שתיה | E24: 49.3 | I24: אחר | J24: 200
C25: אחר | D25: שתיה | E25: 137.7 | I25: אחר | J25: 50
C26: אחר | D26: נייר עיתון | E26: 110 | I26: אחר | J26: 3600
C27: אחר | D27: כוסות מים שלנו | E27: 19.8 | I27: אחר | J27: 80
C28: אחר | I28: אחר | J28: 360
I29: אחר | J29: 220
I30: אחר | J30: 869
I31: אחר | J31: 75
I32: אחר | J32: 28.8
I33: אחר | J33: 4.5
I34: אחר | J34: 49.3
I35: אחר | J35: 110
I36: אחר | J36: 19.8
I37: אחר
I38: אחר

Sheet גיליון2
A1: בס"ד
D2: אין למלאות בתאים בצבע זה
B6: נכנס לקופה לפי אנשים | E6: מחירון
B8: שם | C8: סה"כ | E8: כמה ק"ג יצא סה"כ | F8: סה"כ לק"ג
B9: אחר | C9: =SUMIFS(גיליון1!$E$7:$E$99,גיליון1!$C$7:$C$99,B9) -> 21496.8 | E9: 45.34 | F9: =גיליון1!L4/גיליון2!E9 -> 370.38156
B10: אחר | C10: =SUMIFS(גיליון1!$E$7:$E$99,גיליון1!$C$7:$C$99,B10) -> 21496.8
B11: אחר | C11: =SUMIFS(גיליון1!$E$7:$E$99,גיליון1!$C$7:$C$99,B11) -> 21496.8
B12: אחר | C12: =SUMIFS(גיליון1!$E$7:$E$99,גיליון1!$C$7:$C$99,B12) -> 21496.8 | E12: סוג מצה | F12: מחיר בסיס | G12: תוספת מיוחדת
B13: אחר | C13: =SUMIFS(גיליון1!$E$7:$E$99,גיליון1!$C$7:$C$99,B13) -> 21496.8 | E13: רגיל | F13: =F9 -> 370.38156
B14: אחר | C14: =SUMIFS(גיליון1!$E$7:$E$99,גיליון1!$C$7:$C$99,B14) -> 21496.8 | E14: מצה ב | F14: =$F$9+G14 -> 370.38156
B15: אחר | C15: =SUMIFS(גיליון1!$E$7:$E$99,גיליון1!$C$7:$C$99,B15) -> 21496.8 | E15: מצה ג | F15: =$F$9+G15 -> 370.38156
B16: אחר | C16: =SUMIFS(גיליון1!$E$7:$E$99,גיליון1!$C$7:$C$99,B16) -> 21496.8 | E16: מצה ד | F16: =$F$9+G16 -> 370.38156
B17: אחר | C17: =SUMIFS(גיליון1!$E$7:$E$99,גיליון1!$C$7:$C$99,B17) -> 21496.8 | E17: קרטונים | F17: 7
B18: אחר | C18: =SUMIFS(גיליון1!$E$7:$E$99,גיליון1!$C$7:$C$99,B18) -> 21496.8
B19: אחר | C19: =SUMIFS(גיליון1!$E$7:$E$99,גיליון1!$C$7:$C$99,B19) -> 21496.8
B20: אחר | C20: =SUMIFS(גיליון1!$E$7:$E$99,גיליון1!$C$7:$C$99,B20) -> 21496.8
B21: אחר | C21: =SUMIFS(גיליון1!$E$7:$E$99,גיליון1!$C$7:$C$99,B21) -> 21496.8
B22: אחר | C22: =SUMIFS(גיליון1!$E$7:$E$99,גיליון1!$C$7:$C$99,B22) -> 21496.8
B23: אחר | C23: =SUMIFS(גיליון1!$E$7:$E$99,גיליון1!$C$7:$C$99,B23) -> 21496.8
C24: =SUMIFS(גיליון1!$E$7:$E$99,גיליון1!$C$7:$C$99,B24) -> 0
C25: =SUMIFS(גיליון1!$E$7:$E$99,גיליון1!$C$7:$C$99,B25) -> 0
C26: =SUMIFS(גיליון1!$E$7:$E$99,גיליון1!$C$7:$C$99,B26) -> 0
C27: =SUMIFS(גיליון1!$E$7:$E$99,גיליון1!$C$7:$C$99,B27) -> 0
C28: =SUMIFS(גיליון1!$E$7:$E$99,גיליון1!$C$7:$C$99,B28) -> 0
C29: =SUMIFS(גיליון1!$E$7:$E$99,גיליון1!$C$7:$C$99,B29) -> 0
C30: =SUMIFS(גיליון1!$E$7:$E$99,גיליון1!$C$7:$C$99,B30) -> 0
C31: =SUMIFS(גיליון1!$E$7:$E$99,גיליון1!$C$7:$C$99,B31) -> 0
C32: =SUMIFS(גיליון1!$E$7:$E$99,גיליון1!$C$7:$C$99,B32) -> 0
C33: =SUMIFS(גיליון1!$E$7:$E$99,גיליון1!$C$7:$C$99,B33) -> 0
C34: =SUMIFS(גיליון1!$E$7:$E$99,גיליון1!$C$7:$C$99,B34) -> 0
C35: =SUMIFS(גיליון1!$E$7:$E$99,גיליון1!$C$7:$C$99,B35) -> 0
... C43: =SUMIFS(גיליון1!$E$7:$E$99,גיליון1!$C$7:$C$99,B43) -> 0

Sheet גיליון3
A1: בס"ד
E3: סכום לתשלום לכ"א | K3: יתרה לתשלום
C5: שם | D5: מצה א | E5: מצה ב | F5: מצה ג | G5: מצה ד | H5: קרטונים | I5: סה"כ | K5: שם | L5: שולם | M5: חייב | N5: סה"כ
B6: כמות | C6: אחר | D6: 1.5 | E6: 3.5 | H6: 6 | I6: =(D6*גיליון2!$F$13)+(E6*גיליון2!$F$14)+(F6*גיליון2!$F$15)+(G6*גיליון2!$F$16)+(H6*גיליון2!$F$17) -> 1893.9078 | K6: אחר | L6: =VLOOKUP(K6,גיליון2!$B$9:$C$43,2,FALSE) -> 21496.8 | M6: =VLOOKUP(K6,$C$6:$I$103,7,FALSE) -> 1893.9078 | N6: =L6-M6 -> 19602.892
B7: כמות | C7: אחר | D7: 1.5 | H7: 1 | I7: =(D7*גיליון2!$F$13)+(E7*גיליון2!$F$14)+(F7*גיליון2!$F$15)+(G7*גיליון2!$F$16)+(H7*גיליון2!$F$17) -> 562.57234 | K7: אחר | L7: =VLOOKUP(K7,גיליון2!$B$9:$C$43,2,FALSE) -> 21496.8 | M7: =VLOOKUP(K7,$C$6:$I$103,7,FALSE) -> 1893.9078 | N7: =L7-M7 -> 19602.892
B8: כמות | C8: אחר | D8: 5.5 | I8: =(D8*גיליון2!$F$13)+(E8*גיליון2!$F$14)+(F8*גיליון2!$F$15)+(G8*גיליון2!$F$16)+(H8*גיליון2!$F$17) -> 2037.0986 | K8: אחר | L8: =VLOOKUP(K8,גיליון2!$B$9:$C$43,2,FALSE) -> 21496.8 | M8: =VLOOKUP(K8,$C$6:$I$103,7,FALSE) -> 1893.9078 | N8: =L8-M8 -> 19602.892
B9: כמות | C9: אחר | D9: 5.26 | H9: 4 | I9: =(D9*גיליון2!$F$13)+(E9*גיליון2!$F$14)+(F9*גיליון2!$F$15)+(G9*גיליון2!$F$16)+(H9*גיליון2!$F$17) -> 1976.207 | K9: אחר | L9: =VLOOKUP(K9,גיליון2!$B$9:$C$43,2,FALSE) -> 21496.8 | M9: =VLOOKUP(K9,$C$6:$I$103,7,FALSE) -> 1893.9078 | N9: =L9-M9 -> 19602.892
B10: כמות | C10: אחר | D10: 2 | E10: 0.98 | H10: 3 | I10: =(D10*גיליון2!$F$13)+(E10*גיליון2!$F$14)+(F10*גיליון2!$F$15)+(G10*גיליון2!$F$16)+(H10*גיליון2!$F$17) -> 1124.7371 | K10: אחר | L10: =VLOOKUP(K10,גיליון2!$B$9:$C$43,2,FALSE) -> 21496.8 | M10: =VLOOKUP(K10,$C$6:$I$103,7,FALSE) -> 1893.9078 | N10: =L10-M10 -> 19602.892
B11: כמות | C11: אחר | D11: 2 | H11: 2 | I11: =(D11*גיליון2!$F$13)+(E11*גיליון2!$F$14)+(F11*גיליון2!$F$15)+(G11*גיליון2!$F$16)+(H11*גיליון2!$F$17) -> 754.76312 | K11: אחר | L11: =VLOOKUP(K11,גיליון2!$B$9:$C$43,2,FALSE) -> 21496.8 | M11: =VLOOKUP(K11,$C$6:$I$103,7,FALSE) -> 1893.9078 | N11: =L11-M11 -> 19602.892
B12: כמות | C12: אחר | D12: 3 | H12: 2 | I12: =(D12*גיליון2!$F$13)+(E12*גיליון2!$F$14)+(F12*גיליון2!$F$15)+(G12*גיליון2!$F$16)+(H12*גיליון2!$F$17) -> 1125.1447 | K12: אחר | L12: =VLOOKUP(K12,גיליון2!$B$9:$C$43,2,FALSE) -> 21496.8 | M12: =VLOOKUP(K12,$C$6:$I$103,7,FALSE) -> 1893.9078 | N12: =L12-M12 -> 19602.892
B13: כמות | C13: אחר | D13: 0.5 | E13: 1 | H13: 2 | I13: =(D13*גיליון2!$F$13)+(E13*גיליון2!$F$14)+(F13*גיליון2!$F$15)+(G13*גיליון2!$F$16)+(H13*גיליון2!$F$17) -> 569.57234 | K13: אחר | L13: =VLOOKUP(K13,גיליון2!$B$9:$C$43,2,FALSE) -> 21496.8 | M13: =VLOOKUP(K13,$C$6:$I$103,7,FALSE) -> 1893.9078 | N13: =L13-M13 -> 19602.892
B14: כמות | C14: אחר | D14: 2 | H14: 2 | I14: =(D14*גיליון2!$F$13)+(E14*גיליון2!$F$14)+(F14*גיליון2!$F$15)+(G14*גיליון2!$F$16)+(H14*גיליון2!$F$17) -> 754.76312 | K14: אחר | L14: =VLOOKUP(K14,גיליון2!$B$9:$C$43,2,FALSE) -> 21496.8 | M14: =VLOOKUP(K14,$C$6:$I$103,7,FALSE) -> 1893.9078 | N14: =L14-M14 -> 19602.892
B15: כמות | C15: אחר | D15: 5.5 | E15: 1.5 | H15: 5 | I15: =(D15*גיליון2!$F$13)+(E15*גיליון2!$F$14)+(F15*גיליון2!$F$15)+(G15*גיליון2!$F$16)+(H15*גיליון2!$F$17) -> 2627.6709 | K15: אחר | L15: =VLOOKUP(K15,גיליון2!$B$9:$C$43,2,FALSE) -> 21496.8 | M15: =VLOOKUP(K15,$C$6:$I$103,7,FALSE) -> 1893.9078 | N15: =L15-M15 -> 19602.892
B16: כמות | C16: אחר | D16: 4.1 | H16: 6 | I16: =(D16*גיליון2!$F$13)+(E16*גיליון2!$F$14)+(F16*גיליון2!$F$15)+(G16*גיליון2!$F$16)+(H16*גיליון2!$F$17) -> 1560.5644 | K16: אחר | L16: =VLOOKUP(K16,גיליון2!$B$9:$C$43,2,FALSE) -> 21496.8 | M16: =VLOOKUP(K16,$C$6:$I$103,7,FALSE) -> 1893.9078 | N16: =L16-M16 -> 19602.892
B17: כמות | C17: אחר | D17: 1 | H17: 1 | I17: =(D17*גיליון2!$F$13)+(E17*גיליון2!$F$14)+(F17*גיליון2!$F$15)+(G17*גיליון2!$F$16)+(H17*גיליון2!$F$17) -> 377.38156 | K17: אחר | L17: =VLOOKUP(K17,גיליון2!$B$9:$C$43,2,FALSE) -> 21496.8 | M17: =VLOOKUP(K17,$C$6:$I$103,7,FALSE) -> 1893.9078 | N17: =L17-M17 -> 19602.892
B18: כמות | C18: אחר | E18: 0.5 | H18: 1 | I18: =(D18*גיליון2!$F$13)+(E18*גיליון2!$F$14)+(F18*גיליון2!$F$15)+(G18*גיליון2!$F$16)+(H18*גיליון2!$F$17) -> 192.19078 | K18: אחר | L18: =VLOOKUP(K18,גיליון2!$B$9:$C$43,2,FALSE) -> 21496.8 | M18: =VLOOKUP(K18,$C$6:$I$103,7,FALSE) -> 1893.9078 | N18: =L18-M18 -> 19602.892
B19: כמות | C19: אחר | D19: 1 | E19: 0.5 | H19: 2 | I19: =(D19*גיליון2!$F$13)+(E19*גיליון2!$F$14)+(F19*גיליון2!$F$15)+(G19*גיליון2!$F$16)+(H19*גיליון2!$F$17) -> 569.57234 | K19: אחר | L19: =VLOOKUP(K19,גיליון2!$B$9:$C$43,2,FALSE) -> 21496.8 | M19: =VLOOKUP(K19,$C$6:$I$103,7,FALSE) -> 1893.9078 | N19: =L19-M19 -> 19602.892
B20: כמות | C20: אחר | D20: 1.5 | H20: 2 | I20: =(D20*גיליון2!$F$13)+(E20*גיליון2!$F$14)+(F20*גיליון2!$F$15)+(G20*גיליון2!$F$16)+(H20*גיליון2!$F$17) -> 569.57234 | K20: אחר | L20: =VLOOKUP(K20,גיליון2!$B$9:$C$43,2,FALSE) -> 21496.8 | M20: =VLOOKUP(K20,$C$6:$I$103,7,FALSE) -> 1893.9078 | N20: =L20-M20 -> 19602.892
B21: כמות | C21: אחר | D21: 1 | H21: 1 | I21: =(D21*גיליון2!$F$13)+(E21*גיליון2!$F$14)+(F21*גיליון2!$F$15)+(G21*גיליון2!$F$16)+(H21*גיליון2!$F$17) -> 377.38156 | K21: אחר | L21: =VLOOKUP(K21,גיליון2!$B$9:$C$43,2,FALSE) -> 21496.8 | M21: =VLOOKUP(K21,$C$6:$I$103,7,FALSE) -> 1893.9078 | N21: =L21-M21 -> 19602.892
B22: כמות | I22: =(D22*גיליון2!$F$13)+(E22*גיליון2!$F$14)+(F22*גיליון2!$F$15)+(G22*גיליון2!$F$16)+(H22*גיליון2!$F$17) -> 0 | L22: =VLOOKUP(K22,גיליון2!$B$9:$C$43,2,FALSE) -> #N/A | M22: =VLOOKUP(K22,$C$6:$I$103,7,FALSE) -> #N/A | N22: =L22-M22 -> #N/A
B23: כמות | I23: =(D23*גיליון2!$F$13)+(E23*גיליון2!$F$14)+(F23*גיליון2!$F$15)+(G23*גיליון2!$F$16)+(H23*גיליון2!$F$17) -> 0 | L23: =VLOOKUP(K23,גיליון2!$B$9:$C$43,2,FALSE) -> #N/A | M23: =VLOOKUP(K23,$C$6:$I$103,7,FALSE) -> #N/A | N23: =L23-M23 -> #N/A
L24: =VLOOKUP(K24,גיליון2!$B$9:$C$43,2,FALSE) -> #N/A | M24: =VLOOKUP(K24,$C$6:$I$103,7,FALSE) -> #N/A | N24: =L24-M24 -> #N/A
L25: =VLOOKUP(K25,גיליון2!$B$9:$C$43,2,FALSE) -> #N/A | M25: =VLOOKUP(K25,$C$6:$I$103,7,FALSE) -> #N/A | N25: =L25-M25 -> #N/A
L26: =VLOOKUP(K26,גיליון2!$B$9:$C$43,2,FALSE) -> #N/A | M26: =VLOOKUP(K26,$C$6:$I$103,7,FALSE) -> #N/A | N26: =L26-M26 -> #N/A
L27: =VLOOKUP(K27,גיליון2!$B$9:$C$43,2,FALSE) -> #N/A | M27: =VLOOKUP(K27,$C$6:$I$103,7,FALSE) -> #N/A | N27: =L27-M27 -> #N/A
L28: =VLOOKUP(K28,גיליון2!$B$9:$C$43,2,FALSE) -> #N/A | M28: =VLOOKUP(K28,$C$6:$I$103,7,FALSE) -> #N/A | N28: =L28-M28 -> #N/A
