Workbook

Sheet גיליון1
A1: שם המוכר | B1: לקוח | C1: סכום עסקה | D1: רווח באחוזים | E1: סה"כ רווח | F1: אחוזים למוכר | G1: סה"כ למוכר | H1: נשאר למשרד
A2: א | B2: ש | C2: 100 | D2: 0.25 | E2: =C2*D2 -> 25 | F2: 0.05 | G2: =F2*C2 -> 5 | H2: =E2-G2 -> 20
A3: ב | B3: ר | C3: 500 | D3: 0.3 | E3: =C3*D3 -> 150 | F3: 0.05 | G3: =F3*C3 -> 25 | H3: =E3-G3 -> 125
A4: ג | B4: ק | C4: 300 | D4: 0.2 | E4: =C4*D4 -> 60 | F4: 0.05 | G4: =F4*C4 -> 15 | H4: =E4-G4 -> 45
A5: ד | B5: ח | C5: 200 | D5: 0.15 | E5: =C5*D5 -> 30 | F5: 0.05 | G5: =F5*C5 -> 10 | H5: =E5-G5 -> 20

Sheet גיליון2
A1: שם המוכר | B1: לקוח | C1: סכום עסקה | D1: רווח באחוזים | E1: סה"כ רווח | F1: אחוזים למוכר | G1: סה"כ למוכר | H1: נשאר למשרד
A2: ג | B2: ש | C2: 555 | D2: 0.25 | E2: =C2*D2 -> 138.75 | F2: 0.05 | G2: =F2*C2 -> 27.75 | H2: =E2-G2 -> 111
A3: ב | B3: ר | C3: 222 | D3: 0.3 | E3: =C3*D3 -> 66.6 | F3: 0.05 | G3: =F3*C3 -> 11.1 | H3: =E3-G3 -> 55.5
A4: א | B4: ק | C4: 333 | D4: 0.2 | E4: =C4*D4 -> 66.6 | F4: 0.05 | G4: =F4*C4 -> 16.65 | H4: =E4-G4 -> 49.95
A5: ד | B5: ח | C5: 111 | D5: 0.15 | E5: =C5*D5 -> 16.65 | F5: 0.05 | G5: =F5*C5 -> 5.55 | H5: =E5-G5 -> 11.1

Sheet גיליון3
A1: שם המוכר | B1: לקוח | C1: סכום עסקה | D1: רווח באחוזים | E1: סה"כ רווח | F1: אחוזים למוכר | G1: סה"כ למוכר | H1: נשאר למשרד
A2: ג | B2: ש | C2: 300 | D2: 0.25 | E2: =C2*D2 -> 75 | F2: 0.05 | G2: =F2*C2 -> 15 | H2: =E2-G2 -> 60
A3: ב | B3: ר | C3: 10 | D3: 0.3 | E3: =C3*D3 -> 3 | F3: 0.05 | G3: =F3*C3 -> 0.5 | H3: =E3-G3 -> 2.5
A4: ד | B4: ק | C4: 50 | D4: 0.2 | E4: =C4*D4 -> 10 | F4: 0.05 | G4: =F4*C4 -> 2.5 | H4: =E4-G4 -> 7.5
A5: א | B5: ח | C5: 222 | D5: 0.15 | E5: =C5*D5 -> 33.3 | F5: 0.05 | G5: =F5*C5 -> 11.1 | H5: =E5-G5 -> 22.2

Sheet באיחוד
A1: פה אני רוצה סיכום של כמה כל מוכר הרויח וכמה השאיר למשרד
C2: לקוח | D2: סכום עסקה | E2: רווח באחוזים | F2: סה"כ רווח | G2: אחוזים למוכר | H2: סה"כ למוכר | I2: נשאר למשרד
B3: א | D3: 655 | E3: 0.6 | F3: 124.9 | G3: 0.15 | H3: 32.75 | I3: 92.15
B4: ב | D4: 732 | E4: 0.9 | F4: 219.6 | G4: 0.15 | H4: 36.6 | I4: 183
B5: ג | D5: 1155 | E5: 0.7 | F5: 273.75 | G5: 0.15 | H5: 57.75 | I5: 216
B6: ד | D6: 361 | E6: 0.5 | F6: 56.65 | G6: 0.15 | H6: 18.05 | I6: 38.6
A8: צילום מסך והסבר איך לעשות איחוד נתונים:

Sheet בנוסחאות
B1: סה"כ למוכר | C1: נשאר למשרד
A2: {=_xlfn.UNIQUE(גיליון1!A2:A5)} -> א | B2: =SUMIF(גיליון1!$A:$A,$A2,גיליון1!G:G)+SUMIF(גיליון2!$A:$A,$A2,גיליון2!G:G)+SUMIF(גיליון3!$A:$A,$A2,גיליון3!G:G) -> 32.75 | C2: =SUMIF(גיליון1!$A:$A,$A2,גיליון1!H:H)+SUMIF(גיליון2!$A:$A,$A2,גיליון2!H:H)+SUMIF(גיליון3!$A:$A,$A2,גיליון3!H:H) -> 92.15
A3: ב | B3: =SUMIF(גיליון1!$A:$A,$A3,גיליון1!G:G)+SUMIF(גיליון2!$A:$A,$A3,גיליון2!G:G)+SUMIF(גיליון3!$A:$A,$A3,גיליון3!G:G) -> 36.6 | C3: =SUMIF(גיליון1!$A:$A,$A3,גיליון1!H:H)+SUMIF(גיליון2!$A:$A,$A3,גיליון2!H:H)+SUMIF(גיליון3!$A:$A,$A3,גיליון3!H:H) -> 183
A4: ג | B4: =SUMIF(גיליון1!$A:$A,$A4,גיליון1!G:G)+SUMIF(גיליון2!$A:$A,$A4,גיליון2!G:G)+SUMIF(גיליון3!$A:$A,$A4,גיליון3!G:G) -> 57.75 | C4: =SUMIF(גיליון1!$A:$A,$A4,גיליון1!H:H)+SUMIF(גיליון2!$A:$A,$A4,גיליון2!H:H)+SUMIF(גיליון3!$A:$A,$A4,גיליון3!H:H) -> 216
A5: ד | B5: =SUMIF(גיליון1!$A:$A,$A5,גיליון1!G:G)+SUMIF(גיליון2!$A:$A,$A5,גיליון2!G:G)+SUMIF(גיליון3!$A:$A,$A5,גיליון3!G:G) -> 18.05 | C5: =SUMIF(גיליון1!$A:$A,$A5,גיליון1!H:H)+SUMIF(גיליון2!$A:$A,$A5,גיליון2!H:H)+SUMIF(גיליון3!$A:$A,$A5,גיליון3!H:H) -> 38.6
