Workbook

Sheet גיליון1
A1: ID | B1: תאריך המטלה | C1: מספר המטלה | D1: קוד התלמיד | E1: הזנת המשתמש | F1: תאריך ושעה
A2: 61843 | B2: 2020-11-08 | C2: 1 | D2: 153 | E2: 1 | F2: 2020-11-08 06:39:06
A3: 62415 | B3: 2020-11-08 | C3: 2 | D3: 153 | E3: 1 | F3: 2020-11-08 17:56:07
A4: 62419 | B4: 2020-11-08 | C4: 3 | D4: 153 | E4: 1 | F4: 2020-11-08 17:57:17
A5: 63072 | B5: 2020-11-08 | C5: 4 | D5: 153 | E5: 1 | F5: 2020-11-08 20:24:03
A6: 63617 | B6: 2020-11-09 | C6: 1 | D6: 153 | E6: 1 | F6: 2020-11-09 06:31:34
A7: 64480 | B7: 2020-11-09 | C7: 2 | D7: 153 | E7: 1 | F7: 2020-11-09 20:04:07
A8: 64484 | B8: 2020-11-09 | C8: 3 | D8: 153 | E8: 1 | F8: 2020-11-09 20:05:06
A9: 64560 | B9: 2020-11-09 | C9: 4 | D9: 153 | E9: 1 | F9: 2020-11-09 20:18:00
A10: 65077 | B10: 2020-11-10 | C10: 1 | D10: 153 | E10: 1 | F10: 2020-11-10 06:32:36
A11: 62462 | B11: 2020-11-08 | C11: 2 | D11: 401 | E11: 1 | F11: 2020-11-08 18:13:05
A12: 62471 | B12: 2020-11-08 | C12: 3 | D12: 401 | E12: 1 | F12: 2020-11-08 18:14:13
A13: 62476 | B13: 2020-11-08 | C13: 4 | D13: 401 | E13: 1 | F13: 2020-11-08 18:14:53
... A81: 61930 | B81: 2020-11-08 | C81: 1 | D81: 415 | E81: 1 | F81: 2020-11-08 07:43:13
A82: 62384 | B82: 2020-11-08 | C82: 2 | D82: 415 | E82: C | F82: 2020-11-08 17:38:47
A83: 62390 | B83: 2020-11-08 | C83: 3 | D83: 415 | E83: 1 | F83: 2020-11-08 17:42:15
A84: 62880 | B84: 2020-11-08 | C84: 4 | D84: 415 | E84: 1 | F84: 2020-11-08 19:46:46
A85: 63732 | B85: 2020-11-09 | C85: 1 | D85: 415 | E85: 1 | F85: 2020-11-09 07:35:50
A86: 63907 | B86: 2020-11-09 | C86: 2 | D86: 415 | E86: 1 | F86: 2020-11-09 13:41:07
A87: 64174 | B87: 2020-11-09 | C87: 3 | D87: 415 | E87: 1 | F87: 2020-11-09 17:53:46
A88: 64430 | B88: 2020-11-09 | C88: 4 | D88: 415 | E88: 1 | F88: 2020-11-09 19:48:14
A89: 65166 | B89: 2020-11-10 | C89: 1 | D89: 415 | E89: 1 | F89: 2020-11-10 07:31:32
A90: 65333 | B90: 2020-11-10 | C90: 2 | D90: 415 | E90: 1 | F90: 2020-11-10 13:30:30
A91: 61895 | B91: 2020-11-08 | C91: 1 | D91: 416 | E91: 1 | F91: 2020-11-08 07:31:52
A92: 62338 | B92: 2020-11-08 | C92: 2 | D92: 416 | E92: 1 | F92: 2020-11-08 16:22:31
A93: 62340 | B93: 2020-11-08 | C93: 3 | D93: 416 | E93: 1 | F93: 2020-11-08 16:23:57
A94: 62829 | B94: 2020-11-08 | C94: 4 | D94: 416 | E94: 1 | F94: 2020-11-08 19:39:04
... A1249: 65338 | B1249: 2020-11-10 | C1249: 3 | D1249: 9495 | E1249: 1 | F1249: 2020-11-10 13:32:39

Sheet גיליון2
A1: קוד התלמיד | B1: מטלות שבוצעו
A2: 153 | B2: =COUNTIFS(גיליון1!D:D,A2,גיליון1!E:E,1) -> 9
A3: 401 | B3: =COUNTIFS(גיליון1!D:D,A3,גיליון1!E:E,1) -> 3
A4: 402 | B4: =COUNTIFS(גיליון1!D:D,A4,גיליון1!E:E,1) -> 6
A5: 403 | B5: =COUNTIFS(גיליון1!D:D,A5,גיליון1!E:E,1) -> 6
A6: 404 | B6: =COUNTIFS(גיליון1!D:D,A6,גיליון1!E:E,1) -> 8
A7: 406 | B7: =COUNTIFS(גיליון1!D:D,A7,גיליון1!E:E,1) -> 4
A8: 407 | B8: =COUNTIFS(גיליון1!D:D,A8,גיליון1!E:E,1) -> 8
A9: 408 | B9: =COUNTIFS(גיליון1!D:D,A9,גיליון1!E:E,1) -> 8
A10: 410 | B10: =COUNTIFS(גיליון1!D:D,A10,גיליון1!E:E,1) -> 1
A11: 411 | B11: =COUNTIFS(גיליון1!D:D,A11,גיליון1!E:E,1) -> 8
A12: 412 | B12: =COUNTIFS(גיליון1!D:D,A12,גיליון1!E:E,1) -> 8
A13: 413 | B13: =COUNTIFS(גיליון1!D:D,A13,גיליון1!E:E,1) -> 8
... A165: 9495 | B165: =COUNTIFS(גיליון1!D:D,A165,גיליון1!E:E,1) -> 10
B166: =COUNTIFS(גיליון1!D:D,A166,גיליון1!E:E,1) -> 0
B167: =COUNTIFS(גיליון1!D:D,A167,גיליון1!E:E,1) -> 0
B168: =COUNTIFS(גיליון1!D:D,A168,גיליון1!E:E,1) -> 0
B169: =COUNTIFS(גיליון1!D:D,A169,גיליון1!E:E,1) -> 0
B170: =COUNTIFS(גיליון1!D:D,A170,גיליון1!E:E,1) -> 0
B171: =COUNTIFS(גיליון1!D:D,A171,גיליון1!E:E,1) -> 0
B172: =COUNTIFS(גיליון1!D:D,A172,גיליון1!E:E,1) -> 0
B173: =COUNTIFS(גיליון1!D:D,A173,גיליון1!E:E,1) -> 0
B174: =COUNTIFS(גיליון1!D:D,A174,גיליון1!E:E,1) -> 0
B175: =COUNTIFS(גיליון1!D:D,A175,גיליון1!E:E,1) -> 0
B176: =COUNTIFS(גיליון1!D:D,A176,גיליון1!E:E,1) -> 0
B177: =COUNTIFS(גיליון1!D:D,A177,גיליון1!E:E,1) -> 0
... B1249: =COUNTIFS(גיליון1!D:D,A1249,גיליון1!E:E,1) -> 0
