Workbook

Sheet גיליון2
A1: שעות נדרשות | B1: תאריך / יום | C1: יום בשבוע | D1: שעת כניסה | E1: שעת יציאה | F1: הערות | G1: סה"כ שעות | H1: סה"כ שעות עשרוניות | I1: שעות רגילות | J1: חוסר | K1: ש-ן שבועות | L1: נוספות 125% | M1: נוספות 150%
A2: =[1]גיליון1!$E$40 -> 8 | B2: =[1]גיליון1!M3 -> 44896 | C2: =B2 -> 44896 | D2: 0.41666667 | E2: 0.67569444 | G2: =E2-D2+(E2<D2) -> 0.25902778 | H2: =(IF(D2>E2,E2+1-D2,E2-D2))*24 -> 6.2166667 | I2: =IF(H2>[1]גיליון1!$E$40,[1]גיליון1!$E$40,H2) -> 6.2166667 | J2: =MAX(0,A2-H2) -> 1.7833333 | L2: =IF(H2<[1]גיליון1!$E$40,0,IF(H2>[1]גיליון1!$E$40+[1]גיליון1!$E$42,[1]גיליון1!$E$42,IF(H2>[1]גיליון1!$E$40,H2-[1]גיליון1!$E$40))) -> 0 | M2: =IF(H2<[1]גיליון1!$E$40+[1]גיליון1!$E$42,0,IF(H2>[1]גיליון1!$E$40+[1]גיליון1!$E$42,H2-I2-L2,0)) -> 0
A3: =[1]גיליון1!$E$41 -> 5 | B3: =B2+1 -> 44897 | C3: =B3 -> 44897 | D3: 0.41666667 | E3: 0.67569444 | G3: =E3-D3+(E3<D3) -> 0.25902778 | H3: =(IF(D3>E3,E3+1-D3,E3-D3))*24 -> 6.2166667 | I3: =IF(H3>[1]גיליון1!$E$40,[1]גיליון1!$E$40,H3) -> 6.2166667 | J3: =MAX(0,A3-H3) -> 0 | L3: =IF(H3<[1]גיליון1!$E$40,0,IF(H3>[1]גיליון1!$E$40+[1]גיליון1!$E$42,[1]גיליון1!$E$42,IF(H3>[1]גיליון1!$E$40,H3-[1]גיליון1!$E$40))) -> 0 | M3: =IF(H3<[1]גיליון1!$E$40+[1]גיליון1!$E$42,0,IF(H3>[1]גיליון1!$E$40+[1]גיליון1!$E$42,H3-I3-L3,0)) -> 0
A4: 0 | B4: =B3+1 -> 44898 | C4: =B4 -> 44898 | G4: =E4-D4+(E4<D4) -> 0 | H4: =(IF(D4>E4,E4+1-D4,E4-D4))*24 -> 0 | I4: =IF(H4>[1]גיליון1!$E$40,[1]גיליון1!$E$40,H4) -> 0 | J4: =MAX(0,A4-H4) -> 0 | L4: =IF(H4<[1]גיליון1!$E$40,0,IF(H4>[1]גיליון1!$E$40+[1]גיליון1!$E$42,[1]גיליון1!$E$42,IF(H4>[1]גיליון1!$E$40,H4-[1]גיליון1!$E$40))) -> 0 | M4: =IF(H4<[1]גיליון1!$E$40+[1]גיליון1!$E$42,0,IF(H4>[1]גיליון1!$E$40+[1]גיליון1!$E$42,H4-I4-L4,0)) -> 0
A5: =[1]גיליון1!$E$40 -> 8 | B5: =B4+1 -> 44899 | C5: =B5 -> 44899 | D5: 0.41666667 | E5: 0.67569444 | G5: =E5-D5+(E5<D5) -> 0.25902778 | H5: =(IF(D5>E5,E5+1-D5,E5-D5))*24 -> 6.2166667 | I5: =IF(H5>[1]גיליון1!$E$40,[1]גיליון1!$E$40,H5) -> 6.2166667 | J5: =MAX(0,A5-H5) -> 1.7833333 | L5: =IF(H5<[1]גיליון1!$E$40,0,IF(H5>[1]גיליון1!$E$40+[1]גיליון1!$E$42,[1]גיליון1!$E$42,IF(H5>[1]גיליון1!$E$40,H5-[1]גיליון1!$E$40))) -> 0 | M5: =IF(H5<[1]גיליון1!$E$40+[1]גיליון1!$E$42,0,IF(H5>[1]גיליון1!$E$40+[1]גיליון1!$E$42,H5-I5-L5,0)) -> 0
A6: 0 | B6: =B5+1 -> 44900 | C6: =B6 -> 44900 | G6: =E6-D6+(E6<D6) -> 0 | H6: =(IF(D6>E6,E6+1-D6,E6-D6))*24 -> 0 | I6: =IF(H6>[1]גיליון1!$E$40,[1]גיליון1!$E$40,H6) -> 0 | J6: =MAX(0,A6-H6) -> 0 | L6: =IF(H6<[1]גיליון1!$E$40,0,IF(H6>[1]גיליון1!$E$40+[1]גיליון1!$E$42,[1]גיליון1!$E$42,IF(H6>[1]גיליון1!$E$40,H6-[1]גיליון1!$E$40))) -> 0 | M6: =IF(H6<[1]גיליון1!$E$40+[1]גיליון1!$E$42,0,IF(H6>[1]גיליון1!$E$40+[1]גיליון1!$E$42,H6-I6-L6,0)) -> 0
A7: =[1]גיליון1!$E$40 -> 8 | B7: =B6+1 -> 44901 | C7: =B7 -> 44901 | D7: 0.41666667 | E7: 0.67569444 | G7: =E7-D7+(E7<D7) -> 0.25902778 | H7: =(IF(D7>E7,E7+1-D7,E7-D7))*24 -> 6.2166667 | I7: =IF(H7>[1]גיליון1!$E$40,[1]גיליון1!$E$40,H7) -> 6.2166667 | J7: =MAX(0,A7-H7) -> 1.7833333 | L7: =IF(H7<[1]גיליון1!$E$40,0,IF(H7>[1]גיליון1!$E$40+[1]גיליון1!$E$42,[1]גיליון1!$E$42,IF(H7>[1]גיליון1!$E$40,H7-[1]גיליון1!$E$40))) -> 0 | M7: =IF(H7<[1]גיליון1!$E$40+[1]גיליון1!$E$42,0,IF(H7>[1]גיליון1!$E$40+[1]גיליון1!$E$42,H7-I7-L7,0)) -> 0
A8: =[1]גיליון1!$E$40 -> 8 | B8: =B7+1 -> 44902 | C8: =B8 -> 44902 | D8: 0.41666667 | E8: 0.67569444 | G8: =E8-D8+(E8<D8) -> 0.25902778 | H8: =(IF(D8>E8,E8+1-D8,E8-D8))*24 -> 6.2166667 | I8: =IF(H8>[1]גיליון1!$E$40,[1]גיליון1!$E$40,H8) -> 6.2166667 | J8: =MAX(0,A8-H8) -> 1.7833333 | L8: =IF(H8<[1]גיליון1!$E$40,0,IF(H8>[1]גיליון1!$E$40+[1]גיליון1!$E$42,[1]גיליון1!$E$42,IF(H8>[1]גיליון1!$E$40,H8-[1]גיליון1!$E$40))) -> 0 | M8: =IF(H8<[1]גיליון1!$E$40+[1]גיליון1!$E$42,0,IF(H8>[1]גיליון1!$E$40+[1]גיליון1!$E$42,H8-I8-L8,0)) -> 0
A9: =[1]גיליון1!$E$40 -> 8 | B9: =B8+1 -> 44903 | C9: =B9 -> 44903 | D9: 0.41666667 | E9: 0.67569444 | G9: =E9-D9+(E9<D9) -> 0.25902778 | H9: =(IF(D9>E9,E9+1-D9,E9-D9))*24 -> 6.2166667 | I9: =IF(H9>[1]גיליון1!$E$40,[1]גיליון1!$E$40,H9) -> 6.2166667 | J9: =MAX(0,A9-H9) -> 1.7833333 | L9: =IF(H9<[1]גיליון1!$E$40,0,IF(H9>[1]גיליון1!$E$40+[1]גיליון1!$E$42,[1]גיליון1!$E$42,IF(H9>[1]גיליון1!$E$40,H9-[1]גיליון1!$E$40))) -> 0 | M9: =IF(H9<[1]גיליון1!$E$40+[1]גיליון1!$E$42,0,IF(H9>[1]גיליון1!$E$40+[1]גיליון1!$E$42,H9-I9-L9,0)) -> 0
