Workbook
Name פרה: 'חידוןגרפיקה לפי א ב'!$C$24

Sheet חידוןגרפיקה לפי א ב
B1: בדקו את היקף ידיעותיכם בעולם הגרפיקה
B3: עריכה: צבי גינצברג | E3: סך נקודות שניתן לצבור במשחק זה | F3: 220 | G3: נקודות
B4: להערות והארות ולקבלת כל החידונים למייל, שלחו אלינו מייל לכתובת: | E4: סך נקודות שצברתם במשחק זה: | F4: =SUM(F10:F31) -> 0 | G4: נקודות
B5: mibarosh1@gmail.com | E5: ="עניתם נכונה על "&F4/10&" שאלות מתוך 22" -> עניתם נכונה על 0 שאלות מתוך 22
B7: הציון שלכם: | F7: =F4/220 -> 0
B9: התשובה מתחילה באות | C9: שאלות | D9: הקלידו בטור זה את התשובה ולאחר מכן הקישו אנטר | E9: האם עניתם נכון? | F9: צבירת נקודות
B10: א | C10: נוסדה ב1982. הוציאה תכנות רבות לגרפיקה ועריכת וידאו | E10: =IF(D10="","עדיין לא הקלדתם תשובה",IF(D10=נתונים!B1,"תשובה נכונה! כל הכבוד!","תשובה לא נכונה")) -> עדיין לא הקלדתם תשובה | F10: =IF(E10="תשובה נכונה! כל הכבוד!",10,0) -> 0 | G10: נקודות
B11: ב | C11: טקסט מודגש בלועזית | E11: =IF(D11="","עדיין לא הקלדתם תשובה",IF(D11=נתונים!B2,"תשובה נכונה! כל הכבוד!","תשובה לא נכונה")) -> עדיין לא הקלדתם תשובה | F11: =IF(E11="תשובה נכונה! כל הכבוד!",10,0) -> 0 | G11: נקודות
B12: ג | C12: מעבר של גוונים בלועזית, בשימוש מוגזם יהרוס את התדמית | E12: =IF(D12="","עדיין לא הקלדתם תשובה",IF(D12=נתונים!B3,"תשובה נכונה! כל הכבוד!","תשובה לא נכונה")) -> עדיין לא הקלדתם תשובה | F12: =IF(E12="תשובה נכונה! כל הכבוד!",10,0) -> 0 | G12: נקודות
B13: ד | C13: עבורו משתמשים בבלידים. שלא יהיו הקצוות חסרים | E13: =IF(D13="","עדיין לא הקלדתם תשובה",IF(D13=נתונים!B4,"תשובה נכונה! כל הכבוד!","תשובה לא נכונה")) -> עדיין לא הקלדתם תשובה | F13: =IF(E13="תשובה נכונה! כל הכבוד!",10,0) -> 0 | G13: נקודות
B14: ה | C14: תהליך של לחיצת גלופה אל הנייר נקרא: | E14: =IF(D14="","עדיין לא הקלדתם תשובה",IF(D14=נתונים!B5,"תשובה נכונה! כל הכבוד!","תשובה לא נכונה")) -> עדיין לא הקלדתם תשובה | F14: =IF(E14="תשובה נכונה! כל הכבוד!",10,0) -> 0 | G14: נקודות
B15: ו | C15: גרפיקה ממוחשבת נקראת גם גרפיקה ..... | E15: =IF(D15="","עדיין לא הקלדתם תשובה",IF(D15=נתונים!B6,"תשובה נכונה! כל הכבוד!","תשובה לא נכונה")) -> עדיין לא הקלדתם תשובה | F15: =IF(E15="תשובה נכונה! כל הכבוד!",10,0) -> 0 | G15: נקודות
B16: ז | C16: פעולת "תקריב" בצילומים, גם שם תוכנה ליצירת הרצאות ומפגשים | E16: =IF(D16="","עדיין לא הקלדתם תשובה",IF(D16=נתונים!B7,"תשובה נכונה! כל הכבוד!","תשובה לא נכונה")) -> עדיין לא הקלדתם תשובה | F16: =IF(E16="תשובה נכונה! כל הכבוד!",10,0) -> 0 | G16: נקודות
B17: ח | C17: הכלי להעתקת חלק מתמונה לחלק אחר נקרא בעברית כלי ה..... | E17: =IF(D17="","עדיין לא הקלדתם תשובה",IF(D17=נתונים!B8,"תשובה נכונה! כל הכבוד!","תשובה לא נכונה")) -> עדיין לא הקלדתם תשובה | F17: =IF(E17="תשובה נכונה! כל הכבוד!",10,0) -> 0 | G17: נקודות
B18: ט | C18: תבנית עיצובית בשימוש לעבודת גרפיקה | E18: =IF(D18="","עדיין לא הקלדתם תשובה",IF(D18=נתונים!B9,"תשובה נכונה! כל הכבוד!","תשובה לא נכונה")) -> עדיין לא הקלדתם תשובה | F18: =IF(E18="תשובה נכונה! כל הכבוד!",10,0) -> 0 | G18: נקודות
B19: י | C19: לא מדובר על הכנסת סחורה מחו"ל, סה"כ הכנסת קובץ למסמך ממקור חיצוני. | E19: =IF(D19="","עדיין לא הקלדתם תשובה",IF(D19=נתונים!B10,"תשובה נכונה! כל הכבוד!","תשובה לא נכונה")) -> עדיין לא הקלדתם תשובה | F19: =IF(E19="תשובה נכונה! כל הכבוד!",10,0) -> 0 | G19: נקודות
B20: כ | C20: לפעמים רכה לפעמים קשה, תמיד צריך לדעת את רוחב השדרה | E20: =IF(D20="","עדיין לא הקלדתם תשובה",IF(D20=נתונים!B11,"תשובה נכונה! כל הכבוד!","תשובה לא נכונה")) -> עדיין לא הקלדתם תשובה | F20: =IF(E20="תשובה נכונה! כל הכבוד!",10,0) -> 0 | G20: נקודות
B21: ל | C21: אלמנט גרפי או טקסטואלי המסמל ארגון חברה או מוצר | E21: =IF(D21="","עדיין לא הקלדתם תשובה",IF(D21=נתונים!B12,"תשובה נכונה! כל הכבוד!","תשובה לא נכונה")) -> עדיין לא הקלדתם תשובה | F21: =IF(E21="תשובה נכונה! כל הכבוד!",10,0) -> 0 | G21: נקודות
... B31: ת | C31: על עריכתה נעבוד בדרך כלל בפוטושופ | E31: =IF(D31="","עדיין לא הקלדתם תשובה",IF(D31=נתונים!B22,"תשובה נכונה! כל הכבוד!","תשובה לא נכונה")) -> עדיין לא הקלדתם תשובה | F31: =IF(E31="תשובה נכונה! כל הכבוד!",10,0) -> 0 | G31: נקודות
B33: =IF(F4=220,"כל הכבוד! עניתם נכונה על כל השאלות","עדיין לא סיימתם לענות על כל השאלות") -> עדיין לא סיימתם לענות על כל השאלות

Sheet נתונים
A1: א | B1: אדובי
A2: ב | B2: בולד
A3: ג | B3: גרדיאנט
A4: ד | B4: דפוס
A5: ה | B5: הטבעה
A6: ו | B6: וקטורית
A7: ז | B7: זום
A8: ח | B8: חותמת
A9: ט | B9: טמפלייט
A10: י | B10: יבוא
A11: כ | B11: כריכה
A12: ל | B12: לוגו
... A22: ת | B22: תמונה
