Workbook
Name פרה: 'חידון תנך לפי א ב'!$C$22

Sheet חידון תנך לפי א ב
B2: עריכה: צבי גינצברג | E2: סך נקודות שניתן לצבור במשחק זה | F2: 220 | G2: נקודות
B3: להערות והארות שלחו מייל לכתובת: | E3: סך נקודות שצברתם במשחק זה: | F3: =SUM(F8:F29) -> 0 | G3: נקודות
E4: ="עניתם נכונה על "&F3/10&" שאלות מתוך 22" -> עניתם נכונה על 0 שאלות מתוך 22
B5: mibarosh1@gmail.com | E5: הציון שלכם: | F5: =F3/220 -> 0
B7: התשובה מתחילה באות | C7: חידון לפי סדר א' ב' בתנ"ך | D7: הקלידו בטור זה את התשובה ולאחר מכן הקישו אנטר | E7: האם עניתם נכון? | F7: צבירת נקודות
B8: א | C8: שלושים פלשתים הרג בה שמשון, בסופה יש בזיון | E8: =IF(D8="","עדיין לא הקלדתם תשובה",IF(D8=נתונים!B1,"תשובה נכונה! כל הכבוד!","תשובה לא נכונה")) -> עדיין לא הקלדתם תשובה | F8: =IF(E8="תשובה נכונה! כל הכבוד!",10,0) -> 0 | G8: נקודות
B9: ב | C9: בספר שופטים רק שש מאות נשארו ממנו, גיבור מגילת אסתר גם הוא ממנו | E9: =IF(D9="","עדיין לא הקלדתם תשובה",IF(D9=נתונים!B2,"תשובה נכונה! כל הכבוד!","תשובה לא נכונה")) -> עדיין לא הקלדתם תשובה | F9: =IF(E9="תשובה נכונה! כל הכבוד!",10,0) -> 0 | G9: נקודות
B10: ג | C10: חירף מערכות ישראל, נפל על ידי העתיד להיות מלך ישראל | E10: =IF(D10="","עדיין לא הקלדתם תשובה",IF(D10=נתונים!B3,"תשובה נכונה! כל הכבוד!","תשובה לא נכונה")) -> עדיין לא הקלדתם תשובה | F10: =IF(E10="תשובה נכונה! כל הכבוד!",10,0) -> 0 | G10: נקודות
B11: ד | C11: בחומש בראשית שימשו לעסקה בין שתי נשים. התוצאה: עוד שני ילדים. | E11: =IF(D11="","עדיין לא הקלדתם תשובה",IF(D11=נתונים!B4,"תשובה נכונה! כל הכבוד!","תשובה לא נכונה")) -> עדיין לא הקלדתם תשובה | F11: =IF(E11="תשובה נכונה! כל הכבוד!",10,0) -> 0 | G11: נקודות
B12: ה | C12: המילה שמופיעה הכי הרבה במגילת אסתר | E12: =IF(D12="","עדיין לא הקלדתם תשובה",IF(D12=נתונים!B5,"תשובה נכונה! כל הכבוד!","תשובה לא נכונה")) -> עדיין לא הקלדתם תשובה | F12: =IF(E12="תשובה נכונה! כל הכבוד!",10,0) -> 0 | G12: נקודות
B13: ו | C13: השלם את מילה החסרה: מְעֻוָּת לֹא יוּכַל לִתְקֹן _______ לֹא יוּכַל לְהִמָּנוֹת: | E13: =IF(D13="","עדיין לא הקלדתם תשובה",IF(D13=נתונים!B6,"תשובה נכונה! כל הכבוד!","תשובה לא נכונה")) -> עדיין לא הקלדתם תשובה | F13: =IF(E13="תשובה נכונה! כל הכבוד!",10,0) -> 0 | G13: נקודות
B14: ז | C14: בחומש במדבר זהו שמו של מישהו שנהרג באוהל, ובנביא זהו שמו של עבד שהרג את ריבונו מלך ישראל | E14: =IF(D14="","עדיין לא הקלדתם תשובה",IF(D14=נתונים!B7,"תשובה נכונה! כל הכבוד!","תשובה לא נכונה")) -> עדיין לא הקלדתם תשובה | F14: =IF(E14="תשובה נכונה! כל הכבוד!",10,0) -> 0 | G14: נקודות
B15: ח | C15: המלך יבין היה מלך על מחוז זה לפני כיבוש ארץ ישראל | E15: =IF(D15="","עדיין לא הקלדתם תשובה",IF(D15=נתונים!B8,"תשובה נכונה! כל הכבוד!","תשובה לא נכונה")) -> עדיין לא הקלדתם תשובה | F15: =IF(E15="תשובה נכונה! כל הכבוד!",10,0) -> 0 | G15: נקודות
B16: ט | C16: אותה לא הביא יעקב ללבן מעולם | E16: =IF(D16="","עדיין לא הקלדתם תשובה",IF(D16=נתונים!B9,"תשובה נכונה! כל הכבוד!","תשובה לא נכונה")) -> עדיין לא הקלדתם תשובה | F16: =IF(E16="תשובה נכונה! כל הכבוד!",10,0) -> 0 | G16: נקודות
B17: י | C17: הצטער על דבר שנעלם בלילה אחד למרות שלא עמל עליו | E17: =IF(D17="","עדיין לא הקלדתם תשובה",IF(D17=נתונים!B10,"תשובה נכונה! כל הכבוד!","תשובה לא נכונה")) -> עדיין לא הקלדתם תשובה | F17: =IF(E17="תשובה נכונה! כל הכבוד!",10,0) -> 0 | G17: נקודות
B18: כ | C18: קיבל שכר בפרשת משפטים, על שלא השתמש בפרשת בא באחד האיברים | E18: =IF(D18="","עדיין לא הקלדתם תשובה",IF(D18=נתונים!B11,"תשובה נכונה! כל הכבוד!","תשובה לא נכונה")) -> עדיין לא הקלדתם תשובה | F18: =IF(E18="תשובה נכונה! כל הכבוד!",10,0) -> 0 | G18: נקודות
B19: ל | C19: ביום אחד הלך מהלך שבעה ימים, למרות שהיה עסוק עם הכבשים | E19: =IF(D19="","עדיין לא הקלדתם תשובה",IF(D19=נתונים!B12,"תשובה נכונה! כל הכבוד!","תשובה לא נכונה")) -> עדיין לא הקלדתם תשובה | F19: =IF(E19="תשובה נכונה! כל הכבוד!",10,0) -> 0 | G19: נקודות
... B29: ת | C29: לשם ברח נביא שאת דבר ה' לא רצה להביא | E29: =IF(D29="","עדיין לא הקלדתם תשובה",IF(D29=נתונים!B22,"תשובה נכונה! כל הכבוד!","תשובה לא נכונה")) -> עדיין לא הקלדתם תשובה | F29: =IF(E29="תשובה נכונה! כל הכבוד!",10,0) -> 0 | G29: נקודות
B31: =IF(F3=220,"כל הכבוד! עניתם נכונה על כל השאלות","עדיין לא סיימתם לענות על כל השאלות") -> עדיין לא סיימתם לענות על כל השאלות

Sheet נתונים
A1: א | B1: אשקלון
A2: ב | B2: בנימין
A3: ג | B3: גלית
A4: ד | B4: דודאים
A5: ה | B5: המלך
A6: ו | B6: וחסרון
A7: ז | B7: זמרי
A8: ח | B8: חצור
A9: ט | B9: טרפה
A10: י | B10: יונה
A11: כ | B11: כלב
A12: ל | B12: לבן
... A22: ת | B22: תרשיש
