Workbook
Name פרה: 'חידון לפי א ב'!#REF!

Sheet חידון לפי א ב
H2: עריכה: צבי גינצברג - להערות והארות ולקבלת כל החידונים למייל, שלחו אלינו מייל לכתובת: | T2: mibarosh1@gmail.com
C5: שאלות לפי סדר א' ב' | G5: חידון קורונה | I5: נקודות שנצברו | J5: =M5*10 -> 0 | L5: תשובות נכונות | M5: =COUNTIF(R10:R31,"תשובה נכונה! כל הכבוד!") -> 0 | O5: תשובות לא נכונות | P5: =COUNTIF(R10:R31,"תשובה לא נכונה") -> 0 | R5: שאלות שלא עניתם | S5: =COUNTIF(R10:R31,"עדיין לא הקלדתם תשובה") -> 22 | U5: ציון | V5: =J5/220 -> 0
D8: שאלות | J8: התשובה באות | L8: מס' מילים | M8: הקלידו בטור זה את התשובה ולאחר מכן לחצו אנטר | R8: האם עניתם נכון? | T8: צבירת נקודות | V8: תוספות/ הסברים
D10: הקורונה שם כשישים ימים וכבר למעלה משמונים אלף נפטרים | J10: א | L10: 2 | R10: =IF(M10="","עדיין לא הקלדתם תשובה",IF(OR(M10=נתונים!B2,M10=נתונים!C2,M10=נתונים!D2,M10=נתונים!E2,M10=נתונים!F2),"תשובה נכונה! כל הכבוד!","תשובה לא נכונה")) -> עדיין לא הקלדתם תשובה | T10: =IF(M10="",0.001,IF(OR(M10=נתונים!B2,M10=נתונים!C2,M10=נתונים!D2,M10=נתונים!E2,M10=נתונים!F2),10,0)) -> 0.001 | U10: =IF(M10="","0.001",IF(OR(M10=נתונים!B2,M10=נתונים!C2,M10=נתונים!D2,M10=נתונים!E2,M10=נתונים!F2),"נקודות",0)) -> 0.001 | V10: =IF(M10="","כתבו את התשובה",IF(OR(M10=נתונים!B2,M10=נתונים!C2,M10=נתונים!D2,M10=נתונים!E2,M10=נתונים!F2),נתונים!K2,"נסו שוב")) -> כתבו את התשובה
D11: העיר שעוד לפני ליל הסדר נכנסה למצב של סגר | E11: אני מוסר הודעה כל כמה ימים, ומנהל את המשרד האחראי על החולים. מה שם משפחתי? (3 מילים) | F11: אני מוסר הודעה כל כמה ימים, ומנהל את המשרד האחראי על החולים. מה שם משפחתי? (3 מילים) | G11: אני מוסר הודעה כל כמה ימים, ומנהל את המשרד האחראי על החולים. מה שם משפחתי? (3 מילים) | H11: אני מוסר הודעה כל כמה ימים, ומנהל את המשרד האחראי על החולים. מה שם משפחתי? (3 מילים) | I11: אני מוסר הודעה כל כמה ימים, ומנהל את המשרד האחראי על החולים. מה שם משפחתי? (3 מילים) | J11: ב | L11: 2 | R11: =IF(M11="","עדיין לא הקלדתם תשובה",IF(OR(M11=נתונים!B3,M11=נתונים!C3,M11=נתונים!D3,M11=נתונים!E3,M11=נתונים!F3),"תשובה נכונה! כל הכבוד!","תשובה לא נכונה")) -> עדיין לא הקלדתם תשובה | T11: =IF(M11="",0.001,IF(OR(M11=נתונים!B3,M11=נתונים!C3,M11=נתונים!D3,M11=נתונים!E3,M11=נתונים!F3),10,0)) -> 0.001 | U11: =IF(M11="","0.001",IF(OR(M11=נתונים!B3,M11=נתונים!C3,M11=נתונים!D3,M11=נתונים!E3,M11=נתונים!F3),"נקודות",0)) -> 0.001 | V11: =IF(M11="","כתבו את התשובה",IF(OR(M11=נתונים!B3,M11=נתונים!C3,M11=נתונים!D3,M11=נתונים!E3,M11=נתונים!F3),נתונים!K3,"נסו שוב")) -> כתבו את התשובה
D12: אותם סגרו ראשונים בתחילת ההתפרצות זה לא הצליח לעצור את ההידבקות | E12: אותם סגרו ראשונים בתחילת המגיפה | F12: אותם סגרו ראשונים בתחילת המגיפה | G12: אותם סגרו ראשונים בתחילת המגיפה | H12: אותם סגרו ראשונים בתחילת המגיפה | I12: אותם סגרו ראשונים בתחילת המגיפה | J12: ג | L12: 1 | R12: =IF(M12="","עדיין לא הקלדתם תשובה",IF(OR(M12=נתונים!B4,M12=נתונים!C4,M12=נתונים!D4,M12=נתונים!E4,M12=נתונים!F4),"תשובה נכונה! כל הכבוד!","תשובה לא נכונה")) -> עדיין לא הקלדתם תשובה | T12: =IF(M12="",0.001,IF(OR(M12=נתונים!B4,M12=נתונים!C4,M12=נתונים!D4,M12=נתונים!E4,M12=נתונים!F4),10,0)) -> 0.001 | U12: =IF(M12="","0.001",IF(OR(M12=נתונים!B4,M12=נתונים!C4,M12=נתונים!D4,M12=נתונים!E4,M12=נתונים!F4),"נקודות",0)) -> 0.001 | V12: =IF(M12="","כתבו את התשובה",IF(OR(M12=נתונים!B4,M12=נתונים!C4,M12=נתונים!D4,M12=נתונים!E4,M12=נתונים!F4),נתונים!K4,"נסו שוב")) -> כתבו את התשובה
D13: בעיצומה של המגיפה זו היתה ההרגשה בהחלט הרגשה קשה | E13: ההרגשה אותה חשים היום יותר אנשים במיוחד כלפי ההורים | F13: ההרגשה אותה חשים היום יותר אנשים במיוחד כלפי ההורים | G13: ההרגשה אותה חשים היום יותר אנשים במיוחד כלפי ההורים | H13: ההרגשה אותה חשים היום יותר אנשים במיוחד כלפי ההורים | I13: ההרגשה אותה חשים היום יותר אנשים במיוחד כלפי ההורים | J13: ד | L13: 1 | R13: =IF(M13="","עדיין לא הקלדתם תשובה",IF(OR(M13=נתונים!B5,M13=נתונים!C5,M13=נתונים!D5,M13=נתונים!E5,M13=נתונים!F5),"תשובה נכונה! כל הכבוד!","תשובה לא נכונה")) -> עדיין לא הקלדתם תשובה | T13: =IF(M13="",0.001,IF(OR(M13=נתונים!B5,M13=נתונים!C5,M13=נתונים!D5,M13=נתונים!E5,M13=נתונים!F5),10,0)) -> 0.001 | U13: =IF(M13="","0.001",IF(OR(M13=נתונים!B5,M13=נתונים!C5,M13=נתונים!D5,M13=נתונים!E5,M13=נתונים!F5),"נקודות",0)) -> 0.001 | V13: =IF(M13="","כתבו את התשובה",IF(OR(M13=נתונים!B5,M13=נתונים!C5,M13=נתונים!D5,M13=נתונים!E5,M13=נתונים!F5),נתונים!K5,"נסו שוב")) -> כתבו את התשובה
D14: ממנו חוששים כל המומחים לפיהם הוא עלול להגיע באיזור החגים | E14: בעבר היה נפוץ יותר אצל הברסלבים, היום זהו המצב אצל הרבה אנשים | F14: בעבר היה נפוץ יותר אצל הברסלבים, היום זהו המצב אצל הרבה אנשים | G14: בעבר היה נפוץ יותר אצל הברסלבים, היום זהו המצב אצל הרבה אנשים | H14: בעבר היה נפוץ יותר אצל הברסלבים, היום זהו המצב אצל הרבה אנשים | I14: בעבר היה נפוץ יותר אצל הברסלבים, היום זהו המצב אצל הרבה אנשים | J14: ה | L14: 2 | R14: =IF(M14="","עדיין לא הקלדתם תשובה",IF(OR(M14=נתונים!B6,M14=נתונים!C6,M14=נתונים!D6,M14=נתונים!E6,M14=נתונים!F6),"תשובה נכונה! כל הכבוד!","תשובה לא נכונה")) -> עדיין לא הקלדתם תשובה | T14: =IF(M14="",0.001,IF(OR(M14=נתונים!B6,M14=נתונים!C6,M14=נתונים!D6,M14=נתונים!E6,M14=נתונים!F6),10,0)) -> 0.001 | U14: =IF(M14="","0.001",IF(OR(M14=נתונים!B6,M14=נתונים!C6,M14=נתונים!D6,M14=נתונים!E6,M14=נתונים!F6),"נקודות",0)) -> 0.001 | V14: =IF(M14="","כתבו את התשובה",IF(OR(M14=נתונים!B6,M14=נתונים!C6,M14=נתונים!D6,M14=נתונים!E6,M14=נתונים!F6),נתונים!K6,"נסו שוב")) -> כתבו את התשובה
D15: באנגלית יבא תמיד עם המילה קורונה ב"ארץ עיר" לא ברור שזו התשובה הנכונה | E15: מילה נרדפת לנגיף | F15: מילה נרדפת לנגיף | G15: מילה נרדפת לנגיף | H15: מילה נרדפת לנגיף | I15: מילה נרדפת לנגיף | J15: ו | L15: 1 | R15: =IF(M15="","עדיין לא הקלדתם תשובה",IF(OR(M15=נתונים!B7,M15=נתונים!C7,M15=נתונים!D7,M15=נתונים!E7,M15=נתונים!F7),"תשובה נכונה! כל הכבוד!","תשובה לא נכונה")) -> עדיין לא הקלדתם תשובה | T15: =IF(M15="",0.001,IF(OR(M15=נתונים!B7,M15=נתונים!C7,M15=נתונים!D7,M15=נתונים!E7,M15=נתונים!F7),10,0)) -> 0.001 | U15: =IF(M15="","0.001",IF(OR(M15=נתונים!B7,M15=נתונים!C7,M15=נתונים!D7,M15=נתונים!E7,M15=נתונים!F7),"נקודות",0)) -> 0.001 | V15: =IF(M15="","כתבו את התשובה",IF(OR(M15=נתונים!B7,M15=נתונים!C7,M15=נתונים!D7,M15=נתונים!E7,M15=נתונים!F7),נתונים!K7,"נסו שוב")) -> כתבו את התשובה
D16: תמיד כדאי לאמץ כזו התנהגות ובפרט בעת שיש לקורונה התפרצות | E16: נדרשים אנו בה לנקוט יותר בימים אלו | F16: נדרשים אנו בה לנקוט יותר בימים אלו | G16: נדרשים אנו בה לנקוט יותר בימים אלו | H16: נדרשים אנו בה לנקוט יותר בימים אלו | I16: נדרשים אנו בה לנקוט יותר בימים אלו | J16: ז | L16: 1 | R16: =IF(M16="","עדיין לא הקלדתם תשובה",IF(OR(M16=נתונים!B8,M16=נתונים!C8,M16=נתונים!D8,M16=נתונים!E8,M16=נתונים!F8),"תשובה נכונה! כל הכבוד!","תשובה לא נכונה")) -> עדיין לא הקלדתם תשובה | T16: =IF(M16="",0.001,IF(OR(M16=נתונים!B8,M16=נתונים!C8,M16=נתונים!D8,M16=נתונים!E8,M16=נתונים!F8),10,0)) -> 0.001 | U16: =IF(M16="","0.001",IF(OR(M16=נתונים!B8,M16=נתונים!C8,M16=נתונים!D8,M16=נתונים!E8,M16=נתונים!F8),"נקודות",0)) -> 0.001 | V16: =IF(M16="","כתבו את התשובה",IF(OR(M16=נתונים!B8,M16=נתונים!C8,M16=נתונים!D8,M16=נתונים!E8,M16=נתונים!F8),נתונים!K8,"נסו שוב")) -> כתבו את התשובה
D17: בכל העולם לו מצפים יש לו נסיון במלחמה עם נגיפים | E17: כולם לי מחכים, ביום שבו ימציאו אותי, נוכל לחזור לשגרה מלאה. | F17: כולם לי מחכים, ביום שבו ימציאו אותי, נוכל לחזור לשגרה מלאה. | G17: כולם לי מחכים, ביום שבו ימציאו אותי, נוכל לחזור לשגרה מלאה. | H17: כולם לי מחכים, ביום שבו ימציאו אותי, נוכל לחזור לשגרה מלאה. | I17: כולם לי מחכים, ביום שבו ימציאו אותי, נוכל לחזור לשגרה מלאה. | J17: ח | L17: 1 | R17: =IF(M17="","עדיין לא הקלדתם תשובה",IF(OR(M17=נתונים!B9,M17=נתונים!C9,M17=נתונים!D9,M17=נתונים!E9,M17=נתונים!F9),"תשובה נכונה! כל הכבוד!","תשובה לא נכונה")) -> עדיין לא הקלדתם תשובה | T17: =IF(M17="",0.001,IF(OR(M17=נתונים!B9,M17=נתונים!C9,M17=נתונים!D9,M17=נתונים!E9,M17=נתונים!F9),10,0)) -> 0.001 | U17: =IF(M17="","0.001",IF(OR(M17=נתונים!B9,M17=נתונים!C9,M17=נתונים!D9,M17=נתונים!E9,M17=נתונים!F9),"נקודות",0)) -> 0.001 | V17: =IF(M17="","כתבו את התשובה",IF(OR(M17=נתונים!B9,M17=נתונים!C9,M17=נתונים!D9,M17=נתונים!E9,M17=נתונים!F9),נתונים!K9,"נסו שוב")) -> כתבו את התשובה
D18: יש עליו עומס עצום באלו הימים בעיקר בגלל שימוש של הילדים | E18: יש עליו עומס עצום באלו הימים, בעיקר בגלל הילדים | F18: יש עליו עומס עצום באלו הימים, בעיקר בגלל הילדים | G18: יש עליו עומס עצום באלו הימים, בעיקר בגלל הילדים | H18: יש עליו עומס עצום באלו הימים, בעיקר בגלל הילדים | I18: יש עליו עומס עצום באלו הימים, בעיקר בגלל הילדים | J18: ט | L18: 1 | R18: =IF(M18="","עדיין לא הקלדתם תשובה",IF(OR(M18=נתונים!B10,M18=נתונים!C10,M18=נתונים!D10,M18=נתונים!E10,M18=נתונים!F10),"תשובה נכונה! כל הכבוד!","תשובה לא נכונה")) -> עדיין לא הקלדתם תשובה | T18: =IF(M18="",0.001,IF(OR(M18=נתונים!B10,M18=נתונים!C10,M18=נתונים!D10,M18=נתונים!E10,M18=נתונים!F10),10,0)) -> 0.001 | U18: =IF(M18="","0.001",IF(OR(M18=נתונים!B10,M18=נתונים!C10,M18=נתונים!D10,M18=נתונים!E10,M18=נתונים!F10),"נקודות",0)) -> 0.001 | V18: =IF(M18="","כתבו את התשובה",IF(OR(M18=נתונים!B10,M18=נתונים!C10,M18=נתונים!D10,M18=נתונים!E10,M18=נתונים!F10),נתונים!K10,"נסו שוב")) -> כתבו את התשובה
D19: ארץ השמש העולה לידה ספינת הקורונה התנחלה | E19: לידה עגנה "דיימונד פרינסס" | F19: לידה עגנה "דיימונד פרינסס" | G19: לידה עגנה "דיימונד פרינסס" | H19: לידה עגנה "דיימונד פרינסס" | I19: לידה עגנה "דיימונד פרינסס" | J19: י | L19: 1 | R19: =IF(M19="","עדיין לא הקלדתם תשובה",IF(OR(M19=נתונים!B11,M19=נתונים!C11,M19=נתונים!D11,M19=נתונים!E11,M19=נתונים!F11),"תשובה נכונה! כל הכבוד!","תשובה לא נכונה")) -> עדיין לא הקלדתם תשובה | T19: =IF(M19="",0.001,IF(OR(M19=נתונים!B11,M19=נתונים!C11,M19=נתונים!D11,M19=נתונים!E11,M19=נתונים!F11),10,0)) -> 0.001 | U19: =IF(M19="","0.001",IF(OR(M19=נתונים!B11,M19=נתונים!C11,M19=נתונים!D11,M19=נתונים!E11,M19=נתונים!F11),"נקודות",0)) -> 0.001 | V19: =IF(M19="","כתבו את התשובה",IF(OR(M19=נתונים!B11,M19=נתונים!C11,M19=נתונים!D11,M19=נתונים!E11,M19=נתונים!F11),נתונים!K11,"נסו שוב")) -> כתבו את התשובה
D20: עיטור למלך או מלכה צורת הנגיף אותו מזכירה | E20: עיטור למלך או מלכה, שצורת הנגיף אותו מזכירה | F20: עיטור למלך או מלכה, שצורת הנגיף אותו מזכירה | G20: עיטור למלך או מלכה, שצורת הנגיף אותו מזכירה | H20: עיטור למלך או מלכה, שצורת הנגיף אותו מזכירה | I20: עיטור למלך או מלכה, שצורת הנגיף אותו מזכירה | J20: כ | L20: 1 | R20: =IF(M20="","עדיין לא הקלדתם תשובה",IF(OR(M20=נתונים!B12,M20=נתונים!C12,M20=נתונים!D12,M20=נתונים!E12,M20=נתונים!F12),"תשובה נכונה! כל הכבוד!","תשובה לא נכונה")) -> עדיין לא הקלדתם תשובה | T20: =IF(M20="",0.001,IF(OR(M20=נתונים!B12,M20=נתונים!C12,M20=נתונים!D12,M20=נתונים!E12,M20=נתונים!F12),10,0)) -> 0.001 | U20: =IF(M20="","0.001",IF(OR(M20=נתונים!B12,M20=נתונים!C12,M20=נתונים!D12,M20=נתונים!E12,M20=נתונים!F12),"נקודות",0)) -> 0.001 | V20: =IF(M20="","כתבו את התשובה",IF(OR(M20=נתונים!B12,M20=נתונים!C12,M20=נתונים!D12,M20=נתונים!E12,M20=נתונים!F12),נתונים!K12,"נסו שוב")) -> כתבו את התשובה
D21: בלילה זה במיוחד התבקשו התושבים שלא להזמין בכלל אורחים | E21: נפסקו כמעט בכל העולם בעקבות המגיפה | F21: נפסקו כמעט בכל העולם בעקבות המגיפה | G21: נפסקו כמעט בכל העולם בעקבות המגיפה | H21: נפסקו כמעט בכל העולם בעקבות המגיפה | I21: נפסקו כמעט בכל העולם בעקבות המגיפה | J21: ל | L21: 2 | R21: =IF(M21="","עדיין לא הקלדתם תשובה",IF(OR(M21=נתונים!B13,M21=נתונים!C13,M21=נתונים!D13,M21=נתונים!E13,M21=נתונים!F13),"תשובה נכונה! כל הכבוד!","תשובה לא נכונה")) -> עדיין לא הקלדתם תשובה | T21: =IF(M21="",0.001,IF(OR(M21=נתונים!B13,M21=נתונים!C13,M21=נתונים!D13,M21=נתונים!E13,M21=נתונים!F13),10,0)) -> 0.001 | U21: =IF(M21="","0.001",IF(OR(M21=נתונים!B13,M21=נתונים!C13,M21=נתונים!D13,M21=נתונים!E13,M21=נתונים!F13),"נקודות",0)) -> 0.001 | V21: =IF(M21="","כתבו את התשובה",IF(OR(M21=נתונים!B13,M21=נתונים!C13,M21=נתונים!D13,M21=נתונים!E13,M21=נתונים!F13),נתונים!K13,"נסו שוב")) -> כתבו את התשובה
D22: זה נשמע כמו בית שאוכלים בו קטניות אבל באמת הכוונה - ללא איחוד משפחות | E22: זה נשמע כמו משהו שקשור לפצצה אבל זו בעצם הגדרה לאנשים הגרים באותו בית (2 מילים) | F22: זה נשמע כמו משהו שקשור לפצצה אבל זו בעצם הגדרה לאנשים הגרים באותו בית (2 מילים) | G22: זה נשמע כמו משהו שקשור לפצצה אבל זו בעצם הגדרה לאנשים הגרים באותו בית (2 מילים) | H22: זה נשמע כמו משהו שקשור לפצצה אבל זו בעצם הגדרה לאנשים הגרים באותו בית (2 מילים) | I22: זה נשמע כמו משהו שקשור לפצצה אבל זו בעצם הגדרה לאנשים הגרים באותו בית (2 מילים) | J22: מ | L22: 2 | R22: =IF(M22="","עדיין לא הקלדתם תשובה",IF(OR(M22=נתונים!B14,M22=נתונים!C14,M22=נתונים!D14,M22=נתונים!E14,M22=נתונים!F14),"תשובה נכונה! כל הכבוד!","תשובה לא נכונה")) -> עדיין לא הקלדתם תשובה | T22: =IF(M22="",0.001,IF(OR(M22=נתונים!B14,M22=נתונים!C14,M22=נתונים!D14,M22=נתונים!E14,M22=נתונים!F14),10,0)) -> 0.001 | U22: =IF(M22="","0.001",IF(OR(M22=נתונים!B14,M22=נתונים!C14,M22=נתונים!D14,M22=נתונים!E14,M22=נתונים!F14),"נקודות",0)) -> 0.001 | V22: =IF(M22="","כתבו את התשובה",IF(OR(M22=נתונים!B14,M22=נתונים!C14,M22=נתונים!D14,M22=נתונים!E14,M22=נתונים!F14),נתונים!K14,"נסו שוב")) -> כתבו את התשובה
... D31: בעקבות ההקלה בהנחיות חזרו שם הכיתות הגבוהות | E31: כמה חבל שאין את זה לקורונה | F31: כמה חבל שאין את זה לקורונה | G31: כמה חבל שאין את זה לקורונה | H31: כמה חבל שאין את זה לקורונה | I31: כמה חבל שאין את זה לקורונה | J31: ת | L31: 2 | R31: =IF(M31="","עדיין לא הקלדתם תשובה",IF(OR(M31=נתונים!B23,M31=נתונים!C23,M31=נתונים!D23,M31=נתונים!E23,M31=נתונים!F23),"תשובה נכונה! כל הכבוד!","תשובה לא נכונה")) -> עדיין לא הקלדתם תשובה | T31: =IF(M31="",0.001,IF(OR(M31=נתונים!B23,M31=נתונים!C23,M31=נתונים!D23,M31=נתונים!E23,M31=נתונים!F23),10,0)) -> 0.001 | U31: =IF(M31="","0.001",IF(OR(M31=נתונים!B23,M31=נתונים!C23,M31=נתונים!D23,M31=נתונים!E23,M31=נתונים!F23),"נקודות",0)) -> 0.001 | V31: =IF(M31="","כתבו את התשובה",IF(OR(M31=נתונים!B23,M31=נתונים!C23,M31=נתונים!D23,M31=נתונים!E23,M31=נתונים!F23),נתונים!K23,"נסו שוב")) -> כתבו את התשובה

Sheet נתונים
B1: תשובה ראשית | C1: תשובה ב | D1: תשובה ג | E1: תשובה ד | K1: מקורות
A2: א | B2: ארצות הברית | C2: אמריקה | G2: אין תשובה | H2: אין תשובה | I2: אין תשובה | K2: מנין הנפטרים בארה"ב נכון לעכשיו כ83,000
A3: ב | B3: בני ברק | G3: אין תשובה | H3: אין תשובה | I3: אין תשובה | K3: גם בערב פסח וגם במהלך החג היתה העיר בסגר
A4: ג | B4: גבולות | C4: גבלות | D4: גבלות | G4: אין תשובה | H4: אין תשובה | I4: אין תשובה | K4: בהוראת שר הבריאות הרב יעקב ליצמן נסגרו הגבולות
A5: ד | B5: דאגה | G5: אין תשובה | H5: אין תשובה | I5: אין תשובה | K5: בהחלט היתה סיבה לדאגה
A6: ה | B6: הגל השני | G6: אין תשובה | H6: אין תשובה | I6: אין תשובה | K6: ע"פ הערכות המומחים גל שני יכול להתפרץ בתחילת שנת תשפ"א
A7: ו | B7: וירוס | G7: אין תשובה | H7: אין תשובה | I7: אין תשובה | K7: Coronavirus
A8: ז | B8: זהירות | G8: אין תשובה | H8: אין תשובה | K8: להזהר, זה אומר לשמור על הכללים
A9: ח | B9: חיסון | G9: אין תשובה | H9: אין תשובה | K9: עדיין אין צפי מתי יגיע החיסון המיוחל
A10: ט | B10: טלפון | G10: אין תשובה | H10: אין תשובה | K10: אמא, מוישי כל הזמן בטלפון. אני גם רוצה להקשיב לשיעור
A11: י | B11: יפן | G11: אין תשובה | H11: אין תשובה | K11: דיימונד פרינסס למי ששכח
A12: כ | B12: כתר | G12: אין תשובה | H12: אין תשובה | K12: צורת הנגיף דומה לכתר, קורונה זה כתר
A13: ל | B13: ליל הסדר | G13: אין תשובה | H13: אין תשובה | K13: את ליל הסדר תש"פ לא נשכח במהרה
A14: מ | B14: משפחה גרעינית | G14: אין תשובה | H14: אין תשובה | K14: כולם כבר יודעים מה זה משפחה גרעינית.
A15: נ | B15: נגיף | G15: אין תשובה | H15: אין תשובה | K15: וירוס בעברית נגיף, גיף זהו קובץ הנפשה
A16: ס | B16: סגר | G16: אין תשובה | H16: אין תשובה | K16: סגר, למרות שלא היו התראות על פיגועים
A17: ע | B17: עוצר | G17: אין תשובה | H17: אין תשובה | K17: העוצר בליל הסדר
A18: פ | B18: פיקוד העורף | C18: פקוד העורף | G18: אין תשובה | H18: אין תשובה | K18: הוקם בעקבות מלחמת המפרץ, שבה התממש איום עיקרי על העורף.
A19: צ | B19: צינון | G19: אין תשובה | H19: אין תשובה | K19: הצטיידו בטישו
A20: ק | B20: קפסולה | C20: קפסולות | G20: אין תשובה | H20: אין תשובה | K20: מתווה הקפסולות
A21: ר | B21: רבנים | G21: אין תשובה | H21: אין תשובה | K21: ונשמרתם מאד לנפשותיכם
A22: ש | B22: שני מטר | C22: שני מטרים | D22: שתי מטר | E22: 2 מטר | G22: אין תשובה | H22: אין תשובה | K22: כל ילד קטן יודע מה זה 2 מטר
A23: ת | B23: תלמודי תורה | C23: תלמוד תורה | F23: אין תשובה | G23: אין תשובה | H23: אין תשובה | K23: ותלמוד תורה כנגד כולם
