Workbook

Sheet הכנסות שנתי ה'תשפ"ג
A1: נותר למעשרות | J1: =SUM(P43) -> 0.001
A2: תשרי | D2: חשון | G2: כסלו | J2: טבת | M2: שבט | P2: אדר א' | S2: אדר ב' | W2: מעשרות
A3: מקור ההכנסה | B3: תאריך | C3: סכום | D3: מקור ההכנסה | E3: תאריך | F3: סכום | G3: מקור ההכנסה | H3: תאריך | I3: סכום | J3: מקור ההכנסה | K3: תאריך | L3: סכום | M3: מקור ההכנסה | N3: תאריך | O3: סכום | P3: מקור ההכנסה | Q3: תאריך | R3: סכום | S3: מקור ההכנסה | T3: תאריך | U3: סכום
A4: משכורת ח"ע | B4: 44866 | C4: 3131.79 | D4: כולל | E4: 44865 | F4: 1000 | G4: מבחנים | H4: 44892 | I4: 150 | J4: סבתא ביטון | K4: 44921 | L4: 200 | M4: אבא ויצמן | N4: 44950 | O4: 400 | P4: משכורת ח"ע | Q4: 44986 | R4: 4793.41 | W4: סכום | X4: ניתן ל | Y4: הו"ק
A5: משכורת ח"ע | B5: 44866 | C5: 3479.21 | D5: החזר שכירות | E5: 44868 | F5: 750 | G5: שיעור פרטי | H5: 44897 | I5: 150 | J5: מבחנים | K5: 44922 | L5: 100 | M5: אבא ויצמן | N5: 44954 | O5: 1500 | P5: אבא ויצמן | Q5: 44989 | R5: 1500 | W5: 411.1
D6: דתות | E6: 44875 | F6: 662.4 | G6: כוילל | H6: 44903 | I6: 1000 | J6: משכורת ח"ע | K6: 44925 | L6: 5188 | M6: דתות | N6: 44955 | O6: 662.4 | P6: שיעור פרטי | Q6: 44987 | R6: 200 | W6: 150
D7: חוג | E7: 44887 | F7: 1000 | G7: דתות | H7: 44907 | I7: 662.4 | J7: משכורת אור יהודה | K7: 44930 | L7: 2083.2 | M7: קצבת ילדים | N7: 44946 | O7: 261 | P7: משכורת אור יהודה | Q7: 44990 | R7: 2878.88 | W7: 100
D8: שיעור פרטי | E8: 44888 | F8: 150 | G8: ערב רישום ת"ת | H8: 44909 | I8: 3000 | J8: כולל | K8: 44930 | L8: 1000 | M8: צהרון מ"מ | N8: 44958 | O8: 140 | P8: כולל | Q8: 44991 | R8: 1000 | W8: 58.5
D9: כוילל | E9: 44889 | F9: 100 | G9: ביטוח לאומי | H9: 44915 | I9: 249 | J9: שיעור פרטי | K9: 44934 | L9: 80 | M9: משכורת ח"ע | N9: 44958 | O9: 4732.36 | P9: דמי פורים | Q9: 44992 | R9: 1200 | W9: 400
G10: אבא ויצמן | H10: 44914 | I10: 1650 | J10: חוג | K10: 44937 | L10: 1000 | M10: משכורת אור יהודה | N10: 44960 | O10: 2869.92 | P10: דתות | Q10: 44998 | R10: 662.4 | W10: 416
G11: אמא אילנה | H11: 44916 | I11: 200 | J11: טריויה | K11: 44944 | L11: 80 | M11: חוג | N11: 44962 | O11: 800 | P11: מתנה | Q11: 45001 | R11: 20 | W11: 230
G12: אבא ויצמן | H12: 44916 | I12: 1000 | J12: מבחנים | K12: 44948 | L12: 100 | M12: אמא אילנה | N12: 44962 | O12: 300 | P12: קצבת ילדים | Q12: 45005 | R12: 261 | W12: 10
M13: כולל | N13: 44964 | O13: 1000 | P13: מבחנים | Q13: 45006 | R13: 150 | W13: 87.21
M14: אבא ויצמן | N14: 44968 | O14: 1750 | P14: אבא ויצמן | Q14: 45006 | R14: 200 | W14: 150
M15: שיעור פרטי | N15: 44966 | O15: 200 | W15: 300
M16: דתות | N16: 44970 | O16: 662.4 | W16: 300
M17: מבחנים | N17: 44976 | O17: 200 | W17: 1075
M18: טריויה | N18: 44976 | O18: 80 | W18: 100
M19: קצבת ילדים | N19: 44977 | O19: 261 | W19: 632.9
W20: 150
A21: סך הכנסות חודשי | C21: =SUM(C4:C20) -> 6611 | D21: סך הכנסות חודשי | F21: =SUM(F4:F20) -> 3662.4 | G21: סך הכנסות חודשי | I21: =SUM(I4:I20) -> 8061.4 | J21: סך הכנסות חודשי | L21: =SUM(L4:L20) -> 9831.2 | M21: סך הכנסות חודשי | O21: =SUM(O4:O20) -> 15819.08 | P21: סך הכנסות חודשי | R21: =SUM(R4:R20) -> 12865.69 | S21: סך הכנסות חודשי | U21: =SUM(U4:U20) -> 0 | W21: 10
A22: ניסן | D22: אייר | G22: סיון | J22: תמוז | M22: אב | P22: אלול | S22: סך הכל הכנסה לפי חודשים | W22: 100
A23: מקור ההכנסה | B23: תאריך | C23: סכום | D23: מקור ההכנסה | E23: תאריך | F23: סכום | G23: מקור ההכנסה | H23: תאריך | I23: סכום | J23: מקור ההכנסה | K23: תאריך | L23: סכום | M23: מקור ההכנסה | N23: תאריך | O23: סכום | P23: מקור ההכנסה | Q23: תאריך | R23: סכום | W23: 563
A24: חוג | B24: 45008 | C24: 400 | D24: מתנה מבת אל ללידה | E24: 45039 | F24: 500 | G24: אבא ביטון | H24: 45067 | I24: 100 | J24: קצבת ילדים | K24: 45097 | L24: 261 | M24: קצבת ילדים | N24: 45127 | O24: 261 | P24: קצבת ילדים | Q24: 45158 | R24: 261 | S24: סה"כ הכנסות חודש תשרי | T24: =SUM(C21) -> 6611 | W24: 10
A25: אבא ויצמן | B25: 45012 | C25: 350 | D25: משכורת ח"ע | E25: 45047 | F25: 2586.79 | G25: מבחנים | H25: 45067 | I25: 100 | J25: אבא ויצמן | K25: 45101 | L25: 500 | M25: אבא ויצמן | N25: 45132 | O25: 501 | P25: כולל | Q25: 45161 | R25: 500 | S25: סה"כ הכנסות חודש חשון | T25: =SUM(F21) -> 3662.4 | W25: 1192
A26: משכורת ח"ע | B26: 45018 | C26: 4384.21 | D26: אור יהודה יתרה | E26: 45049 | F26: 150 | G26: קצבת ילדים | H26: 45066 | I26: 261 | J26: מבחנים | K26: 45102 | L26: 150 | M26: חינוך עצמאי | N26: 45139 | O26: 54.44 | P26: אבא ויצמן | Q26: 45170 | R26: 1000 | S26: סה"כ הכנסות חודש כסלו | T26: =SUM(I21) -> 8061.4 | W26: 1400
A27: סיום עבודה אור יהודה | B27: 45018 | C27: 13209.7 | D27: דתות | E27: 45049 | F27: 1000 | G27: דתות | H27: 45068 | I27: 662.4 | J27: דתות | K27: 45102 | L27: 1602 | M27: דתות | N27: 45152 | O27: 846 | P27: מציאה | Q27: 45174 | R27: 50 | S27: סה"כ הכנסות חודש טבת | T27: =SUM(L21) -> 9831.2 | W27: 747.98
A28: כולל | B28: 45018 | C28: 1000 | D28: משכורת שלבים | E28: 45055 | F28: 3243 | G28: אבא ויצמן | H28: 45073 | I28: 230 | J28: כולל | K28: 45109 | L28: 300 | P28: דתות | Q28: 45176 | R28: 846 | S28: סה"כ הכנסות חודש שבט | T28: =SUM(O21) -> 15819.08 | W28: 321.14
A29: דתות | B29: 45019 | C29: 662.4 | D29: אבא ויצמן | E29: 45059 | F29: 1950 | G29: לא ידוע | H29: 45082 | I29: 20 | J29: משכורת שלבים | K29: 45117 | L29: 5451.8 | P29: מענק עבודה | Q29: 45182 | R29: 336 | S29: סה"כ הכנסות חודש אדר א | T29: =SUM(R21) -> 12865.69 | W29: 600
G30: משכורת שלבים | H30: 45086 | I30: 6888 | J30: מענק עבודה | K30: 45119 | L30: 336 | P30: קצבת ילדים | Q30: 45182 | R30: 261 | S30: סה"כ הכנסות חודש אדר ב | T30: =SUM(U21) -> 0 | W30: 50
G31: מכירת ספה | H31: 45089 | I31: 300 | J31: דתות | K31: 45124 | L31: 1008 | S31: סה"כ הכנסות חודש ניסן | T31: =SUM(C41) -> 20006.31 | W31: 201.3
G32: אבא ויצמן חנוכת הבית | H32: 45092 | I32: 200 | S32: סה"כ הכנסות חודש אייר | T32: =SUM(F41) -> 9429.79 | W32: 260.06
G33: מנחם ויצמן חנוכת הבית | H33: 45092 | I33: 100 | S33: סה"כ הכנסות חודש סיון | T33: =SUM(I41) -> 8861.4 | W33: 315.12
S34: סה"כ הכנסות חודש תמוז | T34: =SUM(L41) -> 9608.8 | W34: 210.6
S35: סה"כ הכנסות חודש אב | T35: =SUM(O41) -> 1662.44 | W35: 271
S36: סה"כ הכנסות חודש אלול | T36: =SUM(R41) -> 3254 | W36: 144.44
S37: ממוצע הכנסה מתוך החודשים המלאים | T37: =AVERAGE(T24:T36) -> 8436.4238
S38: סך הכל שנתי | T38: =SUM(T24:T36) -> 109673.51
S39: סך הכל למעשרות | T39: =SUM(J43) -> 10967.351
A41: סך הכנסות חודשי | C41: =SUM(C24:C40) -> 20006.31 | D41: סך הכנסות חודשי | F41: =SUM(F24:F40) -> 9429.79 | G41: סך הכנסות חודשי | I41: =SUM(I24:I40) -> 8861.4 | J41: סך הכנסות חודשי | L41: =SUM(L24:L40) -> 9608.8 | M41: סך הכנסות חודשי | O41: =SUM(O24:O40) -> 1662.44 | P41: סך הכנסות חודשי | R41: =SUM(R24:R40) -> 3254
...

Sheet הכנסות שנתי ה'תשפ"ב
A1: נותר למעשרות | J1: =SUM(P43) -> 0
A2: תשרי | D2: חשון | G2: כסלו | J2: טבת | M2: שבט | P2: אדר א' | S2: אדר ב' | W2: מעשרות
A3: מקור ההכנסה | B3: תאריך | C3: סכום | D3: מקור ההכנסה | E3: תאריך | F3: סכום | G3: מקור ההכנסה | H3: תאריך | I3: סכום | J3: מקור ההכנסה | K3: תאריך | L3: סכום | M3: מקור ההכנסה | N3: תאריך | O3: סכום | P3: מקור ההכנסה | Q3: תאריך | R3: סכום | S3: מקור ההכנסה | T3: תאריך | U3: סכום
W4: סכום | X4: ניתן ל | Y4: הו"ק
W5: 1000
W6: 137
W7: 180
W8: 150
W9: 16.5
W10: 200
W11: 137
W12: 10
W13: 180
W14: 432
W15: 300
W16: 36
... W19: 68.9
A21: סך הכנסות חודשי | C21: =SUM(C4:C20) -> 0 | D21: סך הכנסות חודשי | F21: =SUM(F4:F20) -> 0 | G21: סך הכנסות חודשי | I21: =SUM(I4:I20) -> 0 | J21: סך הכנסות חודשי | L21: =SUM(L4:L20) -> 0 | M21: סך הכנסות חודשי | O21: =SUM(O4:O20) -> 0 | P21: סך הכנסות חודשי | R21: =SUM(R4:R20) -> 0 | S21: סך הכנסות חודשי | U21: =SUM(U4:U20) -> 0
A22: ניסן | D22: אייר | G22: סיון | J22: תמוז | M22: אב | P22: אלול | S22: סך הכל הכנסה לפי חודשים
A23: מקור ההכנסה | B23: תאריך | C23: סכום | D23: מקור ההכנסה | E23: תאריך | F23: סכום | G23: מקור ההכנסה | H23: תאריך | I23: סכום | J23: מקור ההכנסה | K23: תאריך | L23: סכום | M23: מקור ההכנסה | N23: תאריך | O23: סכום | P23: מקור ההכנסה | Q23: תאריך | R23: סכום
D24: ביטוח לאומי | F24: 9129 | S24: סה"כ הכנסות חודש תשרי | T24: =SUM(C21) -> 0
D25: ביטוח לאומי | F25: 21915 | S25: סה"כ הכנסות חודש חשון | T25: =SUM(F21) -> 0
S26: סה"כ הכנסות חודש כסלו | T26: =SUM(I21) -> 0
S27: סה"כ הכנסות חודש טבת | T27: =SUM(L21) -> 0
S28: סה"כ הכנסות חודש שבט | T28: =SUM(O21) -> 0
S29: סה"כ הכנסות חודש אדר א | T29: =SUM(R21) -> 0
S30: סה"כ הכנסות חודש אדר ב | T30: =SUM(U21) -> 0
S31: סה"כ הכנסות חודש ניסן | T31: =SUM(C41) -> 0
S32: סה"כ הכנסות חודש אייר | T32: =SUM(F41) -> 31044
S33: סה"כ הכנסות חודש סיון | T33: =SUM(I41) -> 0
S34: סה"כ הכנסות חודש תמוז | T34: =SUM(L41) -> 0
S35: סה"כ הכנסות חודש אב | T35: =SUM(O41) -> 0
S36: סה"כ הכנסות חודש אלול | T36: =SUM(R41) -> 0
S37: ממוצע הכנסה מתוך החודשים המלאים | T37: =AVERAGE(T24:T36) -> 2388
S38: סך הכל שנתי | T38: =SUM(T24:T36) -> 31044
S39: סך הכל למעשרות | T39: =SUM(J43) -> 3104.4
A41: סך הכנסות חודשי | C41: =SUM(C24:C40) -> 0 | D41: סך הכנסות חודשי | F41: =SUM(F24:F40) -> 31044 | G41: סך הכנסות חודשי | I41: =SUM(I24:I40) -> 0 | J41: סך הכנסות חודשי | L41: =SUM(L24:L40) -> 0 | M41: סך הכנסות חודשי | O41: =SUM(O24:O40) -> 0 | P41: סך הכנסות חודשי | R41: =SUM(R24:R40) -> 0
A43: סך כולל הכנסות שנתי | D43: =SUM(C21,F21,I21,L21,O21,R21,F41,C41,I41,L41,O41,R41,U21,U41) -> 31044 | G43: סך כולל למעשרות | J43: =SUM(D43/10) -> 3104.4 | M43: הסכום הנותר למעשרות | P43: =SUM(J43-W103) -> 0 | S43: ניתן למעשרות | T43: =SUM(W103) -> 3104.4
W103: =SUM(W5:W102) -> 3104.4

Sheet הכנסות שנתי ה'תשפ"ו
A1: בס"ד | B1: פרנסה משמים | J1: הסכום הכולל לתרומה | M1: =SUM(O45-W55) -> 0 | R1: מעשרות | T1: =SUM(I44-W48) -> 0 | W1: טבלת התרומות
A2: התשפ"ו | R2: חומש | T2: =SUM(M44-AC48) -> 0
A3: תשרי | D3: חשון | G3: כסלו | J3: טבת | M3: שבט | P3: אדר א' | S3: אדר ב' | W3: מעשרות | AC3: חומש
A4: מקור ההכנסה | B4: תאריך | C4: סכום | D4: מקור ההכנסה | E4: תאריך | F4: סכום | G4: מקור ההכנסה | H4: תאריך | I4: סכום | J4: מקור ההכנסה | K4: תאריך | L4: סכום | M4: מקור ההכנסה | N4: תאריך | O4: סכום | P4: מקור ההכנסה | Q4: תאריך | R4: סכום | S4: מקור ההכנסה | T4: תאריך | U4: סכום
W5: ניתן ל- | X5: סכום | Y5: ניתן ל- | Z5: סכום | AA5: ניתן ל- | AB5: סכום | AC5: ניתן ל- | AD5: סכום | AE5: ניתן ל- | AF5: סכום | AG5: ניתן ל- | AH5: סכום
A21: מספר הכנסות | C21: =COUNT(C5:C20) -> 0 | F21: =COUNT(F5:F20) -> 0 | G21: מספר הכנסות | I21: =COUNT(I5:I20) -> 0 | J21: מספר הכנסות | L21: =COUNT(L5:L20) -> 0 | M21: מספר הכנסות | O21: =COUNT(O5:O20) -> 0 | P21: מספר הכנסות | R21: =COUNT(R5:R20) -> 0 | S21: מספר הכנסות | U21: =COUNT(U5:U20) -> 0
A22: סך הכנסות חודשי | C22: =SUM(C5:C20) -> 0 | D22: סך הכנסות חודשי | F22: =SUM(F5:F20) -> 0 | G22: סך הכנסות חודשי | I22: =SUM(I5:I20) -> 0 | J22: סך הכנסות חודשי | L22: =SUM(L5:L20) -> 0 | M22: סך הכנסות חודשי | O22: =SUM(O5:O20) -> 0 | P22: סך הכנסות חודשי | R22: =SUM(R5:R20) -> 0 | S22: סך הכנסות חודשי | U22: =SUM(U5:U20) -> 0
A23: ניסן | D23: אייר | G23: סיון | J23: תמוז | M23: אב | P23: אלול | S23: סך הכל הכנסה לפי חודשים
A24: מקור ההכנסה | B24: תאריך | C24: סכום | D24: מקור ההכנסה | E24: תאריך | F24: סכום | G24: מקור ההכנסה | H24: תאריך | I24: סכום | J24: מקור ההכנסה | K24: תאריך | L24: סכום | M24: מקור ההכנסה | N24: תאריך | O24: סכום | P24: מקור ההכנסה | Q24: תאריך | R24: סכום
S25: תשרי | T25: =SUM(C22) -> 0
S26: חשון | T26: =SUM(F22) -> 0
S27: כסלו | T27: =SUM(I22) -> 0
S28: טבת | T28: =SUM(L22) -> 0
S29: שבט | T29: =SUM(O22) -> 0
S30: אדר א | T30: =SUM(R22) -> 0
S31: אדר ב | T31: =SUM(U22) -> 0
S32: ניסן | T32: =SUM(C42) -> 0
S33: אייר | T33: =SUM(F42) -> 0
S34: סיון | T34: =SUM(I42) -> 0
S35: תמוז | T35: =SUM(L42) -> 0
S36: אב | T36: =SUM(O42) -> 0
S37: אלול | T37: =SUM(R42) -> 0
S38: ממוצע הכנסה מתוך החודשים המלאים | T38: =AVERAGE(T25:T30,T32:T37,T31) -> 0
S39: סך הכל שנתי | T39: =SUM(T25:T37) -> 0
S40: סך הכל למעשרות | T40: =SUM(I44) -> 0
A41: מספר הכנסות | C41: =COUNT(C25:C40) -> 0 | D41: מספר הכנסות | F41: =COUNT(F25:F40) -> 0 | G41: מספר הכנסות | I41: =COUNT(I25:I40) -> 0 | J41: מספר הכנסות | L41: =COUNT(L25:L40) -> 0 | M41: מספר הכנסות | O41: =COUNT(O25:O40) -> 0 | P41: מספר הכנסות | R41: =COUNT(R25:R40) -> 0 | S41: סך הכל לחומש | T41: =SUM(M44) -> 0
A42: סך הכנסות חודשי | C42: =SUM(C25:C40) -> 0 | D42: סך הכנסות חודשי | F42: =SUM(F25:F40) -> 0 | G42: סך הכנסות חודשי | I42: =SUM(I25:I40) -> 0 | J42: סך הכנסות חודשי | L42: =SUM(L25:L40) -> 0 | M42: סך הכנסות חודשי | O42: =SUM(O25:O40) -> 0 | P42: סך הכנסות חודשי | R42: =SUM(R25:R40) -> 0 | S42: סך כל התרומות | T42: =SUM(T40:T41) -> 0
A44: סך כולל הכנסות שנתי | D44: =SUM(C22,F22,I22,L22,O22,R22,F42,C42,I42,L42,O42,R42,U22,U42) -> 0 | G44: סך כולל למעשרות | I44: =SUM(D44/10) -> 0 | K44: סך כולל לחומש | M44: =SUM(D44/10) -> 0 | O44: הכל יחד | P44: ניתן למעשרות | Q44: =SUM(W48) -> 0 | S44: ניתן לחומש | T44: =SUM(AC48) -> 0
O45: =SUM(M44+I44) -> 0
W46: סך כולל הניתן למעשרות | AC46: סך כולל הניתן לחומש
W48: =SUM(X6:X45,Z6:Z45,AB6:AB45) -> 0 | AC48: =SUM(AD6:AD45,AF6:AF45,AH6:AH45) -> 0
W52: הכל יחד
W55: =SUM(AC48+W48) -> 0
W104: =SUM(W6:Y45) -> 0

Sheet חישוב לפי שנים
B51: סכום הכללי | C51: ניתן למעשרות | D51: ניתן לחומש
A52: ה''תשפ"ו | B52: =SUM('הכנסות שנתי ה''תשפ"ו'!D44:F45) -> 0 | C52: =SUM('הכנסות שנתי ה''תשפ"ו'!Q44:R45) -> 0 | D52: =SUM('הכנסות שנתי ה''תשפ"ו'!T44:T45) -> 0
A53: ה'תשפ"ז | B53: =SUM('הכנסות שנתי ה''תשפ"ז'!D44:F45) -> 0 | C53: =SUM('הכנסות שנתי ה''תשפ"ז'!Q44:R45) -> 0 | D53: =SUM('הכנסות שנתי ה''תשפ"ז'!T44:T45) -> 0
A54: ה'תשפ"ח | B54: =SUM('הכנסות שנתי ה''תשפ"ח'!D44:F45) -> 0 | C54: =SUM('הכנסות שנתי ה''תשפ"ח'!Q44:R45) -> 0 | D54: =SUM('הכנסות שנתי ה''תשפ"ח'!T44:T45) -> 0
A55: התשפ"ט | B55: =SUM('הכנסות שנתי ה''תשפ"ט'!D44:F45) -> 0 | C55: =SUM('הכנסות שנתי ה''תשפ"ט'!Q44:R45) -> 0 | D55: =SUM('הכנסות שנתי ה''תשפ"ט'!T44:T45) -> 0
A56: ה'תש"ץ | B56: =SUM('הכנסות שנתי ה''תש"ץ'!D44:F45) -> 0 | C56: =SUM('הכנסות שנתי ה''תש"ץ'!Q44:R45) -> 0 | D56: =SUM('הכנסות שנתי ה''תש"ץ'!T44:T45) -> 0
A57: ה'תשצ"א | B57: =SUM('הכנסות שנתי ה''תשצ"א'!D44:F45) -> 0 | C57: =SUM('הכנסות שנתי ה''תשצ"א'!Q44:R45) -> 0 | D57: =SUM('הכנסות שנתי ה''תשצ"א'!T44:T45) -> 0
A58: ה'תשצ"ב | B58: =SUM('הכנסות שנתי ה''תשצ"ב'!D44:F45) -> 0 | C58: =SUM('הכנסות שנתי ה''תשצ"ב'!Q44:R45) -> 0 | D58: =SUM('הכנסות שנתי ה''תשצ"ב'!T44:T45) -> 0
A59: ה'תשצ"ג | B59: =SUM('הכנסות שנתי ה''תשצ"ג'!D44:F45) -> 0 | C59: =SUM('הכנסות שנתי ה''תשצ"ג'!Q44:R45) -> 0 | D59: =SUM('הכנסות שנתי ה''תשצ"ג'!T44:T45) -> 0
A60: ה'תשצ"ד | B60: =SUM('הכנסות שנתי ה''תשצ"ד'!D44:F45) -> 0 | C60: =SUM('הכנסות שנתי ה''תשצ"ד'!Q44:R45) -> 0 | D60: =SUM('הכנסות שנתי ה''תשצ"ד'!T44:T45) -> 0
A61: ה'תשצ"ה | B61: =SUM('הכנסות שנתי ה''תשצ"ה'!D44:F45) -> 0 | C61: =SUM('הכנסות שנתי ה''תשצ"ה'!Q44:R45) -> 0 | D61: =SUM('הכנסות שנתי ה''תשצ"ה'!T44:T45) -> 0
A62: ה'תשצ"ו | B62: =SUM('הכנסות שנתי ה''תשצ"ו'!D44:F45) -> 0 | C62: =SUM('הכנסות שנתי ה''תשצ"ו'!Q44:R45) -> 0 | D62: =SUM('הכנסות שנתי ה''תשצ"ו'!T44:T45) -> 0
A63: ה'תשצ"ז | B63: =SUM('הכנסות שנתי ה''תשצ"ז'!D44:F45) -> 0 | C63: =SUM('הכנסות שנתי ה''תשצ"ז'!Q44:R45) -> 0 | D63: =SUM('הכנסות שנתי ה''תשצ"ז'!T44:T45) -> 0
A64: ה'תשצ"ח | B64: =SUM('הכנסות שנתי ה''תשצ"ח'!D44:F45) -> 0 | C64: =SUM('הכנסות שנתי ה''תשצ"ח'!Q44:R45) -> 0 | D64: =SUM('הכנסות שנתי ה''תשצ"ח'!T44:T45) -> 0
A65: ה'תשצ"ט | B65: =SUM('הכנסות שנתי ה''תשצ"ט'!D44:F45) -> 0 | C65: =SUM('הכנסות שנתי ה''תשצ"ט'!Q44:R45) -> 0 | D65: =SUM('הכנסות שנתי ה''תשצ"ט'!T44:T45) -> 0
A66: ה'תת | B66: =SUM('הכנסות שנתי ה''תת'!D44:F45) -> 0 | C66: =SUM('הכנסות שנתי ה''תת'!Q44:R45) -> 0 | D66: =SUM('הכנסות שנתי ה''תת'!T44:T45) -> 0

Sheet הגמ"ח שלנו
A1: הגמ"ח שלנו
A4: בעל חוב / עמותה - בגין: | C4: סוג החוב | D4: סך החוב | E4: שולם | T4: סך הכל שולם | U4: נותר לתשלום
T5: =SUM(E5:S5) -> 0 | U5: =SUM(D5-T5) -> 0
T6: =SUM(E6:S6) -> 0 | U6: =SUM(D6-T6) -> 0
T7: =SUM(E7:S7) -> 0 | U7: =SUM(D7-T7) -> 0
T8: =SUM(E8:S8) -> 0 | U8: =SUM(D8-T8) -> 0
T9: =SUM(E9:S9) -> 0 | U9: =SUM(D9-T9) -> 0
T10: =SUM(E10:S10) -> 0 | U10: =SUM(D10-T10) -> 0
T11: =SUM(E11:S11) -> 0 | U11: =SUM(D11-T11) -> 0
T12: =SUM(E12:S12) -> 0 | U12: =SUM(D12-T12) -> 0
T13: =SUM(E13:S13) -> 0 | U13: =SUM(D13-T13) -> 0
T14: =SUM(E14:S14) -> 0 | U14: =SUM(D14-T14) -> 0
T15: =SUM(E15:S15) -> 0 | U15: =SUM(D15-T15) -> 0
T16: =SUM(E16:S16) -> 0 | U16: =SUM(D16-T16) -> 0
... T25: =SUM(E25:S25) -> 0 | U25: =SUM(D25-T25) -> 0
A26: סך כל החובות | B26: מתוכם נותר לתשלום
A27: =SUM(D5:D25) -> 0 | B27: =SUM(U5:U25) -> 0
A28: סך הכל שולם | B28: =SUM(T5:T25) -> 0

Sheet חובות
A1: חובות
A4: בעל חוב / עמותה - בגין: | C4: סוג החוב | D4: סך החוב | E4: שולם | T4: סך הכל שולם | U4: נותר לתשלום
T5: =SUM(E5:S5) -> 0 | U5: =SUM(D5-T5) -> 0
T6: =SUM(E6:S6) -> 0 | U6: =SUM(D6-T6) -> 0
T7: =SUM(E7:S7) -> 0 | U7: =SUM(D7-T7) -> 0
T8: =SUM(E8:S8) -> 0 | U8: =SUM(D8-T8) -> 0
T9: =SUM(E9:S9) -> 0 | U9: =SUM(D9-T9) -> 0
T10: =SUM(E10:S10) -> 0 | U10: =SUM(D10-T10) -> 0
T11: =SUM(E11:S11) -> 0 | U11: =SUM(D11-T11) -> 0
T12: =SUM(E12:S12) -> 0 | U12: =SUM(D12-T12) -> 0
T13: =SUM(E13:S13) -> 0 | U13: =SUM(D13-T13) -> 0
T14: =SUM(E14:S14) -> 0 | U14: =SUM(D14-T14) -> 0
T15: =SUM(E15:S15) -> 0 | U15: =SUM(D15-T15) -> 0
T16: =SUM(E16:S16) -> 0 | U16: =SUM(D16-T16) -> 0
... T24: =SUM(E24:S24) -> 0 | U24: =SUM(D24-T24) -> 0
A25: סך כל החובות | B25: מתוכם נותר לתשלום
A26: =SUM(D5:D24) -> 0 | B26: =SUM(U5:U24) -> 0
A27: סך הכל שולם | B27: =SUM(T5:T24) -> 0

Sheet חישוב הוצאות
A1: הוצאת מיוחדות | B1: קטגוריה | C1: סכום

Sheet הכנסות שנתי ה'תשפ"ז
A1: בס"ד | B1: פרנסה משמים | J1: הסכום הכולל לתרומה | M1: =SUM(O45-W55) -> 0 | R1: מעשרות | T1: =SUM(I44-W48) -> 0 | W1: טבלת התרומות
A2: התשפ"ו | R2: חומש | T2: =SUM(M44-AC48) -> 0
A3: תשרי | D3: חשון | G3: כסלו | J3: טבת | M3: שבט | P3: אדר א' | S3: אדר ב' | W3: מעשרות | AC3: חומש
A4: מקור ההכנסה | B4: תאריך | C4: סכום | D4: מקור ההכנסה | E4: תאריך | F4: סכום | G4: מקור ההכנסה | H4: תאריך | I4: סכום | J4: מקור ההכנסה | K4: תאריך | L4: סכום | M4: מקור ההכנסה | N4: תאריך | O4: סכום | P4: מקור ההכנסה | Q4: תאריך | R4: סכום | S4: מקור ההכנסה | T4: תאריך | U4: סכום
W5: ניתן ל- | X5: סכום | Y5: ניתן ל- | Z5: סכום | AA5: ניתן ל- | AB5: סכום | AC5: ניתן ל- | AD5: סכום | AE5: ניתן ל- | AF5: סכום | AG5: ניתן ל- | AH5: סכום
A21: מספר הכנסות | C21: =COUNT(C5:C20) -> 0 | F21: =COUNT(F5:F20) -> 0 | G21: מספר הכנסות | I21: =COUNT(I5:I20) -> 0 | J21: מספר הכנסות | L21: =COUNT(L5:L20) -> 0 | M21: מספר הכנסות | O21: =COUNT(O5:O20) -> 0 | P21: מספר הכנסות | R21: =COUNT(R5:R20) -> 0 | S21: מספר הכנסות | U21: =COUNT(U5:U20) -> 0
A22: סך הכנסות חודשי | C22: =SUM(C5:C20) -> 0 | D22: סך הכנסות חודשי | F22: =SUM(F5:F20) -> 0 | G22: סך הכנסות חודשי | I22: =SUM(I5:I20) -> 0 | J22: סך הכנסות חודשי | L22: =SUM(L5:L20) -> 0 | M22: סך הכנסות חודשי | O22: =SUM(O5:O20) -> 0 | P22: סך הכנסות חודשי | R22: =SUM(R5:R20) -> 0 | S22: סך הכנסות חודשי | U22: =SUM(U5:U20) -> 0
A23: ניסן | D23: אייר | G23: סיון | J23: תמוז | M23: אב | P23: אלול | S23: סך הכל הכנסה לפי חודשים
A24: מקור ההכנסה | B24: תאריך | C24: סכום | D24: מקור ההכנסה | E24: תאריך | F24: סכום | G24: מקור ההכנסה | H24: תאריך | I24: סכום | J24: מקור ההכנסה | K24: תאריך | L24: סכום | M24: מקור ההכנסה | N24: תאריך | O24: סכום | P24: מקור ההכנסה | Q24: תאריך | R24: סכום
S25: תשרי | T25: =SUM(C22) -> 0
S26: חשון | T26: =SUM(F22) -> 0
S27: כסלו | T27: =SUM(I22) -> 0
S28: טבת | T28: =SUM(L22) -> 0
S29: שבט | T29: =SUM(O22) -> 0
S30: אדר א | T30: =SUM(R22) -> 0
S31: אדר ב | T31: =SUM(U22) -> 0
S32: ניסן | T32: =SUM(C42) -> 0
S33: אייר | T33: =SUM(F42) -> 0
S34: סיון | T34: =SUM(I42) -> 0
S35: תמוז | T35: =SUM(L42) -> 0
S36: אב | T36: =SUM(O42) -> 0
S37: אלול | T37: =SUM(R42) -> 0
S38: ממוצע הכנסה מתוך החודשים המלאים | T38: =AVERAGE(T25:T30,T32:T37,T31) -> 0
S39: סך הכל שנתי | T39: =SUM(T25:T37) -> 0
S40: סך הכל למעשרות | T40: =SUM(I44) -> 0
A41: מספר הכנסות | C41: =COUNT(C25:C40) -> 0 | D41: מספר הכנסות | F41: =COUNT(F25:F40) -> 0 | G41: מספר הכנסות | I41: =COUNT(I25:I40) -> 0 | J41: מספר הכנסות | L41: =COUNT(L25:L40) -> 0 | M41: מספר הכנסות | O41: =COUNT(O25:O40) -> 0 | P41: מספר הכנסות | R41: =COUNT(R25:R40) -> 0 | S41: סך הכל לחומש | T41: =SUM(M44) -> 0
A42: סך הכנסות חודשי | C42: =SUM(C25:C40) -> 0 | D42: סך הכנסות חודשי | F42: =SUM(F25:F40) -> 0 | G42: סך הכנסות חודשי | I42: =SUM(I25:I40) -> 0 | J42: סך הכנסות חודשי | L42: =SUM(L25:L40) -> 0 | M42: סך הכנסות חודשי | O42: =SUM(O25:O40) -> 0 | P42: סך הכנסות חודשי | R42: =SUM(R25:R40) -> 0 | S42: סך כל התרומות | T42: =SUM(T40:T41) -> 0
A44: סך כולל הכנסות שנתי | D44: =SUM(C22,F22,I22,L22,O22,R22,F42,C42,I42,L42,O42,R42,U22,U42) -> 0 | G44: סך כולל למעשרות | I44: =SUM(D44/10) -> 0 | K44: סך כולל לחומש | M44: =SUM(D44/10) -> 0 | O44: הכל יחד | P44: ניתן למעשרות | Q44: =SUM(W48) -> 0 | S44: ניתן לחומש | T44: =SUM(AC48) -> 0
O45: =SUM(M44+I44) -> 0
W46: סך כולל הניתן למעשרות | AC46: סך כולל הניתן לחומש
W48: =SUM(X6:X45,Z6:Z45,AB6:AB45) -> 0 | AC48: =SUM(AD6:AD45,AF6:AF45,AH6:AH45) -> 0
W52: הכל יחד
W55: =SUM(AC48+W48) -> 0
W104: =SUM(W6:Y45) -> 0

Sheet הכנסות שנתי ה'תשפ"ח
A1: בס"ד | B1: פרנסה משמים | J1: הסכום הכולל לתרומה | M1: =SUM(O45-W55) -> 0 | R1: מעשרות | T1: =SUM(I44-W48) -> 0 | W1: טבלת התרומות
A2: התשפ"ו | R2: חומש | T2: =SUM(M44-AC48) -> 0
A3: תשרי | D3: חשון | G3: כסלו | J3: טבת | M3: שבט | P3: אדר א' | S3: אדר ב' | W3: מעשרות | AC3: חומש
A4: מקור ההכנסה | B4: תאריך | C4: סכום | D4: מקור ההכנסה | E4: תאריך | F4: סכום | G4: מקור ההכנסה | H4: תאריך | I4: סכום | J4: מקור ההכנסה | K4: תאריך | L4: סכום | M4: מקור ההכנסה | N4: תאריך | O4: סכום | P4: מקור ההכנסה | Q4: תאריך | R4: סכום | S4: מקור ההכנסה | T4: תאריך | U4: סכום
W5: ניתן ל- | X5: סכום | Y5: ניתן ל- | Z5: סכום | AA5: ניתן ל- | AB5: סכום | AC5: ניתן ל- | AD5: סכום | AE5: ניתן ל- | AF5: סכום | AG5: ניתן ל- | AH5: סכום
A21: מספר הכנסות | C21: =COUNT(C5:C20) -> 0 | F21: =COUNT(F5:F20) -> 0 | G21: מספר הכנסות | I21: =COUNT(I5:I20) -> 0 | J21: מספר הכנסות | L21: =COUNT(L5:L20) -> 0 | M21: מספר הכנסות | O21: =COUNT(O5:O20) -> 0 | P21: מספר הכנסות | R21: =COUNT(R5:R20) -> 0 | S21: מספר הכנסות | U21: =COUNT(U5:U20) -> 0
A22: סך הכנסות חודשי | C22: =SUM(C5:C20) -> 0 | D22: סך הכנסות חודשי | F22: =SUM(F5:F20) -> 0 | G22: סך הכנסות חודשי | I22: =SUM(I5:I20) -> 0 | J22: סך הכנסות חודשי | L22: =SUM(L5:L20) -> 0 | M22: סך הכנסות חודשי | O22: =SUM(O5:O20) -> 0 | P22: סך הכנסות חודשי | R22: =SUM(R5:R20) -> 0 | S22: סך הכנסות חודשי | U22: =SUM(U5:U20) -> 0
A23: ניסן | D23: אייר | G23: סיון | J23: תמוז | M23: אב | P23: אלול | S23: סך הכל הכנסה לפי חודשים
A24: מקור ההכנסה | B24: תאריך | C24: סכום | D24: מקור ההכנסה | E24: תאריך | F24: סכום | G24: מקור ההכנסה | H24: תאריך | I24: סכום | J24: מקור ההכנסה | K24: תאריך | L24: סכום | M24: מקור ההכנסה | N24: תאריך | O24: סכום | P24: מקור ההכנסה | Q24: תאריך | R24: סכום
S25: תשרי | T25: =SUM(C22) -> 0
S26: חשון | T26: =SUM(F22) -> 0
S27: כסלו | T27: =SUM(I22) -> 0
S28: טבת | T28: =SUM(L22) -> 0
S29: שבט | T29: =SUM(O22) -> 0
S30: אדר א | T30: =SUM(R22) -> 0
S31: אדר ב | T31: =SUM(U22) -> 0
S32: ניסן | T32: =SUM(C42) -> 0
S33: אייר | T33: =SUM(F42) -> 0
S34: סיון | T34: =SUM(I42) -> 0
S35: תמוז | T35: =SUM(L42) -> 0
S36: אב | T36: =SUM(O42) -> 0
S37: אלול | T37: =SUM(R42) -> 0
S38: ממוצע הכנסה מתוך החודשים המלאים | T38: =AVERAGE(T25:T30,T32:T37,T31) -> 0
S39: סך הכל שנתי | T39: =SUM(T25:T37) -> 0
S40: סך הכל למעשרות | T40: =SUM(I44) -> 0
A41: מספר הכנסות | C41: =COUNT(C25:C40) -> 0 | D41: מספר הכנסות | F41: =COUNT(F25:F40) -> 0 | G41: מספר הכנסות | I41: =COUNT(I25:I40) -> 0 | J41: מספר הכנסות | L41: =COUNT(L25:L40) -> 0 | M41: מספר הכנסות | O41: =COUNT(O25:O40) -> 0 | P41: מספר הכנסות | R41: =COUNT(R25:R40) -> 0 | S41: סך הכל לחומש | T41: =SUM(M44) -> 0
A42: סך הכנסות חודשי | C42: =SUM(C25:C40) -> 0 | D42: סך הכנסות חודשי | F42: =SUM(F25:F40) -> 0 | G42: סך הכנסות חודשי | I42: =SUM(I25:I40) -> 0 | J42: סך הכנסות חודשי | L42: =SUM(L25:L40) -> 0 | M42: סך הכנסות חודשי | O42: =SUM(O25:O40) -> 0 | P42: סך הכנסות חודשי | R42: =SUM(R25:R40) -> 0 | S42: סך כל התרומות | T42: =SUM(T40:T41) -> 0
A44: סך כולל הכנסות שנתי | D44: =SUM(C22,F22,I22,L22,O22,R22,F42,C42,I42,L42,O42,R42,U22,U42) -> 0 | G44: סך כולל למעשרות | I44: =SUM(D44/10) -> 0 | K44: סך כולל לחומש | M44: =SUM(D44/10) -> 0 | O44: הכל יחד | P44: ניתן למעשרות | Q44: =SUM(W48) -> 0 | S44: ניתן לחומש | T44: =SUM(AC48) -> 0
O45: =SUM(M44+I44) -> 0
W46: סך כולל הניתן למעשרות | AC46: סך כולל הניתן לחומש
W48: =SUM(X6:X45,Z6:Z45,AB6:AB45) -> 0 | AC48: =SUM(AD6:AD45,AF6:AF45,AH6:AH45) -> 0
W52: הכל יחד
W55: =SUM(AC48+W48) -> 0
W104: =SUM(W6:Y45) -> 0

Sheet הכנסות שנתי ה'תשפ''ד
A1: נותר למעשרות | J1: =SUM(P43) -> 0
A2: תשרי | D2: חשון | G2: כסלו | J2: טבת | M2: שבט | P2: אדר א' | S2: אדר ב' | W2: מעשרות
A3: מקור ההכנסה | B3: תאריך | C3: סכום | D3: מקור ההכנסה | E3: תאריך | F3: סכום | G3: מקור ההכנסה | H3: תאריך | I3: סכום | J3: מקור ההכנסה | K3: תאריך | L3: סכום | M3: מקור ההכנסה | N3: תאריך | O3: סכום | P3: מקור ההכנסה | Q3: תאריך | R3: סכום | S3: מקור ההכנסה | T3: תאריך | U3: סכום
A4: שמעון | B4: 45186 | C4: 50 | D4: דתות | E4: 45215 | F4: 846 | G4: כולל | H4: 45245 | I4: 500 | J4: חנוכה | K4: 45274 | L4: 20 | M4: כולל | N4: 45303 | O4: 500 | P4: אבא ויצמן | Q4: 45332 | R4: 1350 | S4: אבא ויצמן | T4: 45363 | U4: 1550 | W4: סכום
A5: אבא ויצמן | B5: 45188 | C5: 1101 | D5: כולל | E5: 45217 | F5: 400 | G5: אבא ויצמן | H5: 45247 | I5: 1250 | J5: כולל | K5: 45273 | L5: 500 | M5: אורחים | N5: 45304 | O5: 20 | P5: כולל | Q5: 45335 | R5: 500 | S5: כולל | T5: 45363 | U5: 500 | W5: 5 | X5: 27 | Y5: 154.6
A6: מבחנים | B6: 45189 | C6: 150 | D6: קצבת ילדים | E6: 45219 | F6: 261 | G6: אמא ויצמן | H6: 45248 | I6: 100 | J6: מבחנים | K6: 45277 | L6: 150 | M6: אבא ויצמן - צ'קים | N6: 45304 | O6: 2750 | P6: מענק עבודה | Q6: 45336 | R6: 336 | S6: מבחנים | T6: 45368 | U6: 150 | W6: 195 | X6: 366.98 | Y6: 100
A7: תענית דיבור | B7: 45189 | C7: 100 | D7: אבא ביטון | E7: 45221 | F7: 100 | G7: מבחנים | H7: 45249 | I7: 100 | J7: קצבת ילדים | K7: 45280 | L7: 261 | M7: אבא ויצמן | N7: 45305 | O7: 100 | P7: מבחנים | Q7: 45340 | R7: 100 | S7: קצבת ילדים | T7: 45371 | U7: 269 | W7: 639.9 | X7: 150 | Y7: 1000
A8: עבודה אביגיל דדון | B8: 45189 | C8: 600 | D8: מענק עבודה | E8: 45224 | F8: 336 | G8: קצבת ילדים | H8: 45250 | I8: 335 | J8: כולל | K8: 45289 | L8: 792 | M8: קצבת ילדים | N8: 45311 | O8: 269 | P8: קצבת ילדים | Q8: 45342 | R8: 269 | S8: אבא ביטון | T8: 45372 | U8: 20 | W8: 325.7 | X8: 400 | Y8: 150
A9: אמא ויצמן | B9: 45196 | C9: 400 | D9: אבא ויצמן | E9: 45226 | F9: 200 | G9: אמא ביטון | H9: 45254 | I9: 600 | J9: משכורת דרכי נועם | K9: 45292 | L9: 6405 | M9: מבחנים | N9: 45312 | O9: 200 | P9: משכורת דרכי נועם | Q9: 45352 | R9: 6528 | S9: כולל ליל פורים | T9: 45375 | U9: 400 | W9: 63.6 | X9: 500 | Y9: 200
A10: משכורת דרכי נועם | B10: 45200 | C10: 5998 | D10: אבא ויצמן | E10: 45232 | F10: 550 | G10: משכורת דרכי נועם | H10: 45261 | I10: 6154 | J10: סבתא ביטון | K10: 45297 | L10: 200 | M10: אבא ויצמן | N10: 45313 | O10: 200 | P10: סיוע בשכר דירה | Q10: 45354 | R10: 1170 | S10: אבא ויצמן | T10: 45375 | U10: 700 | W10: 695.5 | X10: 500 | Y10: 15
A11: מנחם | B11: 45202 | C11: 200 | D11: משכורת דרכי נועם | E11: 45231 | F11: 6405 | G11: כולל | H11: 45271 | I11: 720 | M11: משכורת דרכי נועם | N11: 45323 | O11: 5165 | P11: מעשרות מתמר ביטון | Q11: 45361 | R11: 400 | S11: שמעון ביטון | T11: 45375 | U11: 200 | W11: 10 | X11: 496 | Y11: 250
A12: אמא ויצמן | B12: 45209 | C12: 500 | D12: כולל | E12: 45239 | F12: 720 | M12: סיוע בשכר דירה | N12: 45323 | O12: 2340 | S12: אברהם ביטון | T12: 45375 | U12: 100 | W12: 277 | X12: 768.2 | Y12: 600
A13: אמא ויצמן | B13: 45213 | C13: 1050 | D13: אמא ויצמן | E13: 45240 | F13: 200 | M13: כולל | N13: 45324 | O13: 617.4 | S13: כולל | T13: 45377 | U13: 846 | W13: 300 | X13: 20 | Y13: 900
M14: אבא ויצמן | O14: 150 | S14: כולל | T14: 45379 | U14: 457 | W14: 525.5 | X14: 1154.4 | Y14: 150
M15: כולל | O15: 617.4 | S15: משכורת דרכי נועם | T15: 45383 | U15: 5950 | W15: 140 | X15: 1800 | Y15: 150
S16: סיוע בשכר דירה | T16: 45386 | U16: 1170 | W16: 500 | X16: 768.3 | Y16: 1000
S17: מבחנים | T17: 45389 | U17: 50 | W17: 17.1
A20: מספר הכנסות | C20: =COUNT(C4:C19) -> 10 | F20: =COUNT(F4:F19) -> 10 | G20: מספר הכנסות | I20: =COUNT(I4:I19) -> 8 | J20: מספר הכנסות | L20: =COUNT(L4:L19) -> 7 | M20: מספר הכנסות | O20: =COUNT(O4:O19) -> 12 | P20: מספר הכנסות | R20: =COUNT(R4:R19) -> 8 | S20: מספר הכנסות | U20: =COUNT(U4:U19) -> 14
A21: סך הכנסות חודשי | C21: =SUM(C4:C19) -> 10149 | D21: סך הכנסות חודשי | F21: =SUM(F4:F19) -> 10018 | G21: סך הכנסות חודשי | I21: =SUM(I4:I19) -> 9759 | J21: סך הכנסות חודשי | L21: =SUM(L4:L19) -> 8328 | M21: סך הכנסות חודשי | O21: =SUM(O4:O19) -> 12928.8 | P21: סך הכנסות חודשי | R21: =SUM(R4:R19) -> 10653 | S21: סך הכנסות חודשי | U21: =SUM(U4:U19) -> 12362
A22: ניסן | D22: אייר | G22: סיון | J22: תמוז | M22: אב | P22: אלול | S22: סך הכל הכנסה לפי חודשים
A23: מקור ההכנסה | B23: תאריך | C23: סכום | D23: מקור ההכנסה | E23: תאריך | F23: סכום | G23: מקור ההכנסה | H23: תאריך | I23: סכום | J23: מקור ההכנסה | K23: תאריך | L23: סכום | M23: מקור ההכנסה | N23: תאריך | O23: סכום | P23: מקור ההכנסה | Q23: תאריך | R23: סכום
A24: כולל | B24: 45392 | C24: 700 | D24: כולל | E24: 45424 | F24: 700 | G24: כולל | H24: 45453 | I24: 700 | J24: כולל | K24: 45482 | L24: 700 | M24: כולל | N24: 45511 | O24: 700 | P24: כולל | Q24: 45545 | R24: 700 | S24: תשרי | T24: =SUM(C21) -> 10149
A25: כולל | B25: 45392 | C25: 846 | D25: אבא ויצמן | E25: 45425 | F25: 1700 | G25: קצבת ילדים | H25: 45456 | I25: 269 | J25: 5 שיעורים | K25: 45484 | L25: 400 | M25: כולל | N25: 45516 | O25: 846 | P25: 9 שיעורים | Q25: 45551 | R25: 700 | S25: חשון | T25: =SUM(F21) -> 10018
A26: אבא ויצמן | B26: 45393 | C26: 1575 | D26: דתות | E26: 45425 | F26: 846 | G26: אבא ויצמן | H26: 45458 | I26: 1400 | J26: מבחנים | K26: 45487 | L26: 150 | M26: קצבת ילדים | N26: 45524 | O26: 269 | P26: כולל | Q26: 45552 | R26: 846 | S26: כסלו | T26: =SUM(I21) -> 9759
A27: מעשרות מתמר ביטון | B27: 45399 | C27: 320 | D27: אבא ויצמן | E27: 45428 | F27: 200 | G27: מבחנים | H27: 45459 | I27: 200 | J27: כולל | K27: 45489 | L27: 846 | M27: אבא ביטון | N27: 45533 | O27: 200 | P27: קצבת ילדים | Q27: 45555 | R27: 269 | S27: טבת | T27: =SUM(L21) -> 8328
A28: אמא ויצמן | B28: 45399 | C28: 150 | D28: קצבת ילדים | E28: 45432 | F28: 269 | G28: אבא ביטון | H28: 45466 | I28: 100 | J28: סתם | K28: 45490 | L28: 20 | M28: אבא ויצמן | N28: 45535 | O28: 200 | P28: תרומה | Q28: 45558 | R28: 100 | S28: שבט | T28: =SUM(O21) -> 12928.8
A29: קצבת ילדים | B29: 45400 | C29: 269 | D29: משכורת דרכי נועם | E29: 45445 | F29: 6598 | G29: אבא ביטון | H29: 45467 | I29: 100 | J29: קצבת ילדים | K29: 45494 | L29: 269 | M29: משכורת דרכי נועם | N29: 45536 | O29: 8405 | P29: אבא ויצמן | Q29: 45559 | R29: 100 | S29: אדר א | T29: =SUM(R21) -> 10653
A30: אבא ביטון | B30: 45406 | C30: 100 | D30: סיוע בשכר דירה | E30: 45446 | F30: 1170 | G30: אבא ויצמן | H30: 45474 | I30: 100 | J30: אבא ויצמן | K30: 45503 | L30: 2400 | M30: סיוע בשכר דירה | N30: 45538 | O30: 1170 | P30: סבתא ביטון | Q30: 45563 | R30: 200 | S30: אדר ב | T30: =SUM(U21) -> 12362
A31: משכורת דרכי נועם | B31: 45413 | C31: 6790 | D31: דתות | E31: 45449 | F31: 846 | G31: משכורת דרכי נועם | H31: 45474 | I31: 6871 | J31: משכורת דרכי נועם | K31: 45505 | L31: 14275 | P31: כולל | Q31: 45565 | R31: 700 | S31: ניסן | T31: =SUM(C41) -> 12120
A32: סיוע בשכר דירה | B32: 45417 | C32: 1170 | G32: סיוע בשכר דירה | H32: 45477 | I32: 1170 | J32: סיוע בשכר דירה | K32: 45508 | L32: 1170 | P32: משכורת | Q32: 45566 | R32: 6786 | S32: אייר | T32: =SUM(F41) -> 12329
A33: אמא ויצמן | B33: 45418 | C33: 200 | P33: החזר שכירות | Q33: 45566 | R33: 1170 | S33: סיון | T33: =SUM(I41) -> 10910
S34: תמוז | T34: =SUM(L41) -> 20230
S35: אב | T35: =SUM(O41) -> 11790
S36: אלול | T36: =SUM(R41) -> 11571
S37: ממוצע הכנסה מתוך החודשים המלאים | T37: =AVERAGE(T24:T36) -> 11780.6
S38: סך הכל שנתי | T38: =SUM(T24:T36) -> 153147.8
S39: סך הכל למעשרות | T39: =SUM(J43) -> 15314.78
A40: מספר הכנסות | C40: =COUNT(C24:C39) -> 10 | D40: מספר הכנסות | F40: =COUNT(F24:F39) -> 8 | G40: מספר הכנסות | I40: =COUNT(I24:I39) -> 9 | J40: מספר הכנסות | L40: =COUNT(L24:L39) -> 9 | M40: מספר הכנסות | O40: =COUNT(O24:O39) -> 7 | P40: מספר הכנסות | R40: =COUNT(R24:R39) -> 10
A41: סך הכנסות חודשי | C41: =SUM(C24:C39) -> 12120 | D41: סך הכנסות חודשי | F41: =SUM(F24:F39) -> 12329 | G41: סך הכנסות חודשי | I41: =SUM(I24:I39) -> 10910 | J41: סך הכנסות חודשי | L41: =SUM(L24:L39) -> 20230 | M41: סך הכנסות חודשי | O41: =SUM(O24:O39) -> 11790 | P41: סך הכנסות חודשי | R41: =SUM(R24:R39) -> 11571
A43: סך כולל הכנסות שנתי | D43: =SUM(C21,F21,I21,L21,O21,R21,F41,C41,I41,L41,O41,R41,U21,U41) -> 153147.8 | G43: סך כולל למעשרות | J43: =SUM(D43/10) -> 15314.78 | M43: הסכום הנותר למעשרות | P43: =SUM(J43-W103) -> 0 | S43: ניתן למעשרות | T43: =SUM(W103) -> 15314.78
...

Sheet הכנסות שנתי ה'תשפ"ט
A1: בס"ד | B1: פרנסה משמים | J1: הסכום הכולל לתרומה | M1: =SUM(O45-W55) -> 0 | R1: מעשרות | T1: =SUM(I44-W48) -> 0 | W1: טבלת התרומות
A2: התשפ"ו | R2: חומש | T2: =SUM(M44-AC48) -> 0
A3: תשרי | D3: חשון | G3: כסלו | J3: טבת | M3: שבט | P3: אדר א' | S3: אדר ב' | W3: מעשרות | AC3: חומש
A4: מקור ההכנסה | B4: תאריך | C4: סכום | D4: מקור ההכנסה | E4: תאריך | F4: סכום | G4: מקור ההכנסה | H4: תאריך | I4: סכום | J4: מקור ההכנסה | K4: תאריך | L4: סכום | M4: מקור ההכנסה | N4: תאריך | O4: סכום | P4: מקור ההכנסה | Q4: תאריך | R4: סכום | S4: מקור ההכנסה | T4: תאריך | U4: סכום
W5: ניתן ל- | X5: סכום | Y5: ניתן ל- | Z5: סכום | AA5: ניתן ל- | AB5: סכום | AC5: ניתן ל- | AD5: סכום | AE5: ניתן ל- | AF5: סכום | AG5: ניתן ל- | AH5: סכום
A21: מספר הכנסות | C21: =COUNT(C5:C20) -> 0 | F21: =COUNT(F5:F20) -> 0 | G21: מספר הכנסות | I21: =COUNT(I5:I20) -> 0 | J21: מספר הכנסות | L21: =COUNT(L5:L20) -> 0 | M21: מספר הכנסות | O21: =COUNT(O5:O20) -> 0 | P21: מספר הכנסות | R21: =COUNT(R5:R20) -> 0 | S21: מספר הכנסות | U21: =COUNT(U5:U20) -> 0
A22: סך הכנסות חודשי | C22: =SUM(C5:C20) -> 0 | D22: סך הכנסות חודשי | F22: =SUM(F5:F20) -> 0 | G22: סך הכנסות חודשי | I22: =SUM(I5:I20) -> 0 | J22: סך הכנסות חודשי | L22: =SUM(L5:L20) -> 0 | M22: סך הכנסות חודשי | O22: =SUM(O5:O20) -> 0 | P22: סך הכנסות חודשי | R22: =SUM(R5:R20) -> 0 | S22: סך הכנסות חודשי | U22: =SUM(U5:U20) -> 0
A23: ניסן | D23: אייר | G23: סיון | J23: תמוז | M23: אב | P23: אלול | S23: סך הכל הכנסה לפי חודשים
A24: מקור ההכנסה | B24: תאריך | C24: סכום | D24: מקור ההכנסה | E24: תאריך | F24: סכום | G24: מקור ההכנסה | H24: תאריך | I24: סכום | J24: מקור ההכנסה | K24: תאריך | L24: סכום | M24: מקור ההכנסה | N24: תאריך | O24: סכום | P24: מקור ההכנסה | Q24: תאריך | R24: סכום
S25: תשרי | T25: =SUM(C22) -> 0
S26: חשון | T26: =SUM(F22) -> 0
S27: כסלו | T27: =SUM(I22) -> 0
S28: טבת | T28: =SUM(L22) -> 0
S29: שבט | T29: =SUM(O22) -> 0
S30: אדר א | T30: =SUM(R22) -> 0
S31: אדר ב | T31: =SUM(U22) -> 0
S32: ניסן | T32: =SUM(C42) -> 0
S33: אייר | T33: =SUM(F42) -> 0
S34: סיון | T34: =SUM(I42) -> 0
S35: תמוז | T35: =SUM(L42) -> 0
S36: אב | T36: =SUM(O42) -> 0
S37: אלול | T37: =SUM(R42) -> 0
S38: ממוצע הכנסה מתוך החודשים המלאים | T38: =AVERAGE(T25:T30,T32:T37,T31) -> 0
S39: סך הכל שנתי | T39: =SUM(T25:T37) -> 0
S40: סך הכל למעשרות | T40: =SUM(I44) -> 0
A41: מספר הכנסות | C41: =COUNT(C25:C40) -> 0 | D41: מספר הכנסות | F41: =COUNT(F25:F40) -> 0 | G41: מספר הכנסות | I41: =COUNT(I25:I40) -> 0 | J41: מספר הכנסות | L41: =COUNT(L25:L40) -> 0 | M41: מספר הכנסות | O41: =COUNT(O25:O40) -> 0 | P41: מספר הכנסות | R41: =COUNT(R25:R40) -> 0 | S41: סך הכל לחומש | T41: =SUM(M44) -> 0
A42: סך הכנסות חודשי | C42: =SUM(C25:C40) -> 0 | D42: סך הכנסות חודשי | F42: =SUM(F25:F40) -> 0 | G42: סך הכנסות חודשי | I42: =SUM(I25:I40) -> 0 | J42: סך הכנסות חודשי | L42: =SUM(L25:L40) -> 0 | M42: סך הכנסות חודשי | O42: =SUM(O25:O40) -> 0 | P42: סך הכנסות חודשי | R42: =SUM(R25:R40) -> 0 | S42: סך כל התרומות | T42: =SUM(T40:T41) -> 0
A44: סך כולל הכנסות שנתי | D44: =SUM(C22,F22,I22,L22,O22,R22,F42,C42,I42,L42,O42,R42,U22,U42) -> 0 | G44: סך כולל למעשרות | I44: =SUM(D44/10) -> 0 | K44: סך כולל לחומש | M44: =SUM(D44/10) -> 0 | O44: הכל יחד | P44: ניתן למעשרות | Q44: =SUM(W48) -> 0 | S44: ניתן לחומש | T44: =SUM(AC48) -> 0
O45: =SUM(M44+I44) -> 0
W46: סך כולל הניתן למעשרות | AC46: סך כולל הניתן לחומש
W48: =SUM(X6:X45,Z6:Z45,AB6:AB45) -> 0 | AC48: =SUM(AD6:AD45,AF6:AF45,AH6:AH45) -> 0
W52: הכל יחד
W55: =SUM(AC48+W48) -> 0
W104: =SUM(W6:Y45) -> 0

Sheet הכנסות שנתי ה'תש"ץ
A1: בס"ד | B1: פרנסה משמים | J1: הסכום הכולל לתרומה | M1: =SUM(O45-W55) -> 0 | R1: מעשרות | T1: =SUM(I44-W48) -> 0 | W1: טבלת התרומות
A2: התשפ"ו | R2: חומש | T2: =SUM(M44-AC48) -> 0
A3: תשרי | D3: חשון | G3: כסלו | J3: טבת | M3: שבט | P3: אדר א' | S3: אדר ב' | W3: מעשרות | AC3: חומש
A4: מקור ההכנסה | B4: תאריך | C4: סכום | D4: מקור ההכנסה | E4: תאריך | F4: סכום | G4: מקור ההכנסה | H4: תאריך | I4: סכום | J4: מקור ההכנסה | K4: תאריך | L4: סכום | M4: מקור ההכנסה | N4: תאריך | O4: סכום | P4: מקור ההכנסה | Q4: תאריך | R4: סכום | S4: מקור ההכנסה | T4: תאריך | U4: סכום
W5: ניתן ל- | X5: סכום | Y5: ניתן ל- | Z5: סכום | AA5: ניתן ל- | AB5: סכום | AC5: ניתן ל- | AD5: סכום | AE5: ניתן ל- | AF5: סכום | AG5: ניתן ל- | AH5: סכום
A21: מספר הכנסות | C21: =COUNT(C5:C20) -> 0 | F21: =COUNT(F5:F20) -> 0 | G21: מספר הכנסות | I21: =COUNT(I5:I20) -> 0 | J21: מספר הכנסות | L21: =COUNT(L5:L20) -> 0 | M21: מספר הכנסות | O21: =COUNT(O5:O20) -> 0 | P21: מספר הכנסות | R21: =COUNT(R5:R20) -> 0 | S21: מספר הכנסות | U21: =COUNT(U5:U20) -> 0
A22: סך הכנסות חודשי | C22: =SUM(C5:C20) -> 0 | D22: סך הכנסות חודשי | F22: =SUM(F5:F20) -> 0 | G22: סך הכנסות חודשי | I22: =SUM(I5:I20) -> 0 | J22: סך הכנסות חודשי | L22: =SUM(L5:L20) -> 0 | M22: סך הכנסות חודשי | O22: =SUM(O5:O20) -> 0 | P22: סך הכנסות חודשי | R22: =SUM(R5:R20) -> 0 | S22: סך הכנסות חודשי | U22: =SUM(U5:U20) -> 0
A23: ניסן | D23: אייר | G23: סיון | J23: תמוז | M23: אב | P23: אלול | S23: סך הכל הכנסה לפי חודשים
A24: מקור ההכנסה | B24: תאריך | C24: סכום | D24: מקור ההכנסה | E24: תאריך | F24: סכום | G24: מקור ההכנסה | H24: תאריך | I24: סכום | J24: מקור ההכנסה | K24: תאריך | L24: סכום | M24: מקור ההכנסה | N24: תאריך | O24: סכום | P24: מקור ההכנסה | Q24: תאריך | R24: סכום
S25: תשרי | T25: =SUM(C22) -> 0
S26: חשון | T26: =SUM(F22) -> 0
S27: כסלו | T27: =SUM(I22) -> 0
S28: טבת | T28: =SUM(L22) -> 0
S29: שבט | T29: =SUM(O22) -> 0
S30: אדר א | T30: =SUM(R22) -> 0
S31: אדר ב | T31: =SUM(U22) -> 0
S32: ניסן | T32: =SUM(C42) -> 0
S33: אייר | T33: =SUM(F42) -> 0
S34: סיון | T34: =SUM(I42) -> 0
S35: תמוז | T35: =SUM(L42) -> 0
S36: אב | T36: =SUM(O42) -> 0
S37: אלול | T37: =SUM(R42) -> 0
S38: ממוצע הכנסה מתוך החודשים המלאים | T38: =AVERAGE(T25:T30,T32:T37,T31) -> 0
S39: סך הכל שנתי | T39: =SUM(T25:T37) -> 0
S40: סך הכל למעשרות | T40: =SUM(I44) -> 0
A41: מספר הכנסות | C41: =COUNT(C25:C40) -> 0 | D41: מספר הכנסות | F41: =COUNT(F25:F40) -> 0 | G41: מספר הכנסות | I41: =COUNT(I25:I40) -> 0 | J41: מספר הכנסות | L41: =COUNT(L25:L40) -> 0 | M41: מספר הכנסות | O41: =COUNT(O25:O40) -> 0 | P41: מספר הכנסות | R41: =COUNT(R25:R40) -> 0 | S41: סך הכל לחומש | T41: =SUM(M44) -> 0
A42: סך הכנסות חודשי | C42: =SUM(C25:C40) -> 0 | D42: סך הכנסות חודשי | F42: =SUM(F25:F40) -> 0 | G42: סך הכנסות חודשי | I42: =SUM(I25:I40) -> 0 | J42: סך הכנסות חודשי | L42: =SUM(L25:L40) -> 0 | M42: סך הכנסות חודשי | O42: =SUM(O25:O40) -> 0 | P42: סך הכנסות חודשי | R42: =SUM(R25:R40) -> 0 | S42: סך כל התרומות | T42: =SUM(T40:T41) -> 0
A44: סך כולל הכנסות שנתי | D44: =SUM(C22,F22,I22,L22,O22,R22,F42,C42,I42,L42,O42,R42,U22,U42) -> 0 | G44: סך כולל למעשרות | I44: =SUM(D44/10) -> 0 | K44: סך כולל לחומש | M44: =SUM(D44/10) -> 0 | O44: הכל יחד | P44: ניתן למעשרות | Q44: =SUM(W48) -> 0 | S44: ניתן לחומש | T44: =SUM(AC48) -> 0
O45: =SUM(M44+I44) -> 0
W46: סך כולל הניתן למעשרות | AC46: סך כולל הניתן לחומש
W48: =SUM(X6:X45,Z6:Z45,AB6:AB45) -> 0 | AC48: =SUM(AD6:AD45,AF6:AF45,AH6:AH45) -> 0
W52: הכל יחד
W55: =SUM(AC48+W48) -> 0
W104: =SUM(W6:Y45) -> 0

Sheet הכנסות שנתי ה'תשצ"א
A1: בס"ד | B1: פרנסה משמים | J1: הסכום הכולל לתרומה | M1: =SUM(O45-W55) -> 0 | R1: מעשרות | T1: =SUM(I44-W48) -> 0 | W1: טבלת התרומות
A2: התשפ"ו | R2: חומש | T2: =SUM(M44-AC48) -> 0
A3: תשרי | D3: חשון | G3: כסלו | J3: טבת | M3: שבט | P3: אדר א' | S3: אדר ב' | W3: מעשרות | AC3: חומש
A4: מקור ההכנסה | B4: תאריך | C4: סכום | D4: מקור ההכנסה | E4: תאריך | F4: סכום | G4: מקור ההכנסה | H4: תאריך | I4: סכום | J4: מקור ההכנסה | K4: תאריך | L4: סכום | M4: מקור ההכנסה | N4: תאריך | O4: סכום | P4: מקור ההכנסה | Q4: תאריך | R4: סכום | S4: מקור ההכנסה | T4: תאריך | U4: סכום
W5: ניתן ל- | X5: סכום | Y5: ניתן ל- | Z5: סכום | AA5: ניתן ל- | AB5: סכום | AC5: ניתן ל- | AD5: סכום | AE5: ניתן ל- | AF5: סכום | AG5: ניתן ל- | AH5: סכום
A21: מספר הכנסות | C21: =COUNT(C5:C20) -> 0 | F21: =COUNT(F5:F20) -> 0 | G21: מספר הכנסות | I21: =COUNT(I5:I20) -> 0 | J21: מספר הכנסות | L21: =COUNT(L5:L20) -> 0 | M21: מספר הכנסות | O21: =COUNT(O5:O20) -> 0 | P21: מספר הכנסות | R21: =COUNT(R5:R20) -> 0 | S21: מספר הכנסות | U21: =COUNT(U5:U20) -> 0
A22: סך הכנסות חודשי | C22: =SUM(C5:C20) -> 0 | D22: סך הכנסות חודשי | F22: =SUM(F5:F20) -> 0 | G22: סך הכנסות חודשי | I22: =SUM(I5:I20) -> 0 | J22: סך הכנסות חודשי | L22: =SUM(L5:L20) -> 0 | M22: סך הכנסות חודשי | O22: =SUM(O5:O20) -> 0 | P22: סך הכנסות חודשי | R22: =SUM(R5:R20) -> 0 | S22: סך הכנסות חודשי | U22: =SUM(U5:U20) -> 0
A23: ניסן | D23: אייר | G23: סיון | J23: תמוז | M23: אב | P23: אלול | S23: סך הכל הכנסה לפי חודשים
A24: מקור ההכנסה | B24: תאריך | C24: סכום | D24: מקור ההכנסה | E24: תאריך | F24: סכום | G24: מקור ההכנסה | H24: תאריך | I24: סכום | J24: מקור ההכנסה | K24: תאריך | L24: סכום | M24: מקור ההכנסה | N24: תאריך | O24: סכום | P24: מקור ההכנסה | Q24: תאריך | R24: סכום
S25: תשרי | T25: =SUM(C22) -> 0
S26: חשון | T26: =SUM(F22) -> 0
S27: כסלו | T27: =SUM(I22) -> 0
S28: טבת | T28: =SUM(L22) -> 0
S29: שבט | T29: =SUM(O22) -> 0
S30: אדר א | T30: =SUM(R22) -> 0
S31: אדר ב | T31: =SUM(U22) -> 0
S32: ניסן | T32: =SUM(C42) -> 0
S33: אייר | T33: =SUM(F42) -> 0
S34: סיון | T34: =SUM(I42) -> 0
S35: תמוז | T35: =SUM(L42) -> 0
S36: אב | T36: =SUM(O42) -> 0
S37: אלול | T37: =SUM(R42) -> 0
S38: ממוצע הכנסה מתוך החודשים המלאים | T38: =AVERAGE(T25:T30,T32:T37,T31) -> 0
S39: סך הכל שנתי | T39: =SUM(T25:T37) -> 0
S40: סך הכל למעשרות | T40: =SUM(I44) -> 0
A41: מספר הכנסות | C41: =COUNT(C25:C40) -> 0 | D41: מספר הכנסות | F41: =COUNT(F25:F40) -> 0 | G41: מספר הכנסות | I41: =COUNT(I25:I40) -> 0 | J41: מספר הכנסות | L41: =COUNT(L25:L40) -> 0 | M41: מספר הכנסות | O41: =COUNT(O25:O40) -> 0 | P41: מספר הכנסות | R41: =COUNT(R25:R40) -> 0 | S41: סך הכל לחומש | T41: =SUM(M44) -> 0
A42: סך הכנסות חודשי | C42: =SUM(C25:C40) -> 0 | D42: סך הכנסות חודשי | F42: =SUM(F25:F40) -> 0 | G42: סך הכנסות חודשי | I42: =SUM(I25:I40) -> 0 | J42: סך הכנסות חודשי | L42: =SUM(L25:L40) -> 0 | M42: סך הכנסות חודשי | O42: =SUM(O25:O40) -> 0 | P42: סך הכנסות חודשי | R42: =SUM(R25:R40) -> 0 | S42: סך כל התרומות | T42: =SUM(T40:T41) -> 0
A44: סך כולל הכנסות שנתי | D44: =SUM(C22,F22,I22,L22,O22,R22,F42,C42,I42,L42,O42,R42,U22,U42) -> 0 | G44: סך כולל למעשרות | I44: =SUM(D44/10) -> 0 | K44: סך כולל לחומש | M44: =SUM(D44/10) -> 0 | O44: הכל יחד | P44: ניתן למעשרות | Q44: =SUM(W48) -> 0 | S44: ניתן לחומש | T44: =SUM(AC48) -> 0
O45: =SUM(M44+I44) -> 0
W46: סך כולל הניתן למעשרות | AC46: סך כולל הניתן לחומש
W48: =SUM(X6:X45,Z6:Z45,AB6:AB45) -> 0 | AC48: =SUM(AD6:AD45,AF6:AF45,AH6:AH45) -> 0
W52: הכל יחד
W55: =SUM(AC48+W48) -> 0
W104: =SUM(W6:Y45) -> 0

Sheet הכנסות שנתי ה'תשצ"ב
A1: בס"ד | B1: פרנסה משמים | J1: הסכום הכולל לתרומה | M1: =SUM(O45-W55) -> 0 | R1: מעשרות | T1: =SUM(I44-W48) -> 0 | W1: טבלת התרומות
A2: התשפ"ו | R2: חומש | T2: =SUM(M44-AC48) -> 0
A3: תשרי | D3: חשון | G3: כסלו | J3: טבת | M3: שבט | P3: אדר א' | S3: אדר ב' | W3: מעשרות | AC3: חומש
A4: מקור ההכנסה | B4: תאריך | C4: סכום | D4: מקור ההכנסה | E4: תאריך | F4: סכום | G4: מקור ההכנסה | H4: תאריך | I4: סכום | J4: מקור ההכנסה | K4: תאריך | L4: סכום | M4: מקור ההכנסה | N4: תאריך | O4: סכום | P4: מקור ההכנסה | Q4: תאריך | R4: סכום | S4: מקור ההכנסה | T4: תאריך | U4: סכום
W5: ניתן ל- | X5: סכום | Y5: ניתן ל- | Z5: סכום | AA5: ניתן ל- | AB5: סכום | AC5: ניתן ל- | AD5: סכום | AE5: ניתן ל- | AF5: סכום | AG5: ניתן ל- | AH5: סכום
A21: מספר הכנסות | C21: =COUNT(C5:C20) -> 0 | F21: =COUNT(F5:F20) -> 0 | G21: מספר הכנסות | I21: =COUNT(I5:I20) -> 0 | J21: מספר הכנסות | L21: =COUNT(L5:L20) -> 0 | M21: מספר הכנסות | O21: =COUNT(O5:O20) -> 0 | P21: מספר הכנסות | R21: =COUNT(R5:R20) -> 0 | S21: מספר הכנסות | U21: =COUNT(U5:U20) -> 0
A22: סך הכנסות חודשי | C22: =SUM(C5:C20) -> 0 | D22: סך הכנסות חודשי | F22: =SUM(F5:F20) -> 0 | G22: סך הכנסות חודשי | I22: =SUM(I5:I20) -> 0 | J22: סך הכנסות חודשי | L22: =SUM(L5:L20) -> 0 | M22: סך הכנסות חודשי | O22: =SUM(O5:O20) -> 0 | P22: סך הכנסות חודשי | R22: =SUM(R5:R20) -> 0 | S22: סך הכנסות חודשי | U22: =SUM(U5:U20) -> 0
A23: ניסן | D23: אייר | G23: סיון | J23: תמוז | M23: אב | P23: אלול | S23: סך הכל הכנסה לפי חודשים
A24: מקור ההכנסה | B24: תאריך | C24: סכום | D24: מקור ההכנסה | E24: תאריך | F24: סכום | G24: מקור ההכנסה | H24: תאריך | I24: סכום | J24: מקור ההכנסה | K24: תאריך | L24: סכום | M24: מקור ההכנסה | N24: תאריך | O24: סכום | P24: מקור ההכנסה | Q24: תאריך | R24: סכום
S25: תשרי | T25: =SUM(C22) -> 0
S26: חשון | T26: =SUM(F22) -> 0
S27: כסלו | T27: =SUM(I22) -> 0
S28: טבת | T28: =SUM(L22) -> 0
S29: שבט | T29: =SUM(O22) -> 0
S30: אדר א | T30: =SUM(R22) -> 0
S31: אדר ב | T31: =SUM(U22) -> 0
S32: ניסן | T32: =SUM(C42) -> 0
S33: אייר | T33: =SUM(F42) -> 0
S34: סיון | T34: =SUM(I42) -> 0
S35: תמוז | T35: =SUM(L42) -> 0
S36: אב | T36: =SUM(O42) -> 0
S37: אלול | T37: =SUM(R42) -> 0
S38: ממוצע הכנסה מתוך החודשים המלאים | T38: =AVERAGE(T25:T30,T32:T37,T31) -> 0
S39: סך הכל שנתי | T39: =SUM(T25:T37) -> 0
S40: סך הכל למעשרות | T40: =SUM(I44) -> 0
A41: מספר הכנסות | C41: =COUNT(C25:C40) -> 0 | D41: מספר הכנסות | F41: =COUNT(F25:F40) -> 0 | G41: מספר הכנסות | I41: =COUNT(I25:I40) -> 0 | J41: מספר הכנסות | L41: =COUNT(L25:L40) -> 0 | M41: מספר הכנסות | O41: =COUNT(O25:O40) -> 0 | P41: מספר הכנסות | R41: =COUNT(R25:R40) -> 0 | S41: סך הכל לחומש | T41: =SUM(M44) -> 0
A42: סך הכנסות חודשי | C42: =SUM(C25:C40) -> 0 | D42: סך הכנסות חודשי | F42: =SUM(F25:F40) -> 0 | G42: סך הכנסות חודשי | I42: =SUM(I25:I40) -> 0 | J42: סך הכנסות חודשי | L42: =SUM(L25:L40) -> 0 | M42: סך הכנסות חודשי | O42: =SUM(O25:O40) -> 0 | P42: סך הכנסות חודשי | R42: =SUM(R25:R40) -> 0 | S42: סך כל התרומות | T42: =SUM(T40:T41) -> 0
A44: סך כולל הכנסות שנתי | D44: =SUM(C22,F22,I22,L22,O22,R22,F42,C42,I42,L42,O42,R42,U22,U42) -> 0 | G44: סך כולל למעשרות | I44: =SUM(D44/10) -> 0 | K44: סך כולל לחומש | M44: =SUM(D44/10) -> 0 | O44: הכל יחד | P44: ניתן למעשרות | Q44: =SUM(W48) -> 0 | S44: ניתן לחומש | T44: =SUM(AC48) -> 0
O45: =SUM(M44+I44) -> 0
W46: סך כולל הניתן למעשרות | AC46: סך כולל הניתן לחומש
W48: =SUM(X6:X45,Z6:Z45,AB6:AB45) -> 0 | AC48: =SUM(AD6:AD45,AF6:AF45,AH6:AH45) -> 0
W52: הכל יחד
W55: =SUM(AC48+W48) -> 0
W104: =SUM(W6:Y45) -> 0

Sheet הכנסות שנתי ה'תשצ"ג
A1: בס"ד | B1: פרנסה משמים | J1: הסכום הכולל לתרומה | M1: =SUM(O45-W55) -> 0 | R1: מעשרות | T1: =SUM(I44-W48) -> 0 | W1: טבלת התרומות
A2: התשפ"ו | R2: חומש | T2: =SUM(M44-AC48) -> 0
A3: תשרי | D3: חשון | G3: כסלו | J3: טבת | M3: שבט | P3: אדר א' | S3: אדר ב' | W3: מעשרות | AC3: חומש
A4: מקור ההכנסה | B4: תאריך | C4: סכום | D4: מקור ההכנסה | E4: תאריך | F4: סכום | G4: מקור ההכנסה | H4: תאריך | I4: סכום | J4: מקור ההכנסה | K4: תאריך | L4: סכום | M4: מקור ההכנסה | N4: תאריך | O4: סכום | P4: מקור ההכנסה | Q4: תאריך | R4: סכום | S4: מקור ההכנסה | T4: תאריך | U4: סכום
W5: ניתן ל- | X5: סכום | Y5: ניתן ל- | Z5: סכום | AA5: ניתן ל- | AB5: סכום | AC5: ניתן ל- | AD5: סכום | AE5: ניתן ל- | AF5: סכום | AG5: ניתן ל- | AH5: סכום
A21: מספר הכנסות | C21: =COUNT(C5:C20) -> 0 | F21: =COUNT(F5:F20) -> 0 | G21: מספר הכנסות | I21: =COUNT(I5:I20) -> 0 | J21: מספר הכנסות | L21: =COUNT(L5:L20) -> 0 | M21: מספר הכנסות | O21: =COUNT(O5:O20) -> 0 | P21: מספר הכנסות | R21: =COUNT(R5:R20) -> 0 | S21: מספר הכנסות | U21: =COUNT(U5:U20) -> 0
A22: סך הכנסות חודשי | C22: =SUM(C5:C20) -> 0 | D22: סך הכנסות חודשי | F22: =SUM(F5:F20) -> 0 | G22: סך הכנסות חודשי | I22: =SUM(I5:I20) -> 0 | J22: סך הכנסות חודשי | L22: =SUM(L5:L20) -> 0 | M22: סך הכנסות חודשי | O22: =SUM(O5:O20) -> 0 | P22: סך הכנסות חודשי | R22: =SUM(R5:R20) -> 0 | S22: סך הכנסות חודשי | U22: =SUM(U5:U20) -> 0
A23: ניסן | D23: אייר | G23: סיון | J23: תמוז | M23: אב | P23: אלול | S23: סך הכל הכנסה לפי חודשים
A24: מקור ההכנסה | B24: תאריך | C24: סכום | D24: מקור ההכנסה | E24: תאריך | F24: סכום | G24: מקור ההכנסה | H24: תאריך | I24: סכום | J24: מקור ההכנסה | K24: תאריך | L24: סכום | M24: מקור ההכנסה | N24: תאריך | O24: סכום | P24: מקור ההכנסה | Q24: תאריך | R24: סכום
S25: תשרי | T25: =SUM(C22) -> 0
S26: חשון | T26: =SUM(F22) -> 0
S27: כסלו | T27: =SUM(I22) -> 0
S28: טבת | T28: =SUM(L22) -> 0
S29: שבט | T29: =SUM(O22) -> 0
S30: אדר א | T30: =SUM(R22) -> 0
S31: אדר ב | T31: =SUM(U22) -> 0
S32: ניסן | T32: =SUM(C42) -> 0
S33: אייר | T33: =SUM(F42) -> 0
S34: סיון | T34: =SUM(I42) -> 0
S35: תמוז | T35: =SUM(L42) -> 0
S36: אב | T36: =SUM(O42) -> 0
S37: אלול | T37: =SUM(R42) -> 0
S38: ממוצע הכנסה מתוך החודשים המלאים | T38: =AVERAGE(T25:T30,T32:T37,T31) -> 0
S39: סך הכל שנתי | T39: =SUM(T25:T37) -> 0
S40: סך הכל למעשרות | T40: =SUM(I44) -> 0
A41: מספר הכנסות | C41: =COUNT(C25:C40) -> 0 | D41: מספר הכנסות | F41: =COUNT(F25:F40) -> 0 | G41: מספר הכנסות | I41: =COUNT(I25:I40) -> 0 | J41: מספר הכנסות | L41: =COUNT(L25:L40) -> 0 | M41: מספר הכנסות | O41: =COUNT(O25:O40) -> 0 | P41: מספר הכנסות | R41: =COUNT(R25:R40) -> 0 | S41: סך הכל לחומש | T41: =SUM(M44) -> 0
A42: סך הכנסות חודשי | C42: =SUM(C25:C40) -> 0 | D42: סך הכנסות חודשי | F42: =SUM(F25:F40) -> 0 | G42: סך הכנסות חודשי | I42: =SUM(I25:I40) -> 0 | J42: סך הכנסות חודשי | L42: =SUM(L25:L40) -> 0 | M42: סך הכנסות חודשי | O42: =SUM(O25:O40) -> 0 | P42: סך הכנסות חודשי | R42: =SUM(R25:R40) -> 0 | S42: סך כל התרומות | T42: =SUM(T40:T41) -> 0
A44: סך כולל הכנסות שנתי | D44: =SUM(C22,F22,I22,L22,O22,R22,F42,C42,I42,L42,O42,R42,U22,U42) -> 0 | G44: סך כולל למעשרות | I44: =SUM(D44/10) -> 0 | K44: סך כולל לחומש | M44: =SUM(D44/10) -> 0 | O44: הכל יחד | P44: ניתן למעשרות | Q44: =SUM(W48) -> 0 | S44: ניתן לחומש | T44: =SUM(AC48) -> 0
O45: =SUM(M44+I44) -> 0
W46: סך כולל הניתן למעשרות | AC46: סך כולל הניתן לחומש
W48: =SUM(X6:X45,Z6:Z45,AB6:AB45) -> 0 | AC48: =SUM(AD6:AD45,AF6:AF45,AH6:AH45) -> 0
W52: הכל יחד
W55: =SUM(AC48+W48) -> 0
W104: =SUM(W6:Y45) -> 0

Sheet הכנסות שנתי ה'תשצ"ד
A1: בס"ד | B1: פרנסה משמים | J1: הסכום הכולל לתרומה | M1: =SUM(O45-W55) -> 0 | R1: מעשרות | T1: =SUM(I44-W48) -> 0 | W1: טבלת התרומות
A2: התשפ"ו | R2: חומש | T2: =SUM(M44-AC48) -> 0
A3: תשרי | D3: חשון | G3: כסלו | J3: טבת | M3: שבט | P3: אדר א' | S3: אדר ב' | W3: מעשרות | AC3: חומש
A4: מקור ההכנסה | B4: תאריך | C4: סכום | D4: מקור ההכנסה | E4: תאריך | F4: סכום | G4: מקור ההכנסה | H4: תאריך | I4: סכום | J4: מקור ההכנסה | K4: תאריך | L4: סכום | M4: מקור ההכנסה | N4: תאריך | O4: סכום | P4: מקור ההכנסה | Q4: תאריך | R4: סכום | S4: מקור ההכנסה | T4: תאריך | U4: סכום
W5: ניתן ל- | X5: סכום | Y5: ניתן ל- | Z5: סכום | AA5: ניתן ל- | AB5: סכום | AC5: ניתן ל- | AD5: סכום | AE5: ניתן ל- | AF5: סכום | AG5: ניתן ל- | AH5: סכום
A21: מספר הכנסות | C21: =COUNT(C5:C20) -> 0 | F21: =COUNT(F5:F20) -> 0 | G21: מספר הכנסות | I21: =COUNT(I5:I20) -> 0 | J21: מספר הכנסות | L21: =COUNT(L5:L20) -> 0 | M21: מספר הכנסות | O21: =COUNT(O5:O20) -> 0 | P21: מספר הכנסות | R21: =COUNT(R5:R20) -> 0 | S21: מספר הכנסות | U21: =COUNT(U5:U20) -> 0
A22: סך הכנסות חודשי | C22: =SUM(C5:C20) -> 0 | D22: סך הכנסות חודשי | F22: =SUM(F5:F20) -> 0 | G22: סך הכנסות חודשי | I22: =SUM(I5:I20) -> 0 | J22: סך הכנסות חודשי | L22: =SUM(L5:L20) -> 0 | M22: סך הכנסות חודשי | O22: =SUM(O5:O20) -> 0 | P22: סך הכנסות חודשי | R22: =SUM(R5:R20) -> 0 | S22: סך הכנסות חודשי | U22: =SUM(U5:U20) -> 0
A23: ניסן | D23: אייר | G23: סיון | J23: תמוז | M23: אב | P23: אלול | S23: סך הכל הכנסה לפי חודשים
A24: מקור ההכנסה | B24: תאריך | C24: סכום | D24: מקור ההכנסה | E24: תאריך | F24: סכום | G24: מקור ההכנסה | H24: תאריך | I24: סכום | J24: מקור ההכנסה | K24: תאריך | L24: סכום | M24: מקור ההכנסה | N24: תאריך | O24: סכום | P24: מקור ההכנסה | Q24: תאריך | R24: סכום
S25: תשרי | T25: =SUM(C22) -> 0
S26: חשון | T26: =SUM(F22) -> 0
S27: כסלו | T27: =SUM(I22) -> 0
S28: טבת | T28: =SUM(L22) -> 0
S29: שבט | T29: =SUM(O22) -> 0
S30: אדר א | T30: =SUM(R22) -> 0
S31: אדר ב | T31: =SUM(U22) -> 0
S32: ניסן | T32: =SUM(C42) -> 0
S33: אייר | T33: =SUM(F42) -> 0
S34: סיון | T34: =SUM(I42) -> 0
S35: תמוז | T35: =SUM(L42) -> 0
S36: אב | T36: =SUM(O42) -> 0
S37: אלול | T37: =SUM(R42) -> 0
S38: ממוצע הכנסה מתוך החודשים המלאים | T38: =AVERAGE(T25:T30,T32:T37,T31) -> 0
S39: סך הכל שנתי | T39: =SUM(T25:T37) -> 0
S40: סך הכל למעשרות | T40: =SUM(I44) -> 0
A41: מספר הכנסות | C41: =COUNT(C25:C40) -> 0 | D41: מספר הכנסות | F41: =COUNT(F25:F40) -> 0 | G41: מספר הכנסות | I41: =COUNT(I25:I40) -> 0 | J41: מספר הכנסות | L41: =COUNT(L25:L40) -> 0 | M41: מספר הכנסות | O41: =COUNT(O25:O40) -> 0 | P41: מספר הכנסות | R41: =COUNT(R25:R40) -> 0 | S41: סך הכל לחומש | T41: =SUM(M44) -> 0
A42: סך הכנסות חודשי | C42: =SUM(C25:C40) -> 0 | D42: סך הכנסות חודשי | F42: =SUM(F25:F40) -> 0 | G42: סך הכנסות חודשי | I42: =SUM(I25:I40) -> 0 | J42: סך הכנסות חודשי | L42: =SUM(L25:L40) -> 0 | M42: סך הכנסות חודשי | O42: =SUM(O25:O40) -> 0 | P42: סך הכנסות חודשי | R42: =SUM(R25:R40) -> 0 | S42: סך כל התרומות | T42: =SUM(T40:T41) -> 0
A44: סך כולל הכנסות שנתי | D44: =SUM(C22,F22,I22,L22,O22,R22,F42,C42,I42,L42,O42,R42,U22,U42) -> 0 | G44: סך כולל למעשרות | I44: =SUM(D44/10) -> 0 | K44: סך כולל לחומש | M44: =SUM(D44/10) -> 0 | O44: הכל יחד | P44: ניתן למעשרות | Q44: =SUM(W48) -> 0 | S44: ניתן לחומש | T44: =SUM(AC48) -> 0
O45: =SUM(M44+I44) -> 0
W46: סך כולל הניתן למעשרות | AC46: סך כולל הניתן לחומש
W48: =SUM(X6:X45,Z6:Z45,AB6:AB45) -> 0 | AC48: =SUM(AD6:AD45,AF6:AF45,AH6:AH45) -> 0
W52: הכל יחד
W55: =SUM(AC48+W48) -> 0
W104: =SUM(W6:Y45) -> 0

Sheet הכנסות שנתי ה'תשצ"ה
A1: בס"ד | B1: פרנסה משמים | J1: הסכום הכולל לתרומה | M1: =SUM(O45-W55) -> 0 | R1: מעשרות | T1: =SUM(I44-W48) -> 0 | W1: טבלת התרומות
A2: התשפ"ו | R2: חומש | T2: =SUM(M44-AC48) -> 0
A3: תשרי | D3: חשון | G3: כסלו | J3: טבת | M3: שבט | P3: אדר א' | S3: אדר ב' | W3: מעשרות | AC3: חומש
A4: מקור ההכנסה | B4: תאריך | C4: סכום | D4: מקור ההכנסה | E4: תאריך | F4: סכום | G4: מקור ההכנסה | H4: תאריך | I4: סכום | J4: מקור ההכנסה | K4: תאריך | L4: סכום | M4: מקור ההכנסה | N4: תאריך | O4: סכום | P4: מקור ההכנסה | Q4: תאריך | R4: סכום | S4: מקור ההכנסה | T4: תאריך | U4: סכום
W5: ניתן ל- | X5: סכום | Y5: ניתן ל- | Z5: סכום | AA5: ניתן ל- | AB5: סכום | AC5: ניתן ל- | AD5: סכום | AE5: ניתן ל- | AF5: סכום | AG5: ניתן ל- | AH5: סכום
A21: מספר הכנסות | C21: =COUNT(C5:C20) -> 0 | F21: =COUNT(F5:F20) -> 0 | G21: מספר הכנסות | I21: =COUNT(I5:I20) -> 0 | J21: מספר הכנסות | L21: =COUNT(L5:L20) -> 0 | M21: מספר הכנסות | O21: =COUNT(O5:O20) -> 0 | P21: מספר הכנסות | R21: =COUNT(R5:R20) -> 0 | S21: מספר הכנסות | U21: =COUNT(U5:U20) -> 0
A22: סך הכנסות חודשי | C22: =SUM(C5:C20) -> 0 | D22: סך הכנסות חודשי | F22: =SUM(F5:F20) -> 0 | G22: סך הכנסות חודשי | I22: =SUM(I5:I20) -> 0 | J22: סך הכנסות חודשי | L22: =SUM(L5:L20) -> 0 | M22: סך הכנסות חודשי | O22: =SUM(O5:O20) -> 0 | P22: סך הכנסות חודשי | R22: =SUM(R5:R20) -> 0 | S22: סך הכנסות חודשי | U22: =SUM(U5:U20) -> 0
A23: ניסן | D23: אייר | G23: סיון | J23: תמוז | M23: אב | P23: אלול | S23: סך הכל הכנסה לפי חודשים
A24: מקור ההכנסה | B24: תאריך | C24: סכום | D24: מקור ההכנסה | E24: תאריך | F24: סכום | G24: מקור ההכנסה | H24: תאריך | I24: סכום | J24: מקור ההכנסה | K24: תאריך | L24: סכום | M24: מקור ההכנסה | N24: תאריך | O24: סכום | P24: מקור ההכנסה | Q24: תאריך | R24: סכום
S25: תשרי | T25: =SUM(C22) -> 0
S26: חשון | T26: =SUM(F22) -> 0
S27: כסלו | T27: =SUM(I22) -> 0
S28: טבת | T28: =SUM(L22) -> 0
S29: שבט | T29: =SUM(O22) -> 0
S30: אדר א | T30: =SUM(R22) -> 0
S31: אדר ב | T31: =SUM(U22) -> 0
S32: ניסן | T32: =SUM(C42) -> 0
S33: אייר | T33: =SUM(F42) -> 0
S34: סיון | T34: =SUM(I42) -> 0
S35: תמוז | T35: =SUM(L42) -> 0
S36: אב | T36: =SUM(O42) -> 0
S37: אלול | T37: =SUM(R42) -> 0
S38: ממוצע הכנסה מתוך החודשים המלאים | T38: =AVERAGE(T25:T30,T32:T37,T31) -> 0
S39: סך הכל שנתי | T39: =SUM(T25:T37) -> 0
S40: סך הכל למעשרות | T40: =SUM(I44) -> 0
A41: מספר הכנסות | C41: =COUNT(C25:C40) -> 0 | D41: מספר הכנסות | F41: =COUNT(F25:F40) -> 0 | G41: מספר הכנסות | I41: =COUNT(I25:I40) -> 0 | J41: מספר הכנסות | L41: =COUNT(L25:L40) -> 0 | M41: מספר הכנסות | O41: =COUNT(O25:O40) -> 0 | P41: מספר הכנסות | R41: =COUNT(R25:R40) -> 0 | S41: סך הכל לחומש | T41: =SUM(M44) -> 0
A42: סך הכנסות חודשי | C42: =SUM(C25:C40) -> 0 | D42: סך הכנסות חודשי | F42: =SUM(F25:F40) -> 0 | G42: סך הכנסות חודשי | I42: =SUM(I25:I40) -> 0 | J42: סך הכנסות חודשי | L42: =SUM(L25:L40) -> 0 | M42: סך הכנסות חודשי | O42: =SUM(O25:O40) -> 0 | P42: סך הכנסות חודשי | R42: =SUM(R25:R40) -> 0 | S42: סך כל התרומות | T42: =SUM(T40:T41) -> 0
A44: סך כולל הכנסות שנתי | D44: =SUM(C22,F22,I22,L22,O22,R22,F42,C42,I42,L42,O42,R42,U22,U42) -> 0 | G44: סך כולל למעשרות | I44: =SUM(D44/10) -> 0 | K44: סך כולל לחומש | M44: =SUM(D44/10) -> 0 | O44: הכל יחד | P44: ניתן למעשרות | Q44: =SUM(W48) -> 0 | S44: ניתן לחומש | T44: =SUM(AC48) -> 0
O45: =SUM(M44+I44) -> 0
W46: סך כולל הניתן למעשרות | AC46: סך כולל הניתן לחומש
W48: =SUM(X6:X45,Z6:Z45,AB6:AB45) -> 0 | AC48: =SUM(AD6:AD45,AF6:AF45,AH6:AH45) -> 0
W52: הכל יחד
W55: =SUM(AC48+W48) -> 0
W104: =SUM(W6:Y45) -> 0

Sheet הכנסות שנתי ה'תשצ"ו
A1: בס"ד | B1: פרנסה משמים | J1: הסכום הכולל לתרומה | M1: =SUM(O45-W55) -> 0 | R1: מעשרות | T1: =SUM(I44-W48) -> 0 | W1: טבלת התרומות
A2: התשפ"ו | R2: חומש | T2: =SUM(M44-AC48) -> 0
A3: תשרי | D3: חשון | G3: כסלו | J3: טבת | M3: שבט | P3: אדר א' | S3: אדר ב' | W3: מעשרות | AC3: חומש
A4: מקור ההכנסה | B4: תאריך | C4: סכום | D4: מקור ההכנסה | E4: תאריך | F4: סכום | G4: מקור ההכנסה | H4: תאריך | I4: סכום | J4: מקור ההכנסה | K4: תאריך | L4: סכום | M4: מקור ההכנסה | N4: תאריך | O4: סכום | P4: מקור ההכנסה | Q4: תאריך | R4: סכום | S4: מקור ההכנסה | T4: תאריך | U4: סכום
W5: ניתן ל- | X5: סכום | Y5: ניתן ל- | Z5: סכום | AA5: ניתן ל- | AB5: סכום | AC5: ניתן ל- | AD5: סכום | AE5: ניתן ל- | AF5: סכום | AG5: ניתן ל- | AH5: סכום
A21: מספר הכנסות | C21: =COUNT(C5:C20) -> 0 | F21: =COUNT(F5:F20) -> 0 | G21: מספר הכנסות | I21: =COUNT(I5:I20) -> 0 | J21: מספר הכנסות | L21: =COUNT(L5:L20) -> 0 | M21: מספר הכנסות | O21: =COUNT(O5:O20) -> 0 | P21: מספר הכנסות | R21: =COUNT(R5:R20) -> 0 | S21: מספר הכנסות | U21: =COUNT(U5:U20) -> 0
A22: סך הכנסות חודשי | C22: =SUM(C5:C20) -> 0 | D22: סך הכנסות חודשי | F22: =SUM(F5:F20) -> 0 | G22: סך הכנסות חודשי | I22: =SUM(I5:I20) -> 0 | J22: סך הכנסות חודשי | L22: =SUM(L5:L20) -> 0 | M22: סך הכנסות חודשי | O22: =SUM(O5:O20) -> 0 | P22: סך הכנסות חודשי | R22: =SUM(R5:R20) -> 0 | S22: סך הכנסות חודשי | U22: =SUM(U5:U20) -> 0
A23: ניסן | D23: אייר | G23: סיון | J23: תמוז | M23: אב | P23: אלול | S23: סך הכל הכנסה לפי חודשים
A24: מקור ההכנסה | B24: תאריך | C24: סכום | D24: מקור ההכנסה | E24: תאריך | F24: סכום | G24: מקור ההכנסה | H24: תאריך | I24: סכום | J24: מקור ההכנסה | K24: תאריך | L24: סכום | M24: מקור ההכנסה | N24: תאריך | O24: סכום | P24: מקור ההכנסה | Q24: תאריך | R24: סכום
S25: תשרי | T25: =SUM(C22) -> 0
S26: חשון | T26: =SUM(F22) -> 0
S27: כסלו | T27: =SUM(I22) -> 0
S28: טבת | T28: =SUM(L22) -> 0
S29: שבט | T29: =SUM(O22) -> 0
S30: אדר א | T30: =SUM(R22) -> 0
S31: אדר ב | T31: =SUM(U22) -> 0
S32: ניסן | T32: =SUM(C42) -> 0
S33: אייר | T33: =SUM(F42) -> 0
S34: סיון | T34: =SUM(I42) -> 0
S35: תמוז | T35: =SUM(L42) -> 0
S36: אב | T36: =SUM(O42) -> 0
S37: אלול | T37: =SUM(R42) -> 0
S38: ממוצע הכנסה מתוך החודשים המלאים | T38: =AVERAGE(T25:T30,T32:T37,T31) -> 0
S39: סך הכל שנתי | T39: =SUM(T25:T37) -> 0
S40: סך הכל למעשרות | T40: =SUM(I44) -> 0
A41: מספר הכנסות | C41: =COUNT(C25:C40) -> 0 | D41: מספר הכנסות | F41: =COUNT(F25:F40) -> 0 | G41: מספר הכנסות | I41: =COUNT(I25:I40) -> 0 | J41: מספר הכנסות | L41: =COUNT(L25:L40) -> 0 | M41: מספר הכנסות | O41: =COUNT(O25:O40) -> 0 | P41: מספר הכנסות | R41: =COUNT(R25:R40) -> 0 | S41: סך הכל לחומש | T41: =SUM(M44) -> 0
A42: סך הכנסות חודשי | C42: =SUM(C25:C40) -> 0 | D42: סך הכנסות חודשי | F42: =SUM(F25:F40) -> 0 | G42: סך הכנסות חודשי | I42: =SUM(I25:I40) -> 0 | J42: סך הכנסות חודשי | L42: =SUM(L25:L40) -> 0 | M42: סך הכנסות חודשי | O42: =SUM(O25:O40) -> 0 | P42: סך הכנסות חודשי | R42: =SUM(R25:R40) -> 0 | S42: סך כל התרומות | T42: =SUM(T40:T41) -> 0
