Workbook

Sheet הוצאות
BB1: חודש ינואר: | BC1: ='חישוב פיננסי'!C7 -> 5430
BB2: חודש פברואר: | BC2: ='חישוב פיננסי'!D7 -> 0
C3: =CONCATENATE(BB1,BC1) -> חודש ינואר: 5430 | J3: הוצאות ח"פ | BB3: חודש מרץ: | BC3: ='חישוב פיננסי'!E7 -> 0
C4: קבוע | D4: סכום קבוע | E4: אוכל, ביגוד ותחזוקה שוטפת | F4: סכום שוטף | G4: הוצאות חריגות | H4: סכום חריג | J4: סיבה | K4: סכום | BB4: חודש אפריל: | BC4: ='חישוב פיננסי'!F7 -> 0
C5: קו סלולר | D5: 25 | E5: חשמל | F5: 200 | G5: דו"ח באוטובוס | H5: 100 | J5: מכונת כביסה | K5: 1200 | BB5: חודש מאי: | BC5: ='חישוב פיננסי'!G7 -> 0
C6: ארנונה | D6: 120 | E6: יש חסד | F6: 965 | G6: שכירות רכב | H6: 350 | J6: תיקון נזילות | K6: 1700 | BB6: חודש יוני: | BC6: ='חישוב פיננסי'!H7 -> 0
C7: שכירות | D7: 3200 | E7: ביגוד | F7: 340 | G7: מתנה לאמא ליום הולדת | H7: 130 | J7: מלצמה | K7: 950 | BB7: חודש יולי: | BC7: ='חישוב פיננסי'!I7 -> 0
BB8: חודש אוגוסט: | BC8: ='חישוב פיננסי'!J7 -> 0
BB9: חודש ספטמבר: | BC9: ='חישוב פיננסי'!K7 -> 0
J10: ס"ה | K10: =SUM(K5:K9) -> 3850 | BB10: חודש אוקטובר: | BC10: ='חישוב פיננסי'!L7 -> 0
BB11: חודש נובמבר: | BC11: ='חישוב פיננסי'!M7 -> 0
BB12: חודש דצמבר: | BC12: ='חישוב פיננסי'!N7 -> 0
J16: השקעה
C17: ס"ה | D17: =SUM(D5:D16) -> 3345 | E17: ס"ה | F17: =SUM(F5:F14) -> 1505 | G17: ס"ה | H17: =SUM(H5:H16) -> 580 | J17: 1200
C20: =CONCATENATE(BB2,BC2) -> חודש פברואר: 0 | J20: הוצאות ח"פ
C21: קבוע | D21: סכום קבוע | E21: אוכל, ביגוד ותחזוקה שוטפת | F21: סכום שוטף | G21: הוצאות חריגות | H21: סכום חריג | J21: סיבה | K21: סכום
J27: ס"ה | K27: =SUM(K22:K26) -> 0
J33: השקעה
C34: ס"ה | D34: =SUM(D22:D33) -> 0 | E34: ס"ה | F34: =SUM(F22:F31) -> 0 | G34: ס"ה | H34: =SUM(H22:H33) -> 0
C37: =CONCATENATE(BB3,BC3) -> חודש מרץ: 0 | J37: הוצאות ח"פ
C38: קבוע | D38: סכום קבוע | E38: אוכל, ביגוד, ותחזוקה שוטפת | F38: סכום שוטף | G38: הוצאות חריגות | H38: סכום חריג | J38: סיבה | K38: סכום
J44: ס"ה | K44: =SUM(K39:K43) -> 0
J50: השקעה
C51: ס"ה | D51: =SUM(D39:D50) -> 0 | E51: ס"ה | F51: =SUM(F39:F50) -> 0 | G51: ס"ה | H51: =SUM(H39:H50) -> 0
C54: =CONCATENATE(BB4,BC4) -> חודש אפריל: 0 | J54: הוצאות ח"פ
C55: קבוע | D55: סכום קבוע | E55: אוכל, ביגוד, ותחזוקה שוטפת | F55: סכום שוטף | G55: הוצאות חריגות | H55: סכום חריג | J55: סיבה | K55: סכום
J61: ס"ה | K61: =SUM(K56:K60) -> 0
J67: השקעה
C68: ס"ה | D68: =SUM(D56:D67) -> 0 | E68: ס"ה | F68: =SUM(F56:F67) -> 0 | G68: ס"ה | H68: =SUM(H56:H67) -> 0
C71: =CONCATENATE(BB5,BC5) -> חודש מאי: 0 | J71: הוצאות ח"פ
C72: קבוע | D72: סכום קבוע | E72: אוכל, ביגוד, ותחזוקה שוטפת | F72: סכום שוטף | G72: הוצאות חריגות | H72: סכום חריג | J72: סיבה | K72: סכום
J78: ס"ה | K78: =SUM(K73:K77) -> 0
J84: השקעה
C85: ס"ה | D85: =SUM(D73:D84) -> 0 | E85: ס"ה | F85: =SUM(F73:F84) -> 0 | G85: ס"ה | H85: =SUM(H73:H84) -> 0
C88: =CONCATENATE(BB6,BC6) -> חודש יוני: 0 | J88: הוצאות ח"פ
C89: קבוע | D89: סכום קבוע | E89: אוכל, ביגוד, ותחזוקה שוטפת | F89: סכום שוטף | G89: הוצאות חריגות | H89: סכום חריג | J89: סיבה | K89: סכום
J95: ס"ה | K95: =SUM(K90:K94) -> 0
J101: השקעה
C102: ס"ה | D102: =SUM(D90:D101) -> 0 | E102: ס"ה | F102: =SUM(F90:F101) -> 0 | G102: ס"ה | H102: =SUM(H90:H101) -> 0
C105: =CONCATENATE(BB7,BC7) -> חודש יולי: 0 | J105: הוצאות ח"פ
...

Sheet הכנסות
D3: ינואר | E3: פברואר | F3: מרץ | G3: אפריל | H3: מאי | I3: יוני | J3: יולי | K3: אוגוסט | L3: ספטמבר | M3: אוקטובר | N3: נובמבר | O3: דצמבר | P3: ממוצע לחודש
C4: עבודה | D4: 9500 | P4: =AVERAGE(D4:O4) -> 9500
C5: כולל | D5: 2200 | P5: =AVERAGE(D5:O5) -> 2200
C6: הכנסה נוספת | D6: 1350 | P6: =AVERAGE(D6:O6) -> 1350
C7: מעשרות | D7: =IF(D4>0,(D4+D5+D6)/10,"") -> 1305 | E7: =IF(E4>0,(E4+E5+E6)/10,"") | F7: =IF(F4>0,(F4+F5+F6)/10,"") | G7: =IF(G4>0,(G4+G5+G6)/10,"") | H7: =IF(H4>0,(H4+H5+H6)/10,"") | I7: =IF(I4>0,(I4+I5+I6)/10,"") | J7: =IF(J4>0,(J4+J5+J6)/10,"") | K7: =IF(K4>0,(K4+K5+K6)/10,"") | ... O7: =IF(O4>0,(O4+O5+O6)/10,"")
C8: ס"ה | D8: =IF(D4>0,D4+D5+D6-D7,"0") -> 11745 | E8: =IF(E4>0,E4+E5+E6-E7,"0") -> 0 | F8: =IF(F4>0,F4+F5+F6-F7,"0") -> 0 | G8: =IF(G4>0,G4+G5+G6-G7,"0") -> 0 | H8: =IF(H4>0,H4+H5+H6-H7,"0") -> 0 | I8: =IF(I4>0,I4+I5+I6-I7,"0") -> 0 | J8: =IF(J4>0,J4+J5+J6-J7,"0") -> 0 | K8: =IF(K4>0,K4+K5+K6-K7,"0") -> 0 | ... O8: =IF(O4>0,O4+O5+O6-O7,"0") -> 0 | P8: =AVERAGE(D8:O8) -> 11745
B10: הכנסות חד פעמיות | C10: סיבה | D10: מתנה מסבתא
C11: סכום | D11: 3000
C12: סיבה | D12: מענק חג
C13: סכום | D13: 900
C14: מעשרות | D14: =IF(D11>0,(D11+D13)/10,"") -> 390 | E14: =IF(E11>0,(E11+E13)/10,"") | F14: =IF(F11>0,(F11+F13)/10,"") | G14: =IF(G11>0,(G11+G13)/10,"") | H14: =IF(H11>0,(H11+H13)/10,"") | I14: =IF(I11>0,(I11+I13)/10,"") | J14: =IF(J11>0,(J11+J13)/10,"") | K14: =IF(K11>0,(K11+K13)/10,"") | ... O14: =IF(O11>0,(O11+O13)/10,"") | P14: ממוצע לחודש
C15: ס"ה | D15: =IF(D11>0,D11+D13-D14,"0") -> 3510 | E15: =IF(E11>0,E11+E13-E14,"0") -> 0 | F15: =IF(F11>0,F11+F13-F14,"0") -> 0 | G15: =IF(G11>0,G11+G13-G14,"0") -> 0 | H15: =IF(H11>0,H11+H13-H14,"0") -> 0 | I15: =IF(I11>0,I11+I13-I14,"0") -> 0 | J15: =IF(J11>0,J11+J13-J14,"0") -> 0 | K15: =IF(K11>0,K11+K13-K14,"0") -> 0 | ... O15: =IF(O11>0,O11+O13-O14,"0") -> 0 | P15: =AVERAGE(D15:O15) -> 3510
C17: ס"ה מעשרות | D17: שולם | E17: לתשלום
C18: =SUM(D7:O7,D14:O14) -> 1695 | D18: 100 | E18: =C18-D18 -> 1595

Sheet חישוב פיננסי
B4: חישוב רווחים חודשי | Q4: חישוב נתונים חד פעמיים
B5: חודש | C5: ינואר | D5: פברואר | E5: מרץ | F5: אפריל | G5: מאי | H5: יוני | I5: יולי | J5: אוגוסט | K5: ספטמבר | L5: אוקטובר | M5: נובמבר | N5: דצמבר | O5: ממוצע לחודש | Q5: שנתי | R5: הכנסות | S5: הוצאות | T5: הפרש
B6: הכנסות | C6: =הכנסות!D8 -> 11745 | D6: =הכנסות!E8 -> 0 | E6: =הכנסות!F8 -> 0 | F6: =הכנסות!G8 -> 0 | G6: =הכנסות!H8 -> 0 | H6: =הכנסות!I8 -> 0 | I6: =הכנסות!J8 -> 0 | J6: =הכנסות!K8 -> 0 | ... N6: =הכנסות!O8 -> 0 | O6: =AVERAGEIF(C6:N6,">0") -> 11745 | Q6: ינואר | R6: =הכנסות!D15 -> 3510 | S6: =הוצאות!K10 -> 3850 | T6: =R6-S6 -> -340
B7: הוצאות | C7: =טבלה143[[#Totals],[סכום קבוע]]+טבלה143[[#Totals],[סכום שוטף]]+טבלה143[[#Totals],[סכום חריג]] -> 5430 | D7: =טבלה14[[#Totals],[סכום קבוע]]+טבלה14[[#Totals],[סכום שוטף]]+טבלה14[[#Totals],[סכום חריג]] -> 0 | E7: =טבלה1[[#Totals],[סכום קבוע]]+טבלה1[[#Totals],[סכום שוטף]]+טבלה1[[#Totals],[סכום חריג]] -> 0 | F7: =טבלה16[[#Totals],[סכום קבוע]]+טבלה16[[#Totals],[סכום שוטף]]+טבלה16[[#Totals],[סכום חריג]] -> 0 | G7: =טבלה168[[#Totals],[סכום קבוע]]+טבלה168[[#Totals],[סכום שוטף]]+טבלה168[[#Totals],[סכום חריג]] -> 0 | H7: =טבלה16810[[#Totals],[סכום קבוע]]+טבלה16810[[#Totals],[סכום שוטף]]+טבלה16810[[#Totals],[סכום חריג]] -> 0 | I7: =טבלה1681012[[#Totals],[סכום קבוע]]+טבלה1681012[[#Totals],[סכום שוטף]]+טבלה1681012[[#Totals],[סכום חריג]] -> 0 | J7: =טבלה168101214[[#Totals],[סכום קבוע]]+טבלה168101214[[#Totals],[סכום שוטף]]+טבלה168101214[[#Totals],[סכום חריג]] -> 0 | K7: =טבלה16810121417[[#Totals],[סכום קבוע]]+טבלה16810121417[[#Totals],[סכום שוטף]]+טבלה16810121417[[#Totals],[סכום חריג]] -> 0 | L7: =טבלה16810121419[[#Totals],[סכום קבוע]]+טבלה16810121419[[#Totals],[סכום שוטף]]+טבלה16810121419[[#Totals],[סכום חריג]] -> 0 | M7: =טבלה16810121421[[#Totals],[סכום קבוע]]+טבלה16810121421[[#Totals],[סכום שוטף]]+טבלה16810121421[[#Totals],[סכום חריג]] -> 0 | N7: =טבלה16810121425[[#Totals],[סכום קבוע]]+טבלה16810121425[[#Totals],[סכום שוטף]]+טבלה16810121425[[#Totals],[סכום חריג]] -> 0 | O7: =AVERAGEIF(C7:N7,">0") -> 5430 | Q7: פברואר | R7: =הכנסות!E15 -> 0 | S7: =הוצאות!K27 -> 0 | T7: =R7-S7 -> 0
B8: הוצאות ח"פ ללא כיסוי | C8: =IF(T18<0,(T18-T18-T18)/12,"0") -> 28.333333 | D8: =IF(T18<0,(T18-T18-T18)/12,"0") -> 28.333333 | E8: =IF(T18<0,(T18-T18-T18)/12,"0") -> 28.333333 | F8: =IF(T18<0,(T18-T18-T18)/12,"0") -> 28.333333 | G8: =IF(T18<0,(T18-T18-T18)/12,"0") -> 28.333333 | H8: =IF(T18<0,(T18-T18-T18)/12,"0") -> 28.333333 | I8: =IF(T18<0,(T18-T18-T18)/12,"0") -> 28.333333 | J8: =IF(T18<0,(T18-T18-T18)/12,"0") -> 28.333333 | K8: =IF(T18<0,(T18-T18-T18)/12,"0") -> 28.333333 | L8: =IF(T18<0,(T18-T18-T18)/12,"0") -> 28.333333 | M8: =IF(T18<0,(T18-T18-T18)/12,"0") -> 28.333333 | N8: =IF(T18<0,(T18-T18-T18)/12,"0") -> 28.333333 | O8: =IF(D8="0","0",D8) -> 28.333333 | Q8: מרץ | R8: =הכנסות!F15 -> 0 | S8: =הוצאות!K44 -> 0 | T8: =R8-S8 -> 0
B9: יתרה | C9: =IF(C6="0",IF(C8="0","0",C6-C7-C8),C6-C7-C8) -> 6286.6667 | D9: =IF(D6="0",IF(D8="0","0",D6-D7-D8),D6-D7-D8) -> -28.333333 | E9: =IF(E6="0",IF(E8="0","0",E6-E7-E8),E6-E7-E8) -> -28.333333 | F9: =IF(F6="0",IF(F8="0","0",F6-F7-F8),F6-F7-F8) -> -28.333333 | G9: =IF(G6="0",IF(G8="0","0",G6-G7-G8),G6-G7-G8) -> -28.333333 | H9: =IF(H6="0",IF(H8="0","0",H6-H7-H8),H6-H7-H8) -> -28.333333 | I9: =IF(I6="0",IF(I8="0","0",I6-I7-I8),I6-I7-I8) -> -28.333333 | J9: =IF(J6="0",IF(J8="0","0",J6-J7-J8),J6-J7-J8) -> -28.333333 | ... N9: =IF(N6="0",IF(N8="0","0",N6-N7-N8),N6-N7-N8) -> -28.333333 | O9: =AVERAGEIF(C9:N9,">0") -> 6286.6667 | Q9: אפריל | R9: =הכנסות!G15 -> 0 | S9: =הוצאות!K61 -> 0 | T9: =R9-S9 -> 0
B10: אחוז יתרה | C10: =IF(C9>0,C9/C6,"") -> 0.53526323 | D10: =IF(D9>0,D9/D6,"") | E10: =IF(E9>0,E9/E6,"") | F10: =IF(F9>0,F9/F6,"") | G10: =IF(G9>0,G9/G6,"") | H10: =IF(H9>0,H9/H6,"") | I10: =IF(I9>0,I9/I6,"") | J10: =IF(J9>0,J9/J6,"") | ... N10: =IF(N9>0,N9/N6,"") | O10: =AVERAGEIF(C10:N10,">0") -> 0.53526323 | Q10: מאי | R10: =הכנסות!H15 -> 0 | S10: =הוצאות!K78 -> 0 | T10: =R10-S10 -> 0
B11: השקעה | C11: =הוצאות!J17 -> 1200 | D11: =הוצאות!J34 -> 0 | E11: =הוצאות!J51 -> 0 | F11: =הוצאות!J68 -> 0 | G11: =הוצאות!J85 -> 0 | H11: =הוצאות!J102 -> 0 | I11: =הוצאות!J119 -> 0 | J11: =הוצאות!J136 -> 0 | K11: =הוצאות!J153 -> 0 | L11: =הוצאות!J170 -> 0 | M11: =הוצאות!J187 -> 0 | N11: =הוצאות!J204 -> 0 | O11: =AVERAGEIF(C11:N11,">0") -> 1200 | Q11: יוני | R11: =הכנסות!I15 -> 0 | S11: =הוצאות!K95 -> 0 | T11: =R11-S11 -> 0
B12: חיסכון | C12: =IF(C6="0","0",C6-C7-C8-C11) -> 5086.6667 | D12: =IF(D6="0","0",D6-D7-D8-D11) -> 0 | E12: =IF(E6="0","0",E6-E7-E8-E11) -> 0 | F12: =IF(F6="0","0",F6-F7-F8-F11) -> 0 | G12: =IF(G6="0","0",G6-G7-G8-G11) -> 0 | H12: =IF(H6="0","0",H6-H7-H8-H11) -> 0 | I12: =IF(I6="0","0",I6-I7-I8-I11) -> 0 | J12: =IF(J6="0","0",J6-J7-J8-J11) -> 0 | ... N12: =IF(N6="0","0",N6-N7-N8-N11) -> 0 | O12: =AVERAGEIF(C12:N12,">0") -> 5086.6667 | Q12: יולי | R12: =הכנסות!J15 -> 0 | S12: =הוצאות!K112 -> 0 | T12: =R12-S12 -> 0
Q13: אוגוסט | R13: =הכנסות!K15 -> 0 | S13: =הוצאות!K129 -> 0 | T13: =R13-S13 -> 0
Q14: ספטמבר | R14: =הכנסות!L15 -> 0 | S14: =הוצאות!K146 -> 0 | T14: =R14-S14 -> 0
Q15: אוקטובר | R15: =הכנסות!M15 -> 0 | S15: =הוצאות!K163 -> 0 | T15: =R15-S15 -> 0
B16: ס"ה חישוב שנתי | C16: הכנסות | D16: הוצאות | E16: אחוז הוצאות | F16: יתרה | G16: אחוז יתרה | H16: השקעה | I16: אחוז השקעה | J16: חיסכון | K16: אחוז חיסכון | Q16: נובמבר | R16: =הכנסות!N15 -> 0 | S16: =הוצאות!K180 -> 0 | T16: =R16-S16 -> 0
C17: =SUM(C6:N6,R18) -> 15255 | D17: =SUM(C7:N7,S18) -> 9280 | E17: =D17/C17 -> 0.60832514 | F17: =C17-D17 -> 5975 | G17: =F17/C17 -> 0.39167486 | H17: =SUM(C11:N11) -> 1200 | I17: =H17/C17 -> 0.078662734 | J17: =C17-D17-H17 -> 4775 | K17: =J17/C17 -> 0.31301213 | Q17: דצמבר | R17: =הכנסות!O15 -> 0 | S17: =הוצאות!K197 -> 0 | T17: =R17-S17 -> 0
Q18: ס"ה שנתי | R18: =SUM(R6:R17) -> 3510 | S18: =SUM(S6:S17) -> 3850 | T18: =SUM(T6:T17) -> -340
B24: =C16 -> הכנסות
B25: =C17 -> 15255
B26: =B9 -> יתרה
B27: =F17 -> 5975
C100: ינואר | D100: פברואר | E100: מרץ | F100: אפריל | G100: מאי | H100: יוני | I100: יולי | J100: אוגוסט | K100: ספטמבר | L100: אוקטובר | M100: נובמבר | N100: דצמבר | O100: חד פעמי
