Workbook

Sheet זכנו
A1: נא למלאות את השדות שבצבע צהוב בלבד ולשלוח חזרה | D1: אם יש לכם מתנות ומעונינים לשלוח לכתובת שונה מהכתובת הרגילה יש למלאות עמודה זו
L2: מס כרטיסים לבחירה
A3: פרטים אישים | K3: משתלמת
A4: תעודת זהות | D4: שם פרטי | K4: זהב + כרטיס חצי קופה
A5: שם פרטי | D5: שם משפחה | K5: יהלום + 2 כרטסים לחצי קופה
A6: שם משפחה | D6: רחוב | K6: פלטניום + 3 כרטיסים לחצי קופה
A7: רחוב | D7: מס בית
A8: מס בית | D8: קומה
A9: עיר | D9: עיר
A10: טלפון | D10: טלפון
A11: נייד | D11: נייד
A12: מייל
A16: חבילת רכישה
A17: שם חבילה | B17: כמות כרטיסים לחבילה | C17: מחיר | D17: כמות לרכישה | H17: קוד חבילה | I17: רמת מתנה | J17: סיכום | K17: =SUM(K18:K25) | L17: =SUM(K18:K25) -> 0 | R17: כמות כרטיסי בונוס | S17: כמות כרטיסי בונוס
A18: בסיסי | B18: 3 | C18: 90 | H18: 1 | I18: 0 | K18: =D18*C18 -> 0 | N18: 90-180 | R18: 3 | S18: =R18*D18 -> 0
A19: 10 כרטיסים | B19: 10 | C19: 180 | H19: 4 | I19: 0 | K19: =D19*C19 -> 0 | R19: 3 | S19: =R19*D19 -> 0
A20: כדאית | B20: 25 | C20: 360 | H20: 14 | I20: 0 | K20: =D20*C20 -> 0 | N20: 360-840 | R20: 3 | S20: =R20*D20 -> 0
A21: כדאית + | B21: 40 | C21: 480 | H21: 20 | I21: 0 | K21: =D21*C21 -> 0 | R21: 6 | S21: =R21*D21 -> 0
A22: משתלמת | B22: 85 | C22: 840 | E22: חבילות אלו זכאים למתנה ללא הגרלה | H22: 24 | I22: 1 | K22: =D22*C22 -> 0 | N22: 1200-2400 | R22: 6 | S22: =R22*D22 -> 0
A23: זהב + כרטיס חצי קופה | B23: 150 | C23: 1200 | H23: 34 | I23: 2 | K23: =D23*C23 -> 0 | R23: 6 | S23: =R23*D23 -> 0
A24: יהלום + 2 כרטסים לחצי קופה | B24: 250 | C24: 1800 | H24: 44 | I24: 3 | K24: =D24*C24 -> 0 | R24: 10 | S24: =R24*D24 -> 0
A25: פלטניום + 3 כרטיסים לחצי קופה | B25: 400 | C25: 2400 | H25: 54 | I25: 4 | K25: =D25*C25 -> 0 | R25: 10 | S25: =R25*D25 -> 0
A26: חצי קופה | B26: 0 | C26: 30 | E26: שימו לב חצי קופה לא ניתן לרכישה בנפרד רק כתוספת לחבילה | H26: 64 | I26: 0 | K26: =D26*C26 -> 0 | R26: סהכ כרטיסי בונוס | S26: =SUM(S18:S25) -> 0
A27: משלוח מתנות חבילת 1800 | B27: 0 | C27: 18 | H27: 14 | I27: 0 | K27: =D27*C27 -> 0
A29: מתנה ללא הגרלה | K29: עזר | O29: כרטיסי בונוס
B30: שם המתנה | C30: כמות מבוקשת | D30: מתנה שנקלטה | J30: סך לרמה לבחירה | K30: סך לרמה מבוקש | L30: סך כללי מבוקש | M30: נקלט סהכ | N30: נשאר לקליטה לפי רמות | O30: שם המתנה | P30: כמות מבוקשת | Q30: מתנה שנקלטה | R30: קוד מתנה | T30: סך כללי מבוקש | U30: נקלט סהכ | V30: נשאר לקליטה
A31: לרוכשי חבילות משתלמת ניתן לבחור מתנה אחת לכל חבילה | B31: תוספת 20 כרטסים | H31: 1 | I31: 1 | L31: =C31 -> 0 | M31: =D31 -> 0 | O31: מיקסר קנווד | Q31: =IF($S$26=0,0,IF(P31=0,0,IF(T31<=$S$26,P31,V31))) -> 0 | R31: 200 | T31: =P31 -> 0 | U31: =Q31 -> 0
B32: מזוודת טרולי (צבע שחור) | D32: =IF($J$61=0,0,IF(C32=0,0,IF(L32<=$J$61,C32,N32))) -> 0 | H32: 151 | I32: 1 | L32: =L31+C32 -> 0 | M32: =D32+M31 -> 0 | N32: =$J$61-M31 -> 0 | O32: זיכוי 1000 ₪ | Q32: =IF($S$26=0,0,IF(P32=0,0,IF(T32<=$S$26,P32,V32))) -> 0 | R32: 201 | T32: =P32+T31 -> 0 | U32: =Q32+U31 -> 0 | V32: =$S$26-U31 -> 0
B33: מזוודת טרולי (צבע אפור) | D33: =IF($J$61=0,0,IF(C33=0,0,IF(L33<=$J$61,C33,N33))) -> 0 | H33: 51 | I33: 1 | L33: =L32+C33 -> 0 | M33: =D33+M32 -> 0 | N33: =$J$61-M32 -> 0 | O33: כסא מנהלים מפואר | Q33: =IF($S$26=0,0,IF(P33=0,0,IF(T33<=$S$26,P33,V33))) -> 0 | R33: 202 | T33: =P33+T32 -> 0 | U33: =Q33+U32 -> 0 | V33: =$S$26-U32 -> 0
B34: נגן | D34: =IF($J$61=0,0,IF(C34=0,0,IF(L34<=$J$61,C34,N34))) -> 0 | H34: 41 | I34: 1 | L34: =L33+C34 -> 0 | M34: =D34+M33 -> 0 | N34: =$J$61-M33 -> 0 | O34: מגבעת יוקרתית | Q34: =IF($S$26=0,0,IF(P34=0,0,IF(T34<=$S$26,P34,V34))) -> 0 | R34: 203 | T34: =P34+T33 -> 0 | U34: =Q34+U33 -> 0 | V34: =$S$26-U33 -> 0
B35: פליימוביל | D35: =IF($J$61=0,0,IF(C35=0,0,IF(L35<=$J$61,C35,N35))) -> 0 | H35: 31 | I35: 1 | L35: =L34+C35 -> 0 | M35: =D35+M34 -> 0 | N35: =$J$61-M34 -> 0 | O35: חליפת בגיר | Q35: =IF($S$26=0,0,IF(P35=0,0,IF(T35<=$S$26,P35,V35))) -> 0 | R35: 204 | T35: =P35+T34 -> 0 | U35: =Q35+U34 -> 0 | V35: =$S$26-U34 -> 0
D36: =IF($J$61=0,0,IF(C36=0,0,IF(L36<=$J$61,C36,N36))) -> 0 | I36: 1 | L36: =L35+C36 -> 0 | M36: =D36+M35 -> 0 | N36: =$J$61-M35 -> 0 | O36: מקפיא 6 מגירות | Q36: =IF($S$26=0,0,IF(P36=0,0,IF(T36<=$S$26,P36,V36))) -> 0 | R36: 205 | T36: =P36+T35 -> 0 | U36: =Q36+U35 -> 0 | V36: =$S$26-U35 -> 0
D37: =IF($J$61=0,0,IF(C37=0,0,IF(L37<=$J$61,C37,N37))) -> 0 | I37: 1 | J37: =SUM(D22) -> 0 | K37: =SUM(C31:C37) -> 0 | L37: =L36+C37 -> 0 | M37: =D37+M36 -> 0 | N37: =$J$61-M36 -> 0 | O37: ערכת פלימוביל | Q37: =IF($S$26=0,0,IF(P37=0,0,IF(T37<=$S$26,P37,V37))) -> 0 | R37: 206 | T37: =P37+T36 -> 0 | U37: =Q37+U36 -> 0 | V37: =$S$26-U36 -> 0
A38: לרוכשי חבילות זהב ניתן לבחור גם ממתנות אלו | B38: תוספת 40 כרטסים | D38: =IF($J$61=0,0,IF($J$58=0,0,IF(C38=0,0,IF(L38<=$J$61,C38,N38)))) -> 0 | H38: 161 | I38: 2 | L38: =L37+C38 -> 0 | M38: =D38+M37 -> 0 | N38: =$J$64-M37 -> 0 | O38: גביע אליהו הנביא ענק | Q38: =IF($S$26=0,0,IF(P38=0,0,IF(T38<=$S$26,P38,V38))) -> 0 | R38: 207 | T38: =P38+T37 -> 0 | U38: =Q38+U37 -> 0 | V38: =$S$26-U37 -> 0
B39: מכשיר קשר | D39: =IF($J$61=0,0,IF($J$58=0,0,IF(C39=0,0,IF(L39<=$J$61,C39,N39)))) -> 0 | H39: 61 | I39: 2 | L39: =L38+C39 -> 0 | M39: =D39+M38 -> 0 | N39: =$J$64-M38 -> 0 | O39: כלי שומר טריות למצות | Q39: =IF($S$26=0,0,IF(P39=0,0,IF(T39<=$S$26,P39,V39))) -> 0 | R39: 208 | T39: =P39+T38 -> 0 | U39: =Q39+U38 -> 0 | V39: =$S$26-U38 -> 0
B40: מצעים בפריד | D40: =IF($J$61=0,0,IF($J$58=0,0,IF(C40=0,0,IF(L40<=$J$61,C40,N40)))) -> 0 | H40: 81 | I40: 2 | L40: =L39+C40 -> 0 | M40: =D40+M39 -> 0 | N40: =$J$64-M39 -> 0 | O40: מערכת שמע מקצועית | Q40: =IF($S$26=0,0,IF(P40=0,0,IF(T40<=$S$26,P40,V40))) -> 0 | R40: 209 | T40: =P40+T39 -> 0 | U40: =Q40+U39 -> 0 | V40: =$S$26-U39 -> 0
B41: סט סכום מוזהב ל 12 סועדים | D41: =IF($J$61=0,0,IF($J$58=0,0,IF(C41=0,0,IF(L41<=$J$61,C41,N41)))) -> 0 | H41: 191 | I41: 2 | L41: =L40+C41 -> 0 | M41: =D41+M40 -> 0 | N41: =$J$64-M40 -> 0 | O41: זוג פמוטי קריסטל | Q41: =IF($S$26=0,0,IF(P41=0,0,IF(T41<=$S$26,P41,V41))) -> 0 | R41: 210 | T41: =P41+T40 -> 0 | U41: =Q41+U40 -> 0 | V41: =$S$26-U40 -> 0
B42: סט סכום מוכסף ל 12 סועדים | D42: =IF($J$61=0,0,IF($J$58=0,0,IF(C42=0,0,IF(L42<=$J$61,C42,N42)))) -> 0 | H42: 201 | I42: 2 | J42: =SUM(D23) -> 0 | K42: =SUM(C38:C42) -> 0 | L42: =L41+C42 -> 0 | M42: =D42+M41 -> 0 | N42: =$J$64-M41 -> 0 | Q42: =IF($S$26=0,0,IF(P42=0,0,IF(T42<=$S$26,P42,V42))) -> 0 | T42: =P42+T41 -> 0 | U42: =Q42+U41 -> 0 | V42: =$S$26-U41 -> 0
A43: לרוכשי חבילות יהלום ניתן לבחור גם ממתנות אלו | B43: תוספת 80 כרטסים | D43: =IF($J$61=0,0,IF($J$59=0,0,IF(C43=0,0,IF(L43<=$J$61,C43,N43)))) -> 0 | H43: 171 | I43: 3 | L43: =L42+C43 -> 0 | M43: =D43+M42 -> 0 | N43: =$J$62-M42 -> 0 | Q43: =IF($S$26=0,0,IF(P43=0,0,IF(T43<=$S$26,P43,V43))) -> 0 | T43: =P43+T42 -> 0 | U43: =Q43+U42 -> 0 | V43: =$S$26-U42 -> 0
B44: זוג כיריים אינדוקציה | D44: =IF($J$61=0,0,IF($J$59=0,0,IF(C44=0,0,IF(L44<=$J$61,C44,N44)))) -> 0 | H44: 91 | I44: 3 | L44: =L43+C44 -> 0 | M44: =D44+M43 -> 0 | N44: =$J$62-M43 -> 0 | Q44: =IF($S$26=0,0,IF(P44=0,0,IF(T44<=$S$26,P44,V44))) -> 0 | T44: =P44+T43 -> 0 | U44: =Q44+U43 -> 0 | V44: =$S$26-U43 -> 0
B45: טלית | D45: =IF($J$61=0,0,IF($J$59=0,0,IF(C45=0,0,IF(L45<=$J$61,C45,N45)))) -> 0 | H45: 101 | I45: 3 | L45: =L44+C45 -> 0 | M45: =D45+M44 -> 0 | N45: =$J$62-M44 -> 0 | Q45: =IF($S$26=0,0,IF(P45=0,0,IF(T45<=$S$26,P45,V45))) -> 0 | T45: =P45+T44 -> 0 | U45: =Q45+U44 -> 0 | V45: =$S$26-U44 -> 0
B46: פלאפון | D46: =IF($J$61=0,0,IF($J$59=0,0,IF(C46=0,0,IF(L46<=$J$61,C46,N46)))) -> 0 | H46: 111 | I46: 3 | L46: =L45+C46 -> 0 | M46: =D46+M45 -> 0 | N46: =$J$62-M45 -> 0 | P46: =SUM(P31:P45) -> 0 | Q46: =SUM(Q31:Q45) -> 0
D47: =IF($J$61=0,0,IF($J$59=0,0,IF(C47=0,0,IF(L47<=$J$61,C47,N47)))) -> 0 | I47: 3 | L47: =L46+C47 -> 0 | M47: =D47+M46 -> 0 | N47: =$J$62-M46 -> 0
D48: =IF($J$61=0,0,IF($J$59=0,0,IF(C48=0,0,IF(L48<=$J$61,C48,N48)))) -> 0 | I48: 3 | L48: =L47+C48 -> 0 | M48: =D48+M47 -> 0 | N48: =$J$62-M47 -> 0
D49: =IF($J$61=0,0,IF($J$59=0,0,IF(C49=0,0,IF(L49<=$J$61,C49,N49)))) -> 0 | I49: 3 | J49: =SUM(D24) -> 0 | K49: =SUM(C43:C49) -> 0 | L49: =L48+C49 -> 0 | M49: =D49+M48 -> 0 | N49: =$J$62-M48 -> 0
A50: לרוכשי חבילות פלטניום ניתן לבחור גם ממתנות אלו | B50: תוספת 100 כרטיסים | D50: =IF($J$61=0,0,IF($J$60=0,0,IF(C50=0,0,IF(L50<=$J$61,C50,N50)))) -> 0 | H50: 181 | I50: 4 | L50: =L49+C50 -> 0 | M50: =D50+M49 -> 0 | N50: =$J$61-M49 -> 0
B51: גביע כסף | D51: =IF($J$61=0,0,IF($J$60=0,0,IF(C51=0,0,IF(L51<=$J$61,C51,N51)))) -> 0 | H51: 141 | I51: 4 | L51: =L50+C51 -> 0 | M51: =D51+M50 -> 0 | N51: =$J$61-M50 -> 0
B52: כסא מנהלים | D52: =IF($J$61=0,0,IF($J$60=0,0,IF(C52=0,0,IF(L52<=$J$61,C52,N52)))) -> 0 | H52: 131 | I52: 4 | L52: =L51+C52 -> 0 | M52: =D52+M51 -> 0 | N52: =$J$61-M51 -> 0
B53: לילה לזוג במלון ליטוב בירושלים. | D53: =IF($J$61=0,0,IF($J$60=0,0,IF(C53=0,0,IF(L53<=$J$61,C53,N53)))) -> 0 | H53: 221 | I53: 4 | L53: =L52+C53 -> 0 | M53: =D53+M52 -> 0 | N53: =$J$61-M52 -> 0
B54: לילה לזוג במלון ציפורי בכנרת או בכפר | D54: =IF($J$61=0,0,IF($J$60=0,0,IF(C54=0,0,IF(L54<=$J$61,C54,N54)))) -> 0 | H54: 211 | I54: 4 | L54: =L53+C54 -> 0 | M54: =D54+M53 -> 0 | N54: =$J$61-M53 -> 0
D55: =IF($J$61=0,0,IF($J$60=0,0,IF(C55=0,0,IF(L55<=$J$61,C55,N55)))) -> 0 | I55: 4 | J55: =SUM(D25) -> 0 | K55: =SUM(C50:C55) -> 0 | L55: =SUM(C31:C55) -> 0
B56: סה"כ לתשלום | D56: =D18*C18+D19*C19+D20*C20+D21*C21+D22*C22+C23*D23+C24*D24+C25*D25+D26*C26 -> 0 | J56: כמות לבחירה | K56: נקלט
B57: סה"כ כרטסים לבחירה | D57: =D18*B18+D19*B19+D20*B20+D21*B21+D22*B22+D38*40+D31*20+D43*80+B24*D24+D25*B25+B23*D23+D50*100 -> 0 | H57: 57 | I57: מתנה סוג 1 | J57: =D22 -> 0 | K57: =SUM(D31:D37) -> 0 | N57: יתרת זכות לקליטת מתנה
A58: תשלום | H58: 58 | I58: מתנה סוג 2 | J58: =D23 -> 0 | K58: =SUM(D38:D42) -> 0
A59: מס כרטיס אשראי | H59: 59 | I59: מתנה סוג 3 | J59: =D24 -> 0 | K59: =SUM(D43:D49) -> 0 | N59: =J61-K61 -> 0
A60: תוקף חודש (בשתי ספרות) | H60: 60 | I60: מתנה סוג 4 | J60: =D25 -> 0 | K60: =SUM(D50:D55) -> 0
A61: תוקף שנה (ב-4 ספרות) | H61: 61 | I61: סהכ מתנות לבחירה מ4 הסוגים | J61: =J57+J58+J59+J60 -> 0 | K61: =K57+K58+K59+K60 -> 0
A62: שלוש ספרות אחרונת בגב הכרטיס | H62: 62 | I62: סהכ מתנות מסוג 3 ו 4 | J62: =J60+J59 -> 0
A63: שם בעל הכרטיס | H63: 63 | I63: סהכ מתנות מסוג 2 3 4 | J63: =J60+J59+J58 -> 0
A64: תעודת זהות בעל הכרטיס | H64: 64 | I64: סהכ מתנות מסוג 1 ו2 | J64: =J57+J58 -> 0
A65: סה"כ לתשלום | B65: =D56 -> 0 | C65: ניתן לשנות סכום זה כלפי מעלה לדוג במקום 84 100 ₪ | H65: 65 | I65: סהכ מתנות סוג 1 2 | J65: =J57+J58 -> 0
A66: מס' תשלומים מינימום 50 ₪ לתשלום עד 12 תש' | B66: 1 | H66: 66 | I66: סהכ מתנות סוג 1 2 3 | J66: =J57+J58+J59 -> 0
A71: קהילה | I71: סכום לחלוקה לקהילות אחרי הפחתת חצי קופה | J71: =B65-D26*C26 -> 0
A72: קוד הקהילה שבה ברצונך לתרום | B72: סכום התרומה הרצוי לקהילה | C72: סכום התרומה שנקלט לקהילה | D72: קוד קהילה | E72: לרשימת הקודים ניתן לשלוח מייל לכתובת 0@זכנו.ישראל ולכתוב בנושא - "רשימה"
C73: =IF(IF($J$71-B73-B74-B75>=0,B73,B73+($J$71-B73-B74-B75))<0,0,IF($J$71-B73-B74-B75>=0,B73,B73+($J$71-B73-B74-B75))) -> 0 | D73: =VLOOKUP(A:A,גיליון2!A:B,2,0) -> קופה כללית | I73: לא נקלט | L73: =D56-B73-B74-B75 -> 0
C74: =IF(IF($J$71-B74-B75-B76>=0,B74,B74+($J$71-B74-B75-B76))<0,0,IF($J$71-B74-B75-B76>=0,B74,B74+($J$71-B74-B75-B76))) -> 0 | D74: =VLOOKUP(A:A,גיליון2!A:B,2,0) -> קופה כללית | E74: אם שדה זה לא ימולא הסכום יחולק בשווה בין כל הקהילות המשתתפות במיזם זכנו | I74: =B73-C73 -> 0
C75: =IF(IF($J$71-B75-B76-B77>=0,B75,B75+($J$71-B75-B76-B77))<0,0,IF($J$71-B75-B76-B77>=0,B75,B75+($J$71-B75-B76-B77))) -> 0 | D75: =VLOOKUP(A:A,גיליון2!A:B,2,0) -> קופה כללית | I75: =B74-C74 -> 0
A76: יתרה לחלוקה | B76: =IF(J71-B73-B74-B75<0,0,J71-B73-B74-B75) -> 0 | I76: =B75-C75 -> 0
A80: כרטיסים
A81: שם המוצר | B81: מס' כרטיסים רצוי | C81: מס' כרטיסים שנקלטו | H81: מס מתנה | K81: עזר | M81: מזהה_מוצר
A82: מסע קניות על חשבון הבית בשווי 18,000 ש"ח | C82: =IF(IF(B82>0,IF(K83<=$F$89,B82,$F$89-K82),0)<0,0,IF(B82>0,IF(K83<=$F$89,B82,$F$89-K82),0)) -> 0 | H82: 1 | I82: מס כרטיסים שלא תקבל | M82: 1209
A83: חבילת שיפוץ הבית | C83: =IF(IF(B83>0,IF(K84<=$F$89,B83,$F$89-K83),0)<0,0,IF(B83>0,IF(K84<=$F$89,B83,$F$89-K83),0)) -> 0 | H83: 2 | I83: =B82-C82 -> 0 | K83: =B82 -> 0 | M83: 1210
A84: 4 דלתות פנים לבית | C84: =IF(IF(B84>0,IF(K85<=$F$89,B84,$F$89-K84),0)<0,0,IF(B84>0,IF(K85<=$F$89,B84,$F$89-K84),0)) -> 0 | H84: 3 | I84: =B83-C83 -> 0 | K84: =K83+B83 -> 0 | M84: 1211
A85: דלת 'פלדלת' לכניסה לבית | C85: =IF(IF(B85>0,IF(K86<=$F$89,B85,$F$89-K85),0)<0,0,IF(B85>0,IF(K86<=$F$89,B85,$F$89-K85),0)) -> 0 | H85: 4 | I85: =B84-C84 -> 0 | K85: =K84+B84 -> 0 | M85: 1212
A86: מטבח יוקרתי | C86: =IF(IF(B86>0,IF(K87<=$F$89,B86,$F$89-K86),0)<0,0,IF(B86>0,IF(K87<=$F$89,B86,$F$89-K86),0)) -> 0 | H86: 5 | I86: =B85-C85 -> 0 | K86: =K85+B85 -> 0 | M86: 1213
A87: תענוג במטבח | C87: =IF(IF(B87>0,IF(K88<=$F$89,B87,$F$89-K87),0)<0,0,IF(B87>0,IF(K88<=$F$89,B87,$F$89-K87),0)) -> 0 | H87: 6 | I87: =B86-C86 -> 0 | K87: =K86+B86 -> 0 | M87: 1214
A88: וילונות פאר ויוקרה | C88: =IF(IF(B88>0,IF(K89<=$F$89,B88,$F$89-K88),0)<0,0,IF(B88>0,IF(K89<=$F$89,B88,$F$89-K88),0)) -> 0 | H88: 7 | I88: =B87-C87 -> 0 | K88: =K87+B87 -> 0 | M88: 1215
A89: סלון של גבירים... | C89: =IF(IF(B89>0,IF(K90<=$F$89,B89,$F$89-K89),0)<0,0,IF(B89>0,IF(K90<=$F$89,B89,$F$89-K89),0)) -> 0 | D89: כמות כרטיסים שמגיע לכם | F89: =D57 -> 0 | H89: 8 | I89: =B88-C88 -> 0 | K89: =K88+B88 -> 0 | M89: 1216
A90: פמוטתמונה בשווי 1800 | C90: =IF(IF(B90>0,IF(K91<=$F$89,B90,$F$89-K90),0)<0,0,IF(B90>0,IF(K91<=$F$89,B90,$F$89-K90),0)) -> 0 | H90: 9 | I90: =B89-C89 -> 0 | K90: =K89+B89 -> 0 | M90: 1217
A91: סט צלחות וסכום ל12 סועדים | C91: =IF(IF(B91>0,IF(K92<=$F$89,B91,$F$89-K91),0)<0,0,IF(B91>0,IF(K92<=$F$89,B91,$F$89-K91),0)) -> 0 | D91: כמות כרטסים שנוצלו | F91: =SUM(B82:B193) -> 0 | H91: 10 | I91: =B90-C90 -> 0 | K91: =K90+B90 -> 0 | M91: 1218
A92: מפת שולחן יוקרתית+מפיות תאומות | C92: =IF(IF(B92>0,IF(K93<=$F$89,B92,$F$89-K92),0)<0,0,IF(B92>0,IF(K93<=$F$89,B92,$F$89-K92),0)) -> 0 | H92: 11 | I92: =B91-C91 -> 0 | K92: =K91+B91 -> 0 | M92: 1219
A93: "בחרו את הרהיט שישלים את הסלון שלכם! " | C93: =IF(IF(B93>0,IF(K94<=$F$89,B93,$F$89-K93),0)<0,0,IF(B93>0,IF(K94<=$F$89,B93,$F$89-K93),0)) -> 0 | D93: סה"כ יתרת הכרטסים | F93: =IF(F91<=F89,F89-F91,"חרגת בכמות הכרטיסים") -> 0 | H93: 12 | I93: =B92-C92 -> 0 | K93: =K92+B92 -> 0 | M93: 1220
A94: חדר שינה או חדר ילדים | C94: =IF(IF(B94>0,IF(K95<=$F$89,B94,$F$89-K94),0)<0,0,IF(B94>0,IF(K95<=$F$89,B94,$F$89-K94),0)) -> 0 | H94: 13 | I94: =B93-C93 -> 0 | K94: =K93+B93 -> 0 | M94: 1221
A95: מנורת תקרה חכמה שיאומי | C95: =IF(IF(B95>0,IF(K96<=$F$89,B95,$F$89-K95),0)<0,0,IF(B95>0,IF(K96<=$F$89,B95,$F$89-K95),0)) -> 0 | H95: 14 | I95: =B94-C94 -> 0 | K95: =K94+B94 -> 0 | M95: 1222
A96: מצעי יוקרה לכל המשפחה | C96: =IF(IF(B96>0,IF(K97<=$F$89,B96,$F$89-K96),0)<0,0,IF(B96>0,IF(K97<=$F$89,B96,$F$89-K96),0)) -> 0 | H96: 15 | I96: =B95-C95 -> 0 | K96: =K95+B95 -> 0 | M96: 1223
A97: סט מושלם לחדר שינה | C97: =IF(IF(B97>0,IF(K98<=$F$89,B97,$F$89-K97),0)<0,0,IF(B97>0,IF(K98<=$F$89,B97,$F$89-K97),0)) -> 0 | H97: 16 | I97: =B96-C96 -> 0 | K97: =K96+B96 -> 0 | M97: 1224
A98: זוג מזרונים | C98: =IF(IF(B98>0,IF(K99<=$F$89,B98,$F$89-K98),0)<0,0,IF(B98>0,IF(K99<=$F$89,B98,$F$89-K98),0)) -> 0 | H98: 17 | I98: =B97-C97 -> 0 | K98: =K97+B97 -> 0 | M98: 1225
A99: מיטה משולשת או ספה משולשת | C99: =IF(IF(B99>0,IF(K100<=$F$89,B99,$F$89-K99),0)<0,0,IF(B99>0,IF(K100<=$F$89,B99,$F$89-K99),0)) -> 0 | H99: 18 | I99: =B98-C98 -> 0 | K99: =K98+B98 -> 0 | M99: 1226
A100: ספות מפארות | C100: =IF(IF(B100>0,IF(K101<=$F$89,B100,$F$89-K100),0)<0,0,IF(B100>0,IF(K101<=$F$89,B100,$F$89-K100),0)) -> 0 | H100: 19 | I100: =B99-C99 -> 0 | K100: =K99+B99 -> 0 | M100: 1227
A101: מגהץ קיטור | C101: =IF(IF(B101>0,IF(K102<=$F$89,B101,$F$89-K101),0)<0,0,IF(B101>0,IF(K102<=$F$89,B101,$F$89-K101),0)) -> 0 | H101: 20 | I101: =B100-C100 -> 0 | K101: =K100+B100 -> 0 | M101: 1228
A102: שואב +שוטף רצפות שיאומי | C102: =IF(IF(B102>0,IF(K103<=$F$89,B102,$F$89-K102),0)<0,0,IF(B102>0,IF(K103<=$F$89,B102,$F$89-K102),0)) -> 0 | H102: 21 | I102: =B101-C101 -> 0 | K102: =K101+B101 -> 0 | M102: 1229
A103: שואב אבק אלחוטי נטען | C103: =IF(IF(B103>0,IF(K104<=$F$89,B103,$F$89-K103),0)<0,0,IF(B103>0,IF(K104<=$F$89,B103,$F$89-K103),0)) -> 0 | H103: 22 | I103: =B102-C102 -> 0 | K103: =K102+B102 -> 0 | M103: 1230
A104: עוזרת בית + חבילת מוצרי רב מגב וחומרי ניקוי | C104: =IF(IF(B104>0,IF(K105<=$F$89,B104,$F$89-K104),0)<0,0,IF(B104>0,IF(K105<=$F$89,B104,$F$89-K104),0)) -> 0 | H104: 23 | I104: =B103-C103 -> 0 | K104: =K103+B103 -> 0 | M104: 1231
A105: כביסל מקורי | C105: =IF(IF(B105>0,IF(K106<=$F$89,B105,$F$89-K105),0)<0,0,IF(B105>0,IF(K106<=$F$89,B105,$F$89-K105),0)) -> 0 | H105: 24 | I105: =B104-C104 -> 0 | K105: =K104+B104 -> 0 | M105: 1232
... A138: קנדלברה או חנוכיה | C138: =IF(IF(B138>0,IF(K139<=$F$89,B138,$F$89-K138),0)<0,0,IF(B138>0,IF(K139<=$F$89,B138,$F$89-K138),0)) -> 0 | H138: 57 | I138: =B137-C137 -> 0 | K138: =K137+B137 -> 0 | M138: 1265
A139: גביע כסף טהור | C139: =IF(IF(B139>0,IF(K140<=$F$89,B139,$F$89-K139),0)<0,0,IF(B139>0,IF(K140<=$F$89,B139,$F$89-K139),0)) -> 0 | D139: כמות כרטיסים שמגיע לכם | F139: =D57 -> 0 | H139: 58 | I139: =B138-C138 -> 0 | K139: =K138+B138 -> 0 | M139: 1266
A140: אתרוג מרוקאי | C140: =IF(IF(B140>0,IF(K141<=$F$89,B140,$F$89-K140),0)<0,0,IF(B140>0,IF(K141<=$F$89,B140,$F$89-K140),0)) -> 0 | H140: 59 | I140: =B139-C139 -> 0 | K140: =K139+B139 -> 0 | M140: 1267
A141: קופסא לאתרוג או 12 גביעונים | C141: =IF(IF(B141>0,IF(K142<=$F$89,B141,$F$89-K141),0)<0,0,IF(B141>0,IF(K142<=$F$89,B141,$F$89-K141),0)) -> 0 | D141: כמות כרטסים שנוצלו | F141: =SUM(B82:B193) -> 0 | H141: 60 | I141: =B140-C140 -> 0 | K141: =K140+B140 -> 0 | M141: 1268
A142: "מכשיר בייביסיטר מקצועי " | C142: =IF(IF(B142>0,IF(K143<=$F$89,B142,$F$89-K142),0)<0,0,IF(B142>0,IF(K143<=$F$89,B142,$F$89-K142),0)) -> 0 | H142: 61 | I142: =B141-C141 -> 0 | K142: =K141+B141 -> 0 | M142: 1269
A143: מקפיא 6 מגירות | C143: =IF(IF(B143>0,IF(K144<=$F$89,B143,$F$89-K143),0)<0,0,IF(B143>0,IF(K144<=$F$89,B143,$F$89-K143),0)) -> 0 | D143: סה"כ יתרת הכרטסים | F143: =F93 -> 0 | H143: 62 | I143: =B142-C142 -> 0 | K143: =K142+B142 -> 0 | M143: 1270
...

Sheet זכנו  לא תקין
A1: נא למלאות את השדות שבצבע צהוב בלבד ולשלוח חזרה | D1: אם יש לכם מתנות ומעונינים לשלוח לכתובת שונה מהכתובת הרגילה יש למלאות עמודה זו
A3: פרטים אישים
A4: תעודת זהות | D4: שם פרטי
A5: שם פרטי | D5: שם משפחה
A6: שם משפחה | D6: רחוב
A7: רחוב | D7: מס בית
A8: מס בית | D8: קומה
A9: עיר | D9: עיר
A10: טלפון | D10: טלפון
A11: נייד | D11: נייד
A12: מייל
A16: חבילת רכישה
A17: שם חבילה | B17: כמות כרטיסים לחבילה | C17: מחיר | D17: כמות לרכישה | H17: קוד חבילה | I17: רמת מתנה | J17: סיכום | K17: =SUM(K18:K25) | L17: =SUM(K18:K25) -> 1800
A18: בסיסי | B18: 3 | C18: 90 | H18: 1 | I18: 0 | K18: =D18*C18 -> 0
A19: 10 כרטיסים | B19: 10 | C19: 180 | H19: 2 | I19: 0 | K19: =D19*C19 -> 0
A20: כדאית | B20: 25 | C20: 360 | H20: 3 | I20: 0 | K20: =D20*C20 -> 0
A21: משתלמת | B21: 85 | C21: 840 | E21: חבילות אלו זכאים למתנה ללא הגרלה | H21: 4 | I21: 1 | K21: =D21*C21 -> 0 | Q21: שימו לב מי שממלא יותר ממה שהוא זכאי אז התוכנה תבחר באופן אקראי את מה להכניס להגרלה
A22: זהב + כרטיס חצי קופה | B22: 150 | C22: 1200 | H22: 5 | I22: 2 | K22: =D22*C22 -> 0
A23: יהלום + 2 כרטסים לחצי קופה | B23: 250 | C23: 1800 | D23: 1 | H23: 6 | I23: 3 | K23: =D23*C23 -> 1800
A24: פלטניום + 3 כרטיסים לחצי קופה | B24: 400 | C24: 2400 | H24: 7 | I24: 4 | K24: =D24*C24 -> 0
A25: חצי קופה | B25: 0 | C25: 30 | E25: שימו לב חצי קופה לא ניתן לרכישה בנפרד רק כתוספת לחבילה | H25: 8 | I25: 0 | K25: =D25*C25 -> 0
A26: משלוח מתנות 840/1200 שאר הארץ | B26: 0 | C26: 14 | H26: 13 | I26: 0 | K26: =D26*C26 -> 0
A27: משלוח מתנות חבילת 1800 | B27: 0 | C27: 18 | H27: 14 | I27: 0 | K27: =D27*C27 -> 0
A29: מתנה ללא הגרלה | K29: עזר | Q29: כרטיסי בונוס | T29: =$D$56 -> 1800
B30: שם המתנה | C30: כמות מבוקשת | D30: מתנה שנקלטה | K30: סך כללי מבוקש | L30: סך לרמה מבוקש | M30: סך רמה 2 3 מבוקש | N30: סך רמה 3 4 מבוקש | O30: נקלט סהכ | P30: סהכ נקלט .רמה 3 4 | Q30: שם המתנה | R30: כמות מבוקשת | S30: מתנה שנקלטה | T30: קוד מתנה
A31: לרוכשי חבילות משתלמת ניתן לבחור מתנה אחת לכל חבילה | B31: תוספת 20 כרטסים | D31: =IF($J$61>0,IF(O31<$J$61,IF(K31<=$J$61,C31,0),0),0) -> 0 | H31: 17 | I31: 1 | K31: =C31 -> 0 | L31: =C31 -> 0 | O31: =0 -> 0 | Q31: כסא מנהלים לליל הסדר | R31: 1 | T31: 200
B32: אוזניות בלוטוס "לנובו | D32: =IF($J$61>0,IF(O32<$J$61,IF(K32<=$J$61,C32,0),0),0) -> 0 | H32: 18 | I32: 1 | K32: =K31+C32 -> 0 | L32: =L31+C32 -> 0 | O32: =O31+D31 -> 0 | Q32: מקפיא 6 מגירות | R32: 1 | T32: 201
B33: פלטת שבת גדולה | D33: =IF($J$61>0,IF(O33<$J$61,IF(K33<=$J$61,C33,0),0),0) -> 0 | H33: 19 | I33: 1 | K33: =K32+C33 -> 0 | L33: =L32+C33 -> 0 | O33: =O32+D32 -> 0 | Q33: מגבעת יוקרתית | R33: 1 | T33: 202
B34: זיכוי ב'אקסוס' לחולצה | D34: =IF($J$61>0,IF(O34<$J$61,IF(K34<=$J$61,C34,0),0),0) -> 0 | H34: 20 | I34: 1 | K34: =K33+C34 -> 0 | L34: =L33+C34 -> 0 | O34: =O33+D33 -> 0 | Q34: חליפת בגיר | T34: 203
D35: =IF($J$61>0,IF(O35<$J$61,IF(K35<=$J$61,C35,0),0),0) -> 0 | I35: 1 | K35: =K34+C35 -> 0 | L35: =L34+C35 -> 0 | O35: =O34+D34 -> 0 | Q35: שואב אבוק רטוב יבש עוצמתי | T35: 204
D36: =IF($J$61>0,IF(O36<$J$61,IF(K36<=$J$61,C36,0),0),0) -> 0 | I36: 1 | K36: =K35+C36 -> 0 | L36: =L35+C36 -> 0 | O36: =O35+D35 -> 0 | Q36: גביע אליהו הנביא ענק | T36: 205
D37: =IF($J$61>0,IF(O37<$J$61,IF(K37<=$J$61,C37,0),0),0) -> 0 | I37: 1 | K37: =K36+C37 -> 0 | L37: =L36+C37 -> 0 | O37: =O36+D36 -> 0 | Q37: מצית אלקטרוני לנרות שבת וחג | T37: 206
A38: לרוכשי חבילות זהב ניתן לבחור גם ממתנות אלו | B38: תוספת 40 כרטסים | D38: =IF($J$63>0,IF(O37<$J$61,IF(K37<=$J$61,C38),0),0) -> 0 | H38: 21 | I38: 2 | K38: =K37+C38 -> 0 | L38: =C38 -> 0 | M38: =C38 -> 0 | O38: =O37+D37 -> 0 | Q38: כלי קריסטל מפואר למצות מכונה | T38: 207
B39: יחי ראובן על התורה | D39: =IF($J$63>0,IF(O38<$J$61,IF(K38<=$J$61,C39),0),0) -> 0 | H39: 22 | I39: 2 | K39: =K38+C39 -> 0 | L39: =L38+C39 -> 0 | M39: =M38+C39 -> 0 | O39: =O38+D38 -> 0 | Q39: פלימוביל ענק - עבודת מצריים | T39: 208
B40: מפת שולחן יוקרתית + מפיות | D40: =IF($J$63>0,IF(O39<$J$61,IF(K39<=$J$61,C40),0),0) -> 0 | H40: 23 | I40: 2 | K40: =K39+C40 -> 0 | L40: =L39+C40 -> 0 | M40: =M39+C40 -> 0 | O40: =O39+D39 -> 0 | Q40: צעצועים לילדים לכבוד החג | T40: 209
B41: עמי חכמי' משחק ילדים | D41: =IF($J$63>0,IF(O40<$J$61,IF(K40<=$J$61,C41),0),0) -> 0 | H41: 24 | I41: 2 | K41: =K40+C41 -> 0 | L41: =L40+C41 -> 0 | M41: =M40+C41 -> 0 | O41: =O40+D40 -> 0 | Q41: סה"כ | R41: =SUM(R31:R40) -> 3 | S41: =SUM(S31:S40) -> 0
D42: =IF($J$63>0,IF(O41<$J$61,IF(K41<=$J$61,C42),0),0) -> 0 | I42: 2 | K42: =K41+C42 -> 0 | L42: =L41+C42 -> 0 | M42: =M41+C42 -> 0 | O42: =O41+D41 -> 0
A43: לרוכשי חבילות יהלום ניתן לבחור גם ממתנות אלו | B43: תוספת 80 כרטסים | D43: =IF($J$62>0,IF(O43<$J$61,IF(N43<=J62,IF(K43<=$J$61,IF(N43<$J$62,C43,0),0),0),0),0) -> 0 | H43: 25 | I43: 3 | K43: =K42+C43 -> 0 | L43: =C43 -> 0 | M43: =M42+C43 -> 0 | N43: =C43 -> 0 | O43: =O42+D42 -> 0 | P43: =D43 -> 0
B44: שואב אבק רטוב יבש | C44: 1 | D44: =IF($J$62>0,IF(O44<$J$61,IF(N44<=$J$63,IF(K44<=$J$61,IF(N44<$J$62,C44,0),0),0),0),0) -> 0 | H44: 26 | I44: 3 | K44: =K43+C44 -> 1 | L44: =L43+C44 -> 1 | M44: =M43+C44 -> 1 | N44: =N43+C44 -> 1 | O44: =O43+D43 -> 0 | P44: =P43+D44 -> 0
B45: מגש לחלות יחודי + מפית | D45: =IF($J$62>0,IF(O45<$J$61,IF(N45<=$J$63,IF(K45<=$J$61,IF(N45<$J$62,C45,0),0),0),0),0) -> 0 | H45: 27 | I45: 3 | K45: =K44+C45 -> 1 | L45: =L44+C45 -> 1 | M45: =M44+C45 -> 1 | N45: =N44+C45 -> 1 | O45: =O44+D44 -> 0 | P45: =P44+D45 -> 0
B46: מכונת תספורת מקצועית | D46: =IF($J$62>0,IF(O46<$J$61,IF(N46<=$J$63,IF(K46<=$J$61,IF(N46<$J$62,C46,0),0),0),0),0) -> 0 | H46: 28 | I46: 3 | K46: =K45+C46 -> 1 | L46: =L45+C46 -> 1 | M46: =M45+C46 -> 1 | N46: =N45+C46 -> 1 | O46: =O45+D45 -> 0 | P46: =P45+D46 -> 0
D47: =IF($J$62>0,IF(O47<$J$61,IF(N47<=$J$63,IF(K47<=$J$61,IF(N47<$J$62,C47,0),0),0),0),0) -> 0 | I47: 3 | K47: =K46+C47 -> 1 | L47: =L46+C47 -> 1 | M47: =M46+C47 -> 1 | N47: =N46+C47 -> 1 | O47: =O46+D46 -> 0 | P47: =P46+D47 -> 0
D48: =IF($J$62>0,IF(O48<$J$61,IF(N48<=$J$63,IF(K48<=$J$61,IF(N48<$J$62,C48,0),0),0),0),0) -> 0 | I48: 3 | K48: =K47+C48 -> 1 | L48: =L47+C48 -> 1 | M48: =M47+C48 -> 1 | N48: =N47+C48 -> 1 | O48: =O47+D47 -> 0 | P48: =P47+D48 -> 0
D49: =IF($J$62>0,IF(O49<$J$61,IF(N49<=$J$63,IF(K49<=$J$61,IF(N49<$J$62,C49,0),0),0),0),0) -> 0 | I49: 3 | K49: =K48+C49 -> 1 | L49: =L48+C55 -> 1 | M49: =M48+C49 -> 1 | N49: =N48+C49 -> 1 | O49: =O48+D48 -> 0 | P49: =P48+D49 -> 0
A50: לרוכשי חבילות פלטניום ניתן לבחור גם ממתנות אלו | B50: תוספת 100 כרטיסים | D50: =IF($J$60>0,IF(L50<=$J$60,IF(O50<$J$62,C50,0),0),0) -> 0 | H50: 29 | I50: 4 | K50: =K49+C50 -> 1 | L50: =C50 -> 0 | N50: =N49+C50 -> 1 | O50: =O49+D49 -> 0 | P50: =P49+D50 -> 0
B51: מברגה 'מקיטה' אימפקט | D51: =IF($J$60>0,IF(L51<=$J$60,IF(O51<$J$62,C51,0),0),0) -> 0 | H51: 30 | I51: 4 | K51: =K50+C51 -> 1 | L51: =L50+C51 -> 0 | N51: =N50+C51 -> 1 | O51: =O50+D50 -> 0 | P51: =P50+D51 -> 0
B52: לילה לזוג במלון כינורות | D52: =IF($J$60>0,IF(L52<=$J$60,IF(O52<$J$62,C52,0),0),0) -> 0 | H52: 31 | I52: 4 | K52: =K51+C52 -> 1 | L52: =L51+C52 -> 0 | N52: =N51+C52 -> 1 | O52: =O51+D51 -> 0 | P52: =P51+D52 -> 0
D53: =IF($J$60>0,IF(L53<=$J$60,IF(O53<$J$62,C53,0),0),0) -> 0 | I53: 4 | K53: =K52+C53 -> 1 | L53: =L52+C53 -> 0 | N53: =N52+C53 -> 1 | O53: =O52+D52 -> 0 | P53: =P52+D53 -> 0
D54: =IF($J$60>0,IF(L54<=$J$60,IF(O54<$J$62,C54,0),0),0) -> 0 | I54: 4 | K54: =K53+C54 -> 1 | L54: =L53+C54 -> 0 | N54: =N53+C54 -> 1 | O54: =O53+D53 -> 0 | P54: =P53+D54 -> 0
D55: =IF($J$60>0,IF(L55<=$J$60,IF(O55<$J$62,C55,0),0),0) -> 0 | I55: 4 | K55: =K54+C55 -> 1 | L55: =L54+C55 -> 0 | N55: =N54+C55 -> 1 | O55: =O54+D54 -> 0 | P55: =P54+D55 -> 0
B56: סה"כ לתשלום | D56: =D18*C18+D19*C19+D20*C20+D21*C21+D22*C22+C24*D24+C25*D25+C26*D26+C27*D27+D23*C23 -> 1800 | J56: כמות לבחירה | K56: כמות שנקלטה מכל רמה
B57: סה"כ כרטסים לבחירה | D57: =D18*B18+D19*B19+D20*B20+D21*B21+D22*B22+D38*40+D31*20+D43*80+B23*D23+D24*B24+D50*100 -> 250 | H57: 57 | I57: מתנה סוג 1 | J57: =D21 -> 0 | K57: =SUM(D31:D37) -> 0
A58: תשלום | H58: 58 | I58: מתנה סוג 2 | J58: =D22 -> 0 | K58: =SUM(D38:D42) -> 0 | P58: יתרת זכות לקליטת מתנה
A59: מס כרטיס אשראי | H59: 59 | I59: מתנה סוג 3 | J59: =D23 -> 1 | K59: =SUM(D43:D49) -> 0 | P59: =J61-K61 -> 1
A60: תוקף חודש (בשתי ספרות) | H60: 60 | I60: מתנה סוג 4 | J60: =D24 -> 0 | K60: =SUM(D50:D55) -> 0
A61: תוקף שנה (ב-4 ספרות) | H61: 61 | I61: סהכ מתנות לבחירה מ4 הסוגים | J61: =J57+J58+J59+J60 -> 1 | K61: =K57+K58+K59+K60 -> 0
A62: שלוש ספרות אחרונת בגב הכרטיס | H62: 62 | I62: סהכ מתנות מסוג 3 ו 4 | J62: =J60+J59 -> 1 | K62: =K59+K60 -> 0
A63: שם בעל הכרטיס | H63: 63 | I63: סהכ מתנות מסוג 2 3 4 | J63: =J60+J59+J58 -> 1 | K63: =K58+K59+K60 -> 0
A64: תעודת זהות בעל הכרטיס
A65: סה"כ לתשלום | B65: =D56 -> 1800 | C65: ניתן לשנות סכום זה כלפי מעלה לדוג במקום 84 100 ₪
A66: מס' תשלומים מינימום 50 ₪ לתשלום עד 12 תש' | B66: 1
A71: קהילה
A72: קוד הקהילה שבה ברצונך לתרום | B72: סכום התרומה הרצוי לקהילה | C72: סכום התרומה שנקלט לקהילה | D72: קוד קהילה | E72: לרשימת הקודים ניתן לשלוח מייל לכתובת.0@zakenu.org ולכתוב בנושא - "רשימה"
C73: =IF(IF($B$65-B73-B74-B75>=0,B73,B73+($B$65-B73-B74-B75))<0,0,IF($B$65-B73-B74-B75>=0,B73,B73+($B$65-B73-B74-B75))) -> 0 | D73: =VLOOKUP(A:A,גיליון2!A:B,2,0) -> קופה כללית | I73: לא נקלט | L73: =D56-B73-B74-B75 -> 1800
C74: =IF(IF($B$65-B74-B75-B76>=0,B74,B74+($B$65-B74-B75-B76))<0,0,IF($B$65-B74-B75-B76>=0,B74,B74+($B$65-B74-B75-B76))) -> 0 | D74: =VLOOKUP(A:A,גיליון2!A:B,2,0) -> קופה כללית | E74: אם שדה זה לא ימולא הסכום יחולק בשווה בין כל הקהילות המשתתפות במיזם זכנו | I74: =B73-C73 -> 0
C75: =IF(IF($B$65-B75-B76-B77>=0,B75,B75+($B$65-B75-B76-B77))<0,0,IF($B$65-B75-B76-B77>=0,B75,B75+($B$65-B75-B76-B77))) -> 0 | D75: =VLOOKUP(A:A,גיליון2!A:B,2,0) -> קופה כללית | I75: =B74-C74 -> 0
A76: יתרה לחלוקה | B76: =IF(L17-B73-B74-B75<0,0,L17-B73-B74-B75) -> 1800 | I76: =B75-C75 -> 0
A80: כרטיסים
A81: שם המוצר | B81: מס' כרטיסים רצוי | C81: מס' כרטיסים שנקלטו | H81: מס מתנה | K81: עזר | O81: מזהה_מוצר
A82: מטבח יוקרתי בשווי 30,000 ₪ | C82: =IF(IF(B82>0,IF(K83<=$F$89,B82,$F$89-K82),0)<0,0,IF(B82>0,IF(K83<=$F$89,B82,$F$89-K82),0)) -> 0 | H82: 1 | I82: מס כרטיסים שלא תקבל | O82: 1
A83: מסע קניות על חשבון הבית בשווי 18,000 ₪ | C83: =IF(IF(B83>0,IF(K84<=$F$89,B83,$F$89-K83),0)<0,0,IF(B83>0,IF(K84<=$F$89,B83,$F$89-K83),0)) -> 0 | H83: 2 | I83: =B82-C82 -> 0 | K83: =B82 -> 0 | O83: 2
A84: 4 דלתות פנים לבית | C84: =IF(IF(B84>0,IF(K85<=$F$89,B84,$F$89-K84),0)<0,0,IF(B84>0,IF(K85<=$F$89,B84,$F$89-K84),0)) -> 0 | H84: 3 | I84: =B83-C83 -> 0 | K84: =K83+B83 -> 0 | O84: 3
A85: דלת 'פלדלת' לכניסה לבית | C85: =IF(IF(B85>0,IF(K86<=$F$89,B85,$F$89-K85),0)<0,0,IF(B85>0,IF(K86<=$F$89,B85,$F$89-K85),0)) -> 0 | H85: 4 | I85: =B84-C84 -> 0 | K85: =K84+B84 -> 0 | O85: 4
A86: וילונות בשווי 2,000 ₪ | C86: =IF(IF(B86>0,IF(K87<=$F$89,B86,$F$89-K86),0)<0,0,IF(B86>0,IF(K87<=$F$89,B86,$F$89-K86),0)) -> 0 | H86: 5 | I86: =B85-C85 -> 0 | K86: =K85+B85 -> 0 | O86: 5
A87: מיטה משולשת או ספה משולשת | C87: =IF(IF(B87>0,IF(K88<=$F$89,B87,$F$89-K87),0)<0,0,IF(B87>0,IF(K88<=$F$89,B87,$F$89-K87),0)) -> 0 | H87: 6 | I87: =B86-C86 -> 0 | K87: =K86+B86 -> 0 | O87: 6
A88: חדר שינה או חדר ילדים | C88: =IF(IF(B88>0,IF(K89<=$F$89,B88,$F$89-K88),0)<0,0,IF(B88>0,IF(K89<=$F$89,B88,$F$89-K88),0)) -> 0 | H88: 7 | I88: =B87-C87 -> 0 | K88: =K87+B87 -> 0 | O88: 7
A89: הסלון המושלם | C89: =IF(IF(B89>0,IF(K90<=$F$89,B89,$F$89-K89),0)<0,0,IF(B89>0,IF(K90<=$F$89,B89,$F$89-K89),0)) -> 0 | D89: כמות כרטיסים שמגיע לכם | F89: =D57 -> 250 | H89: 8 | I89: =B88-C88 -> 0 | K89: =K88+B88 -> 0 | O89: 8
A90: עוזרת בית + חבילת נקיון | C90: =IF(IF(B90>0,IF(K91<=$F$89,B90,$F$89-K90),0)<0,0,IF(B90>0,IF(K91<=$F$89,B90,$F$89-K90),0)) -> 0 | H90: 9 | I90: =B89-C89 -> 0 | K90: =K89+B89 -> 0 | O90: 9
A91: כביסל מקורי | C91: =IF(IF(B91>0,IF(K92<=$F$89,B91,$F$89-K91),0)<0,0,IF(B91>0,IF(K92<=$F$89,B91,$F$89-K91),0)) -> 0 | D91: כמות כרטסים שנוצלו | F91: =SUM(B82:B193) -> 0 | H91: 10 | I91: =B90-C90 -> 0 | K91: =K90+B90 -> 0 | O91: 10
A92: מכונת כביסה או מיבש | C92: =IF(IF(B92>0,IF(K93<=$F$89,B92,$F$89-K92),0)<0,0,IF(B92>0,IF(K93<=$F$89,B92,$F$89-K92),0)) -> 0 | H92: 11 | I92: =B91-C91 -> 0 | K92: =K91+B91 -> 0 | O92: 11
A93: מכשיר קיטור +מגהץ קיטור עוצמתי | C93: =IF(IF(B93>0,IF(K94<=$F$89,B93,$F$89-K93),0)<0,0,IF(B93>0,IF(K94<=$F$89,B93,$F$89-K93),0)) -> 0 | D93: סה"כ יתרת הכרטסים | F93: =IF(F91<=F89,F89-F91,"חרגת בכמות הכרטיסים") -> 250 | H93: 12 | I93: =B92-C92 -> 0 | K93: =K92+B92 -> 0 | O93: 12
A94: פינוקים לארוחת צהרים ולסעודת שבת | C94: =IF(IF(B94>0,IF(K95<=$F$89,B94,$F$89-K94),0)<0,0,IF(B94>0,IF(K95<=$F$89,B94,$F$89-K94),0)) -> 0 | H94: 13 | I94: =B93-C93 -> 0 | K94: =K93+B93 -> 0 | O94: 13
A95: מנוי שנה לקטיפה וקראט + ערכת קפה מפנקת | C95: =IF(IF(B95>0,IF(K96<=$F$89,B95,$F$89-K95),0)<0,0,IF(B95>0,IF(K96<=$F$89,B95,$F$89-K95),0)) -> 0 | H95: 14 | I95: =B94-C94 -> 0 | K95: =K94+B94 -> 0 | O95: 14
A96: שבת נופש בבית שלכם | C96: =IF(IF(B96>0,IF(K97<=$F$89,B96,$F$89-K96),0)<0,0,IF(B96>0,IF(K97<=$F$89,B96,$F$89-K96),0)) -> 0 | H96: 15 | I96: =B95-C95 -> 0 | K96: =K95+B95 -> 0 | O96: 15
A97: נופש לזוג במלון כינורות | C97: =IF(IF(B97>0,IF(K98<=$F$89,B97,$F$89-K97),0)<0,0,IF(B97>0,IF(K98<=$F$89,B97,$F$89-K97),0)) -> 0 | H97: 16 | I97: =B96-C96 -> 0 | K97: =K96+B96 -> 0 | O97: 16
A98: נופש בצפת 2 לילות | C98: =IF(IF(B98>0,IF(K99<=$F$89,B98,$F$89-K98),0)<0,0,IF(B98>0,IF(K99<=$F$89,B98,$F$89-K98),0)) -> 0 | H98: 17 | I98: =B97-C97 -> 0 | K98: =K97+B97 -> 0 | O98: 17
A99: מצלמה מקצועית | C99: =IF(IF(B99>0,IF(K100<=$F$89,B99,$F$89-K99),0)<0,0,IF(B99>0,IF(K100<=$F$89,B99,$F$89-K99),0)) -> 0 | H99: 18 | I99: =B98-C98 -> 0 | K99: =K98+B98 -> 0 | O99: 18
A100: טבעת יוקרתית עם יהלומים | C100: =IF(IF(B100>0,IF(K101<=$F$89,B100,$F$89-K100),0)<0,0,IF(B100>0,IF(K101<=$F$89,B100,$F$89-K100),0)) -> 0 | H100: 19 | I100: =B99-C99 -> 0 | K100: =K99+B99 -> 0 | O100: 19
A101: שרשרת זהב יוקרתית | C101: =IF(IF(B101>0,IF(K102<=$F$89,B101,$F$89-K101),0)<0,0,IF(B101>0,IF(K102<=$F$89,B101,$F$89-K101),0)) -> 0 | H101: 20 | I101: =B100-C100 -> 0 | K101: =K100+B100 -> 0 | O101: 20
A102: תכשיטים בשווי 2,000 ₪ | C102: =IF(IF(B102>0,IF(K103<=$F$89,B102,$F$89-K102),0)<0,0,IF(B102>0,IF(K103<=$F$89,B102,$F$89-K102),0)) -> 0 | H102: 21 | I102: =B101-C101 -> 0 | K102: =K101+B101 -> 0 | O102: 21
A103: תפילין 'עטרת תפילין' | C103: =IF(IF(B103>0,IF(K104<=$F$89,B103,$F$89-K103),0)<0,0,IF(B103>0,IF(K104<=$F$89,B103,$F$89-K103),0)) -> 0 | H103: 22 | I103: =B102-C102 -> 0 | K103: =K102+B102 -> 0 | O103: 22
A104: מגילת אסתר מהודרת | C104: =IF(IF(B104>0,IF(K105<=$F$89,B104,$F$89-K104),0)<0,0,IF(B104>0,IF(K105<=$F$89,B104,$F$89-K104),0)) -> 0 | H104: 23 | I104: =B103-C103 -> 0 | K104: =K103+B103 -> 0 | O104: 23
A105: אוצר החכמה + חבילות נלוות | C105: =IF(IF(B105>0,IF(K106<=$F$89,B105,$F$89-K105),0)<0,0,IF(B105>0,IF(K106<=$F$89,B105,$F$89-K105),0)) -> 0 | H105: 24 | I105: =B104-C104 -> 0 | K105: =K104+B104 -> 0 | O105: 24
... A138: נופש בין הזמנים משפחתי + קייקים ל- 10 נופשים | C138: =IF(IF(B138>0,IF(K139<=$F$89,B138,$F$89-K138),0)<0,0,IF(B138>0,IF(K139<=$F$89,B138,$F$89-K138),0)) -> 0 | H138: 57 | I138: =B137-C137 -> 0 | K138: =K137+B137 -> 0 | O138: 57
A139: חבילת קמפינג | C139: =IF(IF(B139>0,IF(K140<=$F$89,B139,$F$89-K139),0)<0,0,IF(B139>0,IF(K140<=$F$89,B139,$F$89-K139),0)) -> 0 | D139: כמות כרטיסים שמגיע לכם | F139: =D57 -> 250 | H139: 58 | I139: =B138-C138 -> 0 | K139: =K138+B138 -> 0 | O139: 58
A140: טיול אקסטריים | C140: =IF(IF(B140>0,IF(K141<=$F$89,B140,$F$89-K140),0)<0,0,IF(B140>0,IF(K141<=$F$89,B140,$F$89-K140),0)) -> 0 | H140: 59 | I140: =B139-C139 -> 0 | K140: =K139+B139 -> 0 | O140: 59
A141: פרס מסחרררר | C141: =IF(IF(B141>0,IF(K142<=$F$89,B141,$F$89-K141),0)<0,0,IF(B141>0,IF(K142<=$F$89,B141,$F$89-K141),0)) -> 0 | D141: כמות כרטסים שנוצלו | F141: =SUM(B82:B193) -> 0 | H141: 60 | I141: =B140-C140 -> 0 | K141: =K140+B140 -> 0 | O141: 60
A142: מג'יק קאס | C142: =IF(IF(B142>0,IF(K143<=$F$89,B142,$F$89-K142),0)<0,0,IF(B142>0,IF(K143<=$F$89,B142,$F$89-K142),0)) -> 0 | H142: 61 | I142: =B141-C141 -> 0 | K142: =K141+B141 -> 0 | O142: 61
A143: סט מזוודות איכותיות | C143: =IF(IF(B143>0,IF(K144<=$F$89,B143,$F$89-K143),0)<0,0,IF(B143>0,IF(K144<=$F$89,B143,$F$89-K143),0)) -> 0 | D143: סה"כ יתרת הכרטסים | F143: =F93 -> 250 | H143: 62 | I143: =B142-C142 -> 0 | K143: =K142+B142 -> 0 | O143: 62
A144: " צפצימר" נופש חלומי בצפת העתיקה | C144: =IF(IF(B144>0,IF(K145<=$F$89,B144,$F$89-K144),0)<0,0,IF(B144>0,IF(K145<=$F$89,B144,$F$89-K144),0)) -> 0 | H144: 63 | I144: =B143-C143 -> 0 | K144: =K143+B143 -> 0 | O144: 63
...

Sheet גיליון2
A1: קוד | B1: שם ישיבת בין הזמנים | C1: שם בית המדרש | D1: ביהמ''ד ממוקם בעיר: | Q1: חו"ל
A2: 0 | B2: קופה כללית | Q2: אבו גוש
A3: 0 | B3: קופה כללית | C3: בני ברק | I3: 01 | K3: 2023 | Q3: אבו סנאן
A4: 101 | B4: ישיבת רבנו חיים קמיל | C4: אופקים | D4: אופקים | I4: 02 | K4: 2024 | Q4: אבו תלול
A5: 103 | B5: גבורת ארי | C5: ירושלים | D5: ת"א | I5: 03 | K5: 2025 | Q5: אבטין
A6: 108 | B6: בני הישיבות - נוה יעקב | C6: ירושלים | D6: אלעד | I6: 04 | K6: 2026 | Q6: אבטליון
A7: 110 | B7: ביהכנ''ס בית תפילה נוה יעקב | C7: ירושלים | D7: אלעד | I7: 05 | K7: 2027 | Q7: אביאל
A8: 112 | B8: סוכת שלום | C8: ירושלים | D8: אלעד | I8: 06 | K8: 2028 | Q8: אביבים
A9: 203 | B9: נר יעקב בצלאל-היכל זרח | C9: אלעד | D9: אלעד | I9: 07 | K9: 2029 | Q9: אביגדור
A10: 223 | B10: זכרון יונה יוסף | D10: אלעד | I10: 08 | K10: 2030 | Q10: אביחיל
A11: 224 | B11: קולה של תורה | D11: פ"ת | I11: 09 | Q11: אביטל
A12: 240 | B12: ישיבת בין הזמנים כפר אברהם | C12: פתח תקווה | D12: לוד | I12: 10 | Q12: אביעזר
A13: 250 | B13: ישיבת בין הזמנים גני איילון | C13: לוד | D13: אשדוד | I13: 11 | Q13: אבירים
A14: 301 | B14: אגודת בן תורה-נפש החיים | C14: אשדוד | D14: ביתר | I14: 12 | Q14: אבן יהודה
A15: 401 | B15: זכור לאברהם | C15: ביתר עילית | D15: בית שמש | Q15: אבן מנחם
A16: 402 | B16: אשכנז הרב ש"ך | D16: בית שמש | Q16: אבן ספיר
A17: 408 | B17: ישיבת בין הזמנים שערי תפילה | C17: בית שמש | D17: בית שמש | Q17: אבן שמואל
A18: 409 | B18: היכל יוסף שלום בית שמש | C18: בית שמש | D18: בני ברק | Q18: אבני איתן
A19: 414 | B19: קרית הנציב-בר אילן | C19: בית שמש | D19: בני-ברק | Q19: אבני חפץ
A20: 415 | B20: ביהכ"נ המרכזי רמה ד' בית שמש | C20: בית שמש | D20: בני ברק | Q20: אבנת
A21: 432 | B21: ישיבת בין הזמנים והמתמידים תפארת -אדם | C21: גבע בנימין | D21: בני ברק | Q21: אבשלום
A22: 436 | B22: קרן התורה תל ציון | C22: כוכב יעקב (תל ציון) | D22: בני ברק | Q22: אדורה
A23: 601 | B23: כולל וישיבת בין הזמנים ביהכנ"ס המרכזי אשכנז שיכון ג' | C23: בני ברק | D23: בני ברק | Q23: אדירים
A24: 603 | B24: אהל יעקב ולאה | C24: בני ברק | D24: בני ברק | Q24: אדמית
A25: 604 | B25: יוצאי פוניבז' אהל תמר | C25: בני ברק | D25: בני ברק | Q25: אדרת
A26: 606 | B26: אורחות התלמוד | C26: בני ברק | D26: בני ברק | Q26: אודים
A27: 607 | B27: בוהוש | C27: בני ברק | D27: בני ברק | Q27: אודם
A28: 609 | B28: ישיבת בין הזמנים בביהכנ"ס המרכזי | C28: בני ברק | D28: בני ברק | Q28: אוהד
... A51: 651 | B51: שם אבותי | C51: בני ברק | D51: בני ברק | Q51: אחיטוב
A52: 652 | B52: שתילי זיתים | D52: ב"ב | Q52: אחיסמך
A53: 653 | B53: תפארת נחמן | C53: בני ברק | Q53: אחיעזר
A54: 660 | B54: נחלת סירוקה | C54: בני ברק | D54: בני ברק | Q54: איבים
A55: 661 | B55: מנין אברכים שמעה תפילתי | C55: בני ברק | D55: ב''ב | Q55: אייל
A56: 663 | B56: כולל וישיבת ביה"ז שע"י קהילות הקודש קרית הרצוג | C56: בני ברק | D56: בני ברק | Q56: איילת השחר
A57: 664 | B57: בית תפילה | C57: בני ברק | D57: בני ברק | Q57: אילון
A58: 669 | B58: קהילת חניכי הישיבות | C58: בני ברק | D58: בני ברק, ירושלים, בית שמש, אלעז, ביתר | Q58: אילות
A59: 675 | B59: זכרון מיכאל -חדוות יחיאל | C59: בני ברק | D59: ביתר | Q59: אילניה
A60: 677 | B60: ישיבת בה"ז תפארת דן שע"י ישיבת בית מדרש עליון | C60: בני ברק | D60: בני ברק | Q60: אילת
A61: 678 | B61: משכן יחזקאל | C61: בני ברק | D61: בני ברק | Q61: אירוס
A62: 681 | B62: מכנובקא בעלזא | C62: בני ברק | D62: ירושלים\בני ברק | Q62: איתמר
A63: 687 | B63: תורת הקרבנות | C63: ביתר עילית | D63: בני ברק | Q63: איתן
A64: 694 | B64: אהל משה | C64: בני ברק | D64: בני ברק | Q64: איתנים
A65: 696 | B65: קהילת דאראג | C65: בני ברק | D65: בני ברק | Q65: אכסאל
... A73: 724 | B73: ישיבת ביה"ז שע"י קה"י "בית שלמה" | C73: בני ברק | D73: בני ברק | Q73: אלון מורה
A74: 730 | B74: כולל בין הזמנים נר רפאל שע"י קהילת אילת השחר | C74: בני ברק | Q74: אלון שבות
A75: 731 | B75: מנין אברכים מקדשי הזמן שיכון ה' | C75: בני ברק | D75: חדרה | Q75: אלוני אבא
A76: 738 | B76: ישיבת "רנה של תורה-כרמיאל" | C76: בני ברק | D76: בני ברק | Q76: אלוני הבשן
A77: 740 | B77: תפארת מנחם | C77: בני ברק | D77: בני ברק | Q77: אלוני יצחק
A78: 742 | B78: תורת בן ציון | C78: בני ברק | D78: בני ברק | Q78: אלונים
A79: 745 | B79: אשריכם" - בני הישיבות שומרי שבת | C79: בני ברק | D79: בני ברק | Q79: אלי-עד
A80: 749 | B80: ישיבת בין הזמנים ''היכל רפאל'' | C80: בני ברק | D80: בני ברק | Q80: אליאב
A81: 750 | B81: אהל יעקב - זכרון מאיר | C81: בני ברק | D81: בני ברק | Q81: אליכין
A82: 751 | B82: צא"י רמת אהרן | C82: בני ברק | D82: בני ברק | Q82: אליפז
A83: 752 | B83: ישיבת בין הזמנים שע"י קהילת אור הצפון | C83: בני ברק | Q83: אליפלט
A84: 754 | B84: שונה הלכות | C84: בני ברק | D84: בני ברק | Q84: אליקים
A85: 755 | B85: משכינו ביהמ"ד בית פנחס ב"ב | C85: בני ברק | D85: ב"ב | Q85: אלישיב
A86: 758 | B86: זכרו תורת משה | C86: בני ברק | D86: בני ברק | Q86: אלישמע
A87: 759 | B87: בני הישיבות דרך אמונה | C87: בני ברק | D87: חיפה | Q87: אלמגור
A88: 761 | B88: ישיבת ביה"ז שע"י קהילת בית השם | C88: בני ברק | D88: חיפה | Q88: אלמוג
A89: 762 | B89: נחלת יעקב | C89: בני ברק | D89: מושב יסודות | Q89: אלעד
A90: 763 | B90: בני הישיבות הרב פריד | C90: בני ברק | D90: ירושלים | Q90: אלעזר
A91: 764 | B91: מאור ישראל ע"ש הרב עובדיה זצוק"ל | C91: בני ברק | D91: ירושלים | Q91: אלפי מנשה
A92: 766 | B92: ישיבת בין הזמנים המרכזית בני תורה פרדס כץ | C92: בני ברק | D92: ירושלים | Q92: אלקוש
A93: 771 | B93: משכינו ביהמ"ד זכרון רפאל | C93: בני ברק | D93: ירושלים | Q93: אלקנה
A94: 772 | B94: ישיבת בין הזמנים בביהמ"ד טשערנאביל רח' ראב"ד 10 ב"ב | C94: בני ברק | D94: רמות ירושלים | Q94: אמונים
A95: 773 | B95: זכרון יצחק | C95: בני ברק | D95: ירושלים ועוד | Q95: אמירים
A96: 774 | B96: הליכות חיים | D96: ירושלים | Q96: אמנון
A97: 775 | B97: ישיבת בין הזמנים זכרון משה | D97: ירושלים | Q97: אמציה
A98: 776 | B98: ישיבת בין הזמנים באר ישראל | D98: ירושלים | Q98: אניעם
A99: 801 | B99: ישיבת בין הזמנים סערט ויזניץ | C99: חיפה | Q99: אספר
A100: 803 | B100: כולל בין הזמנים לאברכים - קול ה' בהדר | C100: חיפה | D100: ירושלים | Q100: אעבלין
A101: 804 | B101: איגוד הבחורים סניף חיפה | C101: חיפה | D101: ירושלים | Q101: אפיק
A102: 900 | B102: אמת -ליעקב | C102: בני ברק | D102: ירושלים | Q102: אפיקים
A103: 901 | B103: מושב יסודות | C103: יסודות | D103: מודיעין עילית | Q103: אפק
A104: 1110 | B104: כולל וישיבה"ז בביהמ"ד חניכי הישיבות רוממה | C104: ירושלים | D104: מודיעין עילית | Q104: אפרת
A105: 1127 | B105: כלביא יקום | C105: ירושלים | D105: מודיעין עילית | Q105: ארבל
A106: 1146 | B106: ותן חלקנו - רחמסטריווקא | D106: מודיעין עילית | Q106: ארגמן
A107: 1147 | B107: אשרי האיש | C107: ירושלים | D107: מודיעין עילית | Q107: ארז
A108: 1154 | B108: תורת צבי | C108: ירושלים | D108: מודיעין עילית | Q108: אריאל
A109: 1156 | B109: ישיבת בין הזמנים שע"י ישיבת תפרח | C109: ירושלים | D109: מודיעין עילית | Q109: ארסוף
A110: 1157 | B110: ישיבת בין הזמנים תורת חיים | C110: ירושלים | D110: מודיעין עילית | Q110: אשבול
A111: 1162 | B111: מקור ברוך | C111: ירושלים | D111: מודיעין עילית | Q111: אשבל
A112: 1168 | B112: יוצאי חדרה | D112: מודיעין עלית | Q112: אשדוד
A113: 1169 | B113: בני הישיבות ברזיל - קרית יובל | D113: מודיעין עילית | Q113: אשדות יעקב (איחוד)
A114: 1303 | B114: באיאן | C114: מודיעין עילית | D114: מודיעין עילית | Q114: אשדות יעקב (מאוחד)
A115: 1305 | B115: כולל בין הזמנים - חניכי הישיבות מזרח ברכפלד | C115: מודיעין עילית | D115: מודיעין עילית | Q115: אשחר
A116: 1306 | B116: שש שעות רצופות מודיעין עילית | C116: מודיעין עילית | D116: מודעין עילית | Q116: אשכולות
A117: 1307 | B117: קהילת רבי עקיבא ברכפלד | C117: מודיעין עילית | D117: מודיעין עילית | Q117: אשל הנשיא
A118: 1320 | B118: כולל בין הזמנים שע"י קהילת חזון איש "אור יהושע" | C118: מודיעין עילית | D118: מודיעין עילית | Q118: אשלים
A119: 1321 | B119: זכרון תמימה | D119: מודיעין עילית | Q119: אשקלון
A120: 1325 | B120: אהל אברהם | C120: מודיעין עילית | D120: מודיעין עילית | Q120: אשרת
A121: 1327 | B121: קרן "חסד לאברהם ושערי ציון" | C121: מודיעין עילית | D121: מודיעין עילית | Q121: אשתאול
A122: 1328 | B122: אור שרגא | C122: מודיעין עילית | D122: נתיבות | Q122: אתגר
A123: 1337 | B123: איגוד בני הישיבות גרין פארק חפציבה | C123: מודיעין עילית | D123: רחובות | Q123: באקה אל-גרביה
A124: 1339 | B124: כולל וישיבת בין הזמנים שע"י ביהמ"ד משובב נתיבות | C124: מודיעין עילית | D124: רכסים | Q124: באר אורה
A125: 1341 | B125: נס אהרן - קהילת בית שמואל | C125: מודיעין עילית | D125: רכסים | Q125: באר גנים
A126: 1349 | B126: הקיבוץ | C126: מודיעין עילית | D126: תפרח | Q126: באר טוביה
A127: 1351 | B127: כולל חניכי קול תורה | C127: מודיעין עילית | Q127: באר יעקב
A128: 1356 | B128: כולל בין הזמנים "קהילת אבי עזרי" | C128: מודיעין עילית | D128: רכסים | Q128: באר מילכה
A129: 1357 | B129: קהילת לומדי תורה זכרון יעקב יצחק | D129: רכסים | Q129: באר שבע
...

Sheet גיליון1
