Workbook

Sheet זכנו
A1: נא למלאות את השדות שבצבע צהוב בלבד ולשלוח חזרה | D1: אם יש לכם מתנות ומעונינים לשלוח לכתובת שונה מהכתובת הרגילה יש למלאות עמודה זו
L2: מס כרטיסים לבחירה
A3: פרטים אישים | K3: משתלמת
A4: תעודת זהות | D4: שם פרטי | K4: זהב + כרטיס חצי קופה
A5: שם פרטי | D5: שם משפחה | K5: יהלום + 2 כרטסים לחצי קופה
A6: שם משפחה | D6: רחוב | K6: פלטניום + 3 כרטיסים לחצי קופה
A7: רחוב | D7: מס בית
A8: מס בית | D8: קומה
A9: עיר | D9: עיר
A10: טלפון | D10: טלפון
A11: נייד | D11: נייד
A12: מייל
A16: חבילת רכישה
A17: שם חבילה | B17: כמות כרטיסים לחבילה | C17: מחיר | D17: כמות לרכישה | H17: קוד חבילה | I17: רמת מתנה | J17: סיכום | K17: =SUM(K18:K25) | L17: =SUM(K18:K25) -> 0 | R17: כמות כרטיסי בונוס | S17: כמות כרטיסי בונוס
A18: בסיסי | B18: 3 | C18: 90 | H18: 1 | I18: 0 | K18: =D18*C18 -> 0 | N18: 90-180 | R18: 3 | S18: =R18*D18 -> 0
A19: 10 כרטיסים | B19: 10 | C19: 180 | H19: 4 | I19: 0 | K19: =D19*C19 -> 0 | R19: 3 | S19: =R19*D19 -> 0
A20: כדאית | B20: 25 | C20: 360 | H20: 14 | I20: 0 | K20: =D20*C20 -> 0 | N20: 360-840 | R20: 3 | S20: =R20*D20 -> 0
A21: כדאית + | B21: 40 | C21: 480 | H21: 20 | I21: 0 | K21: =D21*C21 -> 0 | R21: 6 | S21: =R21*D21 -> 0
A22: משתלמת | B22: 85 | C22: 840 | E22: חבילות אלו זכאים למתנה ללא הגרלה | H22: 24 | I22: 1 | K22: =D22*C22 -> 0 | N22: 1200-2400 | R22: 6 | S22: =R22*D22 -> 0
A23: זהב + כרטיס חצי קופה | B23: 150 | C23: 1200 | H23: 34 | I23: 2 | K23: =D23*C23 -> 0 | R23: 6 | S23: =R23*D23 -> 0
A24: יהלום + 2 כרטסים לחצי קופה | B24: 250 | C24: 1800 | H24: 44 | I24: 3 | K24: =D24*C24 -> 0 | R24: 10 | S24: =R24*D24 -> 0
A25: פלטניום + 3 כרטיסים לחצי קופה | B25: 400 | C25: 2400 | H25: 54 | I25: 4 | K25: =D25*C25 -> 0 | R25: 10 | S25: =R25*D25 -> 0
A26: חצי קופה | B26: 0 | C26: 30 | E26: שימו לב חצי קופה לא ניתן לרכישה בנפרד רק כתוספת לחבילה | H26: 64 | I26: 0 | K26: =D26*C26 -> 0 | R26: סהכ כרטיסי בונוס | S26: =SUM(S18:S25) -> 0
A27: משלוח מתנות חבילת 1800 | B27: 0 | C27: 18 | H27: 14 | I27: 0 | K27: =D27*C27 -> 0
A29: מתנה ללא הגרלה | K29: עזר | O29: כרטיסי בונוס
B30: שם המתנה | C30: כמות מבוקשת | D30: מתנה שנקלטה | J30: סך לרמה לבחירה | K30: סך לרמה מבוקש | L30: סך כללי מבוקש | M30: נקלט סהכ | N30: נשאר לקליטה לפי רמות | O30: שם המתנה | P30: כמות מבוקשת | Q30: מתנה שנקלטה | R30: קוד מתנה | T30: סך כללי מבוקש | U30: נקלט סהכ | V30: נשאר לקליטה
A31: לרוכשי חבילות משתלמת ניתן לבחור מתנה אחת לכל חבילה | B31: תוספת 20 כרטסים | H31: 1 | I31: 1 | L31: =C31 -> 0 | M31: =D31 -> 0 | O31: מיקסר קנווד | Q31: =IF($S$26=0,0,IF(P31=0,0,IF(T31<=$S$26,P31,V31))) -> 0 | R31: 200 | T31: =P31 -> 0 | U31: =Q31 -> 0
B32: מזוודת טרולי (צבע שחור) | D32: =IF($J$61=0,0,IF(C32=0,0,IF(L32<=$J$61,C32,N32))) -> 0 | H32: 151 | I32: 1 | L32: =L31+C32 -> 0 | M32: =D32+M31 -> 0 | N32: =$J$61-M31 -> 0 | O32: זיכוי 1000 ₪ | Q32: =IF($S$26=0,0,IF(P32=0,0,IF(T32<=$S$26,P32,V32))) -> 0 | R32: 201 | T32: =P32+T31 -> 0 | U32: =Q32+U31 -> 0 | V32: =$S$26-U31 -> 0
B33: מזוודת טרולי (צבע אפור) | D33: =IF($J$61=0,0,IF(C33=0,0,IF(L33<=$J$61,C33,N33))) -> 0 | H33: 51 | I33: 1 | L33: =L32+C33 -> 0 | M33: =D33+M32 -> 0 | N33: =$J$61-M32 -> 0 | O33: כסא מנהלים מפואר | Q33: =IF($S$26=0,0,IF(P33=0,0,IF(T33<=$S$26,P33,V33))) -> 0 | R33: 202 | T33: =P33+T32 -> 0 | U33: =Q33+U32 -> 0 | V33: =$S$26-U32 -> 0
B34: נגן | D34: =IF($J$61=0,0,IF(C34=0,0,IF(L34<=$J$61,C34,N34))) -> 0 | H34: 41 | I34: 1 | L34: =L33+C34 -> 0 | M34: =D34+M33 -> 0 | N34: =$J$61-M33 -> 0 | O34: מגבעת יוקרתית | Q34: =IF($S$26=0,0,IF(P34=0,0,IF(T34<=$S$26,P34,V34))) -> 0 | R34: 203 | T34: =P34+T33 -> 0 | U34: =Q34+U33 -> 0 | V34: =$S$26-U33 -> 0
B35: פליימוביל | D35: =IF($J$61=0,0,IF(C35=0,0,IF(L35<=$J$61,C35,N35))) -> 0 | H35: 31 | I35: 1 | L35: =L34+C35 -> 0 | M35: =D35+M34 -> 0 | N35: =$J$61-M34 -> 0 | O35: חליפת בגיר | Q35: =IF($S$26=0,0,IF(P35=0,0,IF(T35<=$S$26,P35,V35))) -> 0 | R35: 204 | T35: =P35+T34 -> 0 | U35: =Q35+U34 -> 0 | V35: =$S$26-U34 -> 0
D36: =IF($J$61=0,0,IF(C36=0,0,IF(L36<=$J$61,C36,N36))) -> 0 | I36: 1 | L36: =L35+C36 -> 0 | M36: =D36+M35 -> 0 | N36: =$J$61-M35 -> 0 | O36: מקפיא 6 מגירות | Q36: =IF($S$26=0,0,IF(P36=0,0,IF(T36<=$S$26,P36,V36))) -> 0 | R36: 205 | T36: =P36+T35 -> 0 | U36: =Q36+U35 -> 0 | V36: =$S$26-U35 -> 0
D37: =IF($J$61=0,0,IF(C37=0,0,IF(L37<=$J$61,C37,N37))) -> 0 | I37: 1 | J37: =SUM(D22) -> 0 | K37: =SUM(C31:C37) -> 0 | L37: =L36+C37 -> 0 | M37: =D37+M36 -> 0 | N37: =$J$61-M36 -> 0 | O37: ערכת פלימוביל | Q37: =IF($S$26=0,0,IF(P37=0,0,IF(T37<=$S$26,P37,V37))) -> 0 | R37: 206 | T37: =P37+T36 -> 0 | U37: =Q37+U36 -> 0 | V37: =$S$26-U36 -> 0
A38: לרוכשי חבילות זהב ניתן לבחור גם ממתנות אלו | B38: תוספת 40 כרטסים | D38: =IF($J$61=0,0,IF($J$58=0,0,IF(C38=0,0,IF(L38<=$J$61,C38,N38)))) -> 0 | H38: 161 | I38: 2 | L38: =L37+C38 -> 0 | M38: =D38+M37 -> 0 | N38: =$J$64-M37 -> 0 | O38: גביע אליהו הנביא ענק | Q38: =IF($S$26=0,0,IF(P38=0,0,IF(T38<=$S$26,P38,V38))) -> 0 | R38: 207 | T38: =P38+T37 -> 0 | U38: =Q38+U37 -> 0 | V38: =$S$26-U37 -> 0
B39: מכשיר קשר | D39: =IF($J$61=0,0,IF($J$58=0,0,IF(C39=0,0,IF(L39<=$J$61,C39,N39)))) -> 0 | H39: 61 | I39: 2 | L39: =L38+C39 -> 0 | M39: =D39+M38 -> 0 | N39: =$J$64-M38 -> 0 | O39: כלי שומר טריות למצות | Q39: =IF($S$26=0,0,IF(P39=0,0,IF(T39<=$S$26,P39,V39))) -> 0 | R39: 208 | T39: =P39+T38 -> 0 | U39: =Q39+U38 -> 0 | V39: =$S$26-U38 -> 0
B40: מצעים בפריד | D40: =IF($J$61=0,0,IF($J$58=0,0,IF(C40=0,0,IF(L40<=$J$61,C40,N40)))) -> 0 | H40: 81 | I40: 2 | L40: =L39+C40 -> 0 | M40: =D40+M39 -> 0 | N40: =$J$64-M39 -> 0 | O40: מערכת שמע מקצועית | Q40: =IF($S$26=0,0,IF(P40=0,0,IF(T40<=$S$26,P40,V40))) -> 0 | R40: 209 | T40: =P40+T39 -> 0 | U40: =Q40+U39 -> 0 | V40: =$S$26-U39 -> 0
B41: סט סכום מוזהב ל 12 סועדים | D41: =IF($J$61=0,0,IF($J$58=0,0,IF(C41=0,0,IF(L41<=$J$61,C41,N41)))) -> 0 | H41: 191 | I41: 2 | L41: =L40+C41 -> 0 | M41: =D41+M40 -> 0 | N41: =$J$64-M40 -> 0 | O41: זוג פמוטי קריסטל | Q41: =IF($S$26=0,0,IF(P41=0,0,IF(T41<=$S$26,P41,V41))) -> 0 | R41: 210 | T41: =P41+T40 -> 0 | U41: =Q41+U40 -> 0 | V41: =$S$26-U40 -> 0
B42: סט סכום מוכסף ל 12 סועדים | D42: =IF($J$61=0,0,IF($J$58=0,0,IF(C42=0,0,IF(L42<=$J$61,C42,N42)))) -> 0 | H42: 201 | I42: 2 | J42: =SUM(D23) -> 0 | K42: =SUM(C38:C42) -> 0 | L42: =L41+C42 -> 0 | M42: =D42+M41 -> 0 | N42: =$J$64-M41 -> 0 | Q42: =IF($S$26=0,0,IF(P42=0,0,IF(T42<=$S$26,P42,V42))) -> 0 | T42: =P42+T41 -> 0 | U42: =Q42+U41 -> 0 | V42: =$S$26-U41 -> 0
A43: לרוכשי חבילות יהלום ניתן לבחור גם ממתנות אלו | B43: תוספת 80 כרטסים | D43: =IF($J$61=0,0,IF($J$59=0,0,IF(C43=0,0,IF(L43<=$J$61,C43,N43)))) -> 0 | H43: 171 | I43: 3 | L43: =L42+C43 -> 0 | M43: =D43+M42 -> 0 | N43: =$J$62-M42 -> 0 | Q43: =IF($S$26=0,0,IF(P43=0,0,IF(T43<=$S$26,P43,V43))) -> 0 | T43: =P43+T42 -> 0 | U43: =Q43+U42 -> 0 | V43: =$S$26-U42 -> 0
B44: זוג כיריים אינדוקציה | D44: =IF($J$61=0,0,IF($J$59=0,0,IF(C44=0,0,IF(L44<=$J$61,C44,N44)))) -> 0 | H44: 91 | I44: 3 | L44: =L43+C44 -> 0 | M44: =D44+M43 -> 0 | N44: =$J$62-M43 -> 0 | Q44: =IF($S$26=0,0,IF(P44=0,0,IF(T44<=$S$26,P44,V44))) -> 0 | T44: =P44+T43 -> 0 | U44: =Q44+U43 -> 0 | V44: =$S$26-U43 -> 0
...

Sheet זכנו  לא תקין
A1: נא למלאות את השדות שבצבע צהוב בלבד ולשלוח חזרה | D1: אם יש לכם מתנות ומעונינים לשלוח לכתובת שונה מהכתובת הרגילה יש למלאות עמודה זו
A3: פרטים אישים
A4: תעודת זהות | D4: שם פרטי
A5: שם פרטי | D5: שם משפחה
A6: שם משפחה | D6: רחוב
A7: רחוב | D7: מס בית
A8: מס בית | D8: קומה
A9: עיר | D9: עיר
A10: טלפון | D10: טלפון
A11: נייד | D11: נייד
A12: מייל
A16: חבילת רכישה
A17: שם חבילה | B17: כמות כרטיסים לחבילה | C17: מחיר | D17: כמות לרכישה | H17: קוד חבילה | I17: רמת מתנה | J17: סיכום | K17: =SUM(K18:K25) | L17: =SUM(K18:K25) -> 1800
A18: בסיסי | B18: 3 | C18: 90 | H18: 1 | I18: 0 | K18: =D18*C18 -> 0
A19: 10 כרטיסים | B19: 10 | C19: 180 | H19: 2 | I19: 0 | K19: =D19*C19 -> 0
A20: כדאית | B20: 25 | C20: 360 | H20: 3 | I20: 0 | K20: =D20*C20 -> 0
A21: משתלמת | B21: 85 | C21: 840 | E21: חבילות אלו זכאים למתנה ללא הגרלה | H21: 4 | I21: 1 | K21: =D21*C21 -> 0 | Q21: שימו לב מי שממלא יותר ממה שהוא זכאי אז התוכנה תבחר באופן אקראי את מה להכניס להגרלה
A22: זהב + כרטיס חצי קופה | B22: 150 | C22: 1200 | H22: 5 | I22: 2 | K22: =D22*C22 -> 0
A23: יהלום + 2 כרטסים לחצי קופה | B23: 250 | C23: 1800 | D23: 1 | H23: 6 | I23: 3 | K23: =D23*C23 -> 1800
A24: פלטניום + 3 כרטיסים לחצי קופה | B24: 400 | C24: 2400 | H24: 7 | I24: 4 | K24: =D24*C24 -> 0
A25: חצי קופה | B25: 0 | C25: 30 | E25: שימו לב חצי קופה לא ניתן לרכישה בנפרד רק כתוספת לחבילה | H25: 8 | I25: 0 | K25: =D25*C25 -> 0
A26: משלוח מתנות 840/1200 שאר הארץ | B26: 0 | C26: 14 | H26: 13 | I26: 0 | K26: =D26*C26 -> 0
A27: משלוח מתנות חבילת 1800 | B27: 0 | C27: 18 | H27: 14 | I27: 0 | K27: =D27*C27 -> 0
A29: מתנה ללא הגרלה | K29: עזר | Q29: כרטיסי בונוס | T29: =$D$56 -> 1800
B30: שם המתנה | C30: כמות מבוקשת | D30: מתנה שנקלטה | K30: סך כללי מבוקש | L30: סך לרמה מבוקש | M30: סך רמה 2 3 מבוקש | N30: סך רמה 3 4 מבוקש | O30: נקלט סהכ | P30: סהכ נקלט .רמה 3 4 | Q30: שם המתנה | R30: כמות מבוקשת | S30: מתנה שנקלטה | T30: קוד מתנה
A31: לרוכשי חבילות משתלמת ניתן לבחור מתנה אחת לכל חבילה | B31: תוספת 20 כרטסים | D31: =IF($J$61>0,IF(O31<$J$61,IF(K31<=$J$61,C31,0),0),0) -> 0 | H31: 17 | I31: 1 | K31: =C31 -> 0 | L31: =C31 -> 0 | O31: =0 -> 0 | Q31: כסא מנהלים לליל הסדר | R31: 1 | T31: 200
B32: אוזניות בלוטוס "לנובו | D32: =IF($J$61>0,IF(O32<$J$61,IF(K32<=$J$61,C32,0),0),0) -> 0 | H32: 18 | I32: 1 | K32: =K31+C32 -> 0 | L32: =L31+C32 -> 0 | O32: =O31+D31 -> 0 | Q32: מקפיא 6 מגירות | R32: 1 | T32: 201
B33: פלטת שבת גדולה | D33: =IF($J$61>0,IF(O33<$J$61,IF(K33<=$J$61,C33,0),0),0) -> 0 | H33: 19 | I33: 1 | K33: =K32+C33 -> 0 | L33: =L32+C33 -> 0 | O33: =O32+D32 -> 0 | Q33: מגבעת יוקרתית | R33: 1 | T33: 202
B34: זיכוי ב'אקסוס' לחולצה | D34: =IF($J$61>0,IF(O34<$J$61,IF(K34<=$J$61,C34,0),0),0) -> 0 | H34: 20 | I34: 1 | K34: =K33+C34 -> 0 | L34: =L33+C34 -> 0 | O34: =O33+D33 -> 0 | Q34: חליפת בגיר | T34: 203
D35: =IF($J$61>0,IF(O35<$J$61,IF(K35<=$J$61,C35,0),0),0) -> 0 | I35: 1 | K35: =K34+C35 -> 0 | L35: =L34+C35 -> 0 | O35: =O34+D34 -> 0 | Q35: שואב אבוק רטוב יבש עוצמתי | T35: 204
D36: =IF($J$61>0,IF(O36<$J$61,IF(K36<=$J$61,C36,0),0),0) -> 0 | I36: 1 | K36: =K35+C36 -> 0 | L36: =L35+C36 -> 0 | O36: =O35+D35 -> 0 | Q36: גביע אליהו הנביא ענק | T36: 205
D37: =IF($J$61>0,IF(O37<$J$61,IF(K37<=$J$61,C37,0),0),0) -> 0 | I37: 1 | K37: =K36+C37 -> 0 | L37: =L36+C37 -> 0 | O37: =O36+D36 -> 0 | Q37: מצית אלקטרוני לנרות שבת וחג | T37: 206
A38: לרוכשי חבילות זהב ניתן לבחור גם ממתנות אלו | B38: תוספת 40 כרטסים | D38: =IF($J$63>0,IF(O37<$J$61,IF(K37<=$J$61,C38),0),0) -> 0 | H38: 21 | I38: 2 | K38: =K37+C38 -> 0 | L38: =C38 -> 0 | M38: =C38 -> 0 | O38: =O37+D37 -> 0 | Q38: כלי קריסטל מפואר למצות מכונה | T38: 207
B39: יחי ראובן על התורה | D39: =IF($J$63>0,IF(O38<$J$61,IF(K38<=$J$61,C39),0),0) -> 0 | H39: 22 | I39: 2 | K39: =K38+C39 -> 0 | L39: =L38+C39 -> 0 | M39: =M38+C39 -> 0 | O39: =O38+D38 -> 0 | Q39: פלימוביל ענק - עבודת מצריים | T39: 208
B40: מפת שולחן יוקרתית + מפיות | D40: =IF($J$63>0,IF(O39<$J$61,IF(K39<=$J$61,C40),0),0) -> 0 | H40: 23 | I40: 2 | K40: =K39+C40 -> 0 | L40: =L39+C40 -> 0 | M40: =M39+C40 -> 0 | O40: =O39+D39 -> 0 | Q40: צעצועים לילדים לכבוד החג | T40: 209
B41: עמי חכמי' משחק ילדים | D41: =IF($J$63>0,IF(O40<$J$61,IF(K40<=$J$61,C41),0),0) -> 0 | H41: 24 | I41: 2 | K41: =K40+C41 -> 0 | L41: =L40+C41 -> 0 | M41: =M40+C41 -> 0 | O41: =O40+D40 -> 0 | Q41: סה"כ | R41: =SUM(R31:R40) -> 3 | S41: =SUM(S31:S40) -> 0
D42: =IF($J$63>0,IF(O41<$J$61,IF(K41<=$J$61,C42),0),0) -> 0 | I42: 2 | K42: =K41+C42 -> 0 | L42: =L41+C42 -> 0 | M42: =M41+C42 -> 0 | O42: =O41+D41 -> 0
A43: לרוכשי חבילות יהלום ניתן לבחור גם ממתנות אלו | B43: תוספת 80 כרטסים | D43: =IF($J$62>0,IF(O43<$J$61,IF(N43<=J62,IF(K43<=$J$61,IF(N43<$J$62,C43,0),0),0),0),0) -> 0 | H43: 25 | I43: 3 | K43: =K42+C43 -> 0 | L43: =C43 -> 0 | M43: =M42+C43 -> 0 | N43: =C43 -> 0 | O43: =O42+D42 -> 0 | P43: =D43 -> 0
B44: שואב אבק רטוב יבש | C44: 1 | D44: =IF($J$62>0,IF(O44<$J$61,IF(N44<=$J$63,IF(K44<=$J$61,IF(N44<$J$62,C44,0),0),0),0),0) -> 0 | H44: 26 | I44: 3 | K44: =K43+C44 -> 1 | L44: =L43+C44 -> 1 | M44: =M43+C44 -> 1 | N44: =N43+C44 -> 1 | O44: =O43+D43 -> 0 | P44: =P43+D44 -> 0
B45: מגש לחלות יחודי + מפית | D45: =IF($J$62>0,IF(O45<$J$61,IF(N45<=$J$63,IF(K45<=$J$61,IF(N45<$J$62,C45,0),0),0),0),0) -> 0 | H45: 27 | I45: 3 | K45: =K44+C45 -> 1 | L45: =L44+C45 -> 1 | M45: =M44+C45 -> 1 | N45: =N44+C45 -> 1 | O45: =O44+D44 -> 0 | P45: =P44+D45 -> 0
...

Sheet גיליון2
A1: קוד | B1: שם ישיבת בין הזמנים | C1: שם בית המדרש | D1: ביהמ''ד ממוקם בעיר: | Q1: חו"ל
A2: 0 | B2: קופה כללית | Q2: אבו גוש
A3: 0 | B3: קופה כללית | C3: בני ברק | I3: 01 | K3: 2023 | Q3: אבו סנאן
A4: 101 | B4: ישיבת רבנו חיים קמיל | C4: אופקים | D4: אופקים | I4: 02 | K4: 2024 | Q4: אבו תלול
A5: 103 | B5: גבורת ארי | C5: ירושלים | D5: ת"א | I5: 03 | K5: 2025 | Q5: אבטין
A6: 108 | B6: בני הישיבות - נוה יעקב | C6: ירושלים | D6: אלעד | I6: 04 | K6: 2026 | Q6: אבטליון
A7: 110 | B7: ביהכנ''ס בית תפילה נוה יעקב | C7: ירושלים | D7: אלעד | I7: 05 | K7: 2027 | Q7: אביאל
A8: 112 | B8: סוכת שלום | C8: ירושלים | D8: אלעד | I8: 06 | K8: 2028 | Q8: אביבים
A9: 203 | B9: נר יעקב בצלאל-היכל זרח | C9: אלעד | D9: אלעד | I9: 07 | K9: 2029 | Q9: אביגדור
A10: 223 | B10: זכרון יונה יוסף | D10: אלעד | I10: 08 | K10: 2030 | Q10: אביחיל
A11: 224 | B11: קולה של תורה | D11: פ"ת | I11: 09 | Q11: אביטל
A12: 240 | B12: ישיבת בין הזמנים כפר אברהם | C12: פתח תקווה | D12: לוד | I12: 10 | Q12: אביעזר
A13: 250 | B13: ישיבת בין הזמנים גני איילון | C13: לוד | D13: אשדוד | I13: 11 | Q13: אבירים
A14: 301 | B14: אגודת בן תורה-נפש החיים | C14: אשדוד | D14: ביתר | I14: 12 | Q14: אבן יהודה
A15: 401 | B15: זכור לאברהם | C15: ביתר עילית | D15: בית שמש | Q15: אבן מנחם
A16: 402 | B16: אשכנז הרב ש"ך | D16: בית שמש | Q16: אבן ספיר
A17: 408 | B17: ישיבת בין הזמנים שערי תפילה | C17: בית שמש | D17: בית שמש | Q17: אבן שמואל
A18: 409 | B18: היכל יוסף שלום בית שמש | C18: בית שמש | D18: בני ברק | Q18: אבני איתן
A19: 414 | B19: קרית הנציב-בר אילן | C19: בית שמש | D19: בני-ברק | Q19: אבני חפץ
A20: 415 | B20: ביהכ"נ המרכזי רמה ד' בית שמש | C20: בית שמש | D20: בני ברק | Q20: אבנת
A21: 432 | B21: ישיבת בין הזמנים והמתמידים תפארת -אדם | C21: גבע בנימין | D21: בני ברק | Q21: אבשלום
A22: 436 | B22: קרן התורה תל ציון | C22: כוכב יעקב (תל ציון) | D22: בני ברק | Q22: אדורה
A23: 601 | B23: כולל וישיבת בין הזמנים ביהכנ"ס המרכזי אשכנז שיכון ג' | C23: בני ברק | D23: בני ברק | Q23: אדירים
A24: 603 | B24: אהל יעקב ולאה | C24: בני ברק | D24: בני ברק | Q24: אדמית
A25: 604 | B25: יוצאי פוניבז' אהל תמר | C25: בני ברק | D25: בני ברק | Q25: אדרת
A26: 606 | B26: אורחות התלמוד | C26: בני ברק | D26: בני ברק | Q26: אודים
A27: 607 | B27: בוהוש | C27: בני ברק | D27: בני ברק | Q27: אודם
A28: 609 | B28: ישיבת בין הזמנים בביהכנ"ס המרכזי | C28: בני ברק | D28: בני ברק | Q28: אוהד
... A51: 651 | B51: שם אבותי | C51: בני ברק | D51: בני ברק | Q51: אחיטוב
A52: 652 | B52: שתילי זיתים | D52: ב"ב | Q52: אחיסמך
A53: 653 | B53: תפארת נחמן | C53: בני ברק | Q53: אחיעזר
A54: 660 | B54: נחלת סירוקה | C54: בני ברק | D54: בני ברק | Q54: איבים
A55: 661 | B55: מנין אברכים שמעה תפילתי | C55: בני ברק | D55: ב''ב | Q55: אייל
A56: 663 | B56: כולל וישיבת ביה"ז שע"י קהילות הקודש קרית הרצוג | C56: בני ברק | D56: בני ברק | Q56: איילת השחר
A57: 664 | B57: בית תפילה | C57: בני ברק | D57: בני ברק | Q57: אילון
A58: 669 | B58: קהילת חניכי הישיבות | C58: בני ברק | D58: בני ברק, ירושלים, בית שמש, אלעז, ביתר | Q58: אילות
A59: 675 | B59: זכרון מיכאל -חדוות יחיאל | C59: בני ברק | D59: ביתר | Q59: אילניה
A60: 677 | B60: ישיבת בה"ז תפארת דן שע"י ישיבת בית מדרש עליון | C60: בני ברק | D60: בני ברק | Q60: אילת
A61: 678 | B61: משכן יחזקאל | C61: בני ברק | D61: בני ברק | Q61: אירוס
A62: 681 | B62: מכנובקא בעלזא | C62: בני ברק | D62: ירושלים\בני ברק | Q62: איתמר
...

Sheet גיליון1
