Workbook

Sheet מחשבון הלוואה
A1: שם ההלוואה | B1: משכנתה | K1: שם ההלוואה | L1: משכנתה מל"צ ,תשלום ראשון
A2: הלוואה בחודשים: | B2: 40 | E2: סה"כ ריבית | F2: סה"כ קרן | G2: סה"כ החזר | K2: הלוואה בחודשים: | L2: 180 | O2: סה"כ ריבית | P2: סה"כ קרן | Q2: סה"כ החזר
A3: סכום הלוואה: | B3: 50000 | E3: =SUM(E8:E501) -> 2604.0817 | F3: =SUM(F8:F501) -> 50000 | G3: =SUM(G8:G501) -> 52604.082 | K3: סכום הלוואה: | L3: 200000 | O3: =SUM(O8:O247) -> 74294.947 | P3: =SUM(P8:P247) -> 200000 | Q3: =SUM(Q8:Q247) -> 274294.95
A4: אחוז ריבית שנתית: | B4: 0.03 | K4: אחוז ריבית שנתית: | L4: 0.0444
A5: תשלום ראשון | B5: 45127 | K5: תשלום ראשון | L5: 45219
A7: חודש | B7: תאריך תשלום | C7: עמודת עזר להמרת תאריך | D7: יתרת פתיחה | E7: על חשבון ריבית | F7: על חשבון קרן | G7: סה"כ החזר חודשי | H7: יתרת סגירה | K7: חודש | L7: תאריך תשלום | M7: עמודת עזר להמרת תאריך | N7: יתרת פתיחה | O7: על חשבון ריבית | P7: על חשבון קרן | Q7: סה"כ החזר חודשי | R7: יתרת סגירה
A8: =IF(ROWS($A$8:A8)>$B$2,"",ROWS($A$8:A8)) -> 1 | B8: =IF(B5="","",B5) -> 45127 | C8: =TEXT(B8,"m/yyyy") -> 7/2023 | D8: =IF(A8="","",IF(A8=1,$B$3,H7)) -> 50000 | E8: =IF(A8="","",D8*$B$4/12) -> 125 | F8: =IF(A8="","",G8-E8) -> 1190.102 | G8: =IF(A8="","",-PMT($B$4/12,$B$2-A8+1,D8)) -> 1315.102 | H8: =IF(A8="","",D8-F8) -> 48809.898 | K8: =IF(ROWS($K$8:K8)>$L$2,"",ROWS($K$8:K8)) -> 1 | L8: =IF(L5="","",L5) -> 45219 | M8: =TEXT(L8,"mm/yyyy") -> 10/2023 | N8: =IF(K8="","",IF(K8=1,$L$3,R7)) -> 200000 | O8: =IF(K8="","",N8*$L$4/12) -> 740 | P8: =IF(K8="","",Q8-O8) -> 783.86081 | Q8: =IF(K8="","",-PMT($L$4/12,$L$2-K8+1,N8)) -> 1523.8608 | R8: =IF(K8="","",N8-P8) -> 199216.14
A9: =IF(ROWS($A$8:A9)>$B$2,"",ROWS($A$8:A9)) -> 2 | B9: =IF(A9="","",EDATE(B8,1)) -> 45158 | C9: =TEXT(B9,"m/yyyy") -> 8/2023 | D9: =IF(A9="","",IF(A9=1,$B$3,H8)) -> 48809.898 | E9: =IF(A9="","",D9*$B$4/12) -> 122.02474 | F9: =IF(A9="","",G9-E9) -> 1193.0773 | G9: =IF(A9="","",-PMT($B$4/12,$B$2-A9+1,D9)) -> 1315.102 | H9: =IF(A9="","",D9-F9) -> 47616.821 | K9: =IF(ROWS($K$8:K9)>$L$2,"",ROWS($K$8:K9)) -> 2 | L9: =IF(K9="","",EDATE(L8,1)) -> 45250 | M9: =TEXT(L9,"mm/yyyy") -> 11/2023 | N9: =IF(K9="","",IF(K9=1,$L$3,R8)) -> 199216.14 | O9: =IF(K9="","",N9*$L$4/12) -> 737.09971 | P9: =IF(K9="","",Q9-O9) -> 786.7611 | Q9: =IF(K9="","",-PMT($L$4/12,$L$2-K9+1,N9)) -> 1523.8608 | R9: =IF(K9="","",N9-P9) -> 198429.38
A10: =IF(ROWS($A$8:A10)>$B$2,"",ROWS($A$8:A10)) -> 3 | B10: =IF(A10="","",EDATE(B9,1)) -> 45189 | C10: =TEXT(B10,"m/yyyy") -> 9/2023 | D10: =IF(A10="","",IF(A10=1,$B$3,H9)) -> 47616.821 | E10: =IF(A10="","",D10*$B$4/12) -> 119.04205 | F10: =IF(A10="","",G10-E10) -> 1196.06 | G10: =IF(A10="","",-PMT($B$4/12,$B$2-A10+1,D10)) -> 1315.102 | H10: =IF(A10="","",D10-F10) -> 46420.761 | K10: =IF(ROWS($K$8:K10)>$L$2,"",ROWS($K$8:K10)) -> 3 | L10: =IF(K10="","",EDATE(L9,1)) -> 45280 | M10: =TEXT(L10,"mm/yyyy") -> 12/2023 | N10: =IF(K10="","",IF(K10=1,$L$3,R9)) -> 198429.38 | O10: =IF(K10="","",N10*$L$4/12) -> 734.1887 | P10: =IF(K10="","",Q10-O10) -> 789.67212 | Q10: =IF(K10="","",-PMT($L$4/12,$L$2-K10+1,N10)) -> 1523.8608 | R10: =IF(K10="","",N10-P10) -> 197639.71
A11: =IF(ROWS($A$8:A11)>$B$2,"",ROWS($A$8:A11)) -> 4 | B11: =IF(A11="","",EDATE(B10,1)) -> 45219 | C11: =TEXT(B11,"m/yyyy") -> 10/2023 | D11: =IF(A11="","",IF(A11=1,$B$3,H10)) -> 46420.761 | E11: =IF(A11="","",D11*$B$4/12) -> 116.0519 | F11: =IF(A11="","",G11-E11) -> 1199.0501 | G11: =IF(A11="","",-PMT($B$4/12,$B$2-A11+1,D11)) -> 1315.102 | H11: =IF(A11="","",D11-F11) -> 45221.711 | K11: =IF(ROWS($K$8:K11)>$L$2,"",ROWS($K$8:K11)) -> 4 | L11: =IF(K11="","",EDATE(L10,1)) -> 45311 | M11: =TEXT(L11,"mm/yyyy") -> 01/2024 | N11: =IF(K11="","",IF(K11=1,$L$3,R10)) -> 197639.71 | O11: =IF(K11="","",N11*$L$4/12) -> 731.26691 | P11: =IF(K11="","",Q11-O11) -> 792.5939 | Q11: =IF(K11="","",-PMT($L$4/12,$L$2-K11+1,N11)) -> 1523.8608 | R11: =IF(K11="","",N11-P11) -> 196847.11
A12: =IF(ROWS($A$8:A12)>$B$2,"",ROWS($A$8:A12)) -> 5 | B12: =IF(A12="","",EDATE(B11,1)) -> 45250 | C12: =TEXT(B12,"m/yyyy") -> 11/2023 | D12: =IF(A12="","",IF(A12=1,$B$3,H11)) -> 45221.711 | E12: =IF(A12="","",D12*$B$4/12) -> 113.05428 | F12: =IF(A12="","",G12-E12) -> 1202.0478 | G12: =IF(A12="","",-PMT($B$4/12,$B$2-A12+1,D12)) -> 1315.102 | H12: =IF(A12="","",D12-F12) -> 44019.663 | K12: =IF(ROWS($K$8:K12)>$L$2,"",ROWS($K$8:K12)) -> 5 | L12: =IF(K12="","",EDATE(L11,1)) -> 45342 | M12: =TEXT(L12,"mm/yyyy") -> 02/2024 | N12: =IF(K12="","",IF(K12=1,$L$3,R11)) -> 196847.11 | O12: =IF(K12="","",N12*$L$4/12) -> 728.33431 | P12: =IF(K12="","",Q12-O12) -> 795.5265 | Q12: =IF(K12="","",-PMT($L$4/12,$L$2-K12+1,N12)) -> 1523.8608 | R12: =IF(K12="","",N12-P12) -> 196051.59
A13: =IF(ROWS($A$8:A13)>$B$2,"",ROWS($A$8:A13)) -> 6 | B13: =IF(A13="","",EDATE(B12,1)) -> 45280 | C13: =TEXT(B13,"m/yyyy") -> 12/2023 | D13: =IF(A13="","",IF(A13=1,$B$3,H12)) -> 44019.663 | E13: =IF(A13="","",D13*$B$4/12) -> 110.04916 | F13: =IF(A13="","",G13-E13) -> 1205.0529 | G13: =IF(A13="","",-PMT($B$4/12,$B$2-A13+1,D13)) -> 1315.102 | H13: =IF(A13="","",D13-F13) -> 42814.61 | K13: =IF(ROWS($K$8:K13)>$L$2,"",ROWS($K$8:K13)) -> 6 | L13: =IF(K13="","",EDATE(L12,1)) -> 45371 | M13: =TEXT(L13,"mm/yyyy") -> 03/2024 | N13: =IF(K13="","",IF(K13=1,$L$3,R12)) -> 196051.59 | O13: =IF(K13="","",N13*$L$4/12) -> 725.39087 | P13: =IF(K13="","",Q13-O13) -> 798.46995 | Q13: =IF(K13="","",-PMT($L$4/12,$L$2-K13+1,N13)) -> 1523.8608 | R13: =IF(K13="","",N13-P13) -> 195253.12
A14: =IF(ROWS($A$8:A14)>$B$2,"",ROWS($A$8:A14)) -> 7 | B14: =IF(A14="","",EDATE(B13,1)) -> 45311 | C14: =TEXT(B14,"m/yyyy") -> 1/2024 | D14: =IF(A14="","",IF(A14=1,$B$3,H13)) -> 42814.61 | E14: =IF(A14="","",D14*$B$4/12) -> 107.03652 | F14: =IF(A14="","",G14-E14) -> 1208.0655 | G14: =IF(A14="","",-PMT($B$4/12,$B$2-A14+1,D14)) -> 1315.102 | H14: =IF(A14="","",D14-F14) -> 41606.544 | K14: =IF(ROWS($K$8:K14)>$L$2,"",ROWS($K$8:K14)) -> 7 | L14: =IF(K14="","",EDATE(L13,1)) -> 45402 | M14: =TEXT(L14,"mm/yyyy") -> 04/2024 | N14: =IF(K14="","",IF(K14=1,$L$3,R13)) -> 195253.12 | O14: =IF(K14="","",N14*$L$4/12) -> 722.43653 | P14: =IF(K14="","",Q14-O14) -> 801.42429 | Q14: =IF(K14="","",-PMT($L$4/12,$L$2-K14+1,N14)) -> 1523.8608 | R14: =IF(K14="","",N14-P14) -> 194451.69
A15: =IF(ROWS($A$8:A15)>$B$2,"",ROWS($A$8:A15)) -> 8 | B15: =IF(A15="","",EDATE(B14,1)) -> 45342 | C15: =TEXT(B15,"m/yyyy") -> 2/2024 | D15: =IF(A15="","",IF(A15=1,$B$3,H14)) -> 41606.544 | E15: =IF(A15="","",D15*$B$4/12) -> 104.01636 | F15: =IF(A15="","",G15-E15) -> 1211.0857 | G15: =IF(A15="","",-PMT($B$4/12,$B$2-A15+1,D15)) -> 1315.102 | H15: =IF(A15="","",D15-F15) -> 40395.459 | K15: =IF(ROWS($K$8:K15)>$L$2,"",ROWS($K$8:K15)) -> 8 | L15: =IF(K15="","",EDATE(L14,1)) -> 45432 | M15: =TEXT(L15,"mm/yyyy") -> 05/2024 | N15: =IF(K15="","",IF(K15=1,$L$3,R14)) -> 194451.69 | O15: =IF(K15="","",N15*$L$4/12) -> 719.47126 | P15: =IF(K15="","",Q15-O15) -> 804.38956 | Q15: =IF(K15="","",-PMT($L$4/12,$L$2-K15+1,N15)) -> 1523.8608 | R15: =IF(K15="","",N15-P15) -> 193647.3
A16: =IF(ROWS($A$8:A16)>$B$2,"",ROWS($A$8:A16)) -> 9 | B16: =IF(A16="","",EDATE(B15,1)) -> 45371 | C16: =TEXT(B16,"m/yyyy") -> 3/2024 | D16: =IF(A16="","",IF(A16=1,$B$3,H15)) -> 40395.459 | E16: =IF(A16="","",D16*$B$4/12) -> 100.98865 | F16: =IF(A16="","",G16-E16) -> 1214.1134 | G16: =IF(A16="","",-PMT($B$4/12,$B$2-A16+1,D16)) -> 1315.102 | H16: =IF(A16="","",D16-F16) -> 39181.345 | K16: =IF(ROWS($K$8:K16)>$L$2,"",ROWS($K$8:K16)) -> 9 | L16: =IF(K16="","",EDATE(L15,1)) -> 45463 | M16: =TEXT(L16,"mm/yyyy") -> 06/2024 | N16: =IF(K16="","",IF(K16=1,$L$3,R15)) -> 193647.3 | O16: =IF(K16="","",N16*$L$4/12) -> 716.49502 | P16: =IF(K16="","",Q16-O16) -> 807.3658 | Q16: =IF(K16="","",-PMT($L$4/12,$L$2-K16+1,N16)) -> 1523.8608 | R16: =IF(K16="","",N16-P16) -> 192839.94
A17: =IF(ROWS($A$8:A17)>$B$2,"",ROWS($A$8:A17)) -> 10 | B17: =IF(A17="","",EDATE(B16,1)) -> 45402 | C17: =TEXT(B17,"m/yyyy") -> 4/2024 | D17: =IF(A17="","",IF(A17=1,$B$3,H16)) -> 39181.345 | E17: =IF(A17="","",D17*$B$4/12) -> 97.953363 | F17: =IF(A17="","",G17-E17) -> 1217.1487 | G17: =IF(A17="","",-PMT($B$4/12,$B$2-A17+1,D17)) -> 1315.102 | H17: =IF(A17="","",D17-F17) -> 37964.197 | K17: =IF(ROWS($K$8:K17)>$L$2,"",ROWS($K$8:K17)) -> 10 | L17: =IF(K17="","",EDATE(L16,1)) -> 45493 | M17: =TEXT(L17,"mm/yyyy") -> 07/2024 | N17: =IF(K17="","",IF(K17=1,$L$3,R16)) -> 192839.94 | O17: =IF(K17="","",N17*$L$4/12) -> 713.50776 | P17: =IF(K17="","",Q17-O17) -> 810.35305 | Q17: =IF(K17="","",-PMT($L$4/12,$L$2-K17+1,N17)) -> 1523.8608 | R17: =IF(K17="","",N17-P17) -> 192029.58
A18: =IF(ROWS($A$8:A18)>$B$2,"",ROWS($A$8:A18)) -> 11 | B18: =IF(A18="","",EDATE(B17,1)) -> 45432 | C18: =TEXT(B18,"m/yyyy") -> 5/2024 | D18: =IF(A18="","",IF(A18=1,$B$3,H17)) -> 37964.197 | E18: =IF(A18="","",D18*$B$4/12) -> 94.910491 | F18: =IF(A18="","",G18-E18) -> 1220.1916 | G18: =IF(A18="","",-PMT($B$4/12,$B$2-A18+1,D18)) -> 1315.102 | H18: =IF(A18="","",D18-F18) -> 36744.005 | K18: =IF(ROWS($K$8:K18)>$L$2,"",ROWS($K$8:K18)) -> 11 | L18: =IF(K18="","",EDATE(L17,1)) -> 45524 | M18: =TEXT(L18,"mm/yyyy") -> 08/2024 | N18: =IF(K18="","",IF(K18=1,$L$3,R17)) -> 192029.58 | O18: =IF(K18="","",N18*$L$4/12) -> 710.50946 | P18: =IF(K18="","",Q18-O18) -> 813.35136 | Q18: =IF(K18="","",-PMT($L$4/12,$L$2-K18+1,N18)) -> 1523.8608 | R18: =IF(K18="","",N18-P18) -> 191216.23
A19: =IF(ROWS($A$8:A19)>$B$2,"",ROWS($A$8:A19)) -> 12 | B19: =IF(A19="","",EDATE(B18,1)) -> 45463 | C19: =TEXT(B19,"m/yyyy") -> 6/2024 | D19: =IF(A19="","",IF(A19=1,$B$3,H18)) -> 36744.005 | E19: =IF(A19="","",D19*$B$4/12) -> 91.860013 | F19: =IF(A19="","",G19-E19) -> 1223.242 | G19: =IF(A19="","",-PMT($B$4/12,$B$2-A19+1,D19)) -> 1315.102 | H19: =IF(A19="","",D19-F19) -> 35520.763 | K19: =IF(ROWS($K$8:K19)>$L$2,"",ROWS($K$8:K19)) -> 12 | L19: =IF(K19="","",EDATE(L18,1)) -> 45555 | M19: =TEXT(L19,"mm/yyyy") -> 09/2024 | N19: =IF(K19="","",IF(K19=1,$L$3,R18)) -> 191216.23 | O19: =IF(K19="","",N19*$L$4/12) -> 707.50006 | P19: =IF(K19="","",Q19-O19) -> 816.36076 | Q19: =IF(K19="","",-PMT($L$4/12,$L$2-K19+1,N19)) -> 1523.8608 | R19: =IF(K19="","",N19-P19) -> 190399.87
A20: =IF(ROWS($A$8:A20)>$B$2,"",ROWS($A$8:A20)) -> 13 | B20: =IF(A20="","",EDATE(B19,1)) -> 45493 | C20: =TEXT(B20,"m/yyyy") -> 7/2024 | D20: =IF(A20="","",IF(A20=1,$B$3,H19)) -> 35520.763 | E20: =IF(A20="","",D20*$B$4/12) -> 88.801908 | F20: =IF(A20="","",G20-E20) -> 1226.3001 | G20: =IF(A20="","",-PMT($B$4/12,$B$2-A20+1,D20)) -> 1315.102 | H20: =IF(A20="","",D20-F20) -> 34294.463 | K20: =IF(ROWS($K$8:K20)>$L$2,"",ROWS($K$8:K20)) -> 13 | L20: =IF(K20="","",EDATE(L19,1)) -> 45585 | M20: =TEXT(L20,"mm/yyyy") -> 10/2024 | N20: =IF(K20="","",IF(K20=1,$L$3,R19)) -> 190399.87 | O20: =IF(K20="","",N20*$L$4/12) -> 704.47952 | P20: =IF(K20="","",Q20-O20) -> 819.38129 | Q20: =IF(K20="","",-PMT($L$4/12,$L$2-K20+1,N20)) -> 1523.8608 | R20: =IF(K20="","",N20-P20) -> 189580.49
... A47: =IF(ROWS($A$8:A47)>$B$2,"",ROWS($A$8:A47)) -> 40 | B47: =IF(A47="","",EDATE(B46,1)) -> 46315 | C47: =TEXT(B47,"m/yyyy") -> 10/2026 | D47: =IF(A47="","",IF(A47=1,$B$3,H46)) -> 1311.8225 | E47: =IF(A47="","",D47*$B$4/12) -> 3.2795562 | F47: =IF(A47="","",G47-E47) -> 1311.8225 | G47: =IF(A47="","",-PMT($B$4/12,$B$2-A47+1,D47)) -> 1315.102 | H47: =IF(A47="","",D47-F47) -> 0 | K47: =IF(ROWS($K$8:K47)>$L$2,"",ROWS($K$8:K47)) -> 40 | L47: =IF(K47="","",EDATE(L46,1)) -> 46407 | M47: =TEXT(L47,"mm/yyyy") -> 01/2027 | N47: =IF(K47="","",IF(K47=1,$L$3,R46)) -> 167178.89 | O47: =IF(K47="","",N47*$L$4/12) -> 618.56191 | P47: =IF(K47="","",Q47-O47) -> 905.29891 | Q47: =IF(K47="","",-PMT($L$4/12,$L$2-K47+1,N47)) -> 1523.8608 | R47: =IF(K47="","",N47-P47) -> 166273.59
A48: =IF(ROWS($A$8:A48)>$B$2,"",ROWS($A$8:A48)) | B48: =IF(A48="","",EDATE(B47,1)) | D48: =IF(A48="","",IF(A48=1,$B$3,H47)) | E48: =IF(A48="","",D48*$B$4/12) | F48: =IF(A48="","",G48-E48) | G48: =IF(A48="","",-PMT($B$4/12,$B$2-A48+1,D48)) | H48: =IF(A48="","",D48-F48) | K48: =IF(ROWS($K$8:K48)>$L$2,"",ROWS($K$8:K48)) -> 41 | L48: =IF(K48="","",EDATE(L47,1)) -> 46438 | M48: =TEXT(L48,"mm/yyyy") -> 02/2027 | N48: =IF(K48="","",IF(K48=1,$L$3,R47)) -> 166273.59 | O48: =IF(K48="","",N48*$L$4/12) -> 615.2123 | P48: =IF(K48="","",Q48-O48) -> 908.64851 | Q48: =IF(K48="","",-PMT($L$4/12,$L$2-K48+1,N48)) -> 1523.8608 | R48: =IF(K48="","",N48-P48) -> 165364.95
A49: =IF(ROWS($A$8:A49)>$B$2,"",ROWS($A$8:A49)) | B49: =IF(A49="","",EDATE(B48,1)) | D49: =IF(A49="","",IF(A49=1,$B$3,H48)) | E49: =IF(A49="","",D49*$B$4/12) | F49: =IF(A49="","",G49-E49) | G49: =IF(A49="","",-PMT($B$4/12,$B$2-A49+1,D49)) | H49: =IF(A49="","",D49-F49) | K49: =IF(ROWS($K$8:K49)>$L$2,"",ROWS($K$8:K49)) -> 42 | L49: =IF(K49="","",EDATE(L48,1)) -> 46466 | M49: =TEXT(L49,"mm/yyyy") -> 03/2027 | N49: =IF(K49="","",IF(K49=1,$L$3,R48)) -> 165364.95 | O49: =IF(K49="","",N49*$L$4/12) -> 611.8503 | P49: =IF(K49="","",Q49-O49) -> 912.01051 | Q49: =IF(K49="","",-PMT($L$4/12,$L$2-K49+1,N49)) -> 1523.8608 | R49: =IF(K49="","",N49-P49) -> 164452.94
A50: =IF(ROWS($A$8:A50)>$B$2,"",ROWS($A$8:A50)) | B50: =IF(A50="","",EDATE(B49,1)) | D50: =IF(A50="","",IF(A50=1,$B$3,H49)) | E50: =IF(A50="","",D50*$B$4/12) | F50: =IF(A50="","",G50-E50) | G50: =IF(A50="","",-PMT($B$4/12,$B$2-A50+1,D50)) | H50: =IF(A50="","",D50-F50) | K50: =IF(ROWS($K$8:K50)>$L$2,"",ROWS($K$8:K50)) -> 43 | L50: =IF(K50="","",EDATE(L49,1)) -> 46497 | M50: =TEXT(L50,"mm/yyyy") -> 04/2027 | N50: =IF(K50="","",IF(K50=1,$L$3,R49)) -> 164452.94 | O50: =IF(K50="","",N50*$L$4/12) -> 608.47586 | P50: =IF(K50="","",Q50-O50) -> 915.38495 | Q50: =IF(K50="","",-PMT($L$4/12,$L$2-K50+1,N50)) -> 1523.8608 | R50: =IF(K50="","",N50-P50) -> 163537.55
A51: =IF(ROWS($A$8:A51)>$B$2,"",ROWS($A$8:A51)) | B51: =IF(A51="","",EDATE(B50,1)) | D51: =IF(A51="","",IF(A51=1,$B$3,H50)) | E51: =IF(A51="","",D51*$B$4/12) | F51: =IF(A51="","",G51-E51) | G51: =IF(A51="","",-PMT($B$4/12,$B$2-A51+1,D51)) | H51: =IF(A51="","",D51-F51) | K51: =IF(ROWS($K$8:K51)>$L$2,"",ROWS($K$8:K51)) -> 44 | L51: =IF(K51="","",EDATE(L50,1)) -> 46527 | M51: =TEXT(L51,"mm/yyyy") -> 05/2027 | N51: =IF(K51="","",IF(K51=1,$L$3,R50)) -> 163537.55 | O51: =IF(K51="","",N51*$L$4/12) -> 605.08894 | P51: =IF(K51="","",Q51-O51) -> 918.77188 | Q51: =IF(K51="","",-PMT($L$4/12,$L$2-K51+1,N51)) -> 1523.8608 | R51: =IF(K51="","",N51-P51) -> 162618.78
A52: =IF(ROWS($A$8:A52)>$B$2,"",ROWS($A$8:A52)) | B52: =IF(A52="","",EDATE(B51,1)) | D52: =IF(A52="","",IF(A52=1,$B$3,H51)) | E52: =IF(A52="","",D52*$B$4/12) | F52: =IF(A52="","",G52-E52) | G52: =IF(A52="","",-PMT($B$4/12,$B$2-A52+1,D52)) | H52: =IF(A52="","",D52-F52) | K52: =IF(ROWS($K$8:K52)>$L$2,"",ROWS($K$8:K52)) -> 45 | L52: =IF(K52="","",EDATE(L51,1)) -> 46558 | M52: =TEXT(L52,"mm/yyyy") -> 06/2027 | N52: =IF(K52="","",IF(K52=1,$L$3,R51)) -> 162618.78 | O52: =IF(K52="","",N52*$L$4/12) -> 601.68948 | P52: =IF(K52="","",Q52-O52) -> 922.17133 | Q52: =IF(K52="","",-PMT($L$4/12,$L$2-K52+1,N52)) -> 1523.8608 | R52: =IF(K52="","",N52-P52) -> 161696.61
A53: =IF(ROWS($A$8:A53)>$B$2,"",ROWS($A$8:A53)) | B53: =IF(A53="","",EDATE(B52,1)) | D53: =IF(A53="","",IF(A53=1,$B$3,H52)) | E53: =IF(A53="","",D53*$B$4/12) | F53: =IF(A53="","",G53-E53) | G53: =IF(A53="","",-PMT($B$4/12,$B$2-A53+1,D53)) | H53: =IF(A53="","",D53-F53) | K53: =IF(ROWS($K$8:K53)>$L$2,"",ROWS($K$8:K53)) -> 46 | L53: =IF(K53="","",EDATE(L52,1)) -> 46588 | M53: =TEXT(L53,"mm/yyyy") -> 07/2027 | N53: =IF(K53="","",IF(K53=1,$L$3,R52)) -> 161696.61 | O53: =IF(K53="","",N53*$L$4/12) -> 598.27745 | P53: =IF(K53="","",Q53-O53) -> 925.58337 | Q53: =IF(K53="","",-PMT($L$4/12,$L$2-K53+1,N53)) -> 1523.8608 | R53: =IF(K53="","",N53-P53) -> 160771.02
A54: =IF(ROWS($A$8:A54)>$B$2,"",ROWS($A$8:A54)) | B54: =IF(A54="","",EDATE(B53,1)) | D54: =IF(A54="","",IF(A54=1,$B$3,H53)) | E54: =IF(A54="","",D54*$B$4/12) | F54: =IF(A54="","",G54-E54) | G54: =IF(A54="","",-PMT($B$4/12,$B$2-A54+1,D54)) | H54: =IF(A54="","",D54-F54) | K54: =IF(ROWS($K$8:K54)>$L$2,"",ROWS($K$8:K54)) -> 47 | L54: =IF(K54="","",EDATE(L53,1)) -> 46619 | M54: =TEXT(L54,"mm/yyyy") -> 08/2027 | N54: =IF(K54="","",IF(K54=1,$L$3,R53)) -> 160771.02 | O54: =IF(K54="","",N54*$L$4/12) -> 594.85279 | P54: =IF(K54="","",Q54-O54) -> 929.00802 | Q54: =IF(K54="","",-PMT($L$4/12,$L$2-K54+1,N54)) -> 1523.8608 | R54: =IF(K54="","",N54-P54) -> 159842.02
A55: =IF(ROWS($A$8:A55)>$B$2,"",ROWS($A$8:A55)) | B55: =IF(A55="","",EDATE(B54,1)) | D55: =IF(A55="","",IF(A55=1,$B$3,H54)) | E55: =IF(A55="","",D55*$B$4/12) | F55: =IF(A55="","",G55-E55) | G55: =IF(A55="","",-PMT($B$4/12,$B$2-A55+1,D55)) | H55: =IF(A55="","",D55-F55) | K55: =IF(ROWS($K$8:K55)>$L$2,"",ROWS($K$8:K55)) -> 48 | L55: =IF(K55="","",EDATE(L54,1)) -> 46650 | M55: =TEXT(L55,"mm/yyyy") -> 09/2027 | N55: =IF(K55="","",IF(K55=1,$L$3,R54)) -> 159842.02 | O55: =IF(K55="","",N55*$L$4/12) -> 591.41546 | P55: =IF(K55="","",Q55-O55) -> 932.44535 | Q55: =IF(K55="","",-PMT($L$4/12,$L$2-K55+1,N55)) -> 1523.8608 | R55: =IF(K55="","",N55-P55) -> 158909.57
A56: =IF(ROWS($A$8:A56)>$B$2,"",ROWS($A$8:A56)) | B56: =IF(A56="","",EDATE(B55,1)) | D56: =IF(A56="","",IF(A56=1,$B$3,H55)) | E56: =IF(A56="","",D56*$B$4/12) | F56: =IF(A56="","",G56-E56) | G56: =IF(A56="","",-PMT($B$4/12,$B$2-A56+1,D56)) | H56: =IF(A56="","",D56-F56) | K56: =IF(ROWS($K$8:K56)>$L$2,"",ROWS($K$8:K56)) -> 49 | L56: =IF(K56="","",EDATE(L55,1)) -> 46680 | M56: =TEXT(L56,"mm/yyyy") -> 10/2027 | N56: =IF(K56="","",IF(K56=1,$L$3,R55)) -> 158909.57 | O56: =IF(K56="","",N56*$L$4/12) -> 587.96541 | P56: =IF(K56="","",Q56-O56) -> 935.8954 | Q56: =IF(K56="","",-PMT($L$4/12,$L$2-K56+1,N56)) -> 1523.8608 | R56: =IF(K56="","",N56-P56) -> 157973.68
A57: =IF(ROWS($A$8:A57)>$B$2,"",ROWS($A$8:A57)) | B57: =IF(A57="","",EDATE(B56,1)) | D57: =IF(A57="","",IF(A57=1,$B$3,H56)) | E57: =IF(A57="","",D57*$B$4/12) | F57: =IF(A57="","",G57-E57) | G57: =IF(A57="","",-PMT($B$4/12,$B$2-A57+1,D57)) | H57: =IF(A57="","",D57-F57) | K57: =IF(ROWS($K$8:K57)>$L$2,"",ROWS($K$8:K57)) -> 50 | L57: =IF(K57="","",EDATE(L56,1)) -> 46711 | M57: =TEXT(L57,"mm/yyyy") -> 11/2027 | N57: =IF(K57="","",IF(K57=1,$L$3,R56)) -> 157973.68 | O57: =IF(K57="","",N57*$L$4/12) -> 584.5026 | P57: =IF(K57="","",Q57-O57) -> 939.35822 | Q57: =IF(K57="","",-PMT($L$4/12,$L$2-K57+1,N57)) -> 1523.8608 | R57: =IF(K57="","",N57-P57) -> 157034.32
A58: =IF(ROWS($A$8:A58)>$B$2,"",ROWS($A$8:A58)) | B58: =IF(A58="","",EDATE(B57,1)) | D58: =IF(A58="","",IF(A58=1,$B$3,H57)) | E58: =IF(A58="","",D58*$B$4/12) | F58: =IF(A58="","",G58-E58) | G58: =IF(A58="","",-PMT($B$4/12,$B$2-A58+1,D58)) | H58: =IF(A58="","",D58-F58) | K58: =IF(ROWS($K$8:K58)>$L$2,"",ROWS($K$8:K58)) -> 51 | L58: =IF(K58="","",EDATE(L57,1)) -> 46741 | M58: =TEXT(L58,"mm/yyyy") -> 12/2027 | N58: =IF(K58="","",IF(K58=1,$L$3,R57)) -> 157034.32 | O58: =IF(K58="","",N58*$L$4/12) -> 581.02697 | P58: =IF(K58="","",Q58-O58) -> 942.83384 | Q58: =IF(K58="","",-PMT($L$4/12,$L$2-K58+1,N58)) -> 1523.8608 | R58: =IF(K58="","",N58-P58) -> 156091.48
A59: =IF(ROWS($A$8:A59)>$B$2,"",ROWS($A$8:A59)) | B59: =IF(A59="","",EDATE(B58,1)) | D59: =IF(A59="","",IF(A59=1,$B$3,H58)) | E59: =IF(A59="","",D59*$B$4/12) | F59: =IF(A59="","",G59-E59) | G59: =IF(A59="","",-PMT($B$4/12,$B$2-A59+1,D59)) | H59: =IF(A59="","",D59-F59) | K59: =IF(ROWS($K$8:K59)>$L$2,"",ROWS($K$8:K59)) -> 52 | L59: =IF(K59="","",EDATE(L58,1)) -> 46772 | M59: =TEXT(L59,"mm/yyyy") -> 01/2028 | N59: =IF(K59="","",IF(K59=1,$L$3,R58)) -> 156091.48 | O59: =IF(K59="","",N59*$L$4/12) -> 577.53849 | P59: =IF(K59="","",Q59-O59) -> 946.32233 | Q59: =IF(K59="","",-PMT($L$4/12,$L$2-K59+1,N59)) -> 1523.8608 | R59: =IF(K59="","",N59-P59) -> 155145.16
... A187: =IF(ROWS($A$8:A187)>$B$2,"",ROWS($A$8:A187)) | B187: =IF(A187="","",EDATE(B186,1)) | D187: =IF(A187="","",IF(A187=1,$B$3,H186)) | E187: =IF(A187="","",D187*$B$4/12) | F187: =IF(A187="","",G187-E187) | G187: =IF(A187="","",-PMT($B$4/12,$B$2-A187+1,D187)) | H187: =IF(A187="","",D187-F187) | K187: =IF(ROWS($K$8:K187)>$L$2,"",ROWS($K$8:K187)) -> 180 | L187: =IF(K187="","",EDATE(L186,1)) -> 50668 | M187: =TEXT(L187,"mm/yyyy") -> 09/2038 | N187: =IF(K187="","",IF(K187=1,$L$3,R186)) -> 1518.2433 | O187: =IF(K187="","",N187*$L$4/12) -> 5.6175003 | P187: =IF(K187="","",Q187-O187) -> 1518.2433 | Q187: =IF(K187="","",-PMT($L$4/12,$L$2-K187+1,N187)) -> 1523.8608 | R187: =IF(K187="","",N187-P187) -> 0
A188: =IF(ROWS($A$8:A188)>$B$2,"",ROWS($A$8:A188)) | B188: =IF(A188="","",EDATE(B187,1)) | D188: =IF(A188="","",IF(A188=1,$B$3,H187)) | E188: =IF(A188="","",D188*$B$4/12) | F188: =IF(A188="","",G188-E188) | G188: =IF(A188="","",-PMT($B$4/12,$B$2-A188+1,D188)) | H188: =IF(A188="","",D188-F188) | K188: =IF(ROWS($K$8:K188)>$L$2,"",ROWS($K$8:K188)) | L188: =IF(K188="","",EDATE(L187,1)) | N188: =IF(K188="","",IF(K188=1,$L$3,R187)) | O188: =IF(K188="","",N188*$L$4/12) | P188: =IF(K188="","",Q188-O188) | Q188: =IF(K188="","",-PMT($L$4/12,$L$2-K188+1,N188)) | R188: =IF(K188="","",N188-P188)
A189: =IF(ROWS($A$8:A189)>$B$2,"",ROWS($A$8:A189)) | B189: =IF(A189="","",EDATE(B188,1)) | D189: =IF(A189="","",IF(A189=1,$B$3,H188)) | E189: =IF(A189="","",D189*$B$4/12) | F189: =IF(A189="","",G189-E189) | G189: =IF(A189="","",-PMT($B$4/12,$B$2-A189+1,D189)) | H189: =IF(A189="","",D189-F189) | K189: =IF(ROWS($K$8:K189)>$L$2,"",ROWS($K$8:K189)) | L189: =IF(K189="","",EDATE(L188,1)) | N189: =IF(K189="","",IF(K189=1,$L$3,R188)) | O189: =IF(K189="","",N189*$L$4/12) | P189: =IF(K189="","",Q189-O189) | Q189: =IF(K189="","",-PMT($L$4/12,$L$2-K189+1,N189)) | R189: =IF(K189="","",N189-P189)
A190: =IF(ROWS($A$8:A190)>$B$2,"",ROWS($A$8:A190)) | B190: =IF(A190="","",EDATE(B189,1)) | D190: =IF(A190="","",IF(A190=1,$B$3,H189)) | E190: =IF(A190="","",D190*$B$4/12) | F190: =IF(A190="","",G190-E190) | G190: =IF(A190="","",-PMT($B$4/12,$B$2-A190+1,D190)) | H190: =IF(A190="","",D190-F190) | K190: =IF(ROWS($K$8:K190)>$L$2,"",ROWS($K$8:K190)) | L190: =IF(K190="","",EDATE(L189,1)) | N190: =IF(K190="","",IF(K190=1,$L$3,R189)) | O190: =IF(K190="","",N190*$L$4/12) | P190: =IF(K190="","",Q190-O190) | Q190: =IF(K190="","",-PMT($L$4/12,$L$2-K190+1,N190)) | R190: =IF(K190="","",N190-P190)
A191: =IF(ROWS($A$8:A191)>$B$2,"",ROWS($A$8:A191)) | B191: =IF(A191="","",EDATE(B190,1)) | D191: =IF(A191="","",IF(A191=1,$B$3,H190)) | E191: =IF(A191="","",D191*$B$4/12) | F191: =IF(A191="","",G191-E191) | G191: =IF(A191="","",-PMT($B$4/12,$B$2-A191+1,D191)) | H191: =IF(A191="","",D191-F191) | K191: =IF(ROWS($K$8:K191)>$L$2,"",ROWS($K$8:K191)) | L191: =IF(K191="","",EDATE(L190,1)) | N191: =IF(K191="","",IF(K191=1,$L$3,R190)) | O191: =IF(K191="","",N191*$L$4/12) | P191: =IF(K191="","",Q191-O191) | Q191: =IF(K191="","",-PMT($L$4/12,$L$2-K191+1,N191)) | R191: =IF(K191="","",N191-P191)
A192: =IF(ROWS($A$8:A192)>$B$2,"",ROWS($A$8:A192)) | B192: =IF(A192="","",EDATE(B191,1)) | D192: =IF(A192="","",IF(A192=1,$B$3,H191)) | E192: =IF(A192="","",D192*$B$4/12) | F192: =IF(A192="","",G192-E192) | G192: =IF(A192="","",-PMT($B$4/12,$B$2-A192+1,D192)) | H192: =IF(A192="","",D192-F192) | K192: =IF(ROWS($K$8:K192)>$L$2,"",ROWS($K$8:K192)) | L192: =IF(K192="","",EDATE(L191,1)) | N192: =IF(K192="","",IF(K192=1,$L$3,R191)) | O192: =IF(K192="","",N192*$L$4/12) | P192: =IF(K192="","",Q192-O192) | Q192: =IF(K192="","",-PMT($L$4/12,$L$2-K192+1,N192)) | R192: =IF(K192="","",N192-P192)
A193: =IF(ROWS($A$8:A193)>$B$2,"",ROWS($A$8:A193)) | B193: =IF(A193="","",EDATE(B192,1)) | D193: =IF(A193="","",IF(A193=1,$B$3,H192)) | E193: =IF(A193="","",D193*$B$4/12) | F193: =IF(A193="","",G193-E193) | G193: =IF(A193="","",-PMT($B$4/12,$B$2-A193+1,D193)) | H193: =IF(A193="","",D193-F193) | K193: =IF(ROWS($K$8:K193)>$L$2,"",ROWS($K$8:K193)) | L193: =IF(K193="","",EDATE(L192,1)) | N193: =IF(K193="","",IF(K193=1,$L$3,R192)) | O193: =IF(K193="","",N193*$L$4/12) | P193: =IF(K193="","",Q193-O193) | Q193: =IF(K193="","",-PMT($L$4/12,$L$2-K193+1,N193)) | R193: =IF(K193="","",N193-P193)
A194: =IF(ROWS($A$8:A194)>$B$2,"",ROWS($A$8:A194)) | B194: =IF(A194="","",EDATE(B193,1)) | D194: =IF(A194="","",IF(A194=1,$B$3,H193)) | E194: =IF(A194="","",D194*$B$4/12) | F194: =IF(A194="","",G194-E194) | G194: =IF(A194="","",-PMT($B$4/12,$B$2-A194+1,D194)) | H194: =IF(A194="","",D194-F194) | K194: =IF(ROWS($K$8:K194)>$L$2,"",ROWS($K$8:K194)) | L194: =IF(K194="","",EDATE(L193,1)) | N194: =IF(K194="","",IF(K194=1,$L$3,R193)) | O194: =IF(K194="","",N194*$L$4/12) | P194: =IF(K194="","",Q194-O194) | Q194: =IF(K194="","",-PMT($L$4/12,$L$2-K194+1,N194)) | R194: =IF(K194="","",N194-P194)
A195: =IF(ROWS($A$8:A195)>$B$2,"",ROWS($A$8:A195)) | B195: =IF(A195="","",EDATE(B194,1)) | D195: =IF(A195="","",IF(A195=1,$B$3,H194)) | E195: =IF(A195="","",D195*$B$4/12) | F195: =IF(A195="","",G195-E195) | G195: =IF(A195="","",-PMT($B$4/12,$B$2-A195+1,D195)) | H195: =IF(A195="","",D195-F195) | K195: =IF(ROWS($K$8:K195)>$L$2,"",ROWS($K$8:K195)) | L195: =IF(K195="","",EDATE(L194,1)) | N195: =IF(K195="","",IF(K195=1,$L$3,R194)) | O195: =IF(K195="","",N195*$L$4/12) | P195: =IF(K195="","",Q195-O195) | Q195: =IF(K195="","",-PMT($L$4/12,$L$2-K195+1,N195)) | R195: =IF(K195="","",N195-P195)
A196: =IF(ROWS($A$8:A196)>$B$2,"",ROWS($A$8:A196)) | B196: =IF(A196="","",EDATE(B195,1)) | D196: =IF(A196="","",IF(A196=1,$B$3,H195)) | E196: =IF(A196="","",D196*$B$4/12) | F196: =IF(A196="","",G196-E196) | G196: =IF(A196="","",-PMT($B$4/12,$B$2-A196+1,D196)) | H196: =IF(A196="","",D196-F196) | K196: =IF(ROWS($K$8:K196)>$L$2,"",ROWS($K$8:K196)) | L196: =IF(K196="","",EDATE(L195,1)) | N196: =IF(K196="","",IF(K196=1,$L$3,R195)) | O196: =IF(K196="","",N196*$L$4/12) | P196: =IF(K196="","",Q196-O196) | Q196: =IF(K196="","",-PMT($L$4/12,$L$2-K196+1,N196)) | R196: =IF(K196="","",N196-P196)
A197: =IF(ROWS($A$8:A197)>$B$2,"",ROWS($A$8:A197)) | B197: =IF(A197="","",EDATE(B196,1)) | D197: =IF(A197="","",IF(A197=1,$B$3,H196)) | E197: =IF(A197="","",D197*$B$4/12) | F197: =IF(A197="","",G197-E197) | G197: =IF(A197="","",-PMT($B$4/12,$B$2-A197+1,D197)) | H197: =IF(A197="","",D197-F197) | K197: =IF(ROWS($K$8:K197)>$L$2,"",ROWS($K$8:K197)) | L197: =IF(K197="","",EDATE(L196,1)) | N197: =IF(K197="","",IF(K197=1,$L$3,R196)) | O197: =IF(K197="","",N197*$L$4/12) | P197: =IF(K197="","",Q197-O197) | Q197: =IF(K197="","",-PMT($L$4/12,$L$2-K197+1,N197)) | R197: =IF(K197="","",N197-P197)
A198: =IF(ROWS($A$8:A198)>$B$2,"",ROWS($A$8:A198)) | B198: =IF(A198="","",EDATE(B197,1)) | D198: =IF(A198="","",IF(A198=1,$B$3,H197)) | E198: =IF(A198="","",D198*$B$4/12) | F198: =IF(A198="","",G198-E198) | G198: =IF(A198="","",-PMT($B$4/12,$B$2-A198+1,D198)) | H198: =IF(A198="","",D198-F198) | K198: =IF(ROWS($K$8:K198)>$L$2,"",ROWS($K$8:K198)) | L198: =IF(K198="","",EDATE(L197,1)) | N198: =IF(K198="","",IF(K198=1,$L$3,R197)) | O198: =IF(K198="","",N198*$L$4/12) | P198: =IF(K198="","",Q198-O198) | Q198: =IF(K198="","",-PMT($L$4/12,$L$2-K198+1,N198)) | R198: =IF(K198="","",N198-P198)
A199: =IF(ROWS($A$8:A199)>$B$2,"",ROWS($A$8:A199)) | B199: =IF(A199="","",EDATE(B198,1)) | D199: =IF(A199="","",IF(A199=1,$B$3,H198)) | E199: =IF(A199="","",D199*$B$4/12) | F199: =IF(A199="","",G199-E199) | G199: =IF(A199="","",-PMT($B$4/12,$B$2-A199+1,D199)) | H199: =IF(A199="","",D199-F199) | K199: =IF(ROWS($K$8:K199)>$L$2,"",ROWS($K$8:K199)) | L199: =IF(K199="","",EDATE(L198,1)) | N199: =IF(K199="","",IF(K199=1,$L$3,R198)) | O199: =IF(K199="","",N199*$L$4/12) | P199: =IF(K199="","",Q199-O199) | Q199: =IF(K199="","",-PMT($L$4/12,$L$2-K199+1,N199)) | R199: =IF(K199="","",N199-P199)
... A247: =IF(ROWS($A$8:A247)>$B$2,"",ROWS($A$8:A247)) | B247: =IF(A247="","",EDATE(B246,1)) | D247: =IF(A247="","",IF(A247=1,$B$3,H246)) | E247: =IF(A247="","",D247*$B$4/12) | F247: =IF(A247="","",G247-E247) | G247: =IF(A247="","",-PMT($B$4/12,$B$2-A247+1,D247)) | H247: =IF(A247="","",D247-F247) | K247: =IF(ROWS($K$8:K247)>$L$2,"",ROWS($K$8:K247)) | L247: =IF(K247="","",EDATE(L246,1)) | N247: =IF(K247="","",IF(K247=1,$L$3,R246)) | O247: =IF(K247="","",N247*$L$4/12) | P247: =IF(K247="","",Q247-O247) | Q247: =IF(K247="","",-PMT($L$4/12,$L$2-K247+1,N247)) | R247: =IF(K247="","",N247-P247)
A248: =IF(ROWS($A$8:A248)>$B$2,"",ROWS($A$8:A248)) | B248: =IF(A248="","",EDATE(B247,1)) | D248: =IF(A248="","",IF(A248=1,$B$3,H247)) | E248: =IF(A248="","",D248*$B$4/12) | F248: =IF(A248="","",G248-E248) | G248: =IF(A248="","",-PMT($B$4/12,$B$2-A248+1,D248)) | H248: =IF(A248="","",D248-F248) | L248: =IF(K248="","",EDATE(L247,1))
A249: =IF(ROWS($A$8:A249)>$B$2,"",ROWS($A$8:A249)) | B249: =IF(A249="","",EDATE(B248,1)) | D249: =IF(A249="","",IF(A249=1,$B$3,H248)) | E249: =IF(A249="","",D249*$B$4/12) | F249: =IF(A249="","",G249-E249) | G249: =IF(A249="","",-PMT($B$4/12,$B$2-A249+1,D249)) | H249: =IF(A249="","",D249-F249) | L249: =IF(K249="","",EDATE(L248,1))
A250: =IF(ROWS($A$8:A250)>$B$2,"",ROWS($A$8:A250)) | B250: =IF(A250="","",EDATE(B249,1)) | D250: =IF(A250="","",IF(A250=1,$B$3,H249)) | E250: =IF(A250="","",D250*$B$4/12) | F250: =IF(A250="","",G250-E250) | G250: =IF(A250="","",-PMT($B$4/12,$B$2-A250+1,D250)) | H250: =IF(A250="","",D250-F250) | L250: =IF(K250="","",EDATE(L249,1))
A251: =IF(ROWS($A$8:A251)>$B$2,"",ROWS($A$8:A251)) | B251: =IF(A251="","",EDATE(B250,1)) | D251: =IF(A251="","",IF(A251=1,$B$3,H250)) | E251: =IF(A251="","",D251*$B$4/12) | F251: =IF(A251="","",G251-E251) | G251: =IF(A251="","",-PMT($B$4/12,$B$2-A251+1,D251)) | H251: =IF(A251="","",D251-F251) | L251: =IF(K251="","",EDATE(L250,1))
A252: =IF(ROWS($A$8:A252)>$B$2,"",ROWS($A$8:A252)) | B252: =IF(A252="","",EDATE(B251,1)) | D252: =IF(A252="","",IF(A252=1,$B$3,H251)) | E252: =IF(A252="","",D252*$B$4/12) | F252: =IF(A252="","",G252-E252) | G252: =IF(A252="","",-PMT($B$4/12,$B$2-A252+1,D252)) | H252: =IF(A252="","",D252-F252) | L252: =IF(K252="","",EDATE(L251,1))
A253: =IF(ROWS($A$8:A253)>$B$2,"",ROWS($A$8:A253)) | B253: =IF(A253="","",EDATE(B252,1)) | D253: =IF(A253="","",IF(A253=1,$B$3,H252)) | E253: =IF(A253="","",D253*$B$4/12) | F253: =IF(A253="","",G253-E253) | G253: =IF(A253="","",-PMT($B$4/12,$B$2-A253+1,D253)) | H253: =IF(A253="","",D253-F253) | L253: =IF(K253="","",EDATE(L252,1))
A254: =IF(ROWS($A$8:A254)>$B$2,"",ROWS($A$8:A254)) | B254: =IF(A254="","",EDATE(B253,1)) | D254: =IF(A254="","",IF(A254=1,$B$3,H253)) | E254: =IF(A254="","",D254*$B$4/12) | F254: =IF(A254="","",G254-E254) | G254: =IF(A254="","",-PMT($B$4/12,$B$2-A254+1,D254)) | H254: =IF(A254="","",D254-F254) | L254: =IF(K254="","",EDATE(L253,1))
A255: =IF(ROWS($A$8:A255)>$B$2,"",ROWS($A$8:A255)) | B255: =IF(A255="","",EDATE(B254,1)) | D255: =IF(A255="","",IF(A255=1,$B$3,H254)) | E255: =IF(A255="","",D255*$B$4/12) | F255: =IF(A255="","",G255-E255) | G255: =IF(A255="","",-PMT($B$4/12,$B$2-A255+1,D255)) | H255: =IF(A255="","",D255-F255) | L255: =IF(K255="","",EDATE(L254,1))
A256: =IF(ROWS($A$8:A256)>$B$2,"",ROWS($A$8:A256)) | B256: =IF(A256="","",EDATE(B255,1)) | D256: =IF(A256="","",IF(A256=1,$B$3,H255)) | E256: =IF(A256="","",D256*$B$4/12) | F256: =IF(A256="","",G256-E256) | G256: =IF(A256="","",-PMT($B$4/12,$B$2-A256+1,D256)) | H256: =IF(A256="","",D256-F256) | L256: =IF(K256="","",EDATE(L255,1))
A257: =IF(ROWS($A$8:A257)>$B$2,"",ROWS($A$8:A257)) | B257: =IF(A257="","",EDATE(B256,1)) | D257: =IF(A257="","",IF(A257=1,$B$3,H256)) | E257: =IF(A257="","",D257*$B$4/12) | F257: =IF(A257="","",G257-E257) | G257: =IF(A257="","",-PMT($B$4/12,$B$2-A257+1,D257)) | H257: =IF(A257="","",D257-F257) | L257: =IF(K257="","",EDATE(L256,1))
A258: =IF(ROWS($A$8:A258)>$B$2,"",ROWS($A$8:A258)) | B258: =IF(A258="","",EDATE(B257,1)) | D258: =IF(A258="","",IF(A258=1,$B$3,H257)) | E258: =IF(A258="","",D258*$B$4/12) | F258: =IF(A258="","",G258-E258) | G258: =IF(A258="","",-PMT($B$4/12,$B$2-A258+1,D258)) | H258: =IF(A258="","",D258-F258) | L258: =IF(K258="","",EDATE(L257,1))
A259: =IF(ROWS($A$8:A259)>$B$2,"",ROWS($A$8:A259)) | B259: =IF(A259="","",EDATE(B258,1)) | D259: =IF(A259="","",IF(A259=1,$B$3,H258)) | E259: =IF(A259="","",D259*$B$4/12) | F259: =IF(A259="","",G259-E259) | G259: =IF(A259="","",-PMT($B$4/12,$B$2-A259+1,D259)) | H259: =IF(A259="","",D259-F259) | L259: =IF(K259="","",EDATE(L258,1))
... A367: =IF(ROWS($A$8:A367)>$B$2,"",ROWS($A$8:A367)) | B367: =IF(A367="","",EDATE(B366,1)) | D367: =IF(A367="","",IF(A367=1,$B$3,H366)) | E367: =IF(A367="","",D367*$B$4/12) | F367: =IF(A367="","",G367-E367) | G367: =IF(A367="","",-PMT($B$4/12,$B$2-A367+1,D367)) | H367: =IF(A367="","",D367-F367) | L367: =IF(K367="","",EDATE(L366,1))

Sheet ס"ך החזר חודשי לפי חודש
B1: החזר חודשי עבור חודש | C1: ס"ך החזר החודשי
A2: =IFERROR(__xludf.DUMMYFUNCTION("SORT(UNIQUE(VSTACK('מחשבון הלוואה'!B8:B994,'מחשבון הלוואה'!L8:L994)))"),45127.0) -> 45127 | B2: =TEXT(A2,"mm/yyyy") -> 07/2023 | C2: =SUMIF('מחשבון הלוואה'!$C$8:$C994,B2,'מחשבון הלוואה'!$G$8:$G994)+SUMIF('מחשבון הלוואה'!$M$8:$M994,B2,'מחשבון הלוואה'!$Q$8:$Q994) -> 1315.102
A3: =IFERROR(__xludf.DUMMYFUNCTION("""COMPUTED_VALUE"""),45158.0) -> 45158 | B3: =TEXT(A3,"mm/yyyy") -> 08/2023 | C3: =SUMIF('מחשבון הלוואה'!$C$8:$C994,B3,'מחשבון הלוואה'!$G$8:$G994)+SUMIF('מחשבון הלוואה'!$M$8:$M994,B3,'מחשבון הלוואה'!$Q$8:$Q994) -> 1315.102
A4: =IFERROR(__xludf.DUMMYFUNCTION("""COMPUTED_VALUE"""),45189.0) -> 45189 | B4: =TEXT(A4,"mm/yyyy") -> 09/2023 | C4: =SUMIF('מחשבון הלוואה'!$C$8:$C994,B4,'מחשבון הלוואה'!$G$8:$G994)+SUMIF('מחשבון הלוואה'!$M$8:$M994,B4,'מחשבון הלוואה'!$Q$8:$Q994) -> 1315.102
A5: =IFERROR(__xludf.DUMMYFUNCTION("""COMPUTED_VALUE"""),45219.0) -> 45219 | B5: =TEXT(A5,"mm/yyyy") -> 10/2023 | C5: =SUMIF('מחשבון הלוואה'!$C$8:$C994,B5,'מחשבון הלוואה'!$G$8:$G994)+SUMIF('מחשבון הלוואה'!$M$8:$M994,B5,'מחשבון הלוואה'!$Q$8:$Q994) -> 2838.9629
A6: =IFERROR(__xludf.DUMMYFUNCTION("""COMPUTED_VALUE"""),45250.0) -> 45250 | B6: =TEXT(A6,"mm/yyyy") -> 11/2023 | C6: =SUMIF('מחשבון הלוואה'!$C$8:$C994,B6,'מחשבון הלוואה'!$G$8:$G994)+SUMIF('מחשבון הלוואה'!$M$8:$M994,B6,'מחשבון הלוואה'!$Q$8:$Q994) -> 2838.9629
A7: =IFERROR(__xludf.DUMMYFUNCTION("""COMPUTED_VALUE"""),45280.0) -> 45280 | B7: =TEXT(A7,"mm/yyyy") -> 12/2023 | C7: =SUMIF('מחשבון הלוואה'!$C$8:$C994,B7,'מחשבון הלוואה'!$G$8:$G994)+SUMIF('מחשבון הלוואה'!$M$8:$M994,B7,'מחשבון הלוואה'!$Q$8:$Q994) -> 2838.9629
A8: =IFERROR(__xludf.DUMMYFUNCTION("""COMPUTED_VALUE"""),45311.0) -> 45311 | B8: =TEXT(A8,"mm/yyyy") -> 01/2024 | C8: =SUMIF('מחשבון הלוואה'!$C$8:$C994,B8,'מחשבון הלוואה'!$G$8:$G994)+SUMIF('מחשבון הלוואה'!$M$8:$M994,B8,'מחשבון הלוואה'!$Q$8:$Q994) -> 2838.9629
A9: =IFERROR(__xludf.DUMMYFUNCTION("""COMPUTED_VALUE"""),45342.0) -> 45342 | B9: =TEXT(A9,"mm/yyyy") -> 02/2024 | C9: =SUMIF('מחשבון הלוואה'!$C$8:$C994,B9,'מחשבון הלוואה'!$G$8:$G994)+SUMIF('מחשבון הלוואה'!$M$8:$M994,B9,'מחשבון הלוואה'!$Q$8:$Q994) -> 2838.9629
A10: =IFERROR(__xludf.DUMMYFUNCTION("""COMPUTED_VALUE"""),45371.0) -> 45371 | B10: =TEXT(A10,"mm/yyyy") -> 03/2024 | C10: =SUMIF('מחשבון הלוואה'!$C$8:$C994,B10,'מחשבון הלוואה'!$G$8:$G994)+SUMIF('מחשבון הלוואה'!$M$8:$M994,B10,'מחשבון הלוואה'!$Q$8:$Q994) -> 2838.9629
A11: =IFERROR(__xludf.DUMMYFUNCTION("""COMPUTED_VALUE"""),45402.0) -> 45402 | B11: =TEXT(A11,"mm/yyyy") -> 04/2024 | C11: =SUMIF('מחשבון הלוואה'!$C$8:$C994,B11,'מחשבון הלוואה'!$G$8:$G994)+SUMIF('מחשבון הלוואה'!$M$8:$M994,B11,'מחשבון הלוואה'!$Q$8:$Q994) -> 2838.9629
A12: =IFERROR(__xludf.DUMMYFUNCTION("""COMPUTED_VALUE"""),45432.0) -> 45432 | B12: =TEXT(A12,"mm/yyyy") -> 05/2024 | C12: =SUMIF('מחשבון הלוואה'!$C$8:$C994,B12,'מחשבון הלוואה'!$G$8:$G994)+SUMIF('מחשבון הלוואה'!$M$8:$M994,B12,'מחשבון הלוואה'!$Q$8:$Q994) -> 2838.9629
A13: =IFERROR(__xludf.DUMMYFUNCTION("""COMPUTED_VALUE"""),45463.0) -> 45463 | B13: =TEXT(A13,"mm/yyyy") -> 06/2024 | C13: =SUMIF('מחשבון הלוואה'!$C$8:$C994,B13,'מחשבון הלוואה'!$G$8:$G994)+SUMIF('מחשבון הלוואה'!$M$8:$M994,B13,'מחשבון הלוואה'!$Q$8:$Q994) -> 2838.9629
A14: =IFERROR(__xludf.DUMMYFUNCTION("""COMPUTED_VALUE"""),45493.0) -> 45493 | B14: =TEXT(A14,"mm/yyyy") -> 07/2024 | C14: =SUMIF('מחשבון הלוואה'!$C$8:$C994,B14,'מחשבון הלוואה'!$G$8:$G994)+SUMIF('מחשבון הלוואה'!$M$8:$M994,B14,'מחשבון הלוואה'!$Q$8:$Q994) -> 2838.9629
A15: =IFERROR(__xludf.DUMMYFUNCTION("""COMPUTED_VALUE"""),45524.0) -> 45524 | B15: =TEXT(A15,"mm/yyyy") -> 08/2024 | C15: =SUMIF('מחשבון הלוואה'!$C$8:$C994,B15,'מחשבון הלוואה'!$G$8:$G994)+SUMIF('מחשבון הלוואה'!$M$8:$M994,B15,'מחשבון הלוואה'!$Q$8:$Q994) -> 2838.9629
A16: =IFERROR(__xludf.DUMMYFUNCTION("""COMPUTED_VALUE"""),45555.0) -> 45555 | B16: =TEXT(A16,"mm/yyyy") -> 09/2024 | C16: =SUMIF('מחשבון הלוואה'!$C$8:$C994,B16,'מחשבון הלוואה'!$G$8:$G994)+SUMIF('מחשבון הלוואה'!$M$8:$M994,B16,'מחשבון הלוואה'!$Q$8:$Q994) -> 2838.9629
A17: =IFERROR(__xludf.DUMMYFUNCTION("""COMPUTED_VALUE"""),45585.0) -> 45585 | B17: =TEXT(A17,"mm/yyyy") -> 10/2024 | C17: =SUMIF('מחשבון הלוואה'!$C$8:$C994,B17,'מחשבון הלוואה'!$G$8:$G994)+SUMIF('מחשבון הלוואה'!$M$8:$M994,B17,'מחשבון הלוואה'!$Q$8:$Q994) -> 2838.9629
A18: =IFERROR(__xludf.DUMMYFUNCTION("""COMPUTED_VALUE"""),45616.0) -> 45616 | B18: =TEXT(A18,"mm/yyyy") -> 11/2024 | C18: =SUMIF('מחשבון הלוואה'!$C$8:$C994,B18,'מחשבון הלוואה'!$G$8:$G994)+SUMIF('מחשבון הלוואה'!$M$8:$M994,B18,'מחשבון הלוואה'!$Q$8:$Q994) -> 2838.9629
A19: =IFERROR(__xludf.DUMMYFUNCTION("""COMPUTED_VALUE"""),45646.0) -> 45646 | B19: =TEXT(A19,"mm/yyyy") -> 12/2024 | C19: =SUMIF('מחשבון הלוואה'!$C$8:$C994,B19,'מחשבון הלוואה'!$G$8:$G994)+SUMIF('מחשבון הלוואה'!$M$8:$M994,B19,'מחשבון הלוואה'!$Q$8:$Q994) -> 2838.9629
A20: =IFERROR(__xludf.DUMMYFUNCTION("""COMPUTED_VALUE"""),45677.0) -> 45677 | B20: =TEXT(A20,"mm/yyyy") -> 01/2025 | C20: =SUMIF('מחשבון הלוואה'!$C$8:$C994,B20,'מחשבון הלוואה'!$G$8:$G994)+SUMIF('מחשבון הלוואה'!$M$8:$M994,B20,'מחשבון הלוואה'!$Q$8:$Q994) -> 2838.9629
A21: =IFERROR(__xludf.DUMMYFUNCTION("""COMPUTED_VALUE"""),45708.0) -> 45708 | B21: =TEXT(A21,"mm/yyyy") -> 02/2025 | C21: =SUMIF('מחשבון הלוואה'!$C$8:$C994,B21,'מחשבון הלוואה'!$G$8:$G994)+SUMIF('מחשבון הלוואה'!$M$8:$M994,B21,'מחשבון הלוואה'!$Q$8:$Q994) -> 2838.9629
A22: =IFERROR(__xludf.DUMMYFUNCTION("""COMPUTED_VALUE"""),45736.0) -> 45736 | B22: =TEXT(A22,"mm/yyyy") -> 03/2025 | C22: =SUMIF('מחשבון הלוואה'!$C$8:$C994,B22,'מחשבון הלוואה'!$G$8:$G994)+SUMIF('מחשבון הלוואה'!$M$8:$M994,B22,'מחשבון הלוואה'!$Q$8:$Q994) -> 2838.9629
A23: =IFERROR(__xludf.DUMMYFUNCTION("""COMPUTED_VALUE"""),45767.0) -> 45767 | B23: =TEXT(A23,"mm/yyyy") -> 04/2025 | C23: =SUMIF('מחשבון הלוואה'!$C$8:$C994,B23,'מחשבון הלוואה'!$G$8:$G994)+SUMIF('מחשבון הלוואה'!$M$8:$M994,B23,'מחשבון הלוואה'!$Q$8:$Q994) -> 2838.9629
A24: =IFERROR(__xludf.DUMMYFUNCTION("""COMPUTED_VALUE"""),45797.0) -> 45797 | B24: =TEXT(A24,"mm/yyyy") -> 05/2025 | C24: =SUMIF('מחשבון הלוואה'!$C$8:$C994,B24,'מחשבון הלוואה'!$G$8:$G994)+SUMIF('מחשבון הלוואה'!$M$8:$M994,B24,'מחשבון הלוואה'!$Q$8:$Q994) -> 2838.9629
A25: =IFERROR(__xludf.DUMMYFUNCTION("""COMPUTED_VALUE"""),45828.0) -> 45828 | B25: =TEXT(A25,"mm/yyyy") -> 06/2025 | C25: =SUMIF('מחשבון הלוואה'!$C$8:$C994,B25,'מחשבון הלוואה'!$G$8:$G994)+SUMIF('מחשבון הלוואה'!$M$8:$M994,B25,'מחשבון הלוואה'!$Q$8:$Q994) -> 2838.9629
A26: =IFERROR(__xludf.DUMMYFUNCTION("""COMPUTED_VALUE"""),45858.0) -> 45858 | B26: =TEXT(A26,"mm/yyyy") -> 07/2025 | C26: =SUMIF('מחשבון הלוואה'!$C$8:$C994,B26,'מחשבון הלוואה'!$G$8:$G994)+SUMIF('מחשבון הלוואה'!$M$8:$M994,B26,'מחשבון הלוואה'!$Q$8:$Q994) -> 2838.9629
A27: =IFERROR(__xludf.DUMMYFUNCTION("""COMPUTED_VALUE"""),45889.0) -> 45889 | B27: =TEXT(A27,"mm/yyyy") -> 08/2025 | C27: =SUMIF('מחשבון הלוואה'!$C$8:$C994,B27,'מחשבון הלוואה'!$G$8:$G994)+SUMIF('מחשבון הלוואה'!$M$8:$M994,B27,'מחשבון הלוואה'!$Q$8:$Q994) -> 2838.9629
A28: =IFERROR(__xludf.DUMMYFUNCTION("""COMPUTED_VALUE"""),45920.0) -> 45920 | B28: =TEXT(A28,"mm/yyyy") -> 09/2025 | C28: =SUMIF('מחשבון הלוואה'!$C$8:$C994,B28,'מחשבון הלוואה'!$G$8:$G994)+SUMIF('מחשבון הלוואה'!$M$8:$M994,B28,'מחשבון הלוואה'!$Q$8:$Q994) -> 2838.9629
A29: =IFERROR(__xludf.DUMMYFUNCTION("""COMPUTED_VALUE"""),45950.0) -> 45950 | B29: =TEXT(A29,"mm/yyyy") -> 10/2025 | C29: =SUMIF('מחשבון הלוואה'!$C$8:$C994,B29,'מחשבון הלוואה'!$G$8:$G994)+SUMIF('מחשבון הלוואה'!$M$8:$M994,B29,'מחשבון הלוואה'!$Q$8:$Q994) -> 2838.9629
A30: =IFERROR(__xludf.DUMMYFUNCTION("""COMPUTED_VALUE"""),45981.0) -> 45981 | B30: =TEXT(A30,"mm/yyyy") -> 11/2025 | C30: =SUMIF('מחשבון הלוואה'!$C$8:$C994,B30,'מחשבון הלוואה'!$G$8:$G994)+SUMIF('מחשבון הלוואה'!$M$8:$M994,B30,'מחשבון הלוואה'!$Q$8:$Q994) -> 2838.9629
A31: =IFERROR(__xludf.DUMMYFUNCTION("""COMPUTED_VALUE"""),46011.0) -> 46011 | B31: =TEXT(A31,"mm/yyyy") -> 12/2025 | C31: =SUMIF('מחשבון הלוואה'!$C$8:$C994,B31,'מחשבון הלוואה'!$G$8:$G994)+SUMIF('מחשבון הלוואה'!$M$8:$M994,B31,'מחשבון הלוואה'!$Q$8:$Q994) -> 2838.9629
A32: =IFERROR(__xludf.DUMMYFUNCTION("""COMPUTED_VALUE"""),46042.0) -> 46042 | B32: =TEXT(A32,"mm/yyyy") -> 01/2026 | C32: =SUMIF('מחשבון הלוואה'!$C$8:$C994,B32,'מחשבון הלוואה'!$G$8:$G994)+SUMIF('מחשבון הלוואה'!$M$8:$M994,B32,'מחשבון הלוואה'!$Q$8:$Q994) -> 2838.9629
A33: =IFERROR(__xludf.DUMMYFUNCTION("""COMPUTED_VALUE"""),46073.0) -> 46073 | B33: =TEXT(A33,"mm/yyyy") -> 02/2026 | C33: =SUMIF('מחשבון הלוואה'!$C$8:$C994,B33,'מחשבון הלוואה'!$G$8:$G994)+SUMIF('מחשבון הלוואה'!$M$8:$M994,B33,'מחשבון הלוואה'!$Q$8:$Q994) -> 2838.9629
A34: =IFERROR(__xludf.DUMMYFUNCTION("""COMPUTED_VALUE"""),46101.0) -> 46101 | B34: =TEXT(A34,"mm/yyyy") -> 03/2026 | C34: =SUMIF('מחשבון הלוואה'!$C$8:$C994,B34,'מחשבון הלוואה'!$G$8:$G994)+SUMIF('מחשבון הלוואה'!$M$8:$M994,B34,'מחשבון הלוואה'!$Q$8:$Q994) -> 2838.9629
A35: =IFERROR(__xludf.DUMMYFUNCTION("""COMPUTED_VALUE"""),46132.0) -> 46132 | B35: =TEXT(A35,"mm/yyyy") -> 04/2026 | C35: =SUMIF('מחשבון הלוואה'!$C$8:$C994,B35,'מחשבון הלוואה'!$G$8:$G994)+SUMIF('מחשבון הלוואה'!$M$8:$M994,B35,'מחשבון הלוואה'!$Q$8:$Q994) -> 2838.9629
A36: =IFERROR(__xludf.DUMMYFUNCTION("""COMPUTED_VALUE"""),46162.0) -> 46162 | B36: =TEXT(A36,"mm/yyyy") -> 05/2026 | C36: =SUMIF('מחשבון הלוואה'!$C$8:$C994,B36,'מחשבון הלוואה'!$G$8:$G994)+SUMIF('מחשבון הלוואה'!$M$8:$M994,B36,'מחשבון הלוואה'!$Q$8:$Q994) -> 2838.9629
A37: =IFERROR(__xludf.DUMMYFUNCTION("""COMPUTED_VALUE"""),46193.0) -> 46193 | B37: =TEXT(A37,"mm/yyyy") -> 06/2026 | C37: =SUMIF('מחשבון הלוואה'!$C$8:$C994,B37,'מחשבון הלוואה'!$G$8:$G994)+SUMIF('מחשבון הלוואה'!$M$8:$M994,B37,'מחשבון הלוואה'!$Q$8:$Q994) -> 2838.9629
A38: =IFERROR(__xludf.DUMMYFUNCTION("""COMPUTED_VALUE"""),46223.0) -> 46223 | B38: =TEXT(A38,"mm/yyyy") -> 07/2026 | C38: =SUMIF('מחשבון הלוואה'!$C$8:$C994,B38,'מחשבון הלוואה'!$G$8:$G994)+SUMIF('מחשבון הלוואה'!$M$8:$M994,B38,'מחשבון הלוואה'!$Q$8:$Q994) -> 2838.9629
A39: =IFERROR(__xludf.DUMMYFUNCTION("""COMPUTED_VALUE"""),46254.0) -> 46254 | B39: =TEXT(A39,"mm/yyyy") -> 08/2026 | C39: =SUMIF('מחשבון הלוואה'!$C$8:$C994,B39,'מחשבון הלוואה'!$G$8:$G994)+SUMIF('מחשבון הלוואה'!$M$8:$M994,B39,'מחשבון הלוואה'!$Q$8:$Q994) -> 2838.9629
A40: =IFERROR(__xludf.DUMMYFUNCTION("""COMPUTED_VALUE"""),46285.0) -> 46285 | B40: =TEXT(A40,"mm/yyyy") -> 09/2026 | C40: =SUMIF('מחשבון הלוואה'!$C$8:$C994,B40,'מחשבון הלוואה'!$G$8:$G994)+SUMIF('מחשבון הלוואה'!$M$8:$M994,B40,'מחשבון הלוואה'!$Q$8:$Q994) -> 2838.9629
A41: =IFERROR(__xludf.DUMMYFUNCTION("""COMPUTED_VALUE"""),46315.0) -> 46315 | B41: =TEXT(A41,"mm/yyyy") -> 10/2026 | C41: =SUMIF('מחשבון הלוואה'!$C$8:$C994,B41,'מחשבון הלוואה'!$G$8:$G994)+SUMIF('מחשבון הלוואה'!$M$8:$M994,B41,'מחשבון הלוואה'!$Q$8:$Q994) -> 2838.9629
A42: =IFERROR(__xludf.DUMMYFUNCTION("""COMPUTED_VALUE"""),46346.0) -> 46346 | B42: =TEXT(A42,"mm/yyyy") -> 11/2026 | C42: =SUMIF('מחשבון הלוואה'!$C$8:$C994,B42,'מחשבון הלוואה'!$G$8:$G994)+SUMIF('מחשבון הלוואה'!$M$8:$M994,B42,'מחשבון הלוואה'!$Q$8:$Q994) -> 1523.8608
A43: =IFERROR(__xludf.DUMMYFUNCTION("""COMPUTED_VALUE"""),46376.0) -> 46376 | B43: =TEXT(A43,"mm/yyyy") -> 12/2026 | C43: =SUMIF('מחשבון הלוואה'!$C$8:$C994,B43,'מחשבון הלוואה'!$G$8:$G994)+SUMIF('מחשבון הלוואה'!$M$8:$M994,B43,'מחשבון הלוואה'!$Q$8:$Q994) -> 1523.8608
A44: =IFERROR(__xludf.DUMMYFUNCTION("""COMPUTED_VALUE"""),46407.0) -> 46407 | B44: =TEXT(A44,"mm/yyyy") -> 01/2027 | C44: =SUMIF('מחשבון הלוואה'!$C$8:$C994,B44,'מחשבון הלוואה'!$G$8:$G994)+SUMIF('מחשבון הלוואה'!$M$8:$M994,B44,'מחשבון הלוואה'!$Q$8:$Q994) -> 1523.8608
A45: =IFERROR(__xludf.DUMMYFUNCTION("""COMPUTED_VALUE"""),46438.0) -> 46438 | B45: =TEXT(A45,"mm/yyyy") -> 02/2027 | C45: =SUMIF('מחשבון הלוואה'!$C$8:$C994,B45,'מחשבון הלוואה'!$G$8:$G994)+SUMIF('מחשבון הלוואה'!$M$8:$M994,B45,'מחשבון הלוואה'!$Q$8:$Q994) -> 1523.8608
A46: =IFERROR(__xludf.DUMMYFUNCTION("""COMPUTED_VALUE"""),46466.0) -> 46466 | B46: =TEXT(A46,"mm/yyyy") -> 03/2027 | C46: =SUMIF('מחשבון הלוואה'!$C$8:$C994,B46,'מחשבון הלוואה'!$G$8:$G994)+SUMIF('מחשבון הלוואה'!$M$8:$M994,B46,'מחשבון הלוואה'!$Q$8:$Q994) -> 1523.8608
A47: =IFERROR(__xludf.DUMMYFUNCTION("""COMPUTED_VALUE"""),46497.0) -> 46497 | B47: =TEXT(A47,"mm/yyyy") -> 04/2027 | C47: =SUMIF('מחשבון הלוואה'!$C$8:$C994,B47,'מחשבון הלוואה'!$G$8:$G994)+SUMIF('מחשבון הלוואה'!$M$8:$M994,B47,'מחשבון הלוואה'!$Q$8:$Q994) -> 1523.8608
A48: =IFERROR(__xludf.DUMMYFUNCTION("""COMPUTED_VALUE"""),46527.0) -> 46527 | B48: =TEXT(A48,"mm/yyyy") -> 05/2027 | C48: =SUMIF('מחשבון הלוואה'!$C$8:$C994,B48,'מחשבון הלוואה'!$G$8:$G994)+SUMIF('מחשבון הלוואה'!$M$8:$M994,B48,'מחשבון הלוואה'!$Q$8:$Q994) -> 1523.8608
A49: =IFERROR(__xludf.DUMMYFUNCTION("""COMPUTED_VALUE"""),46558.0) -> 46558 | B49: =TEXT(A49,"mm/yyyy") -> 06/2027 | C49: =SUMIF('מחשבון הלוואה'!$C$8:$C994,B49,'מחשבון הלוואה'!$G$8:$G994)+SUMIF('מחשבון הלוואה'!$M$8:$M994,B49,'מחשבון הלוואה'!$Q$8:$Q994) -> 1523.8608
A50: =IFERROR(__xludf.DUMMYFUNCTION("""COMPUTED_VALUE"""),46588.0) -> 46588 | B50: =TEXT(A50,"mm/yyyy") -> 07/2027 | C50: =SUMIF('מחשבון הלוואה'!$C$8:$C994,B50,'מחשבון הלוואה'!$G$8:$G994)+SUMIF('מחשבון הלוואה'!$M$8:$M994,B50,'מחשבון הלוואה'!$Q$8:$Q994) -> 1523.8608
A51: =IFERROR(__xludf.DUMMYFUNCTION("""COMPUTED_VALUE"""),46619.0) -> 46619 | B51: =TEXT(A51,"mm/yyyy") -> 08/2027 | C51: =SUMIF('מחשבון הלוואה'!$C$8:$C994,B51,'מחשבון הלוואה'!$G$8:$G994)+SUMIF('מחשבון הלוואה'!$M$8:$M994,B51,'מחשבון הלוואה'!$Q$8:$Q994) -> 1523.8608
A52: =IFERROR(__xludf.DUMMYFUNCTION("""COMPUTED_VALUE"""),46650.0) -> 46650 | B52: =TEXT(A52,"mm/yyyy") -> 09/2027 | C52: =SUMIF('מחשבון הלוואה'!$C$8:$C994,B52,'מחשבון הלוואה'!$G$8:$G994)+SUMIF('מחשבון הלוואה'!$M$8:$M994,B52,'מחשבון הלוואה'!$Q$8:$Q994) -> 1523.8608
A53: =IFERROR(__xludf.DUMMYFUNCTION("""COMPUTED_VALUE"""),46680.0) -> 46680 | B53: =TEXT(A53,"mm/yyyy") -> 10/2027 | C53: =SUMIF('מחשבון הלוואה'!$C$8:$C994,B53,'מחשבון הלוואה'!$G$8:$G994)+SUMIF('מחשבון הלוואה'!$M$8:$M994,B53,'מחשבון הלוואה'!$Q$8:$Q994) -> 1523.8608
A54: =IFERROR(__xludf.DUMMYFUNCTION("""COMPUTED_VALUE"""),46711.0) -> 46711 | B54: =TEXT(A54,"mm/yyyy") -> 11/2027 | C54: =SUMIF('מחשבון הלוואה'!$C$8:$C994,B54,'מחשבון הלוואה'!$G$8:$G994)+SUMIF('מחשבון הלוואה'!$M$8:$M994,B54,'מחשבון הלוואה'!$Q$8:$Q994) -> 1523.8608
A55: =IFERROR(__xludf.DUMMYFUNCTION("""COMPUTED_VALUE"""),46741.0) -> 46741 | B55: =TEXT(A55,"mm/yyyy") -> 12/2027 | C55: =SUMIF('מחשבון הלוואה'!$C$8:$C994,B55,'מחשבון הלוואה'!$G$8:$G994)+SUMIF('מחשבון הלוואה'!$M$8:$M994,B55,'מחשבון הלוואה'!$Q$8:$Q994) -> 1523.8608
A56: =IFERROR(__xludf.DUMMYFUNCTION("""COMPUTED_VALUE"""),46772.0) -> 46772 | B56: =TEXT(A56,"mm/yyyy") -> 01/2028 | C56: =SUMIF('מחשבון הלוואה'!$C$8:$C994,B56,'מחשבון הלוואה'!$G$8:$G994)+SUMIF('מחשבון הלוואה'!$M$8:$M994,B56,'מחשבון הלוואה'!$Q$8:$Q994) -> 1523.8608
A57: =IFERROR(__xludf.DUMMYFUNCTION("""COMPUTED_VALUE"""),46803.0) -> 46803 | B57: =TEXT(A57,"mm/yyyy") -> 02/2028 | C57: =SUMIF('מחשבון הלוואה'!$C$8:$C994,B57,'מחשבון הלוואה'!$G$8:$G994)+SUMIF('מחשבון הלוואה'!$M$8:$M994,B57,'מחשבון הלוואה'!$Q$8:$Q994) -> 1523.8608
A58: =IFERROR(__xludf.DUMMYFUNCTION("""COMPUTED_VALUE"""),46832.0) -> 46832 | B58: =TEXT(A58,"mm/yyyy") -> 03/2028 | C58: =SUMIF('מחשבון הלוואה'!$C$8:$C994,B58,'מחשבון הלוואה'!$G$8:$G994)+SUMIF('מחשבון הלוואה'!$M$8:$M994,B58,'מחשבון הלוואה'!$Q$8:$Q994) -> 1523.8608
A59: =IFERROR(__xludf.DUMMYFUNCTION("""COMPUTED_VALUE"""),46863.0) -> 46863 | B59: =TEXT(A59,"mm/yyyy") -> 04/2028 | C59: =SUMIF('מחשבון הלוואה'!$C$8:$C994,B59,'מחשבון הלוואה'!$G$8:$G994)+SUMIF('מחשבון הלוואה'!$M$8:$M994,B59,'מחשבון הלוואה'!$Q$8:$Q994) -> 1523.8608
A60: =IFERROR(__xludf.DUMMYFUNCTION("""COMPUTED_VALUE"""),46893.0) -> 46893 | B60: =TEXT(A60,"mm/yyyy") -> 05/2028 | C60: =SUMIF('מחשבון הלוואה'!$C$8:$C994,B60,'מחשבון הלוואה'!$G$8:$G994)+SUMIF('מחשבון הלוואה'!$M$8:$M994,B60,'מחשבון הלוואה'!$Q$8:$Q994) -> 1523.8608
A61: =IFERROR(__xludf.DUMMYFUNCTION("""COMPUTED_VALUE"""),46924.0) -> 46924 | B61: =TEXT(A61,"mm/yyyy") -> 06/2028 | C61: =SUMIF('מחשבון הלוואה'!$C$8:$C994,B61,'מחשבון הלוואה'!$G$8:$G994)+SUMIF('מחשבון הלוואה'!$M$8:$M994,B61,'מחשבון הלוואה'!$Q$8:$Q994) -> 1523.8608
A62: =IFERROR(__xludf.DUMMYFUNCTION("""COMPUTED_VALUE"""),46954.0) -> 46954 | B62: =TEXT(A62,"mm/yyyy") -> 07/2028 | C62: =SUMIF('מחשבון הלוואה'!$C$8:$C994,B62,'מחשבון הלוואה'!$G$8:$G994)+SUMIF('מחשבון הלוואה'!$M$8:$M994,B62,'מחשבון הלוואה'!$Q$8:$Q994) -> 1523.8608
A63: =IFERROR(__xludf.DUMMYFUNCTION("""COMPUTED_VALUE"""),46985.0) -> 46985 | B63: =TEXT(A63,"mm/yyyy") -> 08/2028 | C63: =SUMIF('מחשבון הלוואה'!$C$8:$C994,B63,'מחשבון הלוואה'!$G$8:$G994)+SUMIF('מחשבון הלוואה'!$M$8:$M994,B63,'מחשבון הלוואה'!$Q$8:$Q994) -> 1523.8608
A64: =IFERROR(__xludf.DUMMYFUNCTION("""COMPUTED_VALUE"""),47016.0) -> 47016 | B64: =TEXT(A64,"mm/yyyy") -> 09/2028 | C64: =SUMIF('מחשבון הלוואה'!$C$8:$C994,B64,'מחשבון הלוואה'!$G$8:$G994)+SUMIF('מחשבון הלוואה'!$M$8:$M994,B64,'מחשבון הלוואה'!$Q$8:$Q994) -> 1523.8608
A65: =IFERROR(__xludf.DUMMYFUNCTION("""COMPUTED_VALUE"""),47046.0) -> 47046 | B65: =TEXT(A65,"mm/yyyy") -> 10/2028 | C65: =SUMIF('מחשבון הלוואה'!$C$8:$C994,B65,'מחשבון הלוואה'!$G$8:$G994)+SUMIF('מחשבון הלוואה'!$M$8:$M994,B65,'מחשבון הלוואה'!$Q$8:$Q994) -> 1523.8608
A66: =IFERROR(__xludf.DUMMYFUNCTION("""COMPUTED_VALUE"""),47077.0) -> 47077 | B66: =TEXT(A66,"mm/yyyy") -> 11/2028 | C66: =SUMIF('מחשבון הלוואה'!$C$8:$C994,B66,'מחשבון הלוואה'!$G$8:$G994)+SUMIF('מחשבון הלוואה'!$M$8:$M994,B66,'מחשבון הלוואה'!$Q$8:$Q994) -> 1523.8608
A67: =IFERROR(__xludf.DUMMYFUNCTION("""COMPUTED_VALUE"""),47107.0) -> 47107 | B67: =TEXT(A67,"mm/yyyy") -> 12/2028 | C67: =SUMIF('מחשבון הלוואה'!$C$8:$C994,B67,'מחשבון הלוואה'!$G$8:$G994)+SUMIF('מחשבון הלוואה'!$M$8:$M994,B67,'מחשבון הלוואה'!$Q$8:$Q994) -> 1523.8608
A68: =IFERROR(__xludf.DUMMYFUNCTION("""COMPUTED_VALUE"""),47138.0) -> 47138 | B68: =TEXT(A68,"mm/yyyy") -> 01/2029 | C68: =SUMIF('מחשבון הלוואה'!$C$8:$C994,B68,'מחשבון הלוואה'!$G$8:$G994)+SUMIF('מחשבון הלוואה'!$M$8:$M994,B68,'מחשבון הלוואה'!$Q$8:$Q994) -> 1523.8608
A69: =IFERROR(__xludf.DUMMYFUNCTION("""COMPUTED_VALUE"""),47169.0) -> 47169 | B69: =TEXT(A69,"mm/yyyy") -> 02/2029 | C69: =SUMIF('מחשבון הלוואה'!$C$8:$C994,B69,'מחשבון הלוואה'!$G$8:$G994)+SUMIF('מחשבון הלוואה'!$M$8:$M994,B69,'מחשבון הלוואה'!$Q$8:$Q994) -> 1523.8608
A70: =IFERROR(__xludf.DUMMYFUNCTION("""COMPUTED_VALUE"""),47197.0) -> 47197 | B70: =TEXT(A70,"mm/yyyy") -> 03/2029 | C70: =SUMIF('מחשבון הלוואה'!$C$8:$C994,B70,'מחשבון הלוואה'!$G$8:$G994)+SUMIF('מחשבון הלוואה'!$M$8:$M994,B70,'מחשבון הלוואה'!$Q$8:$Q994) -> 1523.8608
A71: =IFERROR(__xludf.DUMMYFUNCTION("""COMPUTED_VALUE"""),47228.0) -> 47228 | B71: =TEXT(A71,"mm/yyyy") -> 04/2029 | C71: =SUMIF('מחשבון הלוואה'!$C$8:$C994,B71,'מחשבון הלוואה'!$G$8:$G994)+SUMIF('מחשבון הלוואה'!$M$8:$M994,B71,'מחשבון הלוואה'!$Q$8:$Q994) -> 1523.8608
A72: =IFERROR(__xludf.DUMMYFUNCTION("""COMPUTED_VALUE"""),47258.0) -> 47258 | B72: =TEXT(A72,"mm/yyyy") -> 05/2029 | C72: =SUMIF('מחשבון הלוואה'!$C$8:$C994,B72,'מחשבון הלוואה'!$G$8:$G994)+SUMIF('מחשבון הלוואה'!$M$8:$M994,B72,'מחשבון הלוואה'!$Q$8:$Q994) -> 1523.8608
A73: =IFERROR(__xludf.DUMMYFUNCTION("""COMPUTED_VALUE"""),47289.0) -> 47289 | B73: =TEXT(A73,"mm/yyyy") -> 06/2029 | C73: =SUMIF('מחשבון הלוואה'!$C$8:$C994,B73,'מחשבון הלוואה'!$G$8:$G994)+SUMIF('מחשבון הלוואה'!$M$8:$M994,B73,'מחשבון הלוואה'!$Q$8:$Q994) -> 1523.8608
A74: =IFERROR(__xludf.DUMMYFUNCTION("""COMPUTED_VALUE"""),47319.0) -> 47319 | B74: =TEXT(A74,"mm/yyyy") -> 07/2029 | C74: =SUMIF('מחשבון הלוואה'!$C$8:$C994,B74,'מחשבון הלוואה'!$G$8:$G994)+SUMIF('מחשבון הלוואה'!$M$8:$M994,B74,'מחשבון הלוואה'!$Q$8:$Q994) -> 1523.8608
A75: =IFERROR(__xludf.DUMMYFUNCTION("""COMPUTED_VALUE"""),47350.0) -> 47350 | B75: =TEXT(A75,"mm/yyyy") -> 08/2029 | C75: =SUMIF('מחשבון הלוואה'!$C$8:$C994,B75,'מחשבון הלוואה'!$G$8:$G994)+SUMIF('מחשבון הלוואה'!$M$8:$M994,B75,'מחשבון הלוואה'!$Q$8:$Q994) -> 1523.8608
A76: =IFERROR(__xludf.DUMMYFUNCTION("""COMPUTED_VALUE"""),47381.0) -> 47381 | B76: =TEXT(A76,"mm/yyyy") -> 09/2029 | C76: =SUMIF('מחשבון הלוואה'!$C$8:$C994,B76,'מחשבון הלוואה'!$G$8:$G994)+SUMIF('מחשבון הלוואה'!$M$8:$M994,B76,'מחשבון הלוואה'!$Q$8:$Q994) -> 1523.8608
A77: =IFERROR(__xludf.DUMMYFUNCTION("""COMPUTED_VALUE"""),47411.0) -> 47411 | B77: =TEXT(A77,"mm/yyyy") -> 10/2029 | C77: =SUMIF('מחשבון הלוואה'!$C$8:$C994,B77,'מחשבון הלוואה'!$G$8:$G994)+SUMIF('מחשבון הלוואה'!$M$8:$M994,B77,'מחשבון הלוואה'!$Q$8:$Q994) -> 1523.8608
A78: =IFERROR(__xludf.DUMMYFUNCTION("""COMPUTED_VALUE"""),47442.0) -> 47442 | B78: =TEXT(A78,"mm/yyyy") -> 11/2029 | C78: =SUMIF('מחשבון הלוואה'!$C$8:$C994,B78,'מחשבון הלוואה'!$G$8:$G994)+SUMIF('מחשבון הלוואה'!$M$8:$M994,B78,'מחשבון הלוואה'!$Q$8:$Q994) -> 1523.8608
A79: =IFERROR(__xludf.DUMMYFUNCTION("""COMPUTED_VALUE"""),47472.0) -> 47472 | B79: =TEXT(A79,"mm/yyyy") -> 12/2029 | C79: =SUMIF('מחשבון הלוואה'!$C$8:$C994,B79,'מחשבון הלוואה'!$G$8:$G994)+SUMIF('מחשבון הלוואה'!$M$8:$M994,B79,'מחשבון הלוואה'!$Q$8:$Q994) -> 1523.8608
A80: =IFERROR(__xludf.DUMMYFUNCTION("""COMPUTED_VALUE"""),47503.0) -> 47503 | B80: =TEXT(A80,"mm/yyyy") -> 01/2030 | C80: =SUMIF('מחשבון הלוואה'!$C$8:$C994,B80,'מחשבון הלוואה'!$G$8:$G994)+SUMIF('מחשבון הלוואה'!$M$8:$M994,B80,'מחשבון הלוואה'!$Q$8:$Q994) -> 1523.8608
A81: =IFERROR(__xludf.DUMMYFUNCTION("""COMPUTED_VALUE"""),47534.0) -> 47534 | B81: =TEXT(A81,"mm/yyyy") -> 02/2030 | C81: =SUMIF('מחשבון הלוואה'!$C$8:$C994,B81,'מחשבון הלוואה'!$G$8:$G994)+SUMIF('מחשבון הלוואה'!$M$8:$M994,B81,'מחשבון הלוואה'!$Q$8:$Q994) -> 1523.8608
A82: =IFERROR(__xludf.DUMMYFUNCTION("""COMPUTED_VALUE"""),47562.0) -> 47562 | B82: =TEXT(A82,"mm/yyyy") -> 03/2030 | C82: =SUMIF('מחשבון הלוואה'!$C$8:$C994,B82,'מחשבון הלוואה'!$G$8:$G994)+SUMIF('מחשבון הלוואה'!$M$8:$M994,B82,'מחשבון הלוואה'!$Q$8:$Q994) -> 1523.8608
A83: =IFERROR(__xludf.DUMMYFUNCTION("""COMPUTED_VALUE"""),47593.0) -> 47593 | B83: =TEXT(A83,"mm/yyyy") -> 04/2030 | C83: =SUMIF('מחשבון הלוואה'!$C$8:$C994,B83,'מחשבון הלוואה'!$G$8:$G994)+SUMIF('מחשבון הלוואה'!$M$8:$M994,B83,'מחשבון הלוואה'!$Q$8:$Q994) -> 1523.8608
A84: =IFERROR(__xludf.DUMMYFUNCTION("""COMPUTED_VALUE"""),47623.0) -> 47623 | B84: =TEXT(A84,"mm/yyyy") -> 05/2030 | C84: =SUMIF('מחשבון הלוואה'!$C$8:$C994,B84,'מחשבון הלוואה'!$G$8:$G994)+SUMIF('מחשבון הלוואה'!$M$8:$M994,B84,'מחשבון הלוואה'!$Q$8:$Q994) -> 1523.8608
A85: =IFERROR(__xludf.DUMMYFUNCTION("""COMPUTED_VALUE"""),47654.0) -> 47654 | B85: =TEXT(A85,"mm/yyyy") -> 06/2030 | C85: =SUMIF('מחשבון הלוואה'!$C$8:$C994,B85,'מחשבון הלוואה'!$G$8:$G994)+SUMIF('מחשבון הלוואה'!$M$8:$M994,B85,'מחשבון הלוואה'!$Q$8:$Q994) -> 1523.8608
A86: =IFERROR(__xludf.DUMMYFUNCTION("""COMPUTED_VALUE"""),47684.0) -> 47684 | B86: =TEXT(A86,"mm/yyyy") -> 07/2030 | C86: =SUMIF('מחשבון הלוואה'!$C$8:$C994,B86,'מחשבון הלוואה'!$G$8:$G994)+SUMIF('מחשבון הלוואה'!$M$8:$M994,B86,'מחשבון הלוואה'!$Q$8:$Q994) -> 1523.8608
A87: =IFERROR(__xludf.DUMMYFUNCTION("""COMPUTED_VALUE"""),47715.0) -> 47715 | B87: =TEXT(A87,"mm/yyyy") -> 08/2030 | C87: =SUMIF('מחשבון הלוואה'!$C$8:$C994,B87,'מחשבון הלוואה'!$G$8:$G994)+SUMIF('מחשבון הלוואה'!$M$8:$M994,B87,'מחשבון הלוואה'!$Q$8:$Q994) -> 1523.8608
A88: =IFERROR(__xludf.DUMMYFUNCTION("""COMPUTED_VALUE"""),47746.0) -> 47746 | B88: =TEXT(A88,"mm/yyyy") -> 09/2030 | C88: =SUMIF('מחשבון הלוואה'!$C$8:$C994,B88,'מחשבון הלוואה'!$G$8:$G994)+SUMIF('מחשבון הלוואה'!$M$8:$M994,B88,'מחשבון הלוואה'!$Q$8:$Q994) -> 1523.8608
A89: =IFERROR(__xludf.DUMMYFUNCTION("""COMPUTED_VALUE"""),47776.0) -> 47776 | B89: =TEXT(A89,"mm/yyyy") -> 10/2030 | C89: =SUMIF('מחשבון הלוואה'!$C$8:$C994,B89,'מחשבון הלוואה'!$G$8:$G994)+SUMIF('מחשבון הלוואה'!$M$8:$M994,B89,'מחשבון הלוואה'!$Q$8:$Q994) -> 1523.8608
A90: =IFERROR(__xludf.DUMMYFUNCTION("""COMPUTED_VALUE"""),47807.0) -> 47807 | B90: =TEXT(A90,"mm/yyyy") -> 11/2030 | C90: =SUMIF('מחשבון הלוואה'!$C$8:$C994,B90,'מחשבון הלוואה'!$G$8:$G994)+SUMIF('מחשבון הלוואה'!$M$8:$M994,B90,'מחשבון הלוואה'!$Q$8:$Q994) -> 1523.8608
A91: =IFERROR(__xludf.DUMMYFUNCTION("""COMPUTED_VALUE"""),47837.0) -> 47837 | B91: =TEXT(A91,"mm/yyyy") -> 12/2030 | C91: =SUMIF('מחשבון הלוואה'!$C$8:$C994,B91,'מחשבון הלוואה'!$G$8:$G994)+SUMIF('מחשבון הלוואה'!$M$8:$M994,B91,'מחשבון הלוואה'!$Q$8:$Q994) -> 1523.8608
A92: =IFERROR(__xludf.DUMMYFUNCTION("""COMPUTED_VALUE"""),47868.0) -> 47868 | B92: =TEXT(A92,"mm/yyyy") -> 01/2031 | C92: =SUMIF('מחשבון הלוואה'!$C$8:$C994,B92,'מחשבון הלוואה'!$G$8:$G994)+SUMIF('מחשבון הלוואה'!$M$8:$M994,B92,'מחשבון הלוואה'!$Q$8:$Q994) -> 1523.8608
A93: =IFERROR(__xludf.DUMMYFUNCTION("""COMPUTED_VALUE"""),47899.0) -> 47899 | B93: =TEXT(A93,"mm/yyyy") -> 02/2031 | C93: =SUMIF('מחשבון הלוואה'!$C$8:$C994,B93,'מחשבון הלוואה'!$G$8:$G994)+SUMIF('מחשבון הלוואה'!$M$8:$M994,B93,'מחשבון הלוואה'!$Q$8:$Q994) -> 1523.8608
A94: =IFERROR(__xludf.DUMMYFUNCTION("""COMPUTED_VALUE"""),47927.0) -> 47927 | B94: =TEXT(A94,"mm/yyyy") -> 03/2031 | C94: =SUMIF('מחשבון הלוואה'!$C$8:$C994,B94,'מחשבון הלוואה'!$G$8:$G994)+SUMIF('מחשבון הלוואה'!$M$8:$M994,B94,'מחשבון הלוואה'!$Q$8:$Q994) -> 1523.8608
A95: =IFERROR(__xludf.DUMMYFUNCTION("""COMPUTED_VALUE"""),47958.0) -> 47958 | B95: =TEXT(A95,"mm/yyyy") -> 04/2031 | C95: =SUMIF('מחשבון הלוואה'!$C$8:$C994,B95,'מחשבון הלוואה'!$G$8:$G994)+SUMIF('מחשבון הלוואה'!$M$8:$M994,B95,'מחשבון הלוואה'!$Q$8:$Q994) -> 1523.8608
A96: =IFERROR(__xludf.DUMMYFUNCTION("""COMPUTED_VALUE"""),47988.0) -> 47988 | B96: =TEXT(A96,"mm/yyyy") -> 05/2031 | C96: =SUMIF('מחשבון הלוואה'!$C$8:$C994,B96,'מחשבון הלוואה'!$G$8:$G994)+SUMIF('מחשבון הלוואה'!$M$8:$M994,B96,'מחשבון הלוואה'!$Q$8:$Q994) -> 1523.8608
A97: =IFERROR(__xludf.DUMMYFUNCTION("""COMPUTED_VALUE"""),48019.0) -> 48019 | B97: =TEXT(A97,"mm/yyyy") -> 06/2031 | C97: =SUMIF('מחשבון הלוואה'!$C$8:$C994,B97,'מחשבון הלוואה'!$G$8:$G994)+SUMIF('מחשבון הלוואה'!$M$8:$M994,B97,'מחשבון הלוואה'!$Q$8:$Q994) -> 1523.8608
A98: =IFERROR(__xludf.DUMMYFUNCTION("""COMPUTED_VALUE"""),48049.0) -> 48049 | B98: =TEXT(A98,"mm/yyyy") -> 07/2031 | C98: =SUMIF('מחשבון הלוואה'!$C$8:$C994,B98,'מחשבון הלוואה'!$G$8:$G994)+SUMIF('מחשבון הלוואה'!$M$8:$M994,B98,'מחשבון הלוואה'!$Q$8:$Q994) -> 1523.8608
A99: =IFERROR(__xludf.DUMMYFUNCTION("""COMPUTED_VALUE"""),48080.0) -> 48080 | B99: =TEXT(A99,"mm/yyyy") -> 08/2031 | C99: =SUMIF('מחשבון הלוואה'!$C$8:$C994,B99,'מחשבון הלוואה'!$G$8:$G994)+SUMIF('מחשבון הלוואה'!$M$8:$M994,B99,'מחשבון הלוואה'!$Q$8:$Q994) -> 1523.8608
A100: =IFERROR(__xludf.DUMMYFUNCTION("""COMPUTED_VALUE"""),48111.0) -> 48111 | B100: =TEXT(A100,"mm/yyyy") -> 09/2031 | C100: =SUMIF('מחשבון הלוואה'!$C$8:$C994,B100,'מחשבון הלוואה'!$G$8:$G994)+SUMIF('מחשבון הלוואה'!$M$8:$M994,B100,'מחשבון הלוואה'!$Q$8:$Q994) -> 1523.8608
...
