Workbook

Sheet גיליון1
A1: מקומות לסעודות שבת
A2: וישלח
C3: =VLOOKUP(גיליון1!$A$2,גיליון2!$A$2:$H$18,5,FALSE) -> יהודה
B5: =VLOOKUP(גיליון1!$A$2,גיליון2!$A$2:$H$18,6,FALSE) -> ראובן | D5: =VLOOKUP(גיליון1!$A$2,גיליון2!$A$2:$H$18,4,FALSE) -> שמעון
B7: =VLOOKUP(גיליון1!$A$2,גיליון2!$A$2:$H$18,7,FALSE) -> זבולון | D7: =VLOOKUP(גיליון1!$A$2,גיליון2!$A$2:$H$18,3,FALSE) -> דן
B9: =VLOOKUP(גיליון1!$A$2,גיליון2!$A$2:$H$18,8,FALSE) -> לוי | D9: =VLOOKUP(גיליון1!$A$2,גיליון2!$A$2:$H$18,2,FALSE) -> יששכר
C11: אבא | E11: אמא

Sheet גיליון2
A1: שבת | B1: 1 | C1: 2 | D1: 3 | E1: 4 | F1: 5 | G1: 6 | H1: 7
A2: שמחת תורה | B2: =VLOOKUP(B$1+ROW(),$L$2:$M$50,2,FALSE) -> לוי | C2: =VLOOKUP(C$1+ROW(),$L$2:$M$50,2,FALSE) -> יששכר | D2: =VLOOKUP(D$1+ROW(),$L$2:$M$50,2,FALSE) -> דן | E2: =VLOOKUP(E$1+ROW(),$L$2:$M$50,2,FALSE) -> שמעון | F2: =VLOOKUP(F$1+ROW(),$L$2:$M$50,2,FALSE) -> יהודה | G2: =VLOOKUP(G$1+ROW(),$L$2:$M$50,2,FALSE) -> ראובן | H2: =VLOOKUP(H$1+ROW(),$L$2:$M$50,2,FALSE) -> זבולון | L2: 1 | M2: ראובן
A3: בראשית | B3: =VLOOKUP(B$1+ROW(),$L$2:$M$50,2,FALSE) -> יששכר | C3: =VLOOKUP(C$1+ROW(),$L$2:$M$50,2,FALSE) -> דן | D3: =VLOOKUP(D$1+ROW(),$L$2:$M$50,2,FALSE) -> שמעון | E3: =VLOOKUP(E$1+ROW(),$L$2:$M$50,2,FALSE) -> יהודה | F3: =VLOOKUP(F$1+ROW(),$L$2:$M$50,2,FALSE) -> ראובן | G3: =VLOOKUP(G$1+ROW(),$L$2:$M$50,2,FALSE) -> זבולון | H3: =VLOOKUP(H$1+ROW(),$L$2:$M$50,2,FALSE) -> לוי | L3: 2 | M3: זבולון
A4: נח | B4: =VLOOKUP(B$1+ROW(),$L$2:$M$50,2,FALSE) -> דן | C4: =VLOOKUP(C$1+ROW(),$L$2:$M$50,2,FALSE) -> שמעון | D4: =VLOOKUP(D$1+ROW(),$L$2:$M$50,2,FALSE) -> יהודה | E4: =VLOOKUP(E$1+ROW(),$L$2:$M$50,2,FALSE) -> ראובן | F4: =VLOOKUP(F$1+ROW(),$L$2:$M$50,2,FALSE) -> זבולון | G4: =VLOOKUP(G$1+ROW(),$L$2:$M$50,2,FALSE) -> לוי | H4: =VLOOKUP(H$1+ROW(),$L$2:$M$50,2,FALSE) -> יששכר | L4: 3 | M4: לוי
A5: לך לך | B5: =VLOOKUP(B$1+ROW(),$L$2:$M$50,2,FALSE) -> שמעון | C5: =VLOOKUP(C$1+ROW(),$L$2:$M$50,2,FALSE) -> יהודה | D5: =VLOOKUP(D$1+ROW(),$L$2:$M$50,2,FALSE) -> ראובן | E5: =VLOOKUP(E$1+ROW(),$L$2:$M$50,2,FALSE) -> זבולון | F5: =VLOOKUP(F$1+ROW(),$L$2:$M$50,2,FALSE) -> לוי | G5: =VLOOKUP(G$1+ROW(),$L$2:$M$50,2,FALSE) -> יששכר | H5: =VLOOKUP(H$1+ROW(),$L$2:$M$50,2,FALSE) -> דן | L5: 4 | M5: יששכר
A6: וירא | B6: =VLOOKUP(B$1+ROW(),$L$2:$M$50,2,FALSE) -> יהודה | C6: =VLOOKUP(C$1+ROW(),$L$2:$M$50,2,FALSE) -> ראובן | D6: =VLOOKUP(D$1+ROW(),$L$2:$M$50,2,FALSE) -> זבולון | E6: =VLOOKUP(E$1+ROW(),$L$2:$M$50,2,FALSE) -> לוי | F6: =VLOOKUP(F$1+ROW(),$L$2:$M$50,2,FALSE) -> יששכר | G6: =VLOOKUP(G$1+ROW(),$L$2:$M$50,2,FALSE) -> דן | H6: =VLOOKUP(H$1+ROW(),$L$2:$M$50,2,FALSE) -> שמעון | L6: 5 | M6: דן
A7: חיי שרה | B7: =VLOOKUP(B$1+ROW(),$L$2:$M$50,2,FALSE) -> ראובן | C7: =VLOOKUP(C$1+ROW(),$L$2:$M$50,2,FALSE) -> זבולון | D7: =VLOOKUP(D$1+ROW(),$L$2:$M$50,2,FALSE) -> לוי | E7: =VLOOKUP(E$1+ROW(),$L$2:$M$50,2,FALSE) -> יששכר | F7: =VLOOKUP(F$1+ROW(),$L$2:$M$50,2,FALSE) -> דן | G7: =VLOOKUP(G$1+ROW(),$L$2:$M$50,2,FALSE) -> שמעון | H7: =VLOOKUP(H$1+ROW(),$L$2:$M$50,2,FALSE) -> יהודה | L7: 6 | M7: שמעון
A8: תולדות | B8: =VLOOKUP(B$1+ROW(),$L$2:$M$50,2,FALSE) -> זבולון | C8: =VLOOKUP(C$1+ROW(),$L$2:$M$50,2,FALSE) -> לוי | D8: =VLOOKUP(D$1+ROW(),$L$2:$M$50,2,FALSE) -> יששכר | E8: =VLOOKUP(E$1+ROW(),$L$2:$M$50,2,FALSE) -> דן | F8: =VLOOKUP(F$1+ROW(),$L$2:$M$50,2,FALSE) -> שמעון | G8: =VLOOKUP(G$1+ROW(),$L$2:$M$50,2,FALSE) -> יהודה | H8: =VLOOKUP(H$1+ROW(),$L$2:$M$50,2,FALSE) -> ראובן | L8: 7 | M8: יהודה
A9: ויצא | B9: =VLOOKUP(B$1+ROW(),$L$2:$M$50,2,FALSE) -> לוי | C9: =VLOOKUP(C$1+ROW(),$L$2:$M$50,2,FALSE) -> יששכר | D9: =VLOOKUP(D$1+ROW(),$L$2:$M$50,2,FALSE) -> דן | E9: =VLOOKUP(E$1+ROW(),$L$2:$M$50,2,FALSE) -> שמעון | F9: =VLOOKUP(F$1+ROW(),$L$2:$M$50,2,FALSE) -> יהודה | G9: =VLOOKUP(G$1+ROW(),$L$2:$M$50,2,FALSE) -> ראובן | H9: =VLOOKUP(H$1+ROW(),$L$2:$M$50,2,FALSE) -> זבולון | L9: 8 | M9: ראובן
A10: וישלח | B10: =VLOOKUP(B$1+ROW(),$L$2:$M$50,2,FALSE) -> יששכר | C10: =VLOOKUP(C$1+ROW(),$L$2:$M$50,2,FALSE) -> דן | D10: =VLOOKUP(D$1+ROW(),$L$2:$M$50,2,FALSE) -> שמעון | E10: =VLOOKUP(E$1+ROW(),$L$2:$M$50,2,FALSE) -> יהודה | F10: =VLOOKUP(F$1+ROW(),$L$2:$M$50,2,FALSE) -> ראובן | G10: =VLOOKUP(G$1+ROW(),$L$2:$M$50,2,FALSE) -> זבולון | H10: =VLOOKUP(H$1+ROW(),$L$2:$M$50,2,FALSE) -> לוי | L10: 9 | M10: זבולון
A11: וישב | B11: =VLOOKUP(B$1+ROW(),$L$2:$M$50,2,FALSE) -> דן | C11: =VLOOKUP(C$1+ROW(),$L$2:$M$50,2,FALSE) -> שמעון | D11: =VLOOKUP(D$1+ROW(),$L$2:$M$50,2,FALSE) -> יהודה | E11: =VLOOKUP(E$1+ROW(),$L$2:$M$50,2,FALSE) -> ראובן | F11: =VLOOKUP(F$1+ROW(),$L$2:$M$50,2,FALSE) -> זבולון | G11: =VLOOKUP(G$1+ROW(),$L$2:$M$50,2,FALSE) -> לוי | H11: =VLOOKUP(H$1+ROW(),$L$2:$M$50,2,FALSE) -> יששכר | L11: 10 | M11: לוי
A12: מקץ | B12: =VLOOKUP(B$1+ROW(),$L$2:$M$50,2,FALSE) -> שמעון | C12: =VLOOKUP(C$1+ROW(),$L$2:$M$50,2,FALSE) -> יהודה | D12: =VLOOKUP(D$1+ROW(),$L$2:$M$50,2,FALSE) -> ראובן | E12: =VLOOKUP(E$1+ROW(),$L$2:$M$50,2,FALSE) -> זבולון | F12: =VLOOKUP(F$1+ROW(),$L$2:$M$50,2,FALSE) -> לוי | G12: =VLOOKUP(G$1+ROW(),$L$2:$M$50,2,FALSE) -> יששכר | H12: =VLOOKUP(H$1+ROW(),$L$2:$M$50,2,FALSE) -> דן | L12: 11 | M12: יששכר
A13: ויגש | B13: =VLOOKUP(B$1+ROW(),$L$2:$M$50,2,FALSE) -> יהודה | C13: =VLOOKUP(C$1+ROW(),$L$2:$M$50,2,FALSE) -> ראובן | D13: =VLOOKUP(D$1+ROW(),$L$2:$M$50,2,FALSE) -> זבולון | E13: =VLOOKUP(E$1+ROW(),$L$2:$M$50,2,FALSE) -> לוי | F13: =VLOOKUP(F$1+ROW(),$L$2:$M$50,2,FALSE) -> יששכר | G13: =VLOOKUP(G$1+ROW(),$L$2:$M$50,2,FALSE) -> דן | H13: =VLOOKUP(H$1+ROW(),$L$2:$M$50,2,FALSE) -> שמעון | L13: 12 | M13: דן
... A18: בשלח | B18: =VLOOKUP(B$1+ROW(),$L$2:$M$50,2,FALSE) -> דן | C18: =VLOOKUP(C$1+ROW(),$L$2:$M$50,2,FALSE) -> שמעון | D18: =VLOOKUP(D$1+ROW(),$L$2:$M$50,2,FALSE) -> יהודה | E18: =VLOOKUP(E$1+ROW(),$L$2:$M$50,2,FALSE) -> ראובן | F18: =VLOOKUP(F$1+ROW(),$L$2:$M$50,2,FALSE) -> זבולון | G18: =VLOOKUP(G$1+ROW(),$L$2:$M$50,2,FALSE) -> לוי | H18: =VLOOKUP(H$1+ROW(),$L$2:$M$50,2,FALSE) -> יששכר | L18: 17 | M18: לוי
L19: 18 | M19: יששכר
L20: 19 | M20: דן
L21: 20 | M21: שמעון
L22: 21 | M22: יהודה
L23: 22 | M23: ראובן
L24: 23 | M24: זבולון
L25: 24 | M25: לוי
L26: 25 | M26: יששכר
L27: 26 | M27: דן
L28: 27 | M28: שמעון
L29: 28 | M29: יהודה
L30: 29 | M30: ראובן
... L64: 63 | M64: יהודה
