Workbook
Name levels: '[1]נתוני שכר עובדים'!#REF!

Sheet פרטי מוסדות תל אביב
A1: סמל מוסד | B1: שם מוסד | C1: שלב חינוך | D1: סוג חינוך | E1: סוג פיקוח | F1: מגזר | G1: בעלות | H1: שכבה | I1: מספר תלמידים | J1: ביעו השתלמויות
A2: 475871 | B2: רועי קריב מרכז להורא | C2: עליונה בלבד | D2: רגיל | E2: ממלכתי | F2: יהודי | H2: י - יב | J2: =_xlfn.IFNA(LOOKUP(טבלה2[[#This Row],[סמל מוסד]],'השתלמויות במוסדות'!B:B,'השתלמויות במוסדות'!C:C),0) -> 0
A3: 479055 | B3: סטודיו אנקורי | C3: יסודי ועליונה | D3: רגיל | E3: ממלכתי | F3: יהודי | G3: מפעלי אנקורי | H3: ז - יב | I3: 223 | J3: =_xlfn.IFNA(LOOKUP(טבלה2[[#This Row],[סמל מוסד]],'השתלמויות במוסדות'!B:B,'השתלמויות במוסדות'!C:C),0) -> 0
A4: 503631 | B4: מרכז רפואי רעות | C4: יסודי ועליונה | D4: מיוחד | E4: ממלכתי | F4: יהודי | G4: רעות - שירות נשים סוציאלי | H4: א - יב | J4: =_xlfn.IFNA(LOOKUP(טבלה2[[#This Row],[סמל מוסד]],'השתלמויות במוסדות'!B:B,'השתלמויות במוסדות'!C:C),0) -> 0
A5: 510305 | B5: יפה נוף | C5: יסודי בלבד | D5: רגיל | E5: ממלכתי דתי | F5: יהודי | G5: עירית תל אביב | H5: א - ו | I5: 105 | J5: =_xlfn.IFNA(LOOKUP(טבלה2[[#This Row],[סמל מוסד]],'השתלמויות במוסדות'!B:B,'השתלמויות במוסדות'!C:C),0) -> 0
A6: 510479 | B6: בית חינוך אביב | C6: יסודי בלבד | D6: רגיל | E6: ממלכתי | F6: יהודי | G6: אביב עמותה לקידום החינוך | H6: א - ח | I6: 228 | J6: =_xlfn.IFNA(LOOKUP(טבלה2[[#This Row],[סמל מוסד]],'השתלמויות במוסדות'!B:B,'השתלמויות במוסדות'!C:C),0) -> 0
A7: 510982 | B7: אהבת ציון | C7: יסודי בלבד | D7: רגיל | E7: ממלכתי | F7: יהודי | G7: עירית תל אביב | H7: א - ו | I7: 680 | J7: =_xlfn.IFNA(LOOKUP(טבלה2[[#This Row],[סמל מוסד]],'השתלמויות במוסדות'!B:B,'השתלמויות במוסדות'!C:C),0) -> 0
A8: 511006 | B8: אוסישקין | C8: יסודי בלבד | D8: רגיל | E8: ממלכתי | F8: יהודי | G8: עירית תל אביב | H8: א - ו | I8: 308 | J8: =_xlfn.IFNA(LOOKUP(טבלה2[[#This Row],[סמל מוסד]],'השתלמויות במוסדות'!B:B,'השתלמויות במוסדות'!C:C),0) -> 3
A9: 511030 | B9: אילון | C9: יסודי בלבד | D9: רגיל | E9: ממלכתי | F9: יהודי | G9: עירית תל אביב | H9: א - ו | I9: 486 | J9: =_xlfn.IFNA(LOOKUP(טבלה2[[#This Row],[סמל מוסד]],'השתלמויות במוסדות'!B:B,'השתלמויות במוסדות'!C:C),0) -> 4
A10: 511048 | B10: אילנות | C10: יסודי בלבד | D10: רגיל | E10: ממלכתי | F10: יהודי | G10: עירית תל אביב | H10: גן - ו | I10: 508 | J10: =_xlfn.IFNA(LOOKUP(טבלה2[[#This Row],[סמל מוסד]],'השתלמויות במוסדות'!B:B,'השתלמויות במוסדות'!C:C),0) -> 4
A11: 511071 | B11: אלחריזי | C11: יסודי בלבד | D11: רגיל | E11: ממלכתי | F11: יהודי | G11: עירית תל אביב | H11: א - ו | I11: 631 | J11: =_xlfn.IFNA(LOOKUP(טבלה2[[#This Row],[סמל מוסד]],'השתלמויות במוסדות'!B:B,'השתלמויות במוסדות'!C:C),0) -> 3
A12: 511113 | B12: ביאליק | C12: יסודי בלבד | D12: רגיל | E12: ממלכתי | F12: יהודי | G12: עירית תל אביב | H12: א - ו | I12: 399 | J12: =_xlfn.IFNA(LOOKUP(טבלה2[[#This Row],[סמל מוסד]],'השתלמויות במוסדות'!B:B,'השתלמויות במוסדות'!C:C),0) -> 3
A13: 511121 | B13: בלפור | C13: יסודי בלבד | D13: רגיל | E13: ממלכתי | F13: יהודי | G13: עירית תל אביב | H13: א - ו | I13: 556 | J13: =_xlfn.IFNA(LOOKUP(טבלה2[[#This Row],[סמל מוסד]],'השתלמויות במוסדות'!B:B,'השתלמויות במוסדות'!C:C),0) -> 1
A14: 511162 | B14: הדקל | C14: יסודי בלבד | D14: רגיל | E14: ממלכתי | F14: יהודי | G14: עירית תל אביב | H14: א - ו | I14: 219 | J14: =_xlfn.IFNA(LOOKUP(טבלה2[[#This Row],[סמל מוסד]],'השתלמויות במוסדות'!B:B,'השתלמויות במוסדות'!C:C),0) -> 1
A15: 511170 | B15: גבורי ישראל | C15: יסודי בלבד | D15: רגיל | E15: ממלכתי | F15: יהודי | G15: עירית תל אביב | H15: א - ו | I15: 337 | J15: =_xlfn.IFNA(LOOKUP(טבלה2[[#This Row],[סמל מוסד]],'השתלמויות במוסדות'!B:B,'השתלמויות במוסדות'!C:C),0) -> 3
A16: 511188 | B16: נופים ע"ש דוד רמז | C16: יסודי בלבד | D16: רגיל | E16: ממלכתי | F16: יהודי | G16: עירית תל אביב | H16: א - ו | I16: 208 | J16: =_xlfn.IFNA(LOOKUP(טבלה2[[#This Row],[סמל מוסד]],'השתלמויות במוסדות'!B:B,'השתלמויות במוסדות'!C:C),0) -> 1
... A96: 520387 | B96: און | C96: יסודי ועליונה | D96: מיוחד | E96: ממלכתי | F96: יהודי | G96: עירית תל אביב | H96: א - יב | I96: 149 | J96: =_xlfn.IFNA(LOOKUP(טבלה2[[#This Row],[סמל מוסד]],'השתלמויות במוסדות'!B:B,'השתלמויות במוסדות'!C:C),0) -> 1
A97: 520395 | B97: דנה | C97: יסודי חט"ב ועליונה | D97: מיוחד | E97: ממלכתי | F97: יהודי | G97: עירית תל אביב | H97: גן - יב | J97: =_xlfn.IFNA(LOOKUP(טבלה2[[#This Row],[סמל מוסד]],'השתלמויות במוסדות'!B:B,'השתלמויות במוסדות'!C:C),0) -> 2
A98: 520486 | B98: מצדה | C98: יסודי בלבד | D98: מיוחד | E98: ממלכתי | F98: יהודי | G98: עירית תל אביב | H98: א - ט | I98: 99 | J98: =_xlfn.IFNA(LOOKUP(טבלה2[[#This Row],[סמל מוסד]],'השתלמויות במוסדות'!B:B,'השתלמויות במוסדות'!C:C),0) -> 4
A99: 520577 | B99: חורב מד | C99: יסודי בלבד | D99: מיוחד | E99: ממלכתי דתי | F99: יהודי | G99: עירית תל אביב | H99: א - ט | I99: 94 | J99: =_xlfn.IFNA(LOOKUP(טבלה2[[#This Row],[סמל מוסד]],'השתלמויות במוסדות'!B:B,'השתלמויות במוסדות'!C:C),0) -> 4
A100: 520635 | B100: נתיב | C100: יסודי ועליונה | D100: מיוחד | E100: ממלכתי | F100: יהודי | G100: עירית תל אביב | H100: א - יב | I100: 95 | J100: =_xlfn.IFNA(LOOKUP(טבלה2[[#This Row],[סמל מוסד]],'השתלמויות במוסדות'!B:B,'השתלמויות במוסדות'!C:C),0) -> 1
A101: 520643 | B101: יחדיו | C101: יסודי בלבד | D101: מיוחד | E101: ממלכתי | F101: יהודי | G101: עירית תל אביב | H101: א - ט | I101: 110 | J101: =_xlfn.IFNA(LOOKUP(טבלה2[[#This Row],[סמל מוסד]],'השתלמויות במוסדות'!B:B,'השתלמויות במוסדות'!C:C),0) -> 2
A102: 520890 | B102: גיל | C102: חט"ב + עליונה | D102: מיוחד | E102: ממלכתי | F102: יהודי | G102: עירית תל אביב | H102: ז - יב | I102: 126 | J102: =_xlfn.IFNA(LOOKUP(טבלה2[[#This Row],[סמל מוסד]],'השתלמויות במוסדות'!B:B,'השתלמויות במוסדות'!C:C),0) -> 1
A103: 525915 | B103: ונצואלה | C103: יסודי ועליונה | D103: מיוחד | E103: ממלכתי | F103: יהודי | G103: עירית תל אביב | H103: א - יב | I103: 92 | J103: =_xlfn.IFNA(LOOKUP(טבלה2[[#This Row],[סמל מוסד]],'השתלמויות במוסדות'!B:B,'השתלמויות במוסדות'!C:C),0) -> 2
A104: 530287 | B104: מפתן אלון | C104: חט"ב + עליונה | D104: רגיל | E104: ממלכתי | F104: יהודי | H104: ז - יב | I104: 41 | J104: =_xlfn.IFNA(LOOKUP(טבלה2[[#This Row],[סמל מוסד]],'השתלמויות במוסדות'!B:B,'השתלמויות במוסדות'!C:C),0) -> 3
A105: 530394 | B105: דרויינוב | C105: יסודי בלבד | D105: רגיל | E105: ממלכתי | F105: יהודי | G105: עירית תל אביב | H105: א - ו | I105: 401 | J105: =_xlfn.IFNA(LOOKUP(טבלה2[[#This Row],[סמל מוסד]],'השתלמויות במוסדות'!B:B,'השתלמויות במוסדות'!C:C),0) -> 2
A106: 530402 | B106: גבעון | C106: יסודי בלבד | D106: רגיל | E106: ממלכתי | F106: יהודי | G106: עירית תל אביב | H106: א - ו | I106: 318 | J106: =_xlfn.IFNA(LOOKUP(טבלה2[[#This Row],[סמל מוסד]],'השתלמויות במוסדות'!B:B,'השתלמויות במוסדות'!C:C),0) -> 2
A107: 530535 | B107: כוכב הצפון | C107: יסודי בלבד | D107: רגיל | E107: ממלכתי | F107: יהודי | G107: עירית תל אביב | H107: א - ו | I107: 449 | J107: =_xlfn.IFNA(LOOKUP(טבלה2[[#This Row],[סמל מוסד]],'השתלמויות במוסדות'!B:B,'השתלמויות במוסדות'!C:C),0) -> 2
A108: 531905 | B108: הר נבו | C108: יסודי בלבד | D108: רגיל | E108: ממלכתי | F108: יהודי | G108: עירית תל אביב | H108: א - ו | I108: 336 | J108: =_xlfn.IFNA(LOOKUP(טבלה2[[#This Row],[סמל מוסד]],'השתלמויות במוסדות'!B:B,'השתלמויות במוסדות'!C:C),0) -> 2
A109: 533208 | B109: מרכז נוער ע"ש מצקין | C109: עליונה בלבד | D109: רגיל | E109: ממלכתי | F109: יהודי | G109: עירית תל אביב | H109: ט - יב | I109: 92 | J109: =_xlfn.IFNA(LOOKUP(טבלה2[[#This Row],[סמל מוסד]],'השתלמויות במוסדות'!B:B,'השתלמויות במוסדות'!C:C),0) -> 2
A110: 539916 | B110: צוקי אביב | C110: יסודי בלבד | D110: רגיל | E110: ממלכתי | F110: יהודי | G110: עירית תל אביב | H110: א - ו | I110: 468 | J110: =_xlfn.IFNA(LOOKUP(טבלה2[[#This Row],[סמל מוסד]],'השתלמויות במוסדות'!B:B,'השתלמויות במוסדות'!C:C),0) -> 2
A111: 540039 | B111: מכללת אמי"ת תל-אביב | C111: חט"ב + עליונה | D111: רגיל | E111: ממלכתי דתי | F111: יהודי | G111: נשי "אמית" | H111: ז - יג | I111: 241 | J111: =_xlfn.IFNA(LOOKUP(טבלה2[[#This Row],[סמל מוסד]],'השתלמויות במוסדות'!B:B,'השתלמויות במוסדות'!C:C),0) -> 2
A112: 540062 | B112: גמנסיה עברית הרצליה | C112: חט"ב + עליונה | D112: רגיל | E112: ממלכתי | F112: יהודי | G112: גמנסיה העברית הרצליה | H112: ז - יב | I112: 1870 | J112: =_xlfn.IFNA(LOOKUP(טבלה2[[#This Row],[סמל מוסד]],'השתלמויות במוסדות'!B:B,'השתלמויות במוסדות'!C:C),0) -> 1
A113: 540070 | B113: תיכון חדש ע"ש רבין | C113: חט"ב + עליונה | D113: רגיל | E113: ממלכתי | F113: יהודי | G113: התיכון החדש | H113: ז - יב | I113: 1391 | J113: =_xlfn.IFNA(LOOKUP(טבלה2[[#This Row],[סמל מוסד]],'השתלמויות במוסדות'!B:B,'השתלמויות במוסדות'!C:C),0) -> 4
A114: 540088 | B114: עירוני י' אליאנס | C114: חט"ב + עליונה | D114: רגיל | E114: ממלכתי | F114: יהודי | G114: תיכון עירוני כ"יח | H114: ז - יב | I114: 1635 | J114: =_xlfn.IFNA(LOOKUP(טבלה2[[#This Row],[סמל מוסד]],'השתלמויות במוסדות'!B:B,'השתלמויות במוסדות'!C:C),0) -> 3
A115: 540112 | B115: עירוני א' לאמנויות | C115: חט"ב + עליונה | D115: רגיל | E115: ממלכתי | F115: יהודי | G115: עירית תל אביב | H115: ז - יב | I115: 1428 | J115: =_xlfn.IFNA(LOOKUP(טבלה2[[#This Row],[סמל מוסד]],'השתלמויות במוסדות'!B:B,'השתלמויות במוסדות'!C:C),0) -> 4
A116: 540120 | B116: עירוני תורני ב' ג' | C116: חט"ב + עליונה | D116: רגיל | E116: ממלכתי דתי | F116: יהודי | G116: עירית תל אביב | H116: ז - יב | I116: 414 | J116: =_xlfn.IFNA(LOOKUP(טבלה2[[#This Row],[סמל מוסד]],'השתלמויות במוסדות'!B:B,'השתלמויות במוסדות'!C:C),0) -> 4
... A125: 540518 | B125: עירוני יא' | C125: עליונה בלבד | D125: רגיל | E125: ממלכתי | F125: יהודי | G125: עירית תל אביב | H125: ט - יב | I125: 62 | J125: =_xlfn.IFNA(LOOKUP(טבלה2[[#This Row],[סמל מוסד]],'השתלמויות במוסדות'!B:B,'השתלמויות במוסדות'!C:C),0) -> 4
A126: 540716 | B126: ישיבת שמו שמעון | C126: עליונה בלבד | D126: רגיל | E126: חרדי | F126: יהודי | G126: שער שמעון | H126: ט - יב | J126: =_xlfn.IFNA(LOOKUP(טבלה2[[#This Row],[סמל מוסד]],'השתלמויות במוסדות'!B:B,'השתלמויות במוסדות'!C:C),0) -> 4
A127: 540807 | B127: אנקורי | C127: עליונה בלבד | D127: רגיל | E127: ממלכתי | F127: יהודי | G127: מפעלי אנקורי | H127: ט - יב | I127: 217 | J127: =_xlfn.IFNA(LOOKUP(טבלה2[[#This Row],[סמל מוסד]],'השתלמויות במוסדות'!B:B,'השתלמויות במוסדות'!C:C),0) -> 4
...

Sheet השתלמויות במוסדות
B3: סמל מוסד | C3: מספר השתלמויות כולל | D3: מספר השתלמויות תקשוב | E3: מופיע | F3: שם בית ספר | H3: סמל מוסד | I3: מספר השתלמויות כולל | J3: מספר השתלמויות תקשוב
B4: 511006 | C4: 3 | D4: 2 | E4: =_xlfn.IFNA(MATCH(B4,'פרטי מוסדות תל אביב'!A:A,0),0)>0 -> TRUE | F4: =LOOKUP('השתלמויות במוסדות'!B4,'פרטי מוסדות תל אביב'!A:A,'פרטי מוסדות תל אביב'!B:B) -> אוסישקין | H4: 513283 | I4: =VLOOKUP(טבלה6[סמל מוסד],$B$4:$D$100,2,0) -> 4 | J4: =VLOOKUP(טבלה6[סמל מוסד],$B$4:$D$100,3,0) -> 2
B5: 511030 | C5: 4 | D5: 3 | E5: =_xlfn.IFNA(MATCH(B5,'פרטי מוסדות תל אביב'!A:A,0),0)>0 -> TRUE | F5: =LOOKUP('השתלמויות במוסדות'!B5,'פרטי מוסדות תל אביב'!A:A,'פרטי מוסדות תל אביב'!B:B) -> אילון
B6: 511048 | C6: 4 | D6: 3 | E6: =_xlfn.IFNA(MATCH(B6,'פרטי מוסדות תל אביב'!A:A,0),0)>0 -> TRUE | F6: =LOOKUP('השתלמויות במוסדות'!B6,'פרטי מוסדות תל אביב'!A:A,'פרטי מוסדות תל אביב'!B:B) -> אילנות
B7: 511071 | C7: 3 | D7: 2 | E7: =_xlfn.IFNA(MATCH(B7,'פרטי מוסדות תל אביב'!A:A,0),0)>0 -> TRUE | F7: =LOOKUP('השתלמויות במוסדות'!B7,'פרטי מוסדות תל אביב'!A:A,'פרטי מוסדות תל אביב'!B:B) -> אלחריזי
B8: 511113 | C8: 3 | D8: 1 | E8: =_xlfn.IFNA(MATCH(B8,'פרטי מוסדות תל אביב'!A:A,0),0)>0 -> TRUE | F8: =LOOKUP('השתלמויות במוסדות'!B8,'פרטי מוסדות תל אביב'!A:A,'פרטי מוסדות תל אביב'!B:B) -> ביאליק
B9: 511121 | C9: 1 | D9: 0 | E9: =_xlfn.IFNA(MATCH(B9,'פרטי מוסדות תל אביב'!A:A,0),0)>0 -> TRUE | F9: =LOOKUP('השתלמויות במוסדות'!B9,'פרטי מוסדות תל אביב'!A:A,'פרטי מוסדות תל אביב'!B:B) -> בלפור
B10: 511162 | C10: 1 | D10: 0 | E10: =_xlfn.IFNA(MATCH(B10,'פרטי מוסדות תל אביב'!A:A,0),0)>0 -> TRUE | F10: =LOOKUP('השתלמויות במוסדות'!B10,'פרטי מוסדות תל אביב'!A:A,'פרטי מוסדות תל אביב'!B:B) -> הדקל
B11: 511170 | C11: 3 | D11: 1 | E11: =_xlfn.IFNA(MATCH(B11,'פרטי מוסדות תל אביב'!A:A,0),0)>0 -> TRUE | F11: =LOOKUP('השתלמויות במוסדות'!B11,'פרטי מוסדות תל אביב'!A:A,'פרטי מוסדות תל אביב'!B:B) -> גבורי ישראל
B12: 511188 | C12: 1 | D12: 0 | E12: =_xlfn.IFNA(MATCH(B12,'פרטי מוסדות תל אביב'!A:A,0),0)>0 -> TRUE | F12: =LOOKUP('השתלמויות במוסדות'!B12,'פרטי מוסדות תל אביב'!A:A,'פרטי מוסדות תל אביב'!B:B) -> נופים ע"ש דוד רמז
B13: 511196 | C13: 3 | D13: 2 | E13: =_xlfn.IFNA(MATCH(B13,'פרטי מוסדות תל אביב'!A:A,0),0)>0 -> TRUE | F13: =LOOKUP('השתלמויות במוסדות'!B13,'פרטי מוסדות תל אביב'!A:A,'פרטי מוסדות תל אביב'!B:B) -> איתמר בן אבי
B14: 511212 | C14: 1 | D14: 0 | E14: =_xlfn.IFNA(MATCH(B14,'פרטי מוסדות תל אביב'!A:A,0),0)>0 -> TRUE | F14: =LOOKUP('השתלמויות במוסדות'!B14,'פרטי מוסדות תל אביב'!A:A,'פרטי מוסדות תל אביב'!B:B) -> א. ד. גורדון
B15: 511352 | C15: 1 | D15: 0 | E15: =_xlfn.IFNA(MATCH(B15,'פרטי מוסדות תל אביב'!A:A,0),0)>0 -> TRUE | F15: =LOOKUP('השתלמויות במוסדות'!B15,'פרטי מוסדות תל אביב'!A:A,'פרטי מוסדות תל אביב'!B:B) -> גבריאלי-הכרמל
B16: 511451 | C16: 2 | D16: 0 | E16: =_xlfn.IFNA(MATCH(B16,'פרטי מוסדות תל אביב'!A:A,0),0)>0 -> TRUE | F16: =LOOKUP('השתלמויות במוסדות'!B16,'פרטי מוסדות תל אביב'!A:A,'פרטי מוסדות תל אביב'!B:B) -> שרת
... B100: 560110 | C100: 3 | D100: 1 | E100: =_xlfn.IFNA(MATCH(B100,'פרטי מוסדות תל אביב'!A:A,0),0)>0 -> TRUE | F100: =LOOKUP('השתלמויות במוסדות'!B100,'פרטי מוסדות תל אביב'!A:A,'פרטי מוסדות תל אביב'!B:B) -> קהילה

Sheet שאלות לניתוח
C3: # | D3: שאלות לניתוח באמצעות vlookup | E3: תשובתך | F3: עמודה1
C4: 1 | D4: מה שמו של בית הספר שסמל המוסד שלו הינו: 511113 | E4: ביאליק
C5: 2 | D5: האם בית הספר שסמל המוסד שלו הינו 511340 קיים בגיליון המוסדות? | E5: לא
C6: 3 | D6: כמה תלמידים לומדים בבית הספר הדקל? | E6: 219
C7: 4 | D7: האם בית הספר שסמל המוסד שלו הינו 770297 ביצע השתלמויות? | E7: לא
C8: 5 | D8: כמה השתלמויות תקשוב בוצעו בבית הספר שסמל המוסד שלו 513283 | E8: 2 | F8: תיקנתי את סמל המוסד. אין בטבלה סמל מוסד כמופיע בשאלה
C9: 6 | D9: האם בגיליון השתלמויות במוסדות ישנו בית ספר שקיים השתלמויות, אך שסמל המוסד שלו אינו כלול ברשימת מוסדות תל אביב? אם כן - מה סמל המוסד שלו? | E9: 515515
C10: 7 | D10: בגיליון השתלמויות במוסדות, הוסיפו עמודה חדשה בשם שם בית הספר. משכו באמצעות LOOKUP את שמות בתי הספר בהתאמה מתוך גיליון פרטי מוסדות עבור הרשומה הראשונה. שכפלו אותה ליתר הרשומות בעמודה.
C11: 8 | D11: בגיליון פרטי מוסדות תל אביב, הוסיפו עמודה חדשה בשם "ביצעו השתלמויות". באמצעות LOOKUP משכו את מספר ההשתלמויות הכולל של כל בית ספר כזה שביצע השתלמות וקיים בגיליון השתלמויות במוסדות עבור הרשומה הראשונה. שכפלו אותה ליתר הרשומות בעמודה.
C12: 9 | D12: המירו את הטווח בפרטי מוסדות תל אביב לטבלה והוסיפו לטבלה שורת סכום. בצעו סינון על הטבלה מהשאלה הקודמת כך שיוצגו רק בתי הספר שקיימו השתלמויות כמה בתי ספר ביצעו השתלמות | E12: 173
C13: 10 | D13: בצעו סינון על הגיליון מהשאלה הקודמת כך שיוצגו רק בתי הספר שלא קיימו השתלמויות. כמה בתי ספר לא קיימו השתלמויות כלל | E13: 6
