Workbook

Sheet השקעה בנדל"ן
B1: נדל"ן בפריפריה
B3: הוצאות בקנייה | C3: מחיר | F3: תשואה
B4: מחיר דירה | C4: 750000 | F4: 0.024
B5: חלוקה ל 2 יחידות/ שיפוץ | C5: 100000
B6: מס רכישה | C6: =C4*6% -> 45000
B7: תיווך | C7: =C4*1% -> 7500
B8: עו"ד | C8: =C4*1% -> 7500
B9: שמאי | C9: 2000
B10: ביטוח משכנתא | C10: =150*240 -> 36000
B11: יועץ משכנתאות | C11: 5000 | E11: השקעה חודשית (משכנתא) | F11: =C13/240-C22 -> 1608.3333
B12: סה"כ | C12: =SUBTOTAL(9,C4:C11) -> 953000 | E12: השקעה ב 20 שנה | F12: =F11*240 -> 386000
B13: מחיר המשכנתא | C13: =C12/200*240 -> 1143600 | E13: סה"כ תשואה אחרי 20 שנה (שווי הדירה) | F13: ='נדלן מול שוק ההון'!AH23 -> 1205203.5
B14: הוצאות במשך הזמן | C14: הפסד | E14: ניכוי מס :( | F14: =(F13-C18)*15% -> -6719.47
B15: תחזוקת הדירה ל20 שנה | C15: 20000 | E15: סה"כ רווח | F15: =F13-F14 -> 1211923
B16: תיווך השכרה | C16: =C20*5% -> 43200
B17: חודשים שהדירה לא הושכרה | C17: =C20*5% -> 43200
B18: מחיר הדירה אחר הוצאות | C18: =SUBTOTAL(9,C15:C17,C13) -> 1250000
B19: רווח חודשי משכירות | C19: 3600
B20: שכירות ל 20 שנה | C20: =C19*12*20 -> 864000
B21: רווח שכירות אחר ניכוי הוצאות | C21: =C20-SUM(C15:C17) -> 757600
B22: רווח חודשי אחר נכוי ההוצאות | C22: =C21/12/20 -> 3156.6667

Sheet השקעה בקרנות סל - שוק ההון
B1: קרנות סל
F2: תשואה
F3: 0.08
E11: השקעה חודשית | F11: ='השקעה בנדל"ן'!F11 -> 1608.3333
E12: השקעה ב 20 שנה | F12: ='נדלן מול שוק ההון'!AE24 -> 386000
E13: תשואה | F13: ='נדלן מול שוק ההון'!AC24 -> 567862.38
E14: סה"כ צבירה | F14: ='נדלן מול שוק ההון'!AB23 -> 953862.38
E15: ניכוי מס :( | F15: =F13*15% -> 85179.358
E16: סכום אחר ניכוי מס | F16: =F14-F15 -> 868683.03

Sheet נדלן מול שוק ההון
B1: נדל"ן | C1: שוק ההון פאסיבי
B2: ניהול משמעותי של ההשקעה | C2: ניהול לא משמעותי | AH2: טבלה לתשואה בנדל"ן
B3: צריך להשקיע סכום גבוה | C3: אפשר להשקיע סכומים צנועים | AA3: שנה | AB3: הפקדה + תשואה | AC3: תשואה | AD3: סה"כ הפקדה | AE3: הפקדה שנתית | AG3: שנה | AH3: הפקדה + תשואה | AI3: תשואה | AJ3: סה"כ הפקדה | AK3: הפקדה שנתית
B4: אין אפשרות להוסיף כסף להשקעה | C4: יש אפשרות להוסיף כל יום כסף להשקעה | AA4: 1.1.2021 | AB4: =AD4+AC4 -> 20844 | AC4: =AD4*טבלה2[תשואה] -> 1544 | AD4: =AE4 -> 19300 | AE4: ='השקעה בקרנות סל - שוק ההון'!F$11*12 -> 19300 | AG4: 1.1.2021 | AH4: =AJ4+AI4 -> 768000 | AI4: =AJ4*טבלה3[תשואה] -> 18000 | AJ4: =AK4 -> 750000 | AK4: =טבלה1[[#This Row],[מחיר]] -> 750000
B5: אין אפשרות לפדות חלק מההשקעה | C5: יש אפשרות לפדות חלק מההשקעה | AA5: 1.1.2022 | AB5: =AD5+AC5 -> 43355.52 | AC5: =AD5*טבלה2[תשואה] -> 3211.52 | AD5: =AE5+AB4 -> 40144 | AE5: ='השקעה בקרנות סל - שוק ההון'!F$11*12 -> 19300 | AG5: 1.1.2022 | AH5: =AJ5+AI5 -> 786432 | AI5: =AJ5*טבלה3[תשואה] -> 18432 | AJ5: =AK5+AH4 -> 768000 | AK5: 0
B6: השקעה במקום אחד | C6: השקעה מפוזרת | AA6: 1.1.2023 | AB6: =AD6+AC6 -> 67667.962 | AC6: =AD6*טבלה2[תשואה] -> 5012.4416 | AD6: =AE6+AB5 -> 62655.52 | AE6: ='השקעה בקרנות סל - שוק ההון'!F$11*12 -> 19300 | AG6: 1.1.2023 | AH6: =AJ6+AI6 -> 805306.37 | AI6: =AJ6*טבלה3[תשואה] -> 18874.368 | AJ6: =AK6+AH5 -> 786432 | AK6: 0
B7: השקעה למשך זמן ארוך בלבד | C7: אפשר לקצר את זמן ההשקעה | AA7: 1.1.2024 | AB7: =AD7+AC7 -> 93925.399 | AC7: =AD7*טבלה2[תשואה] -> 6957.4369 | AD7: =AE7+AB6 -> 86967.962 | AE7: ='השקעה בקרנות סל - שוק ההון'!F$11*12 -> 19300 | AG7: 1.1.2024 | AH7: =AJ7+AI7 -> 824633.72 | AI7: =AJ7*טבלה3[תשואה] -> 19327.353 | AJ7: =AK7+AH6 -> 805306.37 | AK7: 0
B8: צריך לשמור קבלות על הוצאות מקניית הדירה כדי לקבל נכוי במס | C8: לא רלוונטי | AA8: 1.1.2025 | AB8: =AD8+AC8 -> 122283.43 | AC8: =AD8*טבלה2[תשואה] -> 9058.0319 | AD8: =AE8+AB7 -> 113225.4 | AE8: ='השקעה בקרנות סל - שוק ההון'!F$11*12 -> 19300 | AG8: 1.1.2025 | AH8: =AJ8+AI8 -> 844424.93 | AI8: =AJ8*טבלה3[תשואה] -> 19791.209 | AJ8: =AK8+AH7 -> 824633.72 | AK8: 0
B9: יותר מובן לאדם ממוצע | C9: פחות מוכר לאדם ממוצע | AA9: 1.1.2026 | AB9: =AD9+AC9 -> 152910.1 | AC9: =AD9*טבלה2[תשואה] -> 11326.674 | AD9: =AE9+AB8 -> 141583.43 | AE9: ='השקעה בקרנות סל - שוק ההון'!F$11*12 -> 19300 | AG9: 1.1.2026 | AH9: =AJ9+AI9 -> 864691.13 | AI9: =AJ9*טבלה3[תשואה] -> 20266.198 | AJ9: =AK9+AH8 -> 844424.93 | AK9: 0
B10: איתנות פסיכולוגית בנפילת שוק | C10: רפיון פסיכולוגי בנפילת שוק | AA10: 1.1.2027 | AB10: =AD10+AC10 -> 185986.91 | AC10: =AD10*טבלה2[תשואה] -> 13776.808 | AD10: =AE10+AB9 -> 172210.1 | AE10: ='השקעה בקרנות סל - שוק ההון'!F$11*12 -> 19300 | AG10: 1.1.2027 | AH10: =AJ10+AI10 -> 885443.72 | AI10: =AJ10*טבלה3[תשואה] -> 20752.587 | AJ10: =AK10+AH9 -> 864691.13 | AK10: 0
B11: בעלות אמיתית על הנכס | C11: בעלות וירטואלית | AA11: 1.1.2028 | AB11: =AD11+AC11 -> 221709.87 | AC11: =AD11*טבלה2[תשואה] -> 16422.953 | AD11: =AE11+AB10 -> 205286.91 | AE11: ='השקעה בקרנות סל - שוק ההון'!F$11*12 -> 19300 | AG11: 1.1.2028 | AH11: =AJ11+AI11 -> 906694.36 | AI11: =AJ11*טבלה3[תשואה] -> 21250.649 | AJ11: =AK11+AH10 -> 885443.72 | AK11: 0
B12: הצמדה למדד הדירות | C12: לא רלוונטי | AA12: 1.1.2029 | AB12: =AD12+AC12 -> 260290.66 | AC12: =AD12*טבלה2[תשואה] -> 19280.789 | AD12: =AE12+AB11 -> 241009.87 | AE12: ='השקעה בקרנות סל - שוק ההון'!F$11*12 -> 19300 | AG12: 1.1.2029 | AH12: =AJ12+AI12 -> 928455.03 | AI12: =AJ12*טבלה3[תשואה] -> 21760.665 | AJ12: =AK12+AH11 -> 906694.36 | AK12: 0
B13: תשלום מס ריאלי 25% מהשבח. אין מס על השכירות (עד 5,100 ₪) | C13: תשלום מס ריאלי 25% על הרווח | AA13: 1.1.2030 | AB13: =AD13+AC13 -> 301957.91 | AC13: =AD13*טבלה2[תשואה] -> 22367.252 | AD13: =AE13+AB12 -> 279590.66 | AE13: ='השקעה בקרנות סל - שוק ההון'!F$11*12 -> 19300 | AG13: 1.1.2030 | AH13: =AJ13+AI13 -> 950737.95 | AI13: =AJ13*טבלה3[תשואה] -> 22282.921 | AJ13: =AK13+AH12 -> 928455.03 | AK13: 0
B14: לקיחת משכנתא | C14: השקעה ממה שיש | AA14: 1.1.2031 | AB14: =AD14+AC14 -> 346958.54 | AC14: =AD14*טבלה2[תשואה] -> 25700.633 | AD14: =AE14+AB13 -> 321257.91 | AE14: ='השקעה בקרנות סל - שוק ההון'!F$11*12 -> 19300 | AG14: 1.1.2031 | AH14: =AJ14+AI14 -> 973555.66 | AI14: =AJ14*טבלה3[תשואה] -> 22817.711 | AJ14: =AK14+AH13 -> 950737.95 | AK14: 0
B15: צריך ידע בשוק הנדל"ן באזור קניית הדירה | C15: צריך ידע בשוק ההון | AA15: 1.1.2032 | AB15: =AD15+AC15 -> 395559.22 | AC15: =AD15*טבלה2[תשואה] -> 29300.683 | AD15: =AE15+AB14 -> 366258.54 | AE15: ='השקעה בקרנות סל - שוק ההון'!F$11*12 -> 19300 | AG15: 1.1.2032 | AH15: =AJ15+AI15 -> 996921 | AI15: =AJ15*טבלה3[תשואה] -> 23365.336 | AJ15: =AK15+AH14 -> 973555.66 | AK15: 0
B16: רווח מעליית מחיר הדירה (שכירות למשכנתא) | C16: רווח מריבית דריבית (דבידנדים לא נמשכים) | AA16: 1.1.2033 | AB16: =AD16+AC16 -> 448047.96 | AC16: =AD16*טבלה2[תשואה] -> 33188.738 | AD16: =AE16+AB15 -> 414859.22 | AE16: ='השקעה בקרנות סל - שוק ההון'!F$11*12 -> 19300 | AG16: 1.1.2033 | AH16: =AJ16+AI16 -> 1020847.1 | AI16: =AJ16*טבלה3[תשואה] -> 23926.104 | AJ16: =AK16+AH15 -> 996921 | AK16: 0
B17: רווח אחרי 20 שנה שווי הדירה | C17: רווח נקי אחרי 20 שנה | AA17: 1.1.2034 | AB17: =AD17+AC17 -> 504735.8 | AC17: =AD17*טבלה2[תשואה] -> 37387.837 | AD17: =AE17+AB16 -> 467347.96 | AE17: ='השקעה בקרנות סל - שוק ההון'!F$11*12 -> 19300 | AG17: 1.1.2034 | AH17: =AJ17+AI17 -> 1045347.4 | AI17: =AJ17*טבלה3[תשואה] -> 24500.33 | AJ17: =AK17+AH16 -> 1020847.1 | AK17: 0
B18: ='השקעה בנדל"ן'!F15 -> 1211923 | C18: ='השקעה בקרנות סל - שוק ההון'!F16 -> 868683.03 | AA18: 1.1.2035 | AB18: =AD18+AC18 -> 565958.66 | AC18: =AD18*טבלה2[תשואה] -> 41922.864 | AD18: =AE18+AB17 -> 524035.8 | AE18: ='השקעה בקרנות סל - שוק ההון'!F$11*12 -> 19300 | AG18: 1.1.2035 | AH18: =AJ18+AI18 -> 1070435.8 | AI18: =AJ18*טבלה3[תשואה] -> 25088.338 | AJ18: =AK18+AH17 -> 1045347.4 | AK18: 0
AA19: 1.1.2036 | AB19: =AD19+AC19 -> 632079.36 | AC19: =AD19*טבלה2[תשואה] -> 46820.693 | AD19: =AE19+AB18 -> 585258.66 | AE19: ='השקעה בקרנות סל - שוק ההון'!F$11*12 -> 19300 | AG19: 1.1.2036 | AH19: =AJ19+AI19 -> 1096126.2 | AI19: =AJ19*טבלה3[תשואה] -> 25690.458 | AJ19: =AK19+AH18 -> 1070435.8 | AK19: 0
AA20: 1.1.2037 | AB20: =AD20+AC20 -> 703489.7 | AC20: =AD20*טבלה2[תשואה] -> 52110.348 | AD20: =AE20+AB19 -> 651379.36 | AE20: ='השקעה בקרנות סל - שוק ההון'!F$11*12 -> 19300 | AG20: 1.1.2037 | AH20: =AJ20+AI20 -> 1122433.3 | AI20: =AJ20*טבלה3[תשואה] -> 26307.029 | AJ20: =AK20+AH19 -> 1096126.2 | AK20: 0
AA21: 1.1.2038 | AB21: =AD21+AC21 -> 780612.88 | AC21: =AD21*טבלה2[תשואה] -> 57823.176 | AD21: =AE21+AB20 -> 722789.7 | AE21: ='השקעה בקרנות סל - שוק ההון'!F$11*12 -> 19300 | AG21: 1.1.2038 | AH21: =AJ21+AI21 -> 1149371.7 | AI21: =AJ21*טבלה3[תשואה] -> 26938.398 | AJ21: =AK21+AH20 -> 1122433.3 | AK21: 0
AA22: 1.1.2039 | AB22: =AD22+AC22 -> 863905.91 | AC22: =AD22*טבלה2[תשואה] -> 63993.03 | AD22: =AE22+AB21 -> 799912.88 | AE22: ='השקעה בקרנות סל - שוק ההון'!F$11*12 -> 19300 | AG22: 1.1.2039 | AH22: =AJ22+AI22 -> 1176956.6 | AI22: =AJ22*טבלה3[תשואה] -> 27584.92 | AJ22: =AK22+AH21 -> 1149371.7 | AK22: 0
AA23: 1.1.2040 | AB23: =AD23+AC23 -> 953862.38 | AC23: =AD23*טבלה2[תשואה] -> 70656.473 | AD23: =AE23+AB22 -> 883205.91 | AE23: ='השקעה בקרנות סל - שוק ההון'!F$11*12 -> 19300 | AG23: 1.1.2040 | AH23: =AJ23+AI23 -> 1205203.5 | AI23: =AJ23*טבלה3[תשואה] -> 28246.958 | AJ23: =AK23+AH22 -> 1176956.6 | AK23: 0
AC24: =SUM(AC4:AC23) -> 567862.38 | AE24: =SUM(AE4:AE23) -> 386000 | AI24: =SUM(AI4:AI23) -> 455203.53 | AK24: =SUM(AK4:AK23) -> 750000
