Workbook

Sheet ספטמבר 9
B2: פירוט הוצאות משתנות | I2: הוצאות משתנות חודשי | N2: הכנסות | R2: סיכום מעשר
B3: תאריך | C3: תיאור | D3: סכום | E3: סעיף תוצאתי | F3: אמצעי תשלום | G3: הערות | I3: סוג | J3: סכום להוצאה | K3: סכום בפועל | L3: יתרה | N3: תאריך | O3: סוג | P3: סכום | R3: יתרה קודמת | S3: 0
E4: =VLOOKUP(C4,'סעיף הוצאות'!A:B,2,FALSE) -> #N/A | I4: אוכל | J4: 1647.0033 | K4: =SUMIF(E$2:E$158,I4,D$2:D$158) -> 0 | L4: =J4-K4 -> 1647.0033 | R4: חוב הכנסות | S4: =SUM(O13)*0.1 -> 0
E5: =VLOOKUP(C5,'סעיף הוצאות'!A:B,2,FALSE) -> #N/A | I5: ביגוד | J5: 414.23333 | K5: =SUMIF(E$2:E$158,I5,D$2:D$158) -> 0 | L5: =J5-K5 -> 414.23333 | R5: קבועות | S5: 0
E6: =VLOOKUP(C6,'סעיף הוצאות'!A:B,2,FALSE) -> #N/A | I6: גז | J6: 19.59 | K6: =SUMIF(E$2:E$158,I6,D$2:D$158) -> 0 | L6: =J6-K6 -> 19.59 | R6: חודשי | S6: =K13 -> 0
E7: =VLOOKUP(C7,'סעיף הוצאות'!A:B,2,FALSE) -> #N/A | I7: דלק | J7: 98.823333 | K7: =SUMIF(E$2:E$158,I7,D$2:D$158) -> 0 | L7: =J7-K7 -> 98.823333 | R7: סה"כ | S7: =S3+S4-S5-S6 -> 0
E8: =VLOOKUP(C8,'סעיף הוצאות'!A:B,2,FALSE) -> #N/A | I8: הוצאות מיוחדות | J8: 83.333333 | K8: =SUMIF(E$2:E$158,I8,D$2:D$158) -> 0 | L8: =J8-K8 -> 83.333333
E9: =VLOOKUP(C9,'סעיף הוצאות'!A:B,2,FALSE) -> #N/A | I9: השכרה רכב | J9: 183.83333 | K9: =SUMIF(E$2:E$158,I9,D$2:D$158) -> 0 | L9: =J9-K9 -> 183.83333 | R9: סיכום אמצאי תשלום
E10: =VLOOKUP(C10,'סעיף הוצאות'!A:B,2,FALSE) -> #N/A | I10: חגים | J10: 3.25 | K10: =SUMIF(E$2:E$158,I10,D$2:D$158) -> 0 | L10: =J10-K10 -> 3.25 | R10: דיירקט | S10: =SUMIF(F$2:F$158,R10,D$2:D$158) -> 0
E11: =VLOOKUP(C11,'סעיף הוצאות'!A:B,2,FALSE) -> #N/A | I11: טיולים | J11: 177.31167 | K11: =SUMIF(E$2:E$158,I11,D$2:D$158) -> 0 | L11: =J11-K11 -> 177.31167 | R11: מזומן | S11: =SUMIF(F$2:F$158,R11,D$2:D$158) -> 0
E12: =VLOOKUP(C12,'סעיף הוצאות'!A:B,2,FALSE) -> #N/A | I12: כללי | J12: 1227.265 | K12: =SUMIF(E$2:E$158,I12,D$2:D$158) -> 0 | L12: =J12-K12 -> 1227.265 | R12: אשראי | S12: =SUMIF(F$2:F$158,R12,D$2:D$158) -> 0
E13: =VLOOKUP(C13,'סעיף הוצאות'!A:B,2,FALSE) -> #N/A | I13: מעשר | J13: 264.66667 | K13: =SUMIF(E$2:E$158,I13,D$2:D$158) -> 0 | L13: =J13-K13 -> 264.66667 | N13: סה"כ | O13: =SUM(P4:P12) -> 0 | R13: הו"ק | S13: =SUMIF(F$2:F$158,R13,D$2:D$158) -> 0
E14: =VLOOKUP(C14,'סעיף הוצאות'!A:B,2,FALSE) -> #N/A | I14: נסיעות | J14: 203.75 | K14: =SUMIF(E$2:E$158,I14,D$2:D$158) -> 0 | L14: =J14-K14 -> 203.75 | R14: העברה | S14: =SUMIF(F$2:F$158,R14,D$2:D$158) -> 0
E15: =VLOOKUP(C15,'סעיף הוצאות'!A:B,2,FALSE) -> #N/A | I15: צדקה | J15: 7.8333333 | K15: =SUMIF(E$2:E$158,I15,D$2:D$158) -> 0 | L15: =J15-K15 -> 7.8333333 | N15: ללא מעשר / יתרות / העברות | R15: זיכוי | S15: =SUMIF(F$2:F$158,R15,D$2:D$158) -> 0
E16: =VLOOKUP(C16,'סעיף הוצאות'!A:B,2,FALSE) -> #N/A | I16: תרופות | J16: 169.80167 | K16: =SUMIF(E$2:E$158,I16,D$2:D$158) -> 0 | L16: =J16-K16 -> 169.80167 | N16: תאריך | O16: סוג | P16: סכום
E17: =VLOOKUP(C17,'סעיף הוצאות'!A:B,2,FALSE) -> #N/A | I17: קופת חולים | J17: 182.945 | K17: =SUMIF(E$2:E$158,I17,D$2:D$158) -> 0 | L17: =J17-K17 -> 182.945 | R17: סה"כ יתרה חודשית
E18: =VLOOKUP(C18,'סעיף הוצאות'!A:B,2,FALSE) -> #N/A | J18: 0 | K18: =SUMIF(E$2:E$158,I18,D$2:D$158) -> 0 | L18: =J18-K18 -> 0 | R18: הכנסה | S18: =O13 -> 0
E19: =VLOOKUP(C19,'סעיף הוצאות'!A:B,2,FALSE) -> #N/A | I19: קבועות | J19: =J32 -> 0 | K19: =SUMIF(E$2:E$158,I19,D$2:D$158) -> 0 | L19: =J19-K19 -> 0 | R19: הוצאה | S19: =J20 -> 4683.64
E20: =VLOOKUP(C20,'סעיף הוצאות'!A:B,2,FALSE) -> #N/A | I20: סה"כ | J20: =SUM(J4:J19) -> 4683.64 | K20: =SUM(K4:K18) -> 0 | L20: =SUM(L4:L18) -> 4683.64 | R20: סה"כ | S20: =S18-S19 -> -4683.64
E21: =VLOOKUP(C21,'סעיף הוצאות'!A:B,2,FALSE) -> #N/A | R21: יתרות | S21: =O24 -> 0
E22: =VLOOKUP(C22,'סעיף הוצאות'!A:B,2,FALSE) -> #N/A | I22: הוצאות קבועות | R22: סה"כ | S22: =S21+S20 -> -4683.64
E23: =VLOOKUP(C23,'סעיף הוצאות'!A:B,2,FALSE) -> #N/A | I23: תאריך | J23: סעיף | K23: סכום | L23: תשלומים
E24: =VLOOKUP(C24,'סעיף הוצאות'!A:B,2,FALSE) -> #N/A | I24: 20 | J24: שכירות | K24: 0 | N24: סה"כ | O24: =SUM(P17:P23) -> 0 | R24: הערות
E25: =VLOOKUP(C25,'סעיף הוצאות'!A:B,2,FALSE) -> #N/A | I25: 15 | J25: חשמל וכו' | K25: 0
E26: =VLOOKUP(C26,'סעיף הוצאות'!A:B,2,FALSE) -> #N/A | I26: 10 | J26: מעשר | K26: 0 | N26: סה"כ עו"ש חודשי
E27: =VLOOKUP(C27,'סעיף הוצאות'!A:B,2,FALSE) -> #N/A | I27: 10 | K27: 0 | N27: =SUM(O24,O13) -> 0
E28: =VLOOKUP(C28,'סעיף הוצאות'!A:B,2,FALSE) -> #N/A | I28: 10 | J28: מעשר | K28: 0
E29: =VLOOKUP(C29,'סעיף הוצאות'!A:B,2,FALSE) -> #N/A | I29: 15 | J29: מעשר | K29: 0
E30: =VLOOKUP(C30,'סעיף הוצאות'!A:B,2,FALSE) -> #N/A | K30: 0
E31: =VLOOKUP(C31,'סעיף הוצאות'!A:B,2,FALSE) -> #N/A | K31: 0
E32: =VLOOKUP(C32,'סעיף הוצאות'!A:B,2,FALSE) -> #N/A | I32: סה"כ | J32: =SUM(K24:K31) -> 0
E33: =VLOOKUP(C33,'סעיף הוצאות'!A:B,2,FALSE) -> #N/A
E34: =VLOOKUP(C34,'סעיף הוצאות'!A:B,2,FALSE) -> #N/A
E35: =VLOOKUP(C35,'סעיף הוצאות'!A:B,2,FALSE) -> #N/A
E36: =VLOOKUP(C36,'סעיף הוצאות'!A:B,2,FALSE) -> #N/A
E37: =VLOOKUP(C37,'סעיף הוצאות'!A:B,2,FALSE) -> #N/A
E38: =VLOOKUP(C38,'סעיף הוצאות'!A:B,2,FALSE) -> #N/A
E39: =VLOOKUP(C39,'סעיף הוצאות'!A:B,2,FALSE) -> #N/A
E40: =VLOOKUP(C40,'סעיף הוצאות'!A:B,2,FALSE) -> #N/A
E41: =VLOOKUP(C41,'סעיף הוצאות'!A:B,2,FALSE) -> #N/A
...

Sheet סעיף הוצאות
A1: - רווחה קהילתית בעמ | B1: אוכל
A2: - שיווק תוצרת חקלאית | B2: אוכל
A3: (נדרים פלוס (ער | B3: מעשר
A4: )גיא הקונדטוריה )ג.ג | B4: אוכל
A5: 2 פוקס ממילא | B5: ביגוד
A6: ALIEXPRESS | B6: ביגוד
A7: ALIEXPRESS.COM | B7: ביגוד
A8: AMZN Mktp US | B8: כללי
A9: AMZN Mktp US*I469J2Y33 | B9: כללי
A10: GOOGLE *Google Storage | B10: כללי
A11: H - מאצ' ריטייל בעמ | B11: כללי
A12: NEXT DIRECTORY | B12: ביגוד
... A253: איקאה-ריהוט ועיצוב הבית | B253: כללי
