Workbook

Sheet תשרי
B2: תשרי | D2: הכל בסיעתא דשמיא!!!
B3: הוצאות | Q3: הכנסות
B4: קבועות! | E4: סופר | H4: מוסדות חינוך | K4: שונות | N4: רכב | Q4: הכנסות בעל | T4: הכנסות אשה
B5: הוצאה | C5: סכום | D5: הערות | E5: הוצאה | F5: סכום | G5: הערות | H5: הוצאה | I5: סכום | J5: הערות | K5: הוצאה | L5: סכום | M5: הערות | N5: הוצאה | O5: סכום | P5: הערות | Q5: הכנסה | R5: סכום | S5: הערות | T5: הכנסה | U5: סכום | V5: הערות | W5: הכנסות קבועות
W6: הכנסה | X6: כמה | Y6: הערות
W18: דברים שיורדים ממעשרות
W20: מה יורד | X20: כמה | Y20: הערות
B31: סה"כ | C31: =SUM(טבלה11111211110[סכום]) -> 0 | E31: סה"כ | F31: =SUM(טבלה131212312111[סכום]) -> 0 | H31: סה"כ | I31: =SUM(טבלה141313413112[סכום]) -> 0 | K31: סה"כ | L31: =SUM(טבלה151414514113[סכום]) -> 0 | N31: סה"כ | O31: =SUM(טבלה171616716115[סכום]) -> 0 | Q31: סה"כ | R31: =SUM(טבלה1681717817116[סכום]) -> 0 | T31: סה"כ | U31: =SUM(טבלה161515615114[סכום]) -> 0
P33: הוצאות | S33: הכנסות | V33: תכלס...
J34: \ | L34: מעשרות | M34: =(SUM(X7:X17,U6:U30,R6:R30)/10)-SUM(X21:X31) -> 0 | P34: =SUM(O31,L31,I31,F31,C31) -> 0 | S34: =SUM(X7:X17,U6:U30,R6:R30) - IF(M34>0, M34, 0) -> 0 | V34: =SUM(S34-P34) -> 0

Sheet חשוון
B2: חשוון | D2: הכל בסיעתא דשמיא!!!
B3: הוצאות | Q3: הכנסות
B4: קבועות! | E4: סופר | H4: מוסדות חינוך | K4: שונות | N4: רכב | Q4: הכנסות בעל | T4: הכנסות אשה
B5: הוצאה | C5: סכום | D5: הערות | E5: הוצאה | F5: סכום | G5: הערות | H5: הוצאה | I5: סכום | J5: הערות | K5: הוצאה | L5: סכום | M5: הערות | N5: הוצאה | O5: סכום | P5: הערות | Q5: הכנסה | R5: סכום | S5: הערות | T5: הכנסה | U5: סכום | V5: הערות | W5: הכנסות קבועות
W6: הכנסה | X6: כמה | Y6: הערות
W18: דברים שיורדים ממעשרות
W20: מה יורד | X20: כמה | Y20: הערות
B31: סה"כ | C31: =SUM(טבלה11111211110202947[סכום]) -> 0 | E31: סה"כ | F31: =SUM(טבלה131212312111213048[סכום]) -> 0 | H31: סה"כ | I31: =SUM(טבלה141313413112223149[סכום]) -> 0 | K31: סה"כ | L31: =SUM(טבלה151414514113233250[סכום]) -> 0 | N31: סה"כ | O31: =SUM(טבלה171616716115253452[סכום]) -> 0 | Q31: סה"כ | R31: =SUM(טבלה1681717817116263553[סכום]) -> 0 | T31: סה"כ | U31: =SUM(טבלה161515615114243351[סכום]) -> 0
P33: הוצאות | S33: הכנסות | V33: תכלס...
J34: \ | L34: מעשרות | M34: =(SUM(X7:X17,U6:U30,R6:R30)/10)-SUM(X21:X31) -> 0 | P34: =SUM(O31,L31,I31,F31,C31) -> 0 | S34: =SUM(X7:X17,U6:U30,R6:R30) - IF(M34>0, M34, 0) -> 0 | V34: =SUM(S34-P34) -> 0

Sheet כסלו
B2: כסלו | D2: הכל בסיעתא דשמיא!!!
B3: הוצאות | Q3: הכנסות
B4: קבועות! | E4: סופר | H4: מוסדות חינוך | K4: שונות | N4: רכב | Q4: הכנסות בעל | T4: הכנסות אשה
B5: הוצאה | C5: סכום | D5: הערות | E5: הוצאה | F5: סכום | G5: הערות | H5: הוצאה | I5: סכום | J5: הערות | K5: הוצאה | L5: סכום | M5: הערות | N5: הוצאה | O5: סכום | P5: הערות | Q5: הכנסה | R5: סכום | S5: הערות | T5: הכנסה | U5: סכום | V5: הערות | W5: הכנסות קבועות
W6: הכנסה | X6: כמה | Y6: הערות
W18: דברים שיורדים ממעשרות
W20: מה יורד | X20: כמה | Y20: הערות
B31: סה"כ | C31: =SUM(טבלה111112111102029[סכום]) -> 0 | E31: סה"כ | F31: =SUM(טבלה1312123121112130[סכום]) -> 0 | H31: סה"כ | I31: =SUM(טבלה1413134131122231[סכום]) -> 0 | K31: סה"כ | L31: =SUM(טבלה1514145141132332[סכום]) -> 0 | N31: סה"כ | O31: =SUM(טבלה1716167161152534[סכום]) -> 0 | Q31: סה"כ | R31: =SUM(טבלה16817178171162635[סכום]) -> 0 | T31: סה"כ | U31: =SUM(טבלה1615156151142433[סכום]) -> 0
P33: הוצאות | S33: הכנסות | V33: תכלס...
J34: \ | L34: מעשרות | M34: =(SUM(X7:X17,U6:U30,R6:R30)/10)-SUM(X21:X31) -> 0 | P34: =SUM(O31,L31,I31,F31,C31) -> 0 | S34: =SUM(X7:X17,U6:U30,R6:R30) - IF(M34>0, M34, 0) -> 0 | V34: =SUM(S34-P34) -> 0

Sheet טבת
B2: טבת | D2: הכל בסיעתא דשמיא!!!
B3: הוצאות | Q3: הכנסות
B4: קבועות! | E4: סופר | H4: מוסדות חינוך | K4: שונות | N4: רכב | Q4: הכנסות בעל | T4: הכנסות אשה
B5: הוצאה | C5: סכום | D5: הערות | E5: הוצאה | F5: סכום | G5: הערות | H5: הוצאה | I5: סכום | J5: הערות | K5: הוצאה | L5: סכום | M5: הערות | N5: הוצאה | O5: סכום | P5: הערות | Q5: הכנסה | R5: סכום | S5: הערות | T5: הכנסה | U5: סכום | V5: הערות | W5: הכנסות קבועות
W6: הכנסה | X6: כמה | Y6: הערות
W18: דברים שיורדים ממעשרות
W20: מה יורד | X20: כמה | Y20: הערות
B31: סה"כ | C31: =SUM(טבלה1111121111020[סכום]) -> 0 | E31: סה"כ | F31: =SUM(טבלה13121231211121[סכום]) -> 0 | H31: סה"כ | I31: =SUM(טבלה14131341311222[סכום]) -> 0 | K31: סה"כ | L31: =SUM(טבלה15141451411323[סכום]) -> 0 | N31: סה"כ | O31: =SUM(טבלה17161671611525[סכום]) -> 0 | Q31: סה"כ | R31: =SUM(טבלה168171781711626[סכום]) -> 0 | T31: סה"כ | U31: =SUM(טבלה16151561511424[סכום]) -> 0
P33: הוצאות | S33: הכנסות | V33: תכלס...
J34: \ | L34: מעשרות | M34: =(SUM(X7:X17,U6:U30,R6:R30)/10)-SUM(X21:X31) -> 0 | P34: =SUM(O31,L31,I31,F31,C31) -> 0 | S34: =SUM(X7:X17,U6:U30,R6:R30) - IF(M34>0, M34, 0) -> 0 | V34: =SUM(S34-P34) -> 0

Sheet שבט
B2: שבט | D2: הכל בסיעתא דשמיא!!!
B3: הוצאות | Q3: הכנסות
B4: קבועות! | E4: סופר | H4: מוסדות חינוך | K4: שונות | N4: רכב | Q4: הכנסות בעל | T4: הכנסות אשה
B5: הוצאה | C5: סכום | D5: הערות | E5: הוצאה | F5: סכום | G5: הערות | H5: הוצאה | I5: סכום | J5: הערות | K5: הוצאה | L5: סכום | M5: הערות | N5: הוצאה | O5: סכום | P5: הערות | Q5: הכנסה | R5: סכום | S5: הערות | T5: הכנסה | U5: סכום | V5: הערות | W5: הכנסות קבועות
W6: הכנסה | X6: כמה | Y6: הערות
W18: דברים שיורדים ממעשרות
W20: מה יורד | X20: כמה | Y20: הערות
B31: סה"כ | C31: =SUM(טבלה111112111102056[סכום]) -> 0 | E31: סה"כ | F31: =SUM(טבלה1312123121112157[סכום]) -> 0 | H31: סה"כ | I31: =SUM(טבלה1413134131122258[סכום]) -> 0 | K31: סה"כ | L31: =SUM(טבלה1514145141132359[סכום]) -> 0 | N31: סה"כ | O31: =SUM(טבלה1716167161152561[סכום]) -> 0 | Q31: סה"כ | R31: =SUM(טבלה16817178171162662[סכום]) -> 0 | T31: סה"כ | U31: =SUM(טבלה1615156151142460[סכום]) -> 0
P33: הוצאות | S33: הכנסות | V33: תכלס...
J34: \ | L34: מעשרות | M34: =(SUM(X7:X17,U6:U30,R6:R30)/10)-SUM(X21:X31) -> 0 | P34: =SUM(O31,L31,I31,F31,C31) -> 0 | S34: =SUM(X7:X17,U6:U30,R6:R30) - IF(M34>0, M34, 0) -> 0 | V34: =SUM(S34-P34) -> 0

Sheet אדר
B2: אדר | D2: הכל בסיעתא דשמיא!!!
B3: הוצאות | Q3: הכנסות
B4: קבועות! | E4: סופר | H4: מוסדות חינוך | K4: שונות | N4: רכב | Q4: הכנסות בעל | T4: הכנסות אשה
B5: הוצאה | C5: סכום | D5: הערות | E5: הוצאה | F5: סכום | G5: הערות | H5: הוצאה | I5: סכום | J5: הערות | K5: הוצאה | L5: סכום | M5: הערות | N5: הוצאה | O5: סכום | P5: הערות | Q5: הכנסה | R5: סכום | S5: הערות | T5: הכנסה | U5: סכום | V5: הערות | W5: הכנסות קבועות
W6: הכנסה | X6: כמה | Y6: הערות
W18: דברים שיורדים ממעשרות
W20: מה יורד | X20: כמה | Y20: הערות
B31: סה"כ | C31: =SUM(טבלה1111121111020293865[סכום]) -> 0 | E31: סה"כ | F31: =SUM(טבלה13121231211121303966[סכום]) -> 0 | H31: סה"כ | I31: =SUM(טבלה14131341311222314067[סכום]) -> 0 | K31: סה"כ | L31: =SUM(טבלה15141451411323324168[סכום]) -> 0 | N31: סה"כ | O31: =SUM(טבלה17161671611525344370[סכום]) -> 0 | Q31: סה"כ | R31: =SUM(טבלה168171781711626354471[סכום]) -> 0 | T31: סה"כ | U31: =SUM(טבלה16151561511424334269[סכום]) -> 0
P33: הוצאות | S33: הכנסות | V33: תכלס...
J34: \ | L34: מעשרות | M34: =(SUM(X7:X17,U6:U30,R6:R30)/10)-SUM(X21:X31) -> 0 | P34: =SUM(O31,L31,I31,F31,C31) -> 0 | S34: =SUM(X7:X17,U6:U30,R6:R30) - IF(M34>0, M34, 0) -> 0 | V34: =SUM(S34-P34) -> 0

Sheet אדר ב
B2: אדר ב | D2: הכל בסיעתא דשמיא!!!
B3: הוצאות | Q3: הכנסות
B4: קבועות! | E4: סופר | H4: מוסדות חינוך | K4: שונות | N4: רכב | Q4: הכנסות בעל | T4: הכנסות אשה
B5: הוצאה | C5: סכום | D5: הערות | E5: הוצאה | F5: סכום | G5: הערות | H5: הוצאה | I5: סכום | J5: הערות | K5: הוצאה | L5: סכום | M5: הערות | N5: הוצאה | O5: סכום | P5: הערות | Q5: הכנסה | R5: סכום | S5: הערות | T5: הכנסה | U5: סכום | V5: הערות | W5: הכנסות קבועות
W6: הכנסה | X6: כמה | Y6: הערות
W18: דברים שיורדים ממעשרות
W20: מה יורד | X20: כמה | Y20: הערות
B31: סה"כ | C31: =SUM(טבלה111112111102029386574[סכום]) -> 0 | E31: סה"כ | F31: =SUM(טבלה1312123121112130396675[סכום]) -> 0 | H31: סה"כ | I31: =SUM(טבלה1413134131122231406776[סכום]) -> 0 | K31: סה"כ | L31: =SUM(טבלה1514145141132332416877[סכום]) -> 0 | N31: סה"כ | O31: =SUM(טבלה1716167161152534437079[סכום]) -> 0 | Q31: סה"כ | R31: =SUM(טבלה16817178171162635447180[סכום]) -> 0 | T31: סה"כ | U31: =SUM(טבלה1615156151142433426978[סכום]) -> 0
P33: הוצאות | S33: הכנסות | V33: תכלס...
J34: \ | L34: מעשרות | M34: =(SUM(X7:X17,U6:U30,R6:R30)/10)-SUM(X21:X31) -> 0 | P34: =SUM(O31,L31,I31,F31,C31) -> 0 | S34: =SUM(X7:X17,U6:U30,R6:R30) - IF(M34>0, M34, 0) -> 0 | V34: =SUM(S34-P34) -> 0

Sheet ניסן
B2: ניסן | D2: הכל בסיעתא דשמיא!!!
B3: הוצאות | Q3: הכנסות
B4: קבועות! | E4: סופר | H4: מוסדות חינוך | K4: שונות | N4: רכב | Q4: הכנסות בעל | T4: הכנסות אשה
B5: הוצאה | C5: סכום | D5: הערות | E5: הוצאה | F5: סכום | G5: הערות | H5: הוצאה | I5: סכום | J5: הערות | K5: הוצאה | L5: סכום | M5: הערות | N5: הוצאה | O5: סכום | P5: הערות | Q5: הכנסה | R5: סכום | S5: הערות | T5: הכנסה | U5: סכום | V5: הערות | W5: הכנסות קבועות
W6: הכנסה | X6: כמה | Y6: הערות
W18: דברים שיורדים ממעשרות
W20: מה יורד | X20: כמה | Y20: הערות
B31: סה"כ | C31: =SUM(טבלה11111211110202938657483[סכום]) -> 0 | E31: סה"כ | F31: =SUM(טבלה131212312111213039667584[סכום]) -> 0 | H31: סה"כ | I31: =SUM(טבלה141313413112223140677685[סכום]) -> 0 | K31: סה"כ | L31: =SUM(טבלה151414514113233241687786[סכום]) -> 0 | N31: סה"כ | O31: =SUM(טבלה171616716115253443707988[סכום]) -> 0 | Q31: סה"כ | R31: =SUM(טבלה1681717817116263544718089[סכום]) -> 0 | T31: סה"כ | U31: =SUM(טבלה161515615114243342697887[סכום]) -> 0
P33: הוצאות | S33: הכנסות | V33: תכלס...
J34: \ | L34: מעשרות | M34: =(SUM(X7:X17,U6:U30,R6:R30)/10)-SUM(X21:X31) -> 0 | P34: =SUM(O31,L31,I31,F31,C31) -> 0 | S34: =SUM(X7:X17,U6:U30,R6:R30) - IF(M34>0, M34, 0) -> 0 | V34: =SUM(S34-P34) -> 0

Sheet אייר
B2: אייר | D2: הכל בסיעתא דשמיא!!!
B3: הוצאות | Q3: הכנסות
B4: קבועות! | E4: סופר | H4: מוסדות חינוך | K4: שונות | N4: רכב | Q4: הכנסות בעל | T4: הכנסות אשה
B5: הוצאה | C5: סכום | D5: הערות | E5: הוצאה | F5: סכום | G5: הערות | H5: הוצאה | I5: סכום | J5: הערות | K5: הוצאה | L5: סכום | M5: הערות | N5: הוצאה | O5: סכום | P5: הערות | Q5: הכנסה | R5: סכום | S5: הערות | T5: הכנסה | U5: סכום | V5: הערות | W5: הכנסות קבועות
W6: הכנסה | X6: כמה | Y6: הערות
W18: דברים שיורדים ממעשרות
W20: מה יורד | X20: כמה | Y20: הערות
B31: סה"כ | C31: =SUM(טבלה1111121111020293865748392[סכום]) -> 0 | E31: סה"כ | F31: =SUM(טבלה13121231211121303966758493[סכום]) -> 0 | H31: סה"כ | I31: =SUM(טבלה14131341311222314067768594[סכום]) -> 0 | K31: סה"כ | L31: =SUM(טבלה15141451411323324168778695[סכום]) -> 0 | N31: סה"כ | O31: =SUM(טבלה17161671611525344370798897[סכום]) -> 0 | Q31: סה"כ | R31: =SUM(טבלה168171781711626354471808998[סכום]) -> 0 | T31: סה"כ | U31: =SUM(טבלה16151561511424334269788796[סכום]) -> 0
P33: הוצאות | S33: הכנסות | V33: תכלס...
J34: \ | L34: מעשרות | M34: =(SUM(X7:X17,U6:U30,R6:R30)/10)-SUM(X21:X31) -> 0 | P34: =SUM(O31,L31,I31,F31,C31) -> 0 | S34: =SUM(X7:X17,U6:U30,R6:R30) - IF(M34>0, M34, 0) -> 0 | V34: =SUM(S34-P34) -> 0

Sheet סיוון
B2: סיוון | D2: הכל בסיעתא דשמיא!!!
B3: הוצאות | Q3: הכנסות
B4: קבועות! | E4: סופר | H4: מוסדות חינוך | K4: שונות | N4: רכב | Q4: הכנסות בעל | T4: הכנסות אשה
B5: הוצאה | C5: סכום | D5: הערות | E5: הוצאה | F5: סכום | G5: הערות | H5: הוצאה | I5: סכום | J5: הערות | K5: הוצאה | L5: סכום | M5: הערות | N5: הוצאה | O5: סכום | P5: הערות | Q5: הכנסה | R5: סכום | S5: הערות | T5: הכנסה | U5: סכום | V5: הערות | W5: הכנסות קבועות
W6: הכנסה | X6: כמה | Y6: הערות
W18: דברים שיורדים ממעשרות
W20: מה יורד | X20: כמה | Y20: הערות
B31: סה"כ | C31: =SUM(טבלה1111121111020293865748392101[סכום]) -> 0 | E31: סה"כ | F31: =SUM(טבלה13121231211121303966758493102[סכום]) -> 0 | H31: סה"כ | I31: =SUM(טבלה14131341311222314067768594103[סכום]) -> 0 | K31: סה"כ | L31: =SUM(טבלה15141451411323324168778695104[סכום]) -> 0 | N31: סה"כ | O31: =SUM(טבלה17161671611525344370798897106[סכום]) -> 0 | Q31: סה"כ | R31: =SUM(טבלה168171781711626354471808998107[סכום]) -> 0 | T31: סה"כ | U31: =SUM(טבלה16151561511424334269788796105[סכום]) -> 0
P33: הוצאות | S33: הכנסות | V33: תכלס...
J34: \ | L34: מעשרות | M34: =(SUM(X7:X17,U6:U30,R6:R30)/10)-SUM(X21:X31) -> 0 | P34: =SUM(O31,L31,I31,F31,C31) -> 0 | S34: =SUM(X7:X17,U6:U30,R6:R30) - IF(M34>0, M34, 0) -> 0 | V34: =SUM(S34-P34) -> 0

Sheet תמוז
B2: תמוז | D2: הכל בסיעתא דשמיא!!!
B3: הוצאות | Q3: הכנסות
B4: קבועות! | E4: סופר | H4: מוסדות חינוך | K4: שונות | N4: רכב | Q4: הכנסות בעל | T4: הכנסות אשה
B5: הוצאה | C5: סכום | D5: הערות | E5: הוצאה | F5: סכום | G5: הערות | H5: הוצאה | I5: סכום | J5: הערות | K5: הוצאה | L5: סכום | M5: הערות | N5: הוצאה | O5: סכום | P5: הערות | Q5: הכנסה | R5: סכום | S5: הערות | T5: הכנסה | U5: סכום | V5: הערות | W5: הכנסות קבועות
W6: הכנסה | X6: כמה | Y6: הערות
W18: דברים שיורדים ממעשרות
W20: מה יורד | X20: כמה | Y20: הערות
B31: סה"כ | C31: =SUM(טבלה1111121111020293865748392119[סכום]) -> 0 | E31: סה"כ | F31: =SUM(טבלה13121231211121303966758493120[סכום]) -> 0 | H31: סה"כ | I31: =SUM(טבלה14131341311222314067768594121[סכום]) -> 0 | K31: סה"כ | L31: =SUM(טבלה15141451411323324168778695122[סכום]) -> 0 | N31: סה"כ | O31: =SUM(טבלה17161671611525344370798897124[סכום]) -> 0 | Q31: סה"כ | R31: =SUM(טבלה168171781711626354471808998125[סכום]) -> 0 | T31: סה"כ | U31: =SUM(טבלה16151561511424334269788796123[סכום]) -> 0
P33: הוצאות | S33: הכנסות | V33: תכלס...
J34: \ | L34: מעשרות | M34: =(SUM(X7:X17,U6:U30,R6:R30)/10)-SUM(X21:X31) -> 0 | P34: =SUM(O31,L31,I31,F31,C31) -> 0 | S34: =SUM(X7:X17,U6:U30,R6:R30) - IF(M34>0, M34, 0) -> 0 | V34: =SUM(S34-P34) -> 0

Sheet אב
B2: אב | D2: הכל בסיעתא דשמיא!!!
B3: הוצאות | Q3: הכנסות
B4: קבועות! | E4: סופר | H4: מוסדות חינוך | K4: שונות | N4: רכב | Q4: הכנסות בעל | T4: הכנסות אשה
B5: הוצאה | C5: סכום | D5: הערות | E5: הוצאה | F5: סכום | G5: הערות | H5: הוצאה | I5: סכום | J5: הערות | K5: הוצאה | L5: סכום | M5: הערות | N5: הוצאה | O5: סכום | P5: הערות | Q5: הכנסה | R5: סכום | S5: הערות | T5: הכנסה | U5: סכום | V5: הערות | W5: הכנסות קבועות
W6: הכנסה | X6: כמה | Y6: הערות
W18: דברים שיורדים ממעשרות
W20: מה יורד | X20: כמה | Y20: הערות
B31: סה"כ | C31: =SUM(טבלה1111121111020293865748392137[סכום]) -> 0 | E31: סה"כ | F31: =SUM(טבלה13121231211121303966758493138[סכום]) -> 0 | H31: סה"כ | I31: =SUM(טבלה14131341311222314067768594139[סכום]) -> 0 | K31: סה"כ | L31: =SUM(טבלה15141451411323324168778695140[סכום]) -> 0 | N31: סה"כ | O31: =SUM(טבלה17161671611525344370798897142[סכום]) -> 0 | Q31: סה"כ | R31: =SUM(טבלה168171781711626354471808998143[סכום]) -> 0 | T31: סה"כ | U31: =SUM(טבלה16151561511424334269788796141[סכום]) -> 0
P33: הוצאות | S33: הכנסות | V33: תכלס...
J34: \ | L34: מעשרות | M34: =(SUM(X7:X17,U6:U30,R6:R30)/10)-SUM(X21:X31) -> 0 | P34: =SUM(O31,L31,I31,F31,C31) -> 0 | S34: =SUM(X7:X17,U6:U30,R6:R30) - IF(M34>0, M34, 0) -> 0 | V34: =SUM(S34-P34) -> 0

Sheet אלול
B2: אלול | D2: הכל בסיעתא דשמיא!!!
B3: הוצאות | Q3: הכנסות
B4: קבועות! | E4: סופר | H4: מוסדות חינוך | K4: שונות | N4: רכב | Q4: הכנסות בעל | T4: הכנסות אשה
B5: הוצאה | C5: סכום | D5: הערות | E5: הוצאה | F5: סכום | G5: הערות | H5: הוצאה | I5: סכום | J5: הערות | K5: הוצאה | L5: סכום | M5: הערות | N5: הוצאה | O5: סכום | P5: הערות | Q5: הכנסה | R5: סכום | S5: הערות | T5: הכנסה | U5: סכום | V5: הערות | W5: הכנסות קבועות
W6: הכנסה | X6: כמה | Y6: הערות
W18: דברים שיורדים ממעשרות
W20: מה יורד | X20: כמה | Y20: הערות
B31: סה"כ | C31: =SUM(טבלה11111211110202938[סכום]) -> 0 | E31: סה"כ | F31: =SUM(טבלה131212312111213039[סכום]) -> 0 | H31: סה"כ | I31: =SUM(טבלה141313413112223140[סכום]) -> 0 | K31: סה"כ | L31: =SUM(טבלה151414514113233241[סכום]) -> 0 | N31: סה"כ | O31: =SUM(טבלה171616716115253443[סכום]) -> 0 | Q31: סה"כ | R31: =SUM(טבלה1681717817116263544[סכום]) -> 0 | T31: סה"כ | U31: =SUM(טבלה161515615114243342[סכום]) -> 0
P33: הוצאות | S33: הכנסות | V33: תכלס...
J34: \ | L34: מעשרות | M34: =(SUM(X7:X17,U6:U30,R6:R30)/10)-SUM(X21:X31) -> 0 | P34: =SUM(O31,L31,I31,F31,C31) -> 0 | S34: =SUM(X7:X17,U6:U30,R6:R30) - IF(M34>0, M34, 0) -> 0 | V34: =SUM(S34-P34) -> 0

Sheet ס"ה
B2: סך הכל | D2: הכל בסיעתא דשמיא!!!
B3: הוצאות | Q3: הכנסות
B4: קבועות! | E4: סופר | H4: מוסדות חינוך | K4: שונות | N4: רכב | Q4: הכנסות בעל | T4: הכנסות אשה
B5: הוצאה | C5: סכום | D5: הערות | E5: הוצאה | F5: סכום | G5: הערות | H5: הוצאה | I5: סכום | J5: הערות | K5: הוצאה | L5: סכום | M5: הערות | N5: הוצאה | O5: סכום | P5: הערות | Q5: הכנסה | R5: סכום | S5: הערות | T5: הכנסה | U5: סכום | V5: הערות | W5: הכנסות קבועות
W6: הכנסה | X6: כמה | Y6: הערות
W18: דברים שיורדים ממעשרות
W20: מה יורד | X20: כמה | Y20: הערות
B31: סה"כ | C31: =SUM(תשרי:אלול!C31) -> 0 | E31: סה"כ | F31: =SUM(תשרי:אלול!F31) -> 0 | H31: סה"כ | I31: =SUM(תשרי:אלול!I31) -> 0 | K31: סה"כ | L31: =SUM(תשרי:אלול!L31) -> 0 | N31: סה"כ | O31: =SUM(תשרי:אלול!O31) -> 0 | Q31: סה"כ | R31: =SUM(תשרי:אלול!R31) -> 0 | T31: סה"כ | U31: =SUM(תשרי:אלול!U31) -> 0
P33: הוצאות | S33: הכנסות | V33: תכלס...
J34: \ | L34: מעשרות | M34: =SUM(תשרי:אלול!M34) -> 0 | P34: =SUM(תשרי:אלול!P34) -> 0 | S34: =SUM(תשרי:אלול!S34) -> 0 | V34: =SUM(תשרי:אלול!V34) -> 0
