Workbook

Sheet דו"ח סיכומים
A1: מאזן חודשי
B5: מאזן ינואר 2020
B6: הוצאות קבועות | E6: הוצאות משתנות בפועל | H6: הכנסות קבועות
B7: סעיף | C7: סכום | D7: תשלומים | E7: סעיף | F7: סכום | H7: סוג | I7: סכום
B8: ארנונה | C8: 0 | E8: אוכל | F8: =ינואר!I4 -> 0 | H8: משכורת א | I8: 0
B9: ביטוח בריאות | C9: 0 | E9: אחזקה | F9: =ינואר!I5 -> 0 | H9: משכורת ב | I9: 0
B10: ביטוח חיים | C10: 30 | D10: (12) מתוך (1) | E10: ביגוד+הנעלה | F10: =ינואר!I6 -> 0 | H10: קצבאות | I10: 0
B11: ביטוח מבנה משכנתא | C11: 45 | D11: (12) מתוך (1) | E11: בלתמים | F11: =ינואר!I7 -> 0 | H11: הכנסות משכירות | I11: 0
B12: ביטוח רכב | C12: 275 | D12: (12) מתוך (1) | E12: גז | F12: =ינואר!I8 -> 0 | H12: הכנסות משתנות
B13: הגמ"ח המרכזי | C13: 0 | E13: דלק | F13: =ינואר!I9 -> 0 | H13: סוג | I13: סכום
B14: החזר הלוואה חניכי | C14: 0 | E14: הוצאות רכב | F14: =ינואר!I10 -> 0 | H14: החזרים ביטוחיים
B15: ועד בית | C15: 0 | E15: חגי ישראל | F15: =ינואר!I11 -> 0 | H15: הבראה
B16: שכר לימוד ילדים | C16: 0 | E16: חישגד | F16: =ינואר!I12 -> 0 | H16: מס הכנסה שלילי
B17: חסכון בר מצווה | C17: 200 | E17: חניה | F17: =ינואר!I13 -> 0 | H17: מתנות
B18: חניכי גמח תרומה | C18: 0 | E18: חשמל | F18: =ינואר!I14 -> 0 | H18: הכנסות נוספות ממשכורת
B19: קופת חולים | C19: 0 | E19: כביש 6 | F19: =ינואר!I15 -> 0 | H19: סה"כ | I19: =SUM(I8:I18) -> 0
B20: מעשרות | C20: 0 | D20: אחרי הפחתת דלק לעבודה 400 ש"ח. קיזוז ממעשרות גמח מרכזי, ביטוח בריאות פרטי, גמח חניכי תרומה | E20: מחשבים חשמל ואלקטרוניקה | F20: =ינואר!I16 -> 0
B21: משכנתא | C21: 0 | E21: מים | F21: =ינואר!I17 -> 0 | H21: יתרות
B22: מי עדן | C22: 0 | E22: מסעדות ובילויים | F22: =ינואר!I18 -> 0 | H22: תחילת חודש | I22: סוף חודש
B23: סלולר | C23: 0 | E23: מקווה/ספר | F23: =ינואר!I419 -> 0
B24: שכירות | C24: 3550 | E24: משחקים וספרים לילדים | F24: =ינואר!I20 -> 0
E25: מתנות | F25: =ינואר!I21 -> 0 | H25: שם הלוואה | I25: סה"כ | J25: יתרה
E26: נופש וטיולים | F26: =ינואר!I22 -> 0 | H26: החזר הלוואה חניכי | J26: =I26-C14 -> 0
E27: נסיעות | F27: =ינואר!I23 -> 0
E28: עיתונים וספרים | F28: =ינואר!I24 -> 0
E29: עמלות בנק ואשראי | F29: =ינואר!I25 -> 0 | H29: חסכונות
E30: פינוקים | F30: =ינואר!I26 -> 0 | H30: חסכון בר מצווה | I30: 5300
E31: צדקה ומעשרות | F31: =ינואר!I27 -> 0 | H31: חסכון חתונה | I31: 1500
E32: קוסמטיקה והגיינה | F32: =ינואר!I28 -> 0 | H32: חסכון ביטוחים | I32: 150
E33: ריהוט וכלים לבית | F33: =ינואר!I29 -> 0
E34: תרופות ותוספים | F34: =ינואר!I30 -> 0 | H34: סה"כ יתרה חודשית
H35: הכנסה | I35: הוצאה
B36: =SUM(C8:C34) -> 4100 | E36: =SUM(F8:F34) -> 0 | H36: =I19 -> 0 | I36: =C37 -> 4100 | J36: =H36/I36 -> 0
B37: סה"כ | C37: =B36+E36 -> 4100 | H37: סה"כ | I37: =H36-I36 -> -4100
I38: =H36 -> 0
B42: מאזן פברואר 2020
B43: הוצאות קבועות | E43: הוצאות משתנות בפועל | H43: הכנסות קבועות
B44: סעיף | C44: סכום | D44: תשלומים | E44: סעיף | F44: סכום | H44: סוג | I44: סכום
B45: ארנונה | C45: 0 | E45: אוכל | F45: =פברואר!I4 -> 0 | H45: משכורת א | I45: 0
B46: ביטוח בריאות | C46: 0 | E46: אחזקה | F46: =פברואר!I5 -> 0 | H46: משכורת ב | I46: 0
...

Sheet ינואר
A2: פירוט הוצאות משתנות | G2: הוצאות משתנות חודשי
A3: תאריך | B3: תיאור | C3: סכום | D3: סעיף תוצאתי | E3: אמצעי תשלום | G3: סוג | H3: סכום להוצאה | I3: סכום בפועל | J3: יתרה
G4: אוכל | H4: 2200 | I4: =SUMIF(D2:D158,"אוכל",C2:C158) -> 0 | J4: =H4-I4 -> 2200
G5: אחזקה | H5: 10 | I5: =SUMIF(D2:D158,"אחזקה",C2:C158) -> 0 | J5: =H5-I5 -> 10
G6: ביגוד+הנעלה | H6: 500 | I6: =SUMIF(D2:D158,"ביגוד+הנעלה",C2:C158) -> 0 | J6: =H6-I6 -> 500
G7: בלתמים | H7: 20 | I7: =SUMIF(D2:D158,"בלתמים",C2:C158) -> 0 | J7: =H7-I7 -> 20
G8: גז | H8: 25 | I8: =SUMIF(D2:D158,"גז",C2:C158) -> 0 | J8: =H8-I8 -> 25
G9: דלק | H9: 700 | I9: =SUMIF(D2:D158,"דלק",C2:C158) -> 0 | J9: =H9-I9 -> 700
G10: הוצאות רכב | H10: 550 | I10: =SUMIF(D2:D158,"הוצאות רכב",C2:C158) -> 0 | J10: =H10-I10 -> 550
G11: חגי ישראל | H11: 100 | I11: =SUMIF(D2:D158,"חגי ישראל",C2:C158) -> 0 | J11: =H11-I11 -> 100
G12: חישגד | H12: 5 | I12: =SUMIF(D2:D158,"חישגד",C2:C158) -> 0 | J12: =H12-I12 -> 5
G13: חניה | H13: 10 | I13: =SUMIF(D2:D158,"חניה",C2:C158) -> 0 | J13: =H13-I13 -> 10
G14: חשמל | H14: 500 | I14: =SUMIF(D2:D158,"חשמל",C2:C158) -> 0 | J14: =H14-I14 -> 500
G15: כביש 6 | H15: 10 | I15: =SUMIF(D2:D158,"כביש 6",C2:C158) -> 0 | J15: =H15-I15 -> 10
G16: מחשבים חשמל ואלקטרוניקה | H16: 20 | I16: =SUMIF(D2:D158,"מחשבים חשמל ואלקטרוניקה",C2:C158) -> 0 | J16: =H16-I16 -> 20
G17: מים | H17: 100 | I17: =SUMIF(D2:D158,"מים",C2:C158) -> 0 | J17: =H17-I17 -> 100
G18: מסעדות ובילויים | H18: 300 | I18: =SUMIF(D2:D158,"מסעדות ובילויים",C2:C158) -> 0 | J18: =H18-I18 -> 300
G19: מקווה/ספר | H19: 15 | I19: =SUMIF(D2:D158,"מקווה/ספר",C2:C158) -> 0 | J19: =H19-I19 -> 15
G20: משחקים וספרים לילדים | H20: 50 | I20: =SUMIF(D2:D158,"משחקים וספרים לילדים",C2:C158) -> 0 | J20: =H20-I20 -> 50
G21: מתנות | H21: 100 | I21: =SUMIF(D2:D158,"מתנות",C2:C158) -> 0 | J21: =H21-I21 -> 100
G22: נופש וטיולים | H22: 400 | I22: =SUMIF(D2:D158,"נופש וטיולים",C2:C158) -> 0 | J22: =H22-I22 -> 400
G23: נסיעות | H23: 10 | I23: =SUMIF(D2:D158,"נסיעות",C2:C158) -> 0 | J23: =H23-I23 -> 10
G24: עיתונים וספרים | H24: 20 | I24: =SUMIF(D2:D158,"עיתונים וספרים",C2:C158) -> 0 | J24: =H24-I24 -> 20
G25: עמלות בנק ואשראי | H25: 10 | I25: =SUMIF(D2:D158,"עמלות בנק ואשראי",C2:C158) -> 0 | J25: =H25-I25 -> 10
G26: פינוקים | H26: 100 | I26: =SUMIF(D2:D158,"פינוקים",C2:C158) -> 0 | J26: =H26-I26 -> 100
G27: צדקה ומעשרות | H27: 0 | I27: =SUMIF(D2:D158,"צדקה ומעשרות",C2:C158) -> 0 | J27: =H27-I27 -> 0
G28: קוסמטיקה והגיינה | H28: 150 | I28: =SUMIF(D2:D158,"קוסמטיקה והגיינה",C2:C158) -> 0 | J28: =H28-I28 -> 150
G29: ריהוט וכלים לבית | H29: 100 | I29: =SUMIF(D2:D158,"ריהוט וכלים לבית",C2:C158) -> 0 | J29: =H29-I29 -> 100
G30: תרופות ותוספים | H30: 100 | I30: =SUMIF(D2:D158,"תרופות ותוספים",C2:C158) -> 0 | J30: =H30-I30 -> 100
G31: לא לחישוב
G32: סה"כ | H32: =SUM(H4:H30) -> 6105 | I32: =SUM(I4:I30) -> 0 | J32: =SUM(J4:J31) -> 6105

Sheet פברואר
A2: פירוט הוצאות משתנות | G2: הוצאות משתנות חודשי
A3: תאריך | B3: תיאור | C3: סכום | D3: סעיף תוצאתי | E3: אמצעי תשלום | G3: סוג | H3: סכום להוצאה | I3: סכום בפועל | J3: יתרה
G4: אוכל | H4: 2200 | I4: =SUMIF(D2:D158,"אוכל",C2:C158) -> 0 | J4: =H4-I4 -> 2200
G5: אחזקה | H5: 10 | I5: =SUMIF(D2:D158,"אחזקה",C2:C158) -> 0 | J5: =H5-I5 -> 10
G6: ביגוד+הנעלה | H6: 500 | I6: =SUMIF(D2:D158,"ביגוד+הנעלה",C2:C158) -> 0 | J6: =H6-I6 -> 500
G7: בלתמים | H7: 20 | I7: =SUMIF(D2:D158,"בלתמים",C2:C158) -> 0 | J7: =H7-I7 -> 20
G8: גז | H8: 25 | I8: =SUMIF(D2:D158,"גז",C2:C158) -> 0 | J8: =H8-I8 -> 25
G9: דלק | H9: 700 | I9: =SUMIF(D2:D158,"דלק",C2:C158) -> 0 | J9: =H9-I9 -> 700
G10: הוצאות רכב | H10: 550 | I10: =SUMIF(D2:D158,"הוצאות רכב",C2:C158) -> 0 | J10: =H10-I10 -> 550
G11: חגי ישראל | H11: 100 | I11: =SUMIF(D2:D158,"חגי ישראל",C2:C158) -> 0 | J11: =H11-I11 -> 100
G12: חישגד | H12: 5 | I12: =SUMIF(D2:D158,"חישגד",C2:C158) -> 0 | J12: =H12-I12 -> 5
G13: חניה | H13: 10 | I13: =SUMIF(D2:D158,"חניה",C2:C158) -> 0 | J13: =H13-I13 -> 10
G14: חשמל | H14: 500 | I14: =SUMIF(D2:D158,"חשמל",C2:C158) -> 0 | J14: =H14-I14 -> 500
G15: כביש 6 | H15: 10 | I15: =SUMIF(D2:D158,"כביש 6",C2:C158) -> 0 | J15: =H15-I15 -> 10
G16: מחשבים חשמל ואלקטרוניקה | H16: 20 | I16: =SUMIF(D2:D158,"מחשבים חשמל ואלקטרוניקה",C2:C158) -> 0 | J16: =H16-I16 -> 20
G17: מים | H17: 100 | I17: =SUMIF(D2:D158,"מים",C2:C158) -> 0 | J17: =H17-I17 -> 100
G18: מסעדות ובילויים | H18: 300 | I18: =SUMIF(D2:D158,"מסעדות ובילויים",C2:C158) -> 0 | J18: =H18-I18 -> 300
G19: מקווה/ספר | H19: 15 | I19: =SUMIF(D2:D158,"מקווה/ספר",C2:C158) -> 0 | J19: =H19-I19 -> 15
G20: משחקים וספרים לילדים | H20: 50 | I20: =SUMIF(D2:D158,"משחקים וספרים לילדים",C2:C158) -> 0 | J20: =H20-I20 -> 50
G21: מתנות | H21: 100 | I21: =SUMIF(D2:D158,"מתנות",C2:C158) -> 0 | J21: =H21-I21 -> 100
G22: נופש וטיולים | H22: 400 | I22: =SUMIF(D2:D158,"נופש וטיולים",C2:C158) -> 0 | J22: =H22-I22 -> 400
G23: נסיעות | H23: 10 | I23: =SUMIF(D2:D158,"נסיעות",C2:C158) -> 0 | J23: =H23-I23 -> 10
G24: עיתונים וספרים | H24: 20 | I24: =SUMIF(D2:D158,"עיתונים וספרים",C2:C158) -> 0 | J24: =H24-I24 -> 20
G25: עמלות בנק ואשראי | H25: 10 | I25: =SUMIF(D2:D158,"עמלות בנק ואשראי",C2:C158) -> 0 | J25: =H25-I25 -> 10
G26: פינוקים | H26: 100 | I26: =SUMIF(D2:D158,"פינוקים",C2:C158) -> 0 | J26: =H26-I26 -> 100
G27: צדקה ומעשרות | H27: 0 | I27: =SUMIF(D2:D158,"צדקה ומעשרות",C2:C158) -> 0 | J27: =H27-I27 -> 0
G28: קוסמטיקה והגיינה | H28: 150 | I28: =SUMIF(D2:D158,"קוסמטיקה והגיינה",C2:C158) -> 0 | J28: =H28-I28 -> 150
G29: ריהוט וכלים לבית | H29: 100 | I29: =SUMIF(D2:D158,"ריהוט וכלים לבית",C2:C158) -> 0 | J29: =H29-I29 -> 100
G30: תרופות ותוספים | H30: 100 | I30: =SUMIF(D2:D158,"תרופות ותוספים",C2:C158) -> 0 | J30: =H30-I30 -> 100
G31: לא לחישוב
G32: סה"כ | H32: =SUM(H4:H30) -> 6105 | I32: =SUM(I4:I30) -> 0 | J32: =SUM(J4:J31) -> 6105

Sheet מרץ
A2: פירוט הוצאות משתנות | G2: הוצאות משתנות חודשי
A3: תאריך | B3: תיאור | C3: סכום | D3: סעיף תוצאתי | E3: אמצעי תשלום | G3: סוג | H3: סכום להוצאה | I3: סכום בפועל | J3: יתרה
G4: אוכל | H4: 2200 | I4: =SUMIF(D2:D158,"אוכל",C2:C158) -> 0 | J4: =H4-I4 -> 2200
G5: אחזקה | H5: 10 | I5: =SUMIF(D2:D158,"אחזקה",C2:C158) -> 0 | J5: =H5-I5 -> 10
G6: ביגוד+הנעלה | H6: 500 | I6: =SUMIF(D2:D158,"ביגוד+הנעלה",C2:C158) -> 0 | J6: =H6-I6 -> 500
G7: בלתמים | H7: 20 | I7: =SUMIF(D2:D158,"בלתמים",C2:C158) -> 0 | J7: =H7-I7 -> 20
G8: גז | H8: 25 | I8: =SUMIF(D2:D158,"גז",C2:C158) -> 0 | J8: =H8-I8 -> 25
G9: דלק | H9: 700 | I9: =SUMIF(D2:D158,"דלק",C2:C158) -> 0 | J9: =H9-I9 -> 700
G10: הוצאות רכב | H10: 550 | I10: =SUMIF(D2:D158,"הוצאות רכב",C2:C158) -> 0 | J10: =H10-I10 -> 550
G11: חגי ישראל | H11: 100 | I11: =SUMIF(D2:D158,"חגי ישראל",C2:C158) -> 0 | J11: =H11-I11 -> 100
G12: חישגד | H12: 5 | I12: =SUMIF(D2:D158,"חישגד",C2:C158) -> 0 | J12: =H12-I12 -> 5
G13: חניה | H13: 10 | I13: =SUMIF(D2:D158,"חניה",C2:C158) -> 0 | J13: =H13-I13 -> 10
G14: חשמל | H14: 500 | I14: =SUMIF(D2:D158,"חשמל",C2:C158) -> 0 | J14: =H14-I14 -> 500
G15: כביש 6 | H15: 10 | I15: =SUMIF(D2:D158,"כביש 6",C2:C158) -> 0 | J15: =H15-I15 -> 10
G16: מחשבים חשמל ואלקטרוניקה | H16: 20 | I16: =SUMIF(D2:D158,"מחשבים חשמל ואלקטרוניקה",C2:C158) -> 0 | J16: =H16-I16 -> 20
G17: מים | H17: 100 | I17: =SUMIF(D2:D158,"מים",C2:C158) -> 0 | J17: =H17-I17 -> 100
G18: מסעדות ובילויים | H18: 300 | I18: =SUMIF(D2:D158,"מסעדות ובילויים",C2:C158) -> 0 | J18: =H18-I18 -> 300
G19: מקווה/ספר | H19: 15 | I19: =SUMIF(D2:D158,"מקווה/ספר",C2:C158) -> 0 | J19: =H19-I19 -> 15
G20: משחקים וספרים לילדים | H20: 50 | I20: =SUMIF(D2:D158,"משחקים וספרים לילדים",C2:C158) -> 0 | J20: =H20-I20 -> 50
G21: מתנות | H21: 100 | I21: =SUMIF(D2:D158,"מתנות",C2:C158) -> 0 | J21: =H21-I21 -> 100
G22: נופש וטיולים | H22: 400 | I22: =SUMIF(D2:D158,"נופש וטיולים",C2:C158) -> 0 | J22: =H22-I22 -> 400
G23: נסיעות | H23: 10 | I23: =SUMIF(D2:D158,"נסיעות",C2:C158) -> 0 | J23: =H23-I23 -> 10
G24: עיתונים וספרים | H24: 20 | I24: =SUMIF(D2:D158,"עיתונים וספרים",C2:C158) -> 0 | J24: =H24-I24 -> 20
G25: עמלות בנק ואשראי | H25: 10 | I25: =SUMIF(D2:D158,"עמלות בנק ואשראי",C2:C158) -> 0 | J25: =H25-I25 -> 10
G26: פינוקים | H26: 100 | I26: =SUMIF(D2:D158,"פינוקים",C2:C158) -> 0 | J26: =H26-I26 -> 100
G27: צדקה ומעשרות | H27: 0 | I27: =SUMIF(D2:D158,"צדקה ומעשרות",C2:C158) -> 0 | J27: =H27-I27 -> 0
G28: קוסמטיקה והגיינה | H28: 150 | I28: =SUMIF(D2:D158,"קוסמטיקה והגיינה",C2:C158) -> 0 | J28: =H28-I28 -> 150
G29: ריהוט וכלים לבית | H29: 100 | I29: =SUMIF(D2:D158,"ריהוט וכלים לבית",C2:C158) -> 0 | J29: =H29-I29 -> 100
G30: תרופות ותוספים | H30: 100 | I30: =SUMIF(D2:D158,"תרופות ותוספים",C2:C158) -> 0 | J30: =H30-I30 -> 100
G31: לא לחישוב
G32: סה"כ | H32: =SUM(H4:H30) -> 6105 | I32: =SUM(I4:I30) -> 0 | J32: =SUM(J4:J31) -> 6105

Sheet אפריל
A2: פירוט הוצאות משתנות | G2: הוצאות משתנות חודשי
A3: תאריך | B3: תיאור | C3: סכום | D3: סעיף תוצאתי | E3: אמצעי תשלום | G3: סוג | H3: סכום להוצאה | I3: סכום בפועל | J3: יתרה
G4: אוכל | H4: 2200 | I4: =SUMIF(D2:D158,"אוכל",C2:C158) -> 0 | J4: =H4-I4 -> 2200
G5: אחזקה | H5: 10 | I5: =SUMIF(D2:D158,"אחזקה",C2:C158) -> 0 | J5: =H5-I5 -> 10
G6: ביגוד+הנעלה | H6: 500 | I6: =SUMIF(D2:D158,"ביגוד+הנעלה",C2:C158) -> 0 | J6: =H6-I6 -> 500
G7: בלתמים | H7: 20 | I7: =SUMIF(D2:D158,"בלתמים",C2:C158) -> 0 | J7: =H7-I7 -> 20
G8: גז | H8: 25 | I8: =SUMIF(D2:D158,"גז",C2:C158) -> 0 | J8: =H8-I8 -> 25
G9: דלק | H9: 700 | I9: =SUMIF(D2:D158,"דלק",C2:C158) -> 0 | J9: =H9-I9 -> 700
G10: הוצאות רכב | H10: 550 | I10: =SUMIF(D2:D158,"הוצאות רכב",C2:C158) -> 0 | J10: =H10-I10 -> 550
G11: חגי ישראל | H11: 100 | I11: =SUMIF(D2:D158,"חגי ישראל",C2:C158) -> 0 | J11: =H11-I11 -> 100
G12: חישגד | H12: 5 | I12: =SUMIF(D2:D158,"חישגד",C2:C158) -> 0 | J12: =H12-I12 -> 5
G13: חניה | H13: 10 | I13: =SUMIF(D2:D158,"חניה",C2:C158) -> 0 | J13: =H13-I13 -> 10
G14: חשמל | H14: 500 | I14: =SUMIF(D2:D158,"חשמל",C2:C158) -> 0 | J14: =H14-I14 -> 500
G15: כביש 6 | H15: 10 | I15: =SUMIF(D2:D158,"כביש 6",C2:C158) -> 0 | J15: =H15-I15 -> 10
G16: מחשבים חשמל ואלקטרוניקה | H16: 20 | I16: =SUMIF(D2:D158,"מחשבים חשמל ואלקטרוניקה",C2:C158) -> 0 | J16: =H16-I16 -> 20
G17: מים | H17: 100 | I17: =SUMIF(D2:D158,"מים",C2:C158) -> 0 | J17: =H17-I17 -> 100
G18: מסעדות ובילויים | H18: 300 | I18: =SUMIF(D2:D158,"מסעדות ובילויים",C2:C158) -> 0 | J18: =H18-I18 -> 300
G19: מקווה/ספר | H19: 15 | I19: =SUMIF(D2:D158,"מקווה/ספר",C2:C158) -> 0 | J19: =H19-I19 -> 15
G20: משחקים וספרים לילדים | H20: 50 | I20: =SUMIF(D2:D158,"משחקים וספרים לילדים",C2:C158) -> 0 | J20: =H20-I20 -> 50
G21: מתנות | H21: 100 | I21: =SUMIF(D2:D158,"מתנות",C2:C158) -> 0 | J21: =H21-I21 -> 100
G22: נופש וטיולים | H22: 400 | I22: =SUMIF(D2:D158,"נופש וטיולים",C2:C158) -> 0 | J22: =H22-I22 -> 400
G23: נסיעות | H23: 10 | I23: =SUMIF(D2:D158,"נסיעות",C2:C158) -> 0 | J23: =H23-I23 -> 10
G24: עיתונים וספרים | H24: 20 | I24: =SUMIF(D2:D158,"עיתונים וספרים",C2:C158) -> 0 | J24: =H24-I24 -> 20
G25: עמלות בנק ואשראי | H25: 10 | I25: =SUMIF(D2:D158,"עמלות בנק ואשראי",C2:C158) -> 0 | J25: =H25-I25 -> 10
G26: פינוקים | H26: 100 | I26: =SUMIF(D2:D158,"פינוקים",C2:C158) -> 0 | J26: =H26-I26 -> 100
G27: צדקה ומעשרות | H27: 0 | I27: =SUMIF(D2:D158,"צדקה ומעשרות",C2:C158) -> 0 | J27: =H27-I27 -> 0
G28: קוסמטיקה והגיינה | H28: 150 | I28: =SUMIF(D2:D158,"קוסמטיקה והגיינה",C2:C158) -> 0 | J28: =H28-I28 -> 150
G29: ריהוט וכלים לבית | H29: 100 | I29: =SUMIF(D2:D158,"ריהוט וכלים לבית",C2:C158) -> 0 | J29: =H29-I29 -> 100
G30: תרופות ותוספים | H30: 100 | I30: =SUMIF(D2:D158,"תרופות ותוספים",C2:C158) -> 0 | J30: =H30-I30 -> 100
G31: לא לחישוב
G32: סה"כ | H32: =SUM(H4:H30) -> 6105 | I32: =SUM(I4:I30) -> 0 | J32: =SUM(J4:J31) -> 6105

Sheet מאי
A2: פירוט הוצאות משתנות | G2: הוצאות משתנות חודשי
A3: תאריך | B3: תיאור | C3: סכום | D3: סעיף תוצאתי | E3: אמצעי תשלום | G3: סוג | H3: סכום להוצאה | I3: סכום בפועל | J3: יתרה
G4: אוכל | H4: 2200 | I4: =SUMIF(D2:D158,"אוכל",C2:C158) -> 0 | J4: =H4-I4 -> 2200
G5: אחזקה | H5: 10 | I5: =SUMIF(D2:D158,"אחזקה",C2:C158) -> 0 | J5: =H5-I5 -> 10
G6: ביגוד+הנעלה | H6: 500 | I6: =SUMIF(D2:D158,"ביגוד+הנעלה",C2:C158) -> 0 | J6: =H6-I6 -> 500
G7: בלתמים | H7: 20 | I7: =SUMIF(D2:D158,"בלתמים",C2:C158) -> 0 | J7: =H7-I7 -> 20
G8: גז | H8: 25 | I8: =SUMIF(D2:D158,"גז",C2:C158) -> 0 | J8: =H8-I8 -> 25
G9: דלק | H9: 700 | I9: =SUMIF(D2:D158,"דלק",C2:C158) -> 0 | J9: =H9-I9 -> 700
G10: הוצאות רכב | H10: 550 | I10: =SUMIF(D2:D158,"הוצאות רכב",C2:C158) -> 0 | J10: =H10-I10 -> 550
G11: חגי ישראל | H11: 100 | I11: =SUMIF(D2:D158,"חגי ישראל",C2:C158) -> 0 | J11: =H11-I11 -> 100
G12: חישגד | H12: 5 | I12: =SUMIF(D2:D158,"חישגד",C2:C158) -> 0 | J12: =H12-I12 -> 5
G13: חניה | H13: 10 | I13: =SUMIF(D2:D158,"חניה",C2:C158) -> 0 | J13: =H13-I13 -> 10
G14: חשמל | H14: 500 | I14: =SUMIF(D2:D158,"חשמל",C2:C158) -> 0 | J14: =H14-I14 -> 500
G15: כביש 6 | H15: 10 | I15: =SUMIF(D2:D158,"כביש 6",C2:C158) -> 0 | J15: =H15-I15 -> 10
G16: מחשבים חשמל ואלקטרוניקה | H16: 20 | I16: =SUMIF(D2:D158,"מחשבים חשמל ואלקטרוניקה",C2:C158) -> 0 | J16: =H16-I16 -> 20
G17: מים | H17: 100 | I17: =SUMIF(D2:D158,"מים",C2:C158) -> 0 | J17: =H17-I17 -> 100
G18: מסעדות ובילויים | H18: 300 | I18: =SUMIF(D2:D158,"מסעדות ובילויים",C2:C158) -> 0 | J18: =H18-I18 -> 300
G19: מקווה/ספר | H19: 15 | I19: =SUMIF(D2:D158,"מקווה/ספר",C2:C158) -> 0 | J19: =H19-I19 -> 15
G20: משחקים וספרים לילדים | H20: 50 | I20: =SUMIF(D2:D158,"משחקים וספרים לילדים",C2:C158) -> 0 | J20: =H20-I20 -> 50
G21: מתנות | H21: 100 | I21: =SUMIF(D2:D158,"מתנות",C2:C158) -> 0 | J21: =H21-I21 -> 100
G22: נופש וטיולים | H22: 400 | I22: =SUMIF(D2:D158,"נופש וטיולים",C2:C158) -> 0 | J22: =H22-I22 -> 400
G23: נסיעות | H23: 10 | I23: =SUMIF(D2:D158,"נסיעות",C2:C158) -> 0 | J23: =H23-I23 -> 10
G24: עיתונים וספרים | H24: 20 | I24: =SUMIF(D2:D158,"עיתונים וספרים",C2:C158) -> 0 | J24: =H24-I24 -> 20
G25: עמלות בנק ואשראי | H25: 10 | I25: =SUMIF(D2:D158,"עמלות בנק ואשראי",C2:C158) -> 0 | J25: =H25-I25 -> 10
G26: פינוקים | H26: 100 | I26: =SUMIF(D2:D158,"פינוקים",C2:C158) -> 0 | J26: =H26-I26 -> 100
G27: צדקה ומעשרות | H27: 0 | I27: =SUMIF(D2:D158,"צדקה ומעשרות",C2:C158) -> 0 | J27: =H27-I27 -> 0
G28: קוסמטיקה והגיינה | H28: 150 | I28: =SUMIF(D2:D158,"קוסמטיקה והגיינה",C2:C158) -> 0 | J28: =H28-I28 -> 150
G29: ריהוט וכלים לבית | H29: 100 | I29: =SUMIF(D2:D158,"ריהוט וכלים לבית",C2:C158) -> 0 | J29: =H29-I29 -> 100
G30: תרופות ותוספים | H30: 100 | I30: =SUMIF(D2:D158,"תרופות ותוספים",C2:C158) -> 0 | J30: =H30-I30 -> 100
G31: לא לחישוב
G32: סה"כ | H32: =SUM(H4:H30) -> 6105 | I32: =SUM(I4:I30) -> 0 | J32: =SUM(J4:J31) -> 6105

Sheet יוני
A2: פירוט הוצאות משתנות | G2: הוצאות משתנות חודשי
A3: תאריך | B3: תיאור | C3: סכום | D3: סעיף תוצאתי | E3: אמצעי תשלום | G3: סוג | H3: סכום להוצאה | I3: סכום בפועל | J3: יתרה
G4: אוכל | H4: 2200 | I4: =SUMIF(D2:D158,"אוכל",C2:C158) -> 0 | J4: =H4-I4 -> 2200
G5: אחזקה | H5: 10 | I5: =SUMIF(D2:D158,"אחזקה",C2:C158) -> 0 | J5: =H5-I5 -> 10
G6: ביגוד+הנעלה | H6: 500 | I6: =SUMIF(D2:D158,"ביגוד+הנעלה",C2:C158) -> 0 | J6: =H6-I6 -> 500
G7: בלתמים | H7: 20 | I7: =SUMIF(D2:D158,"בלתמים",C2:C158) -> 0 | J7: =H7-I7 -> 20
G8: גז | H8: 25 | I8: =SUMIF(D2:D158,"גז",C2:C158) -> 0 | J8: =H8-I8 -> 25
G9: דלק | H9: 700 | I9: =SUMIF(D2:D158,"דלק",C2:C158) -> 0 | J9: =H9-I9 -> 700
G10: הוצאות רכב | H10: 550 | I10: =SUMIF(D2:D158,"הוצאות רכב",C2:C158) -> 0 | J10: =H10-I10 -> 550
G11: חגי ישראל | H11: 100 | I11: =SUMIF(D2:D158,"חגי ישראל",C2:C158) -> 0 | J11: =H11-I11 -> 100
G12: חישגד | H12: 5 | I12: =SUMIF(D2:D158,"חישגד",C2:C158) -> 0 | J12: =H12-I12 -> 5
G13: חניה | H13: 10 | I13: =SUMIF(D2:D158,"חניה",C2:C158) -> 0 | J13: =H13-I13 -> 10
G14: חשמל | H14: 500 | I14: =SUMIF(D2:D158,"חשמל",C2:C158) -> 0 | J14: =H14-I14 -> 500
G15: כביש 6 | H15: 10 | I15: =SUMIF(D2:D158,"כביש 6",C2:C158) -> 0 | J15: =H15-I15 -> 10
G16: מחשבים חשמל ואלקטרוניקה | H16: 20 | I16: =SUMIF(D2:D158,"מחשבים חשמל ואלקטרוניקה",C2:C158) -> 0 | J16: =H16-I16 -> 20
G17: מים | H17: 100 | I17: =SUMIF(D2:D158,"מים",C2:C158) -> 0 | J17: =H17-I17 -> 100
G18: מסעדות ובילויים | H18: 300 | I18: =SUMIF(D2:D158,"מסעדות ובילויים",C2:C158) -> 0 | J18: =H18-I18 -> 300
G19: מקווה/ספר | H19: 15 | I19: =SUMIF(D2:D158,"מקווה/ספר",C2:C158) -> 0 | J19: =H19-I19 -> 15
G20: משחקים וספרים לילדים | H20: 50 | I20: =SUMIF(D2:D158,"משחקים וספרים לילדים",C2:C158) -> 0 | J20: =H20-I20 -> 50
G21: מתנות | H21: 100 | I21: =SUMIF(D2:D158,"מתנות",C2:C158) -> 0 | J21: =H21-I21 -> 100
G22: נופש וטיולים | H22: 400 | I22: =SUMIF(D2:D158,"נופש וטיולים",C2:C158) -> 0 | J22: =H22-I22 -> 400
G23: נסיעות | H23: 10 | I23: =SUMIF(D2:D158,"נסיעות",C2:C158) -> 0 | J23: =H23-I23 -> 10
G24: עיתונים וספרים | H24: 20 | I24: =SUMIF(D2:D158,"עיתונים וספרים",C2:C158) -> 0 | J24: =H24-I24 -> 20
G25: עמלות בנק ואשראי | H25: 10 | I25: =SUMIF(D2:D158,"עמלות בנק ואשראי",C2:C158) -> 0 | J25: =H25-I25 -> 10
G26: פינוקים | H26: 100 | I26: =SUMIF(D2:D158,"פינוקים",C2:C158) -> 0 | J26: =H26-I26 -> 100
G27: צדקה ומעשרות | H27: 0 | I27: =SUMIF(D2:D158,"צדקה ומעשרות",C2:C158) -> 0 | J27: =H27-I27 -> 0
G28: קוסמטיקה והגיינה | H28: 150 | I28: =SUMIF(D2:D158,"קוסמטיקה והגיינה",C2:C158) -> 0 | J28: =H28-I28 -> 150
G29: ריהוט וכלים לבית | H29: 100 | I29: =SUMIF(D2:D158,"ריהוט וכלים לבית",C2:C158) -> 0 | J29: =H29-I29 -> 100
G30: תרופות ותוספים | H30: 100 | I30: =SUMIF(D2:D158,"תרופות ותוספים",C2:C158) -> 0 | J30: =H30-I30 -> 100
G31: לא לחישוב
G32: סה"כ | H32: =SUM(H4:H30) -> 6105 | I32: =SUM(I4:I30) -> 0 | J32: =SUM(J4:J31) -> 6105

Sheet יולי
A2: פירוט הוצאות משתנות | G2: הוצאות משתנות חודשי
A3: תאריך | B3: תיאור | C3: סכום | D3: סעיף תוצאתי | E3: אמצעי תשלום | G3: סוג | H3: סכום להוצאה | I3: סכום בפועל | J3: יתרה
G4: אוכל | H4: 2200 | I4: =SUMIF(D2:D158,"אוכל",C2:C158) -> 0 | J4: =H4-I4 -> 2200
G5: אחזקה | H5: 10 | I5: =SUMIF(D2:D158,"אחזקה",C2:C158) -> 0 | J5: =H5-I5 -> 10
G6: ביגוד+הנעלה | H6: 500 | I6: =SUMIF(D2:D158,"ביגוד+הנעלה",C2:C158) -> 0 | J6: =H6-I6 -> 500
G7: בלתמים | H7: 20 | I7: =SUMIF(D2:D158,"בלתמים",C2:C158) -> 0 | J7: =H7-I7 -> 20
G8: גז | H8: 25 | I8: =SUMIF(D2:D158,"גז",C2:C158) -> 0 | J8: =H8-I8 -> 25
G9: דלק | H9: 700 | I9: =SUMIF(D2:D158,"דלק",C2:C158) -> 0 | J9: =H9-I9 -> 700
G10: הוצאות רכב | H10: 550 | I10: =SUMIF(D2:D158,"הוצאות רכב",C2:C158) -> 0 | J10: =H10-I10 -> 550
G11: חגי ישראל | H11: 100 | I11: =SUMIF(D2:D158,"חגי ישראל",C2:C158) -> 0 | J11: =H11-I11 -> 100
G12: חישגד | H12: 5 | I12: =SUMIF(D2:D158,"חישגד",C2:C158) -> 0 | J12: =H12-I12 -> 5
G13: חניה | H13: 10 | I13: =SUMIF(D2:D158,"חניה",C2:C158) -> 0 | J13: =H13-I13 -> 10
G14: חשמל | H14: 500 | I14: =SUMIF(D2:D158,"חשמל",C2:C158) -> 0 | J14: =H14-I14 -> 500
G15: כביש 6 | H15: 10 | I15: =SUMIF(D2:D158,"כביש 6",C2:C158) -> 0 | J15: =H15-I15 -> 10
G16: מחשבים חשמל ואלקטרוניקה | H16: 20 | I16: =SUMIF(D2:D158,"מחשבים חשמל ואלקטרוניקה",C2:C158) -> 0 | J16: =H16-I16 -> 20
G17: מים | H17: 100 | I17: =SUMIF(D2:D158,"מים",C2:C158) -> 0 | J17: =H17-I17 -> 100
G18: מסעדות ובילויים | H18: 300 | I18: =SUMIF(D2:D158,"מסעדות ובילויים",C2:C158) -> 0 | J18: =H18-I18 -> 300
G19: מקווה/ספר | H19: 15 | I19: =SUMIF(D2:D158,"מקווה/ספר",C2:C158) -> 0 | J19: =H19-I19 -> 15
G20: משחקים וספרים לילדים | H20: 50 | I20: =SUMIF(D2:D158,"משחקים וספרים לילדים",C2:C158) -> 0 | J20: =H20-I20 -> 50
G21: מתנות | H21: 100 | I21: =SUMIF(D2:D158,"מתנות",C2:C158) -> 0 | J21: =H21-I21 -> 100
G22: נופש וטיולים | H22: 400 | I22: =SUMIF(D2:D158,"נופש וטיולים",C2:C158) -> 0 | J22: =H22-I22 -> 400
G23: נסיעות | H23: 10 | I23: =SUMIF(D2:D158,"נסיעות",C2:C158) -> 0 | J23: =H23-I23 -> 10
G24: עיתונים וספרים | H24: 20 | I24: =SUMIF(D2:D158,"עיתונים וספרים",C2:C158) -> 0 | J24: =H24-I24 -> 20
G25: עמלות בנק ואשראי | H25: 10 | I25: =SUMIF(D2:D158,"עמלות בנק ואשראי",C2:C158) -> 0 | J25: =H25-I25 -> 10
G26: פינוקים | H26: 100 | I26: =SUMIF(D2:D158,"פינוקים",C2:C158) -> 0 | J26: =H26-I26 -> 100
G27: צדקה ומעשרות | H27: 0 | I27: =SUMIF(D2:D158,"צדקה ומעשרות",C2:C158) -> 0 | J27: =H27-I27 -> 0
G28: קוסמטיקה והגיינה | H28: 150 | I28: =SUMIF(D2:D158,"קוסמטיקה והגיינה",C2:C158) -> 0 | J28: =H28-I28 -> 150
G29: ריהוט וכלים לבית | H29: 100 | I29: =SUMIF(D2:D158,"ריהוט וכלים לבית",C2:C158) -> 0 | J29: =H29-I29 -> 100
G30: תרופות ותוספים | H30: 100 | I30: =SUMIF(D2:D158,"תרופות ותוספים",C2:C158) -> 0 | J30: =H30-I30 -> 100
G31: לא לחישוב
G32: סה"כ | H32: =SUM(H4:H30) -> 6105 | I32: =SUM(I4:I30) -> 0 | J32: =SUM(J4:J31) -> 6105

Sheet אוגוסט
A2: פירוט הוצאות משתנות | G2: הוצאות משתנות חודשי
A3: תאריך | B3: תיאור | C3: סכום | D3: סעיף תוצאתי | E3: אמצעי תשלום | G3: סוג | H3: סכום להוצאה | I3: סכום בפועל | J3: יתרה
G4: אוכל | H4: 2200 | I4: =SUMIF(D2:D158,"אוכל",C2:C158) -> 0 | J4: =H4-I4 -> 2200
G5: אחזקה | H5: 10 | I5: =SUMIF(D2:D158,"אחזקה",C2:C158) -> 0 | J5: =H5-I5 -> 10
G6: ביגוד+הנעלה | H6: 500 | I6: =SUMIF(D2:D158,"ביגוד+הנעלה",C2:C158) -> 0 | J6: =H6-I6 -> 500
G7: בלתמים | H7: 20 | I7: =SUMIF(D2:D158,"בלתמים",C2:C158) -> 0 | J7: =H7-I7 -> 20
G8: גז | H8: 25 | I8: =SUMIF(D2:D158,"גז",C2:C158) -> 0 | J8: =H8-I8 -> 25
G9: דלק | H9: 700 | I9: =SUMIF(D2:D158,"דלק",C2:C158) -> 0 | J9: =H9-I9 -> 700
G10: הוצאות רכב | H10: 550 | I10: =SUMIF(D2:D158,"הוצאות רכב",C2:C158) -> 0 | J10: =H10-I10 -> 550
G11: חגי ישראל | H11: 100 | I11: =SUMIF(D2:D158,"חגי ישראל",C2:C158) -> 0 | J11: =H11-I11 -> 100
G12: חישגד | H12: 5 | I12: =SUMIF(D2:D158,"חישגד",C2:C158) -> 0 | J12: =H12-I12 -> 5
G13: חניה | H13: 10 | I13: =SUMIF(D2:D158,"חניה",C2:C158) -> 0 | J13: =H13-I13 -> 10
G14: חשמל | H14: 500 | I14: =SUMIF(D2:D158,"חשמל",C2:C158) -> 0 | J14: =H14-I14 -> 500
G15: כביש 6 | H15: 10 | I15: =SUMIF(D2:D158,"כביש 6",C2:C158) -> 0 | J15: =H15-I15 -> 10
G16: מחשבים חשמל ואלקטרוניקה | H16: 20 | I16: =SUMIF(D2:D158,"מחשבים חשמל ואלקטרוניקה",C2:C158) -> 0 | J16: =H16-I16 -> 20
G17: מים | H17: 100 | I17: =SUMIF(D2:D158,"מים",C2:C158) -> 0 | J17: =H17-I17 -> 100
G18: מסעדות ובילויים | H18: 300 | I18: =SUMIF(D2:D158,"מסעדות ובילויים",C2:C158) -> 0 | J18: =H18-I18 -> 300
G19: מקווה/ספר | H19: 15 | I19: =SUMIF(D2:D158,"מקווה/ספר",C2:C158) -> 0 | J19: =H19-I19 -> 15
G20: משחקים וספרים לילדים | H20: 50 | I20: =SUMIF(D2:D158,"משחקים וספרים לילדים",C2:C158) -> 0 | J20: =H20-I20 -> 50
G21: מתנות | H21: 100 | I21: =SUMIF(D2:D158,"מתנות",C2:C158) -> 0 | J21: =H21-I21 -> 100
G22: נופש וטיולים | H22: 400 | I22: =SUMIF(D2:D158,"נופש וטיולים",C2:C158) -> 0 | J22: =H22-I22 -> 400
G23: נסיעות | H23: 10 | I23: =SUMIF(D2:D158,"נסיעות",C2:C158) -> 0 | J23: =H23-I23 -> 10
G24: עיתונים וספרים | H24: 20 | I24: =SUMIF(D2:D158,"עיתונים וספרים",C2:C158) -> 0 | J24: =H24-I24 -> 20
G25: עמלות בנק ואשראי | H25: 10 | I25: =SUMIF(D2:D158,"עמלות בנק ואשראי",C2:C158) -> 0 | J25: =H25-I25 -> 10
G26: פינוקים | H26: 100 | I26: =SUMIF(D2:D158,"פינוקים",C2:C158) -> 0 | J26: =H26-I26 -> 100
G27: צדקה ומעשרות | H27: 0 | I27: =SUMIF(D2:D158,"צדקה ומעשרות",C2:C158) -> 0 | J27: =H27-I27 -> 0
G28: קוסמטיקה והגיינה | H28: 150 | I28: =SUMIF(D2:D158,"קוסמטיקה והגיינה",C2:C158) -> 0 | J28: =H28-I28 -> 150
G29: ריהוט וכלים לבית | H29: 100 | I29: =SUMIF(D2:D158,"ריהוט וכלים לבית",C2:C158) -> 0 | J29: =H29-I29 -> 100
G30: תרופות ותוספים | H30: 100 | I30: =SUMIF(D2:D158,"תרופות ותוספים",C2:C158) -> 0 | J30: =H30-I30 -> 100
G31: לא לחישוב
G32: סה"כ | H32: =SUM(H4:H30) -> 6105 | I32: =SUM(I4:I30) -> 0 | J32: =SUM(J4:J31) -> 6105

Sheet ספטמבר
A2: פירוט הוצאות משתנות | G2: הוצאות משתנות חודשי
A3: תאריך | B3: תיאור | C3: סכום | D3: סעיף תוצאתי | E3: אמצעי תשלום | G3: סוג | H3: סכום להוצאה | I3: סכום בפועל | J3: יתרה
G4: אוכל | H4: 2200 | I4: =SUMIF(D2:D158,"אוכל",C2:C158) -> 0 | J4: =H4-I4 -> 2200
G5: אחזקה | H5: 10 | I5: =SUMIF(D2:D158,"אחזקה",C2:C158) -> 0 | J5: =H5-I5 -> 10
G6: ביגוד+הנעלה | H6: 500 | I6: =SUMIF(D2:D158,"ביגוד+הנעלה",C2:C158) -> 0 | J6: =H6-I6 -> 500
G7: בלתמים | H7: 20 | I7: =SUMIF(D2:D158,"בלתמים",C2:C158) -> 0 | J7: =H7-I7 -> 20
G8: גז | H8: 25 | I8: =SUMIF(D2:D158,"גז",C2:C158) -> 0 | J8: =H8-I8 -> 25
G9: דלק | H9: 700 | I9: =SUMIF(D2:D158,"דלק",C2:C158) -> 0 | J9: =H9-I9 -> 700
G10: הוצאות רכב | H10: 550 | I10: =SUMIF(D2:D158,"הוצאות רכב",C2:C158) -> 0 | J10: =H10-I10 -> 550
G11: חגי ישראל | H11: 100 | I11: =SUMIF(D2:D158,"חגי ישראל",C2:C158) -> 0 | J11: =H11-I11 -> 100
G12: חישגד | H12: 5 | I12: =SUMIF(D2:D158,"חישגד",C2:C158) -> 0 | J12: =H12-I12 -> 5
G13: חניה | H13: 10 | I13: =SUMIF(D2:D158,"חניה",C2:C158) -> 0 | J13: =H13-I13 -> 10
G14: חשמל | H14: 500 | I14: =SUMIF(D2:D158,"חשמל",C2:C158) -> 0 | J14: =H14-I14 -> 500
G15: כביש 6 | H15: 10 | I15: =SUMIF(D2:D158,"כביש 6",C2:C158) -> 0 | J15: =H15-I15 -> 10
G16: מחשבים חשמל ואלקטרוניקה | H16: 20 | I16: =SUMIF(D2:D158,"מחשבים חשמל ואלקטרוניקה",C2:C158) -> 0 | J16: =H16-I16 -> 20
G17: מים | H17: 100 | I17: =SUMIF(D2:D158,"מים",C2:C158) -> 0 | J17: =H17-I17 -> 100
G18: מסעדות ובילויים | H18: 300 | I18: =SUMIF(D2:D158,"מסעדות ובילויים",C2:C158) -> 0 | J18: =H18-I18 -> 300
G19: מקווה/ספר | H19: 15 | I19: =SUMIF(D2:D158,"מקווה/ספר",C2:C158) -> 0 | J19: =H19-I19 -> 15
G20: משחקים וספרים לילדים | H20: 50 | I20: =SUMIF(D2:D158,"משחקים וספרים לילדים",C2:C158) -> 0 | J20: =H20-I20 -> 50
G21: מתנות | H21: 100 | I21: =SUMIF(D2:D158,"מתנות",C2:C158) -> 0 | J21: =H21-I21 -> 100
G22: נופש וטיולים | H22: 400 | I22: =SUMIF(D2:D158,"נופש וטיולים",C2:C158) -> 0 | J22: =H22-I22 -> 400
G23: נסיעות | H23: 10 | I23: =SUMIF(D2:D158,"נסיעות",C2:C158) -> 0 | J23: =H23-I23 -> 10
G24: עיתונים וספרים | H24: 20 | I24: =SUMIF(D2:D158,"עיתונים וספרים",C2:C158) -> 0 | J24: =H24-I24 -> 20
G25: עמלות בנק ואשראי | H25: 10 | I25: =SUMIF(D2:D158,"עמלות בנק ואשראי",C2:C158) -> 0 | J25: =H25-I25 -> 10
G26: פינוקים | H26: 100 | I26: =SUMIF(D2:D158,"פינוקים",C2:C158) -> 0 | J26: =H26-I26 -> 100
G27: צדקה ומעשרות | H27: 0 | I27: =SUMIF(D2:D158,"צדקה ומעשרות",C2:C158) -> 0 | J27: =H27-I27 -> 0
G28: קוסמטיקה והגיינה | H28: 150 | I28: =SUMIF(D2:D158,"קוסמטיקה והגיינה",C2:C158) -> 0 | J28: =H28-I28 -> 150
G29: ריהוט וכלים לבית | H29: 100 | I29: =SUMIF(D2:D158,"ריהוט וכלים לבית",C2:C158) -> 0 | J29: =H29-I29 -> 100
G30: תרופות ותוספים | H30: 100 | I30: =SUMIF(D2:D158,"תרופות ותוספים",C2:C158) -> 0 | J30: =H30-I30 -> 100
G31: לא לחישוב
G32: סה"כ | H32: =SUM(H4:H30) -> 6105 | I32: =SUM(I4:I30) -> 0 | J32: =SUM(J4:J31) -> 6105

Sheet אוקטובר
A2: פירוט הוצאות משתנות | G2: הוצאות משתנות חודשי
A3: תאריך | B3: תיאור | C3: סכום | D3: סעיף תוצאתי | E3: אמצעי תשלום | G3: סוג | H3: סכום להוצאה | I3: סכום בפועל | J3: יתרה
G4: אוכל | H4: 2200 | I4: =SUMIF(D2:D158,"אוכל",C2:C158) -> 0 | J4: =H4-I4 -> 2200
G5: אחזקה | H5: 10 | I5: =SUMIF(D2:D158,"אחזקה",C2:C158) -> 0 | J5: =H5-I5 -> 10
G6: ביגוד+הנעלה | H6: 500 | I6: =SUMIF(D2:D158,"ביגוד+הנעלה",C2:C158) -> 0 | J6: =H6-I6 -> 500
G7: בלתמים | H7: 20 | I7: =SUMIF(D2:D158,"בלתמים",C2:C158) -> 0 | J7: =H7-I7 -> 20
G8: גז | H8: 25 | I8: =SUMIF(D2:D158,"גז",C2:C158) -> 0 | J8: =H8-I8 -> 25
G9: דלק | H9: 700 | I9: =SUMIF(D2:D158,"דלק",C2:C158) -> 0 | J9: =H9-I9 -> 700
G10: הוצאות רכב | H10: 550 | I10: =SUMIF(D2:D158,"הוצאות רכב",C2:C158) -> 0 | J10: =H10-I10 -> 550
G11: חגי ישראל | H11: 100 | I11: =SUMIF(D2:D158,"חגי ישראל",C2:C158) -> 0 | J11: =H11-I11 -> 100
G12: חישגד | H12: 5 | I12: =SUMIF(D2:D158,"חישגד",C2:C158) -> 0 | J12: =H12-I12 -> 5
G13: חניה | H13: 10 | I13: =SUMIF(D2:D158,"חניה",C2:C158) -> 0 | J13: =H13-I13 -> 10
G14: חשמל | H14: 500 | I14: =SUMIF(D2:D158,"חשמל",C2:C158) -> 0 | J14: =H14-I14 -> 500
G15: כביש 6 | H15: 10 | I15: =SUMIF(D2:D158,"כביש 6",C2:C158) -> 0 | J15: =H15-I15 -> 10
G16: מחשבים חשמל ואלקטרוניקה | H16: 20 | I16: =SUMIF(D2:D158,"מחשבים חשמל ואלקטרוניקה",C2:C158) -> 0 | J16: =H16-I16 -> 20
G17: מים | H17: 100 | I17: =SUMIF(D2:D158,"מים",C2:C158) -> 0 | J17: =H17-I17 -> 100
G18: מסעדות ובילויים | H18: 300 | I18: =SUMIF(D2:D158,"מסעדות ובילויים",C2:C158) -> 0 | J18: =H18-I18 -> 300
G19: מקווה/ספר | H19: 15 | I19: =SUMIF(D2:D158,"מקווה/ספר",C2:C158) -> 0 | J19: =H19-I19 -> 15
G20: משחקים וספרים לילדים | H20: 50 | I20: =SUMIF(D2:D158,"משחקים וספרים לילדים",C2:C158) -> 0 | J20: =H20-I20 -> 50
G21: מתנות | H21: 100 | I21: =SUMIF(D2:D158,"מתנות",C2:C158) -> 0 | J21: =H21-I21 -> 100
G22: נופש וטיולים | H22: 400 | I22: =SUMIF(D2:D158,"נופש וטיולים",C2:C158) -> 0 | J22: =H22-I22 -> 400
G23: נסיעות | H23: 10 | I23: =SUMIF(D2:D158,"נסיעות",C2:C158) -> 0 | J23: =H23-I23 -> 10
G24: עיתונים וספרים | H24: 20 | I24: =SUMIF(D2:D158,"עיתונים וספרים",C2:C158) -> 0 | J24: =H24-I24 -> 20
G25: עמלות בנק ואשראי | H25: 10 | I25: =SUMIF(D2:D158,"עמלות בנק ואשראי",C2:C158) -> 0 | J25: =H25-I25 -> 10
G26: פינוקים | H26: 100 | I26: =SUMIF(D2:D158,"פינוקים",C2:C158) -> 0 | J26: =H26-I26 -> 100
G27: צדקה ומעשרות | H27: 0 | I27: =SUMIF(D2:D158,"צדקה ומעשרות",C2:C158) -> 0 | J27: =H27-I27 -> 0
G28: קוסמטיקה והגיינה | H28: 150 | I28: =SUMIF(D2:D158,"קוסמטיקה והגיינה",C2:C158) -> 0 | J28: =H28-I28 -> 150
G29: ריהוט וכלים לבית | H29: 100 | I29: =SUMIF(D2:D158,"ריהוט וכלים לבית",C2:C158) -> 0 | J29: =H29-I29 -> 100
G30: תרופות ותוספים | H30: 100 | I30: =SUMIF(D2:D158,"תרופות ותוספים",C2:C158) -> 0 | J30: =H30-I30 -> 100
G31: לא לחישוב
G32: סה"כ | H32: =SUM(H4:H30) -> 6105 | I32: =SUM(I4:I30) -> 0 | J32: =SUM(J4:J31) -> 6105

Sheet נובמבר
A2: פירוט הוצאות משתנות | G2: הוצאות משתנות חודשי
A3: תאריך | B3: תיאור | C3: סכום | D3: סעיף תוצאתי | E3: אמצעי תשלום | G3: סוג | H3: סכום להוצאה | I3: סכום בפועל | J3: יתרה
G4: אוכל | H4: 2200 | I4: =SUMIF(D2:D158,"אוכל",C2:C158) -> 0 | J4: =H4-I4 -> 2200
G5: אחזקה | H5: 10 | I5: =SUMIF(D2:D158,"אחזקה",C2:C158) -> 0 | J5: =H5-I5 -> 10
G6: ביגוד+הנעלה | H6: 500 | I6: =SUMIF(D2:D158,"ביגוד+הנעלה",C2:C158) -> 0 | J6: =H6-I6 -> 500
G7: בלתמים | H7: 20 | I7: =SUMIF(D2:D158,"בלתמים",C2:C158) -> 0 | J7: =H7-I7 -> 20
G8: גז | H8: 25 | I8: =SUMIF(D2:D158,"גז",C2:C158) -> 0 | J8: =H8-I8 -> 25
G9: דלק | H9: 700 | I9: =SUMIF(D2:D158,"דלק",C2:C158) -> 0 | J9: =H9-I9 -> 700
G10: הוצאות רכב | H10: 550 | I10: =SUMIF(D2:D158,"הוצאות רכב",C2:C158) -> 0 | J10: =H10-I10 -> 550
G11: חגי ישראל | H11: 100 | I11: =SUMIF(D2:D158,"חגי ישראל",C2:C158) -> 0 | J11: =H11-I11 -> 100
G12: חישגד | H12: 5 | I12: =SUMIF(D2:D158,"חישגד",C2:C158) -> 0 | J12: =H12-I12 -> 5
G13: חניה | H13: 10 | I13: =SUMIF(D2:D158,"חניה",C2:C158) -> 0 | J13: =H13-I13 -> 10
G14: חשמל | H14: 500 | I14: =SUMIF(D2:D158,"חשמל",C2:C158) -> 0 | J14: =H14-I14 -> 500
G15: כביש 6 | H15: 10 | I15: =SUMIF(D2:D158,"כביש 6",C2:C158) -> 0 | J15: =H15-I15 -> 10
G16: מחשבים חשמל ואלקטרוניקה | H16: 20 | I16: =SUMIF(D2:D158,"מחשבים חשמל ואלקטרוניקה",C2:C158) -> 0 | J16: =H16-I16 -> 20
G17: מים | H17: 100 | I17: =SUMIF(D2:D158,"מים",C2:C158) -> 0 | J17: =H17-I17 -> 100
G18: מסעדות ובילויים | H18: 300 | I18: =SUMIF(D2:D158,"מסעדות ובילויים",C2:C158) -> 0 | J18: =H18-I18 -> 300
G19: מקווה/ספר | H19: 15 | I19: =SUMIF(D2:D158,"מקווה/ספר",C2:C158) -> 0 | J19: =H19-I19 -> 15
G20: משחקים וספרים לילדים | H20: 50 | I20: =SUMIF(D2:D158,"משחקים וספרים לילדים",C2:C158) -> 0 | J20: =H20-I20 -> 50
G21: מתנות | H21: 100 | I21: =SUMIF(D2:D158,"מתנות",C2:C158) -> 0 | J21: =H21-I21 -> 100
G22: נופש וטיולים | H22: 400 | I22: =SUMIF(D2:D158,"נופש וטיולים",C2:C158) -> 0 | J22: =H22-I22 -> 400
G23: נסיעות | H23: 10 | I23: =SUMIF(D2:D158,"נסיעות",C2:C158) -> 0 | J23: =H23-I23 -> 10
G24: עיתונים וספרים | H24: 20 | I24: =SUMIF(D2:D158,"עיתונים וספרים",C2:C158) -> 0 | J24: =H24-I24 -> 20
G25: עמלות בנק ואשראי | H25: 10 | I25: =SUMIF(D2:D158,"עמלות בנק ואשראי",C2:C158) -> 0 | J25: =H25-I25 -> 10
G26: פינוקים | H26: 100 | I26: =SUMIF(D2:D158,"פינוקים",C2:C158) -> 0 | J26: =H26-I26 -> 100
G27: צדקה ומעשרות | H27: 0 | I27: =SUMIF(D2:D158,"צדקה ומעשרות",C2:C158) -> 0 | J27: =H27-I27 -> 0
G28: קוסמטיקה והגיינה | H28: 150 | I28: =SUMIF(D2:D158,"קוסמטיקה והגיינה",C2:C158) -> 0 | J28: =H28-I28 -> 150
G29: ריהוט וכלים לבית | H29: 100 | I29: =SUMIF(D2:D158,"ריהוט וכלים לבית",C2:C158) -> 0 | J29: =H29-I29 -> 100
G30: תרופות ותוספים | H30: 100 | I30: =SUMIF(D2:D158,"תרופות ותוספים",C2:C158) -> 0 | J30: =H30-I30 -> 100
G31: לא לחישוב
G32: סה"כ | H32: =SUM(H4:H30) -> 6105 | I32: =SUM(I4:I30) -> 0 | J32: =SUM(J4:J31) -> 6105

Sheet דצמבר
A2: פירוט הוצאות משתנות | G2: הוצאות משתנות חודשי
A3: תאריך | B3: תיאור | C3: סכום | D3: סעיף תוצאתי | E3: אמצעי תשלום | G3: סוג | H3: סכום להוצאה | I3: סכום בפועל | J3: יתרה
G4: אוכל | H4: 2200 | I4: =SUMIF(D2:D158,"אוכל",C2:C158) -> 0 | J4: =H4-I4 -> 2200
G5: אחזקה | H5: 10 | I5: =SUMIF(D2:D158,"אחזקה",C2:C158) -> 0 | J5: =H5-I5 -> 10
G6: ביגוד+הנעלה | H6: 500 | I6: =SUMIF(D2:D158,"ביגוד+הנעלה",C2:C158) -> 0 | J6: =H6-I6 -> 500
G7: בלתמים | H7: 20 | I7: =SUMIF(D2:D158,"בלתמים",C2:C158) -> 0 | J7: =H7-I7 -> 20
G8: גז | H8: 25 | I8: =SUMIF(D2:D158,"גז",C2:C158) -> 0 | J8: =H8-I8 -> 25
G9: דלק | H9: 700 | I9: =SUMIF(D2:D158,"דלק",C2:C158) -> 0 | J9: =H9-I9 -> 700
G10: הוצאות רכב | H10: 550 | I10: =SUMIF(D2:D158,"הוצאות רכב",C2:C158) -> 0 | J10: =H10-I10 -> 550
G11: חגי ישראל | H11: 100 | I11: =SUMIF(D2:D158,"חגי ישראל",C2:C158) -> 0 | J11: =H11-I11 -> 100
G12: חישגד | H12: 5 | I12: =SUMIF(D2:D158,"חישגד",C2:C158) -> 0 | J12: =H12-I12 -> 5
G13: חניה | H13: 10 | I13: =SUMIF(D2:D158,"חניה",C2:C158) -> 0 | J13: =H13-I13 -> 10
G14: חשמל | H14: 500 | I14: =SUMIF(D2:D158,"חשמל",C2:C158) -> 0 | J14: =H14-I14 -> 500
G15: כביש 6 | H15: 10 | I15: =SUMIF(D2:D158,"כביש 6",C2:C158) -> 0 | J15: =H15-I15 -> 10
G16: מחשבים חשמל ואלקטרוניקה | H16: 20 | I16: =SUMIF(D2:D158,"מחשבים חשמל ואלקטרוניקה",C2:C158) -> 0 | J16: =H16-I16 -> 20
G17: מים | H17: 100 | I17: =SUMIF(D2:D158,"מים",C2:C158) -> 0 | J17: =H17-I17 -> 100
G18: מסעדות ובילויים | H18: 300 | I18: =SUMIF(D2:D158,"מסעדות ובילויים",C2:C158) -> 0 | J18: =H18-I18 -> 300
G19: מקווה/ספר | H19: 15 | I19: =SUMIF(D2:D158,"מקווה/ספר",C2:C158) -> 0 | J19: =H19-I19 -> 15
G20: משחקים וספרים לילדים | H20: 50 | I20: =SUMIF(D2:D158,"משחקים וספרים לילדים",C2:C158) -> 0 | J20: =H20-I20 -> 50
G21: מתנות | H21: 100 | I21: =SUMIF(D2:D158,"מתנות",C2:C158) -> 0 | J21: =H21-I21 -> 100
G22: נופש וטיולים | H22: 400 | I22: =SUMIF(D2:D158,"נופש וטיולים",C2:C158) -> 0 | J22: =H22-I22 -> 400
G23: נסיעות | H23: 10 | I23: =SUMIF(D2:D158,"נסיעות",C2:C158) -> 0 | J23: =H23-I23 -> 10
G24: עיתונים וספרים | H24: 20 | I24: =SUMIF(D2:D158,"עיתונים וספרים",C2:C158) -> 0 | J24: =H24-I24 -> 20
G25: עמלות בנק ואשראי | H25: 10 | I25: =SUMIF(D2:D158,"עמלות בנק ואשראי",C2:C158) -> 0 | J25: =H25-I25 -> 10
G26: פינוקים | H26: 100 | I26: =SUMIF(D2:D158,"פינוקים",C2:C158) -> 0 | J26: =H26-I26 -> 100
G27: צדקה ומעשרות | H27: 0 | I27: =SUMIF(D2:D158,"צדקה ומעשרות",C2:C158) -> 0 | J27: =H27-I27 -> 0
G28: קוסמטיקה והגיינה | H28: 150 | I28: =SUMIF(D2:D158,"קוסמטיקה והגיינה",C2:C158) -> 0 | J28: =H28-I28 -> 150
G29: ריהוט וכלים לבית | H29: 100 | I29: =SUMIF(D2:D158,"ריהוט וכלים לבית",C2:C158) -> 0 | J29: =H29-I29 -> 100
G30: תרופות ותוספים | H30: 100 | I30: =SUMIF(D2:D158,"תרופות ותוספים",C2:C158) -> 0 | J30: =H30-I30 -> 100
G31: לא לחישוב
G32: סה"כ | H32: =SUM(H4:H30) -> 6105 | I32: =SUM(I4:I30) -> 0 | J32: =SUM(J4:J31) -> 6105

Sheet תבנית צפי
A1: הוצאות קבועות חודשי | E1: הוצאות משתנות חודשי | I1: הכנסות קבועות | M1: הכנסות משתנות
A2: סוג | B2: סכום | E2: סוג | F2: סכום | I2: סוג | J2: סכום | M2: סוג | N2: סכום
A3: ארנונה | B3: 386 | E3: אוכל | F3: 2200 | I3: משכורת א | J3: 8000 | M3: החזרים ביטוחיים
A4: ביטוח בריאות | B4: 280 | E4: אחזקה | F4: 10 | I4: משכורת ב | J4: 8000 | M4: הבראה
A5: ביטוח חיים | B5: 35 | E5: ביגוד+הנעלה | F5: 500 | I5: קצבאות | J5: 600 | M5: מס הכנסה שלילי
A6: ביטוח מבנה משכנתא | B6: 45 | E6: בלתמים | F6: 20 | I6: הכנסות משכירות | J6: 1500 | M6: מתנות
A7: ביטוח רכב | B7: 275 | E7: גז | F7: 25 | M7: הכנסות נוספות ממשכורת
A8: הגמ"ח המרכזי | B8: 600 | E8: דלק | F8: 700 | I8: סה"כ | J8: =SUM(J3:J6) -> 18100
A9: החזר הלוואה חניכי | B9: 1300 | E9: הוצאות רכב | F9: 550
A10: ועד בית | B10: 71.4 | E10: חגי ישראל | F10: 100
A11: שכר לימוד ילדים | B11: 330 | E11: חישגד | F11: 5 | I11: סה"כ הוצאה לעומת הכנסה
A12: חסכון בר מצווה | B12: 200 | E12: חניה | F12: 10 | I12: =J8 -> 18100 | J12: =B24+F30 -> 16607.4
A13: חניכי גמח תרומה | B13: 120 | E13: חשמל | F13: 500 | I13: =I12-J12 -> 1492.6
A14: קופת חולים | B14: 330 | E14: כביש 6 | F14: 10
A15: מעשרות | B15: 650 | E15: מחשבים חשמל ואלקטרוניקה | F15: 20
A16: משכנתא | B16: 1965 | E16: מים | F16: 100
A17: מי עדן | B17: 95 | E17: מסעדות ובילויים | F17: 300
A18: סלולר | B18: 220 | E18: מקווה/ספר | F18: 15
A19: שכירות | B19: 3600 | E19: משחקים וספרים לילדים | F19: 50 | J19: הערות/משימות:
E20: מתנות | F20: 100
E21: נופש וטיולים | F21: 400
E22: נסיעות | F22: 10
E23: עיתונים וספרים | F23: 20
A24: סה"כ | B24: =SUM(B3:B23) -> 10502.4 | E24: עמלות בנק ואשראי | F24: 10
E25: פינוקים | F25: 100
E26: צדקה | F26: 0 | J26: סיום ביטוחים:
E27: קוסמטיקה והגיינה | F27: 150 | J27: ביטוח | K27: תאריך סיום | L27: חסכון | M27: למספר חודשים | N27: ממתי חסכון
E28: ריהוט וכלים לבית | F28: 100 | J28: מבנה ערד | K28: 31.12.19 | L28: 45 | M28: 12 | N28: דצמבר
E29: תרופות ותוספים | F29: 100 | J29: רכב | K29: 31.12.19 | L29: 275 | M29: 12 | N29: דצמבר
E30: סה"כ | F30: =SUM(F3:F29) -> 6105 | J30: חיים למשכנתא | K30: 31.12.19 | L30: 30 | M30: 12 | N30: דצמבר
