Workbook

Sheet דוח מרכזי
E1: נתונים חדשים 7 ימים | G1: פרמטר 1 | H1: פרמטר 2 | I1: פרמטר 3 | T1: מספור צבעי ערים | AH1: נתונים היסטוריים | AO1: היסטוריית ממוצע אחוז החיובי
AH2: חרדי משוער | AI2: ערבים מובהק בלבד | AJ2: כללי | AK2: מס' מאומתים חדשים | AM2: חרדים חדשים משוער
C3: מאומתים חדשים מהיום | D3: אחוז ביחס לתחלואה היומית | E3: מאומתים חדשים | F3: בדיקות חדשות | G3: שיעור חיובי בבדיקות | H3: תחלואה חדשה ל10,000 נפש | I3: מאומתים חדשים שבוע קודם | J3: שיעור חולים חדשים משבוע קודם יחס ל10000 | K3: מקדם הדבקה שבועי | L3: ציון | M3: ציון ממוצע שבועי | T3: =COUNTIF(AF:AF,1) -> 93 | U3: =COUNTIF(AF:AF,2) -> 87 | V3: =COUNTIF(AF:AF,3) -> 52 | W3: =COUNTIF(AF:AF,4) -> 91 | X3: חדש!!! חדש!!! סיכומים של לוח הבקרה (דשבורד) של משרד הבריאות, מתעדכן כל יום מאתמול | AG3: תאריך | AL3: מקדם הדבקה יומי | AN3: מצב חרדים פעילים | AO3: חרדי מובהק | AP3: כללי בארץ
A4: 1 | B4: אלעד | C4: 185 | D4: 0.023 | E4: 1030 | F4: 4295 | G4: 0.2398 | H4: 217 | I4: 1009 | J4: 212 | K4: 10.4 | L4: =IF(N4="","",IF(E4=0,"0",SUM($S$7)+LN(Q4)+SUM(G4*100)/$R$7)) -> 10.42402 | M4: 10.6 | N4: =IF(E4="","",IF(J4=0,E4*1,IF(E4=0,0,H4/J4))) -> 1.0235849 | O4: =IF(N4="","",N4*N4) -> 1.0477261 | Q4: =IF(H4="","",H4*O4) -> 227.35655 | T4: חדש!!!!!! חדש!!!!!!! מידע על החיסונים בגליון'הערים בישראל' | X4: ערים חרדיות מובהקות | Y4: חדשים | Z4: פעילים | AA4: יחס חדשים לכללי | AB4: כדי להעריך מהו הנתח החרדי בהדבקה היומית, ניתן לקחת את הסיכום של הערים החרדיות המובהקות באחוזים: חדשים פעילים | AF4: =IF(L4="0",4,IF(L4>7.5,1,IF(L4>6,2,IF(L4>4.5,3,IF(L4>0,4))))) -> 1 | AG4: 18 בינואר 2021 | 20:34 | AH4: =AD9 -> 0.3177 | AI4: =Y32 -> 0.0881 | AJ4: =1-AH4-AI4 -> 0.5942 | AK4: =X32 -> 8048 | AL4: =AK$4/SUM(AK$5) -> 1.9653236 | AM4: =Y12+AC29 -> 2557 | AN4: =Z12+AD29 -> 23355 | AO4: =AA12 -> 0.2169 | AP4: =AVERAGE(G:G) -> 0.070579321
A5: 2 | B5: אשדוד | C5: 325 | D5: 0.0404 | E5: 1367 | F5: 15197 | G5: 0.09 | H5: 61 | I5: 1218 | J5: 54 | K5: 7.5 | L5: =IF(N5="","",IF(E5=0,"0",SUM($S$7)+LN(Q5)+SUM(G5*100)/$R$7)) -> 7.4796535 | M5: 7.3 | N5: =IF(E5="","",IF(J5=0,E5*1,IF(E5=0,0,H5/J5))) -> 1.1296296 | O5: =IF(N5="","",N5*N5) -> 1.2760631 | Q5: =IF(H5="","",H5*O5) -> 77.839849 | R5: מספרים קבועים, משתנה בועדת ההיגוי | X5: אלעד | Y5: 185 | Z5: 1442 | AA5: 0.0052 | AF5: =IF(L5="0",4,IF(L5>7.5,1,IF(L5>6,2,IF(L5>4.5,3,IF(L5>0,4))))) -> 2 | AG5: 17 בינואר 2021 | 21:30 | AH5: 0.4779 | AI5: 0.1448 | AJ5: 0.3773 | AK5: 4095 | AL5: 0.83622626 | AM5: 1957 | AN5: 24076 | AO5: 0.2155 | AP5: 0.069956481
A6: 3 | B6: אשקלון | C6: 79 | D6: 0.0098 | E6: 540 | F6: 9005 | G6: 0.06 | H6: 38 | I6: 533 | J6: 38 | K6: 6.4 | L6: =IF(N6="","",IF(E6=0,"0",SUM($S$7)+LN(Q6)+SUM(G6*100)/$R$7)) -> 6.3875862 | M6: 6.7 | N6: =IF(E6="","",IF(J6=0,E6*1,IF(E6=0,0,H6/J6))) -> 1 | O6: =IF(N6="","",N6*N6) -> 1 | Q6: =IF(H6="","",H6*O6) -> 38 | R6: לוגריתם | S6: מספר קבוע | X6: ביתר עילית | Y6: 126 | Z6: 1575 | AA6: 0.0067 | AD6: =Y13 -> 0.1595 | AE6: =Z13 -> 0.1541 | AF6: =IF(L6="0",4,IF(L6>7.5,1,IF(L6>6,2,IF(L6>4.5,3,IF(L6>0,4))))) -> 2 | AG6: 16 בינואר 2021 | 20:58 | AH6: 0.2233 | AI6: 0.086 | AJ6: 0.6907 | AK6: 4897 | AL6: 0.53466536 | AM6: 1093 | AN6: 24120 | AO6: 0.2114 | AP6: 0.069650926
A7: 4 | B7: באר שבע | C7: 165 | D7: 0.0205 | E7: 694 | F7: 11567 | G7: 0.06 | H7: 35 | I7: 742 | J7: 38 | K7: 6.2 | L7: =IF(N7="","",IF(E7=0,"0",SUM($S$7)+LN(Q7)+SUM(G7*100)/$R$7)) -> 6.1408719 | M7: 6.1 | N7: =IF(E7="","",IF(J7=0,E7*1,IF(E7=0,0,H7/J7))) -> 0.92105263 | O7: =IF(N7="","",N7*N7) -> 0.84833795 | Q7: =IF(H7="","",H7*O7) -> 29.691828 | R7: 8 | S7: 2 | X7: בני ברק | Y7: 607 | Z7: 4844 | AA7: 0.0218 | AB7: ולהוסיף את היחס שלהם בערים המעורבות לפי | AF7: =IF(L7="0",4,IF(L7>7.5,1,IF(L7>6,2,IF(L7>4.5,3,IF(L7>0,4))))) -> 2 | AG7: 15 בינואר 2021 | 09:41 | AH7: 0.3635 | AI7: 0.0697 | AJ7: 0.5668 | AK7: 9159 | AL7: 1.0796888 | AM7: 3330 | AN7: 24113 | AO7: 0.1921 | AP7: 0.068405556
A8: 5 | B8: בית שמש | C8: 337 | D8: 0.0419 | E8: 1821 | F8: 10119 | G8: 0.18 | H8: 144 | I8: 1793 | J8: 141 | K8: 9.2 | L8: =IF(N8="","",IF(E8=0,"0",SUM($S$7)+LN(Q8)+SUM(G8*100)/$R$7)) -> 9.2619201 | M8: 9.4 | N8: =IF(E8="","",IF(J8=0,E8*1,IF(E8=0,0,H8/J8))) -> 1.0212766 | O8: =IF(N8="","",N8*N8) -> 1.0430059 | Q8: =IF(H8="","",H8*O8) -> 150.19285 | X8: מודיעין עילית | Y8: 297 | Z8: 3198 | AA8: 0.0083 | AB8: החשבון בטבלה כאן למטה. ס"ה: | AD8: =AC30 -> 0.1582 | AE8: =AD30 -> 0.1546 | AF8: =IF(L8="0",4,IF(L8>7.5,1,IF(L8>6,2,IF(L8>4.5,3,IF(L8>0,4))))) -> 1 | AG8: 14 בינואר 2021 | 22:50 | AH8: 0.4466 | AI8: 0.0822 | AJ8: 0.4712 | AK8: 8483 | AL8: 1.4630907 | AM8: 3789 | AN8: 23544 | AO8: 0.1892 | AP8: 0.066699074
A9: 6 | B9: ביתר עילית | C9: 126 | D9: 0.0157 | E9: 1342 | F9: 4629 | G9: 0.2899 | H9: 218 | I9: 1214 | J9: 197 | K9: 11.2 | L9: =IF(N9="","",IF(E9=0,"0",SUM($S$7)+LN(Q9)+SUM(G9*100)/$R$7)) -> 11.210828 | M9: 11.5 | N9: =IF(E9="","",IF(J9=0,E9*1,IF(E9=0,0,H9/J9))) -> 1.106599 | O9: =IF(N9="","",N9*N9) -> 1.2245613 | Q9: =IF(H9="","",H9*O9) -> 266.95437 | R9: עדכון אחרון: 18 בינואר 2021 | 20:34 | X9: עמנואל | Y9: 6 | Z9: 42 | AA9: 0.0005 | AB9: ולקבוע את הנתח ביחד: | AD9: =SUM(AD6+AD8) -> 0.3177 | AE9: =SUM(AE6+AE8) -> 0.3087 | AF9: =IF(L9="0",4,IF(L9>7.5,1,IF(L9>6,2,IF(L9>4.5,3,IF(L9>0,4))))) -> 1 | AG9: 13 בינואר 2021 | 22:41 | AH9: 0.313 | AI9: 0.1109 | AJ9: 0.5761 | AK9: 5798 | AL9: 0.59503284 | AM9: 1815 | AN9: 22098 | AO9: 0.1849 | AP9: 0.06592716
A10: 7 | B10: בני ברק | C10: 607 | D10: 0.0754 | E10: 3397 | F10: 16988 | G10: 0.2 | H10: 169 | I10: 2815 | J10: 140 | K10: 10 | L10: =IF(N10="","",IF(E10=0,"0",SUM($S$7)+LN(Q10)+SUM(G10*100)/$R$7)) -> 10.006411 | M10: 9.7 | N10: =IF(E10="","",IF(J10=0,E10*1,IF(E10=0,0,H10/J10))) -> 1.2071429 | O10: =IF(N10="","",N10*N10) -> 1.4571939 | Q10: =IF(H10="","",H10*O10) -> 246.26577 | X10: קרית יערים | Y10: 24 | Z10: 223 | AA10: 0.0007 | AF10: =IF(L10="0",4,IF(L10>7.5,1,IF(L10>6,2,IF(L10>4.5,3,IF(L10>0,4))))) -> 1 | AG10: 12 בינואר 2021 | 21:56 | AH10: 0.3464 | AI10: 0.0898 | AJ10: 0.5638 | AK10: 9744 | AL10: 1.6693507 | AM10: 3375 | AN10: 20846 | AO10: 0.1765 | AP10: 0.065328395
A11: 8 | B11: הרצליה | C11: 20 | D11: 0.0025 | E11: 190 | F11: 4754 | G11: 0.04 | H11: 20 | I11: 197 | J11: 21 | K11: 5.4 | L11: =IF(N11="","",IF(E11=0,"0",SUM($S$7)+LN(Q11)+SUM(G11*100)/$R$7)) -> 5.3981519 | M11: 5.4 | N11: =IF(E11="","",IF(J11=0,E11*1,IF(E11=0,0,H11/J11))) -> 0.95238095 | O11: =IF(N11="","",N11*N11) -> 0.90702948 | Q11: =IF(H11="","",H11*O11) -> 18.14059 | X11: רכסים | Y11: 39 | Z11: 335 | AA11: 0.0013 | AB11: פער חרדי לעומת הכללי, לקחת מזה חישוב לערים מעורבות | AF11: =IF(L11="0",4,IF(L11>7.5,1,IF(L11>6,2,IF(L11>4.5,3,IF(L11>0,4))))) -> 3 | AG11: 11 בינואר 2021 | 21:42 | AH11: 0.4202 | AI11: 0.1177 | AJ11: 0.4621 | AK11: 5837 | AL11: 0.99184367 | AM11: 2453 | AN11: 18391 | AO11: 0.1751 | AP11: 0.065110802
A12: 9 | B12: חדרה | C12: 65 | D12: 0.0081 | E12: 304 | F12: 5075 | G12: 0.0599 | H12: 32 | I12: 276 | J12: 29 | K12: 6.4 | L12: =IF(N12="","",IF(E12=0,"0",SUM($S$7)+LN(Q12)+SUM(G12*100)/$R$7)) -> 6.411366 | M12: 6.4 | N12: =IF(E12="","",IF(J12=0,E12*1,IF(E12=0,0,H12/J12))) -> 1.1034483 | O12: =IF(N12="","",N12*N12) -> 1.2175981 | Q12: =IF(H12="","",H12*O12) -> 38.963139 | X12: ס"ה חרדים מובהקים | Y12: 1284 | Z12: 11659 | AA12: 0.2169 | AD12: חדשים | AE12: פעילים | AF12: =IF(L12="0",4,IF(L12>7.5,1,IF(L12>6,2,IF(L12>4.5,3,IF(L12>0,4))))) -> 2 | AG12: 10 בינואר 2021 | 21:59 | AH12: 0.3551 | AI12: 0.1111 | AJ12: 0.5338 | AK12: 5885 | AL12: 1.0812052 | AM12: 2090 | AN12: 18025 | AO12: 0.1735 | AP12: 0.06515679
A13: 10 | B13: חולון | C13: 140 | D13: 0.0174 | E13: 683 | F13: 11397 | G13: 0.0599 | H13: 37 | I13: 760 | J13: 41 | K13: 6.1 | L13: =IF(N13="","",IF(E13=0,"0",SUM($S$7)+LN(Q13)+SUM(G13*100)/$R$7)) -> 6.1543596 | M13: 6.5 | N13: =IF(E13="","",IF(J13=0,E13*1,IF(E13=0,0,H13/J13))) -> 0.90243902 | O13: =IF(N13="","",N13*N13) -> 0.81439619 | Q13: =IF(H13="","",H13*O13) -> 30.132659 | X13: אחוז מתוך המאומתים | Y13: 0.1595 | Z13: 0.1541 | AA13: 0.0444 | AB13: מאומתים ביחס לאוכלוסיה: | AD13: =Y13/AA13 -> 3.5923423 | AE13: =Z13/AA13 -> 3.4707207 | AF13: =IF(L13="0",4,IF(L13>7.5,1,IF(L13>6,2,IF(L13>4.5,3,IF(L13>0,4))))) -> 2 | AG13: 9 בינואר 2021 | 22:19 | AH13: 0.2507 | AI13: 0.1325 | AJ13: 0.6168 | AK13: 5443 | AL13: 0.73257066 | AM13: 1364 | AN13: 17644 | AO13: 0.1792 | AP13: 0.065304012
A14: 11 | B14: חיפה | C14: 152 | D14: 0.0189 | E14: 1080 | F14: 18000 | G14: 0.06 | H14: 39 | I14: 1366 | J14: 50 | K14: 6 | L14: =IF(N14="","",IF(E14=0,"0",SUM($S$7)+LN(Q14)+SUM(G14*100)/$R$7)) -> 5.9166389 | M14: 6.7 | N14: =IF(E14="","",IF(J14=0,E14*1,IF(E14=0,0,H14/J14))) -> 0.78 | O14: =IF(N14="","",N14*N14) -> 0.6084 | Q14: =IF(H14="","",H14*O14) -> 23.7276 | R14: כל הזכויות שמורות ל פתרונות אקסל 5725225@gmail.com | X14: ערים מעורבות | Y14: חדשים | Z14: פעילים | AA14: יחס אוכלוסיה | AB14: ערך חרדי אוכלוסי לפי בחירות | AC14: יחס מאומתים חדשים משוער | AD14: יחס משוער לחולים פעילים | AE14: יחס חרדי אוכלוסי משוער | AF14: =IF(L14="0",4,IF(L14>7.5,1,IF(L14>6,2,IF(L14>4.5,3,IF(L14>0,4))))) -> 3 | AG14: 8 בינואר 2021 | 14:29 | AH14: 0.3463 | AI14: 0.0914 | AJ14: 0.5623 | AK14: 7430 | AL14: 1.1352177 | AM14: 2573 | AN14: 16591 | AO14: 0.1749 | AP14: 0.065292901
A15: 12 | B15: טבריה | C15: 50 | D15: 0.0062 | E15: 212 | F15: 2651 | G15: 0.08 | H15: 47 | I15: 270 | J15: 60 | K15: 6.4 | L15: =IF(N15="","",IF(E15=0,"0",SUM($S$7)+LN(Q15)+SUM(G15*100)/$R$7)) -> 6.3617537 | M15: 6.6 | N15: =IF(E15="","",IF(J15=0,E15*1,IF(E15=0,0,H15/J15))) -> 0.78333333 | O15: =IF(N15="","",N15*N15) -> 0.61361111 | Q15: =IF(H15="","",H15*O15) -> 28.839722 | AF15: =IF(L15="0",4,IF(L15>7.5,1,IF(L15>6,2,IF(L15>4.5,3,IF(L15>0,4))))) -> 2 | AG15: 7 בינואר 2021 | 20:11 | AH15: 0.2538 | AI15: 0.092 | AJ15: 0.6542 | AK15: 6545 | AL15: 0.82493068 | AM15: 1661 | AN15: 15474 | AO15: 0.175 | AP15: 0.062684568
A16: 13 | B16: ירושלים | C16: 1708 | D16: 0.2122 | E16: 11128 | F16: 65462 | G16: 0.17 | H16: 119 | I16: 10676 | J16: 115 | K16: 9 | L16: =IF(N16="","",IF(E16=0,"0",SUM($S$7)+LN(Q16)+SUM(G16*100)/$R$7)) -> 8.9725062 | M16: 8.9 | N16: =IF(E16="","",IF(J16=0,E16*1,IF(E16=0,0,H16/J16))) -> 1.0347826 | O16: =IF(N16="","",N16*N16) -> 1.070775 | Q16: =IF(H16="","",H16*O16) -> 127.42223 | X16: אופקים | Y16: 20 | Z16: 266 | AA16: 0.0035 | AB16: 0.2531 | AC16: 20 | AD16: 223 | AE16: 0.0009 | AF16: =IF(L16="0",4,IF(L16>7.5,1,IF(L16>6,2,IF(L16>4.5,3,IF(L16>0,4))))) -> 1 | AG16: 6 בינואר 2021 | 17:01 | AH16: 0.3603 | AI16: 0.093 | AJ16: 0.5467 | AK16: 7934 | AL16: 1.108565 | AM16: 2859 | AN16: 14686 | AO16: 0.1762 | AP16: 0.063566667
A17: 14 | B17: מודיעין עילית | C17: 297 | D17: 0.0369 | E17: 2393 | F17: 11965 | G17: 0.2 | H17: 311 | I17: 2380 | J17: 309 | K17: 10.3 | L17: =IF(N17="","",IF(E17=0,"0",SUM($S$7)+LN(Q17)+SUM(G17*100)/$R$7)) -> 10.252696 | M17: 10.8 | N17: =IF(E17="","",IF(J17=0,E17*1,IF(E17=0,0,H17/J17))) -> 1.0064725 | O17: =IF(N17="","",N17*N17) -> 1.0129869 | Q17: =IF(H17="","",H17*O17) -> 315.03892 | X17: אשדוד | Y17: 325 | Z17: 1834 | AA17: 0.0245 | AB17: 0.1678 | AC17: 115 | AD17: 1051 | AE17: 0.0041 | AF17: =IF(L17="0",4,IF(L17>7.5,1,IF(L17>6,2,IF(L17>4.5,3,IF(L17>0,4))))) -> 1 | AG17: 5 בינואר 2021 | 21:37 | AH17: 0.3482 | AI17: 0.1042 | AJ17: 0.5476 | AK17: 7157 | AL17: 1.1223146 | AM17: 2492 | AN17: 12668 | AO17: 0.1735 | AP17: 0.062512654
A18: 15 | B18: עמנואל | C18: 6 | D18: 0.0007 | E18: 40 | F18: 154 | G18: 0.2597 | H18: 95 | I18: 12 | J18: 29 | K18: 12.2 | L18: =IF(N18="","",IF(E18=0,"0",SUM($S$7)+LN(Q18)+SUM(G18*100)/$R$7)) -> 12.173289 | M18: 9.1 | N18: =IF(E18="","",IF(J18=0,E18*1,IF(E18=0,0,H18/J18))) -> 3.2758621 | O18: =IF(N18="","",N18*N18) -> 10.731272 | Q18: =IF(H18="","",H18*O18) -> 1019.4709 | X18: בית שמש | Y18: 337 | Z18: 2369 | AA18: 0.0138 | AB18: 0.3564 | AC18: 137 | AD18: 1254 | AE18: 0.0049 | AF18: =IF(L18="0",4,IF(L18>7.5,1,IF(L18>6,2,IF(L18>4.5,3,IF(L18>0,4))))) -> 1 | AG18: 4 בינואר 2021 | 23:25 | AH18: 0.3343 | AI18: 0.133 | AJ18: 0.5327 | AK18: 6377 | AL18: 1.467664 | AM18: 2132 | AN18: 10526 | AO18: 0.165 | AP18: 0.061257099
A19: 16 | B19: ערד | C19: 20 | D19: 0.0025 | E19: 109 | F19: 1563 | G19: 0.0697 | H19: 40 | I19: 222 | J19: 82 | K19: 5.1 | L19: =IF(N19="","",IF(E19=0,"0",SUM($S$7)+LN(Q19)+SUM(G19*100)/$R$7)) -> 5.1244499 | M19: 6.3 | N19: =IF(E19="","",IF(J19=0,E19*1,IF(E19=0,0,H19/J19))) -> 0.48780488 | O19: =IF(N19="","",N19*N19) -> 0.2379536 | Q19: =IF(H19="","",H19*O19) -> 9.518144 | X19: בת ים | Y19: 99 | Z19: 754 | AA19: 0.0141 | AB19: 0.0549 | AC19: 22 | AD19: 198 | AE19: 0.0008 | AF19: =IF(L19="0",4,IF(L19>7.5,1,IF(L19>6,2,IF(L19>4.5,3,IF(L19>0,4))))) -> 3 | AG19: 3 בינואר 2021 | 20:55 | AH19: 0.1845 | AI19: 0.1213 | AJ19: 0.6942 | AK19: 4345 | AL19: 1.0566634 | AM19: 802 | AN19: 10044 | AO19: 0.1592 | AP19: 0.060345988
A20: 17 | B20: פתח תקווה | C20: 219 | D20: 0.0272 | E20: 1443 | F20: 20624 | G20: 0.07 | H20: 59 | I20: 1399 | J20: 57 | K20: 7 | L20: =IF(N20="","",IF(E20=0,"0",SUM($S$7)+LN(Q20)+SUM(G20*100)/$R$7)) -> 7.0215098 | M20: 7.2 | N20: =IF(E20="","",IF(J20=0,E20*1,IF(E20=0,0,H20/J20))) -> 1.0350877 | O20: =IF(N20="","",N20*N20) -> 1.0714066 | Q20: =IF(H20="","",H20*O20) -> 63.212989 | X20: גבעת זאב | Y20: 34 | Z20: 360 | AA20: 0.0021 | AB20: 0.2981 | AC20: 17 | AD20: 157 | AE20: 0.0006 | AF20: =IF(L20="0",4,IF(L20>7.5,1,IF(L20>6,2,IF(L20>4.5,3,IF(L20>0,4))))) -> 2 | AG20: 2 בינואר 2021 | 21:25 | AH20: 0.2318 | AI20: 0.1318 | AJ20: 0.6364 | AK20: 4112 | AL20: 0.94117647 | AM20: 953 | AN20: 9739 | AO20: 0.148 | AP20: 0.059235802
A21: 18 | B21: צפת | C21: 27 | D21: 0.0034 | E21: 341 | F21: 2277 | G21: 0.1498 | H21: 95 | I21: 390 | J21: 108 | K21: 8.2 | L21: =IF(N21="","",IF(E21=0,"0",SUM($S$7)+LN(Q21)+SUM(G21*100)/$R$7)) -> 8.1698682 | M21: 8.7 | N21: =IF(E21="","",IF(J21=0,E21*1,IF(E21=0,0,H21/J21))) -> 0.87962963 | O21: =IF(N21="","",N21*N21) -> 0.77374829 | Q21: =IF(H21="","",H21*O21) -> 73.506087 | X21: חיפה | Y21: 152 | Z21: 1871 | AA21: 0.0297 | AB21: 0.0385 | AC21: 32 | AD21: 292 | AE21: 0.0011 | AF21: =IF(L21="0",4,IF(L21>7.5,1,IF(L21>6,2,IF(L21>4.5,3,IF(L21>0,4))))) -> 1 | AG21: 1 בינואר 2021 | 15:03 | AH21: 0.2875 | AI21: 0.1245 | AJ21: 0.588 | AK21: 4369 | AL21: 0.90063904 | AM21: 1256 | AN21: 8927 | AO21: 0.1364 | AP21: 0.055673765
A22: 19 | B22: קרית גת | C22: 26 | D22: 0.0032 | E22: 520 | F22: 4735 | G22: 0.1098 | H22: 90 | I22: 341 | J22: 59 | K22: 8.7 | L22: =IF(N22="","",IF(E22=0,"0",SUM($S$7)+LN(Q22)+SUM(G22*100)/$R$7)) -> 8.7168541 | M22: 8 | N22: =IF(E22="","",IF(J22=0,E22*1,IF(E22=0,0,H22/J22))) -> 1.5254237 | O22: =IF(N22="","",N22*N22) -> 2.3269176 | Q22: =IF(H22="","",H22*O22) -> 209.42258 | X22: טבריה | Y22: 50 | Z22: 364 | AA22: 0.0049 | AB22: 0.1495 | AC22: 20 | AD22: 186 | AE22: 0.0007 | AF22: =IF(L22="0",4,IF(L22>7.5,1,IF(L22>6,2,IF(L22>4.5,3,IF(L22>0,4))))) -> 1 | AG22: 31 בדצמבר 2020 | 18:03 | AH22: 0.297 | AI22: 0.1447 | AJ22: 0.5583 | AK22: 4851 | AL22: 1.0977597 | AM22: 1441 | AN22: 8351 | AO22: 0.1322 | AP22: 0.055008333
A23: 20 | B23: קרית מלאכי | C23: 45 | D23: 0.0056 | E23: 245 | F23: 2041 | G23: 0.12 | H23: 100 | I23: 161 | J23: 66 | K23: 8.9 | L23: =IF(N23="","",IF(E23=0,"0",SUM($S$7)+LN(Q23)+SUM(G23*100)/$R$7)) -> 8.9362011 | M23: 8.5 | N23: =IF(E23="","",IF(J23=0,E23*1,IF(E23=0,0,H23/J23))) -> 1.5151515 | O23: =IF(N23="","",N23*N23) -> 2.2956841 | Q23: =IF(H23="","",H23*O23) -> 229.56841 | X23: ירושלים | Y23: 1708 | Z23: 15582 | AA23: 0.101 | AB23: 0.2577 | AC23: 728 | AD23: 6656 | AE23: 0.026 | AF23: =IF(L23="0",4,IF(L23>7.5,1,IF(L23>6,2,IF(L23>4.5,3,IF(L23>0,4))))) -> 1 | AG23: 30 בדצמבר 2020 | 17:59 | AH23: 0.1876 | AI23: 0.1224 | AJ23: 0.69 | AK23: 4419 | AL23: 0.85095321 | AM23: 829 | AN23: 7726 | AO23: 0.1194 | AP23: 0.052526852
A24: 21 | B24: רחובות | C24: 105 | D24: 0.013 | E24: 643 | F24: 9190 | G24: 0.07 | H24: 46 | I24: 619 | J24: 44 | K24: 6.8 | L24: =IF(N24="","",IF(E24=0,"0",SUM($S$7)+LN(Q24)+SUM(G24*100)/$R$7)) -> 6.7925449 | M24: 6.8 | N24: =IF(E24="","",IF(J24=0,E24*1,IF(E24=0,0,H24/J24))) -> 1.0454545 | O24: =IF(N24="","",N24*N24) -> 1.0929752 | Q24: =IF(H24="","",H24*O24) -> 50.27686 | X24: נתניה | Y24: 183 | Z24: 1366 | AA24: 0.0235 | AB24: 0.0896 | AC24: 59 | AD24: 539 | AE24: 0.0021 | AF24: =IF(L24="0",4,IF(L24>7.5,1,IF(L24>6,2,IF(L24>4.5,3,IF(L24>0,4))))) -> 2 | AG24: 29 בדצמבר 2020 | 21:41 | AH24: 0.2415 | AI24: 0.1585 | AJ24: 0.6 | AK24: 5193 | AL24: 1.4381058 | AM24: 1254 | AN24: 6549 | AO24: 0.1209 | AP24: 0.050955864
A25: 22 | B25: רכסים | C25: 39 | D25: 0.0048 | E25: 222 | F25: 1236 | G25: 0.1796 | H25: 179 | I25: 244 | J25: 197 | K25: 9.2 | L25: =IF(N25="","",IF(E25=0,"0",SUM($S$7)+LN(Q25)+SUM(G25*100)/$R$7)) -> 9.24075 | M25: 9.6 | N25: =IF(E25="","",IF(J25=0,E25*1,IF(E25=0,0,H25/J25))) -> 0.90862944 | O25: =IF(N25="","",N25*N25) -> 0.82560746 | Q25: =IF(H25="","",H25*O25) -> 147.78374 | X25: ערד | Y25: 20 | Z25: 205 | AA25: 0.0029 | AB25: 0.1507 | AC25: 12 | AD25: 113 | AE25: 0.0004 | AF25: =IF(L25="0",4,IF(L25>7.5,1,IF(L25>6,2,IF(L25>4.5,3,IF(L25>0,4))))) -> 1 | AG25: 28 בדצמבר 2020 | 22:41 | AH25: 0.2513 | AI25: 0.0906 | AJ25: 0.6581 | AK25: 3611 | AL25: 1.000277 | AM25: 907 | AN25: 5561 | AO25: 0.1111 | AP25: 0.04957716
A26: 23 | B26: רמת גן | C26: 77 | D26: 0.0096 | E26: 372 | F26: 9302 | G26: 0.04 | H26: 25 | I26: 552 | J26: 38 | K26: 4.9 | L26: =IF(N26="","",IF(E26=0,"0",SUM($S$7)+LN(Q26)+SUM(G26*100)/$R$7)) -> 4.8814552 | M26: 5.8 | N26: =IF(E26="","",IF(J26=0,E26*1,IF(E26=0,0,H26/J26))) -> 0.65789474 | O26: =IF(N26="","",N26*N26) -> 0.43282548 | Q26: =IF(H26="","",H26*O26) -> 10.820637 | X26: פתח תקווה | Y26: 219 | Z26: 2327 | AA26: 0.0266 | AB26: 0.0845 | AC26: 63 | AD26: 575 | AE26: 0.0023 | AF26: =IF(L26="0",4,IF(L26>7.5,1,IF(L26>6,2,IF(L26>4.5,3,IF(L26>0,4))))) -> 3 | AG26: 27 בדצמבר 2020 | 20:46 | AH26: 0.1291 | AI26: 0.2507 | AJ26: 0.6202 | AK26: 3610 | AL26: 0.87791829 | AM26: 466 | AN26: 5582 | AO26: 0.1096 | AP26: 0.048819444
A27: 24 | B27: תל אביב - יפו | C27: 204 | D27: 0.0253 | E27: 1200 | F27: 30008 | G27: 0.04 | H27: 26 | I27: 1342 | J27: 29 | K27: 5.5 | L27: =IF(N27="","",IF(E27=0,"0",SUM($S$7)+LN(Q27)+SUM(G27*100)/$R$7)) -> 5.539698 | M27: 5.9 | N27: =IF(E27="","",IF(J27=0,E27*1,IF(E27=0,0,H27/J27))) -> 0.89655172 | O27: =IF(N27="","",N27*N27) -> 0.80380499 | Q27: =IF(H27="","",H27*O27) -> 20.89893 | X27: צפת | Y27: 27 | Z27: 516 | AA27: 0.0039 | AB27: 0.2093 | AC27: 23 | AD27: 209 | AE27: 0.0008 | AF27: =IF(L27="0",4,IF(L27>7.5,1,IF(L27>6,2,IF(L27>4.5,3,IF(L27>0,4))))) -> 3 | AG27: 26 בדצמבר 2020 | 22:10 | AH27: 0.227 | AI27: 0.1364 | AJ27: 0.6366 | AK27: 4112 | AL27: 0.99805825 | AM27: 933 | AN27: 5433 | AO27: 0.1081 | AP27: 0.048335185
A28: 25 | B28: אבו ג'ווייעד (שבט) | C28: 0 | D28: 0 | E28: 8 | F28: 56 | G28: 0.1429 | H28: 18 | I28: 0 | J28: 0 | K28: 10.8 | L28: =IF(N28="","",IF(E28=0,"0",SUM($S$7)+LN(Q28)+SUM(G28*100)/$R$7)) -> 10.835505 | M28: 8.1 | N28: =IF(E28="","",IF(J28=0,E28*1,IF(E28=0,0,H28/J28))) -> 8 | O28: =IF(N28="","",N28*N28) -> 64 | Q28: =IF(H28="","",H28*O28) -> 1152 | X28: קרית גת | Y28: 26 | Z28: 734 | AA28: 0.0062 | AB28: 0.152 | AC28: 26 | AD28: 242 | AE28: 0.0009 | AF28: =IF(L28="0",4,IF(L28>7.5,1,IF(L28>6,2,IF(L28>4.5,3,IF(L28>0,4))))) -> 1 | AG28: 25 בדצמבר 2020 | 14:13 | AH28: 0.1757 | AI28: 0.1614 | AJ28: 0.6629 | AK28: 4120 | AL28: 2.4494649 | AM28: 724 | AN28: 4654 | AO28: 0.1151 | AP28: 0.047108025
A29: 26 | B29: אבו גוש | C29: 8 | D29: 0.001 | E29: 153 | F29: 810 | G29: 0.1889 | H29: 192 | I29: 126 | J29: 158 | K29: 10 | L29: =IF(N29="","",IF(E29=0,"0",SUM($S$7)+LN(Q29)+SUM(G29*100)/$R$7)) -> 10.008546 | M29: 9.6 | N29: =IF(E29="","",IF(J29=0,E29*1,IF(E29=0,0,H29/J29))) -> 1.2151899 | O29: =IF(N29="","",N29*N29) -> 1.4766864 | Q29: =IF(H29="","",H29*O29) -> 283.52379 | X29: ס"ה מעורב | Y29: 3200 | Z29: 28548 | AC29: 1273 | AD29: 11696 | AF29: =IF(L29="0",4,IF(L29>7.5,1,IF(L29>6,2,IF(L29>4.5,3,IF(L29>0,4))))) -> 1 | AG29: 24 בדצמבר 2020 | 22:27 | AH29: 0.1725 | AI29: 0.2551 | AJ29: 0.5724 | AK29: 1682 | AL29: 0.47180926 | AM29: 290 | AN29: 4051 | AO29: 0.1179 | AP29: 0.045901852
A30: 27 | B30: אבו סנאן | C30: 21 | D30: 0.0026 | E30: 70 | F30: 584 | G30: 0.1199 | H30: 53 | I30: 54 | J30: 41 | K30: 8 | L30: =IF(N30="","",IF(E30=0,"0",SUM($S$7)+LN(Q30)+SUM(G30*100)/$R$7)) -> 7.9824816 | M30: 6.9 | N30: =IF(E30="","",IF(J30=0,E30*1,IF(E30=0,0,H30/J30))) -> 1.2926829 | O30: =IF(N30="","",N30*N30) -> 1.6710291 | Q30: =IF(H30="","",H30*O30) -> 88.564545 | Y30: 0.3976 | Z30: 0.3774 | AA30: 0.2566 | AC30: 0.1582 | AD30: 0.1546 | AE30: 0.0457 | AF30: =IF(L30="0",4,IF(L30>7.5,1,IF(L30>6,2,IF(L30>4.5,3,IF(L30>0,4))))) -> 1 | AG30: 23 בדצמבר 2020 | 21:46 | AH30: 0.2832 | AI30: 0.1456 | AJ30: 0.5712 | AK30: 3565 | AL30: 0.90436327 | AM30: 1010 | AN30: 3793 | AO30: 0.1208 | AP30: 0.044939815
A31: 28 | B31: אבו קורינאת (שבט) | C31: 0 | D31: 0 | E31: 3 | F31: 20 | G31: 0.15 | H31: 5 | I31: 0 | J31: 0 | K31: 7.6 | L31: =IF(N31="","",IF(E31=0,"0",SUM($S$7)+LN(Q31)+SUM(G31*100)/$R$7)) -> 7.6816625 | M31: 4.2 | N31: =IF(E31="","",IF(J31=0,E31*1,IF(E31=0,0,H31/J31))) -> 3 | O31: =IF(N31="","",N31*N31) -> 9 | Q31: =IF(H31="","",H31*O31) -> 45 | X31: ס"ה ישובים ערבים מובהקים | Y31: 709 | Z31: 7184 | AF31: =IF(L31="0",4,IF(L31>7.5,1,IF(L31>6,2,IF(L31>4.5,3,IF(L31>0,4))))) -> 1 | AG31: 22 בדצמבר 2020 | 21:45 | AH31: 0.2027 | AI31: 0.1771 | AJ31: 0.6202 | AK31: 3942 | AL31: 1.7319859 | AM31: 799 | AN31: 2810 | AO31: 0.1104 | AP31: 0.042774383
A32: 29 | B32: אבו רובייעה (שבט) | C32: 0 | D32: 0 | E32: 0 | F32: 0 | G32: 0 | H32: 0 | I32: 0 | J32: 0 | K32: 0 | L32: =IF(N32="","",IF(E32=0,"0",SUM($S$7)+LN(Q32)+SUM(G32*100)/$R$7)) -> 0 | M32: 2.7 | N32: =IF(E32="","",IF(J32=0,E32*1,IF(E32=0,0,H32/J32))) -> 0 | O32: =IF(N32="","",N32*N32) -> 0 | Q32: =IF(H32="","",H32*O32) -> 0 | X32: 8048 | Y32: 0.0881 | Z32: 0.095 | AA32: 0.1081 | AF32: =IF(L32="0",4,IF(L32>7.5,1,IF(L32>6,2,IF(L32>4.5,3,IF(L32>0,4))))) -> 4 | AG32: 21 בדצמבר 2020 | 17:43 | AH32: 0.1012 | AI32: 0.1661 | AJ32: 0.7327 | AK32: 2276 | AL32: 1.5685734 | AM32: 230 | AN32: 2029 | AO32: 0.0949 | AP32: 0.03955463
A33: 30 | B33: אבו רוקייק (שבט) | C33: 0 | D33: 0 | E33: 0 | F33: 49 | G33: 0 | H33: 0 | I33: 0 | J33: 0 | K33: 0 | L33: =IF(N33="","",IF(E33=0,"0",SUM($S$7)+LN(Q33)+SUM(G33*100)/$R$7)) -> 0 | M33: 0 | N33: =IF(E33="","",IF(J33=0,E33*1,IF(E33=0,0,H33/J33))) -> 0 | O33: =IF(N33="","",N33*N33) -> 0 | Q33: =IF(H33="","",H33*O33) -> 0 | AF33: =IF(L33="0",4,IF(L33>7.5,1,IF(L33>6,2,IF(L33>4.5,3,IF(L33>0,4))))) -> 4 | AG33: 20 בדצמבר 2020 | 21:03 | AH33: 0.0769 | AI33: 0.3494 | AJ33: 0.5737 | AK33: 1451 | AL33: 0.72369077 | AM33: 112 | AN33: 2051 | AO33: 0.0962 | AP33: 0.039145679
A34: 31 | B34: אבו תלול | C34: 0 | D34: 0 | E34: 0 | F34: 0 | G34: 0 | H34: 0 | I34: 0 | J34: 0 | K34: 0 | L34: =IF(N34="","",IF(E34=0,"0",SUM($S$7)+LN(Q34)+SUM(G34*100)/$R$7)) -> 0 | M34: 5.9 | N34: =IF(E34="","",IF(J34=0,E34*1,IF(E34=0,0,H34/J34))) -> 0 | O34: =IF(N34="","",N34*N34) -> 0 | Q34: =IF(H34="","",H34*O34) -> 0 | AF34: =IF(L34="0",4,IF(L34>7.5,1,IF(L34>6,2,IF(L34>4.5,3,IF(L34>0,4))))) -> 4 | AG34: 19 בדצמבר 2020 | 21:42 | AH34: 0.148 | AI34: 0.2519 | AJ34: 0.6001 | AK34: 2005 | AL34: 0.90152878 | AM34: 297 | AN34: 2051 | AO34: 0.0962 | AP34: 0.039145679
A35: 32 | B35: אבטין | C35: 3 | D35: 0.0004 | E35: 16 | F35: 104 | G35: 0.1538 | H35: 57 | I35: 11 | J35: 39 | K35: 8.7 | L35: =IF(N35="","",IF(E35=0,"0",SUM($S$7)+LN(Q35)+SUM(G35*100)/$R$7)) -> 8.7245305 | M35: 6.5 | N35: =IF(E35="","",IF(J35=0,E35*1,IF(E35=0,0,H35/J35))) -> 1.4615385 | O35: =IF(N35="","",N35*N35) -> 2.1360947 | Q35: =IF(H35="","",H35*O35) -> 121.7574 | AF35: =IF(L35="0",4,IF(L35>7.5,1,IF(L35>6,2,IF(L35>4.5,3,IF(L35>0,4))))) -> 1 | AG35: 18 בדצמבר 2020 | 12:20 | AH35: 0.1902 | AI35: 0.2028 | AJ35: 0.607 | AK35: 2224 | AL35: 0.88782435 | AM35: 423 | AN35: 1555 | AO35: 0.0804 | AP35: 0.037303704
A36: 33 | B36: אבן יהודה | C36: 7 | D36: 0.0009 | E36: 33 | F36: 1109 | G36: 0.0298 | H36: 25 | I36: 31 | J36: 23 | K36: 5.7 | L36: =IF(N36="","",IF(E36=0,"0",SUM($S$7)+LN(Q36)+SUM(G36*100)/$R$7)) -> 5.758139 | M36: 5.6 | N36: =IF(E36="","",IF(J36=0,E36*1,IF(E36=0,0,H36/J36))) -> 1.0869565 | O36: =IF(N36="","",N36*N36) -> 1.1814745 | Q36: =IF(H36="","",H36*O36) -> 29.536862 | AF36: =IF(L36="0",4,IF(L36>7.5,1,IF(L36>6,2,IF(L36>4.5,3,IF(L36>0,4))))) -> 3 | AG36: 17 בדצמבר 2020 | 21:49 | AH36: 0.1224 | AI36: 0.2491 | AJ36: 0.6285 | AK36: 2505 | AL36: 0.99920223 | AM36: 306 | AN36: 1335 | AO36: 0.0548 | AP36: 0.036269444
A37: 34 | B37: אום אל-פחם | C37: -47 | D37: -0.0058 | E37: 189 | F37: 1582 | G37: 0.1195 | H37: 34 | I37: 277 | J37: 49 | K37: 6.2 | L37: =IF(N37="","",IF(E37=0,"0",SUM($S$7)+LN(Q37)+SUM(G37*100)/$R$7)) -> 6.289191 | M37: 7.8 | N37: =IF(E37="","",IF(J37=0,E37*1,IF(E37=0,0,H37/J37))) -> 0.69387755 | O37: =IF(N37="","",N37*N37) -> 0.48146606 | Q37: =IF(H37="","",H37*O37) -> 16.369846 | AF37: =IF(L37="0",4,IF(L37>7.5,1,IF(L37>6,2,IF(L37>4.5,3,IF(L37>0,4))))) -> 2 | AG37: 16 בדצמבר 2020 | 22:11 | AH37: 0.0811 | AI37: 0.2238 | AJ37: 0.6951 | AK37: 2507 | AL37: 1.3989955 | AM37: 203 | AN37: 1078 | AO37: 0.0432 | AP37: 0.034680247
A38: 35 | B38: אום בטין | C38: 0 | D38: 0 | E38: 0 | F38: 7 | G38: 0 | H38: 0 | I38: 0 | J38: 0 | K38: 0 | L38: =IF(N38="","",IF(E38=0,"0",SUM($S$7)+LN(Q38)+SUM(G38*100)/$R$7)) -> 0 | M38: 0 | N38: =IF(E38="","",IF(J38=0,E38*1,IF(E38=0,0,H38/J38))) -> 0 | O38: =IF(N38="","",N38*N38) -> 0 | Q38: =IF(H38="","",H38*O38) -> 0 | AF38: =IF(L38="0",4,IF(L38>7.5,1,IF(L38>6,2,IF(L38>4.5,3,IF(L38>0,4))))) -> 4 | AG38: 15 בדצמבר 2020 | 10:33 | AH38: 0.088 | AI38: 0.1964 | AJ38: 0.7156 | AK38: 1792 | AL38: 1.0854028 | AM38: 158 | AN38: 926 | AO38: 0.0349 | AP38: 0.031870988
A39: 36 | B39: אופקים | C39: 20 | D39: 0.0025 | E39: 220 | F39: 2454 | G39: 0.0896 | H39: 69 | I39: 131 | J39: 41 | K39: 8.4 | L39: =IF(N39="","",IF(E39=0,"0",SUM($S$7)+LN(Q39)+SUM(G39*100)/$R$7)) -> 8.3951754 | M39: 7.4 | N39: =IF(E39="","",IF(J39=0,E39*1,IF(E39=0,0,H39/J39))) -> 1.6829268 | O39: =IF(N39="","",N39*N39) -> 2.8322427 | Q39: =IF(H39="","",H39*O39) -> 195.42475 | AF39: =IF(L39="0",4,IF(L39>7.5,1,IF(L39>6,2,IF(L39>4.5,3,IF(L39>0,4))))) -> 1 | AG39: 14 בדצמבר 2020 | 21:50 | AH39: 0.0775 | AI39: 0.3265 | AJ39: 0.596 | AK39: 1651 | AL39: 1.8446927 | AM39: 128 | AN39: 742 | AO39: 0.0356 | AP39: 0.032078395
A40: 37 | B40: אור יהודה | C40: 20 | D40: 0.0025 | E40: 173 | F40: 2168 | G40: 0.0798 | H40: 50 | I40: 144 | J40: 41 | K40: 7.3 | L40: =IF(N40="","",IF(E40=0,"0",SUM($S$7)+LN(Q40)+SUM(G40*100)/$R$7)) -> 7.3064249 | M40: 6.6 | N40: =IF(E40="","",IF(J40=0,E40*1,IF(E40=0,0,H40/J40))) -> 1.2195122 | O40: =IF(N40="","",N40*N40) -> 1.48721 | Q40: =IF(H40="","",H40*O40) -> 74.3605 | AF40: =IF(L40="0",4,IF(L40>7.5,1,IF(L40>6,2,IF(L40>4.5,3,IF(L40>0,4))))) -> 2 | AG40: 13 בדצמבר 2020 | 21:55 | AH40: 0.013 | AI40: 0.4134 | AJ40: 0.5736 | AK40: 895 | AL40: 0.81068841 | AM40: 12 | AN40: 1.39 | AO40: 0.0355 | AP40: 0.034813272
...

Sheet הערים בישראל
D1: שימו לב! בגליון זה חישבנו לפי המאגר העירוני בלבד, ולא לפי המאגר השכונתי. הבדיקות עברו לפי כמות בדיקות ראשונות לזיהוי
D2: מעודכן לפי המאגר מתאריך | I2: 44212 | K2: עדכון קודם בתאריך | O2: 44178 | Q2: פער נפטרים מעדכון הקודם | R2: מס' מאומתים יומיים שלופים מהמאגר בימי העדכון | AB2: מאומתיים יומיים מעדכון קודם | AC2: מאומתיים יומיים מעדכון 2 קודם | AD2: מאושפזים חדשים | AE2: מתחסנים חדשים | AI2: הבדיקות במצטבר: הן לפי הנבדקים בלבד. כלומר אם נבדק בדק את עצמו פעמיים, כאן יופיע רק פעם אחת
D3: מס' נפשות | E3: מתחסנים | G3: חולים פעילים | I3: מאושפזים במצטבר | K3: נפטרים | M3: בדיקות מצטבר | O3: מאומתים במצטבר | R3: 44204 | S3: 44205 | T3: 44206 | U3: 44207 | V3: 44208 | W3: 44209 | X3: 44210 | Y3: 44211 | Z3: 44212 | AA3: ס"ה
D4: 9222338 | E4: 1482577 | F4: =E4/D4 -> 0.16075934 | G4: 71918 | H4: =G4/D4 -> 0.0077982394 | I4: 28758 | K4: 3720 | M4: 8662272 | O4: 514410 | P4: =O4/D4 -> 0.055778697 | Q4: 215 | R4: 7600 | S4: 4827 | T4: 6484 | U4: 9114 | V4: 8663 | W4: 8920 | X4: 8594 | Y4: 7814 | Z4: 4525 | AA4: =SUM(R4:X4) -> 54202 | AB4: 48183 | AC4: 43047 | AD4: 2174 | AE4: 141988
A5: ערבי | B5: 1 | C5: אבו גוש | D5: 7964 | E5: 1067 | F5: =E5/D5 -> 0.1339779 | G5: 188 | H5: =IF(G5=0,0,G5/$D5) -> 0.023606228 | I5: 61 | J5: =IF(I5=0,0,I5/$D5) -> 0.0076594676 | K5: 2 | L5: =IF(K5=0,0,K5/$D5) -> 0.00025113009 | M5: 10055 | O5: 742 | P5: =IF(O5=0,0,O5/D5) -> 0.093169262 | Q5: 0 | R5: 15 | S5: 44 | T5: 25 | U5: 16 | V5: 12 | W5: 20 | X5: 30 | Y5: 10 | Z5: 50 | AA5: =SUM(R5:X5) -> 162 | AB5: 115 | AC5: 67 | AD5: 7 | AE5: 187
A6: ערבי | B6: 2 | C6: אבו סנאן | D6: 13317 | E6: 1112 | F6: =E6/D6 -> 0.08350229 | G6: 108 | H6: =IF(G6=0,0,G6/$D6) -> 0.0081099347 | I6: 95 | J6: =IF(I6=0,0,I6/$D6) -> 0.0071337388 | K6: 11 | L6: =IF(K6=0,0,K6/$D6) -> 0.00082601186 | M6: 11909 | O6: 896 | P6: =IF(O6=0,0,O6/D6) -> 0.067282421 | Q6: 0 | R6: 11 | S6: 10 | T6: 6 | U6: 13 | V6: 13 | W6: 5 | X6: 9 | Y6: 14 | Z6: 4 | AA6: =SUM(R6:X6) -> 67 | AB6: 46 | AC6: 53 | AD6: 3 | AE6: 106
A7: ערבי | B7: 3 | C7: אבטין | D7: 2819 | E7: 314 | F7: =E7/D7 -> 0.11138702 | G7: 26 | H7: =IF(G7=0,0,G7/$D7) -> 0.0092231288 | I7: 8 | J7: =IF(I7=0,0,I7/$D7) -> 0.0028378858 | K7: 0 | L7: =IF(K7=0,0,K7/$D7) -> 0 | M7: 1784 | O7: 140 | P7: =IF(O7=0,0,O7/D7) -> 0.049663001 | Q7: 0 | R7: 2 | S7: 1 | T7: 1 | U7: 4 | V7: 5 | W7: 1 | X7: 4 | Y7: 1 | Z7: 2 | AA7: =SUM(R7:X7) -> 18 | AB7: 8 | AC7: 6 | AD7: 0 | AE7: 51
A8: כללי | B8: 4 | C8: אבן יהודה | D8: 13310 | E8: 3498 | F8: =E8/D8 -> 0.26280992 | G8: 55 | H8: =IF(G8=0,0,G8/$D8) -> 0.0041322314 | I8: 39 | J8: =IF(I8=0,0,I8/$D8) -> 0.0029301277 | K8: 7 | L8: =IF(K8=0,0,K8/$D8) -> 0.00052592036 | M8: 16424 | O8: 398 | P8: =IF(O8=0,0,O8/D8) -> 0.029902329 | Q8: 0 | R8: 5 | S8: 7 | T8: 3 | U8: 6 | V8: 6 | W8: 5 | X8: 7 | Y8: 5 | Z8: 4 | AA8: =SUM(R8:X8) -> 39 | AB8: 32 | AC8: 30 | AD8: -2 | AE8: 435 | AG8: ה מ ב ט ב י ח ס ל כ ל ל ה מ א ו מ ת י ם
A9: ערבי | B9: 5 | C9: אום אל-פחם | D9: 56190 | E9: 5287 | F9: =E9/D9 -> 0.094091475 | G9: 421 | H9: =IF(G9=0,0,G9/$D9) -> 0.0074924364 | I9: 239 | J9: =IF(I9=0,0,I9/$D9) -> 0.0042534259 | K9: 51 | L9: =IF(K9=0,0,K9/$D9) -> 0.00090763481 | M9: 39694 | O9: 4348 | P9: =IF(O9=0,0,O9/D9) -> 0.077380317 | Q9: 1 | R9: 38 | S9: 31 | T9: 92 | U9: 36 | V9: 51 | W9: 40 | X9: 21 | Y9: 16 | Z9: 22 | AA9: =SUM(R9:X9) -> 309 | AB9: 291 | AC9: 175 | AD9: 10 | AE9: 461 | AG9: ס"ה חולים פעילים | AJ9: ס"ה חולים מאושפזים | AL9: ס"ה נפטרים | AN9: ס"ה בדיקות | AP9: ס"ה מאומתים מההתחלה
A10: ערבי | B10: 6 | C10: אום בטין | D10: 4022 | E10: 19 | F10: =E10/D10 -> 0.0047240179 | G10: 0 | H10: =IF(G10=0,0,G10/$D10) -> 0 | I10: 0 | J10: =IF(I10=0,0,I10/$D10) -> 0 | K10: 0 | L10: =IF(K10=0,0,K10/$D10) -> 0 | M10: 405 | O10: 0 | P10: =IF(O10=0,0,O10/D10) -> 0 | Q10: 0 | R10: 0 | S10: 0 | T10: 0 | U10: 0 | V10: 0 | W10: 0 | X10: 0 | Y10: 0 | Z10: 0 | AA10: =SUM(R10:X10) -> 0 | AB10: 0 | AC10: 0 | AD10: 0 | AE10: 19 | AG10: מעורב | AH10: =SUMIF(A:A,AG10,G:G) -> 27855 | AI10: =AH10/$O$4 -> 0.054149414 | AJ10: =SUMIF(A:A,AG10,I:I) -> 10410 | AK10: =AJ10/$O$4 -> 0.020236776 | AL10: =SUMIF(A:A,AG10,K:K) -> 1207 | AM10: =AL10/$O$4 -> 0.0023463774 | AN10: =SUMIF(A:A,AG10,M:M) -> 2699408 | AO10: =AN10/$O$4 -> 5.2475807 | AP10: =SUMIF(A:A,AG10,O:O) -> 187400 | AQ10: =AP10/$O$4 -> 0.36430085
A11: מעורב | B11: 7 | C11: אופקים | D11: 31835 | E11: 4671 | F11: =E11/D11 -> 0.1467253 | G11: 210 | H11: =IF(G11=0,0,G11/$D11) -> 0.0065965133 | I11: 39 | J11: =IF(I11=0,0,I11/$D11) -> 0.0012250667 | K11: 2 | L11: =IF(K11=0,0,K11/$D11) -> 6.2823936e-05 | M11: 37811 | O11: 2222 | P11: =IF(O11=0,0,O11/D11) -> 0.069797393 | Q11: 0 | R11: 18 | S11: 3 | T11: 23 | U11: 35 | V11: 56 | W11: 25 | X11: 29 | Y11: 60 | Z11: 9 | AA11: =SUM(R11:X11) -> 189 | AB11: 123 | AC11: 125 | AD11: 2 | AE11: 331 | AG11: כללי | AH11: =SUMIF(A:A,AG11,G:G) -> 23202 | AI11: =AH11/$O$4 -> 0.0451041 | AJ11: =SUMIF(A:A,AG11,I:I) -> 10726 | AK11: =AJ11/$O$4 -> 0.020851072 | AL11: =SUMIF(A:A,AG11,K:K) -> 1622 | AM11: =AL11/$O$4 -> 0.0031531269 | AN11: =SUMIF(A:A,AG11,M:M) -> 4361783 | AO11: =AN11/$O$4 -> 8.4791956 | AP11: =SUMIF(A:A,AG11,O:O) -> 171808 | AQ11: =AP11/$O$4 -> 0.3339904
A12: מעורב | B12: 8 | C12: אור יהודה | D12: 34763 | E12: 6772 | F12: =E12/D12 -> 0.19480482 | G12: 235 | H12: =IF(G12=0,0,G12/$D12) -> 0.006760061 | I12: 200 | J12: =IF(I12=0,0,I12/$D12) -> 0.0057532434 | K12: 20 | L12: =IF(K12=0,0,K12/$D12) -> 0.00057532434 | M12: 39934 | O12: 2558 | P12: =IF(O12=0,0,O12/D12) -> 0.073583983 | Q12: 0 | R12: 13 | S12: 26 | T12: 19 | U12: 19 | V12: 36 | W12: 27 | X12: 36 | Y12: 39 | Z12: 12 | AA12: =SUM(R12:X12) -> 176 | AB12: 151 | AC12: 141 | AD12: 5 | AE12: 1081 | AG12: ערבי | AH12: =SUMIF(A:A,AG12,G:G) -> 8458 | AI12: =AH12/$O$4 -> 0.016442138 | AJ12: =SUMIF(A:A,AG12,I:I) -> 4898 | AK12: =AJ12/$O$4 -> 0.0095215878 | AL12: =SUMIF(A:A,AG12,K:K) -> 666 | AM12: =AL12/$O$4 -> 0.0012946871 | AN12: =SUMIF(A:A,AG12,M:M) -> 972225 | AO12: =AN12/$O$4 -> 1.8899808 | AP12: =SUMIF(A:A,AG12,O:O) -> 76226 | AQ12: =AP12/$O$4 -> 0.14818141
A13: כללי | B13: 9 | C13: אור עקיבא | D13: 19560 | E13: 3328 | F13: =E13/D13 -> 0.17014315 | G13: 146 | H13: =IF(G13=0,0,G13/$D13) -> 0.0074642127 | I13: 37 | J13: =IF(I13=0,0,I13/$D13) -> 0.0018916155 | K13: 10 | L13: =IF(K13=0,0,K13/$D13) -> 0.00051124744 | M13: 19688 | O13: 1031 | P13: =IF(O13=0,0,O13/D13) -> 0.052709611 | Q13: 0 | R13: 13 | S13: 15 | T13: 13 | U13: 22 | V13: 17 | W13: 22 | X13: 15 | Y13: 30 | Z13: 11 | AA13: =SUM(R13:X13) -> 117 | AB13: 102 | AC13: 70 | AD13: 3 | AE13: 123 | AG13: חרדי | AH13: =SUMIF(A:A,AG13,G:G) -> 11993 | AI13: =AH13/$O$4 -> 0.023314088 | AJ13: =SUMIF(A:A,AG13,I:I) -> 2600 | AK13: =AJ13/$O$4 -> 0.0050543341 | AL13: =SUMIF(A:A,AG13,K:K) -> 202 | AM13: =AL13/$O$4 -> 0.00039268288 | AN13: =SUMIF(A:A,AG13,M:M) -> 553197 | AO13: =AN13/$O$4 -> 1.0754009 | AP13: =SUMIF(A:A,AG13,O:O) -> 76141 | AQ13: =AP13/$O$4 -> 0.14801617
A14: כללי | B14: 10 | C14: אורנית | D14: 8972 | E14: 2056 | F14: =E14/D14 -> 0.22915738 | G14: 15 | H14: =IF(G14=0,0,G14/$D14) -> 0.001671868 | I14: 2 | J14: =IF(I14=0,0,I14/$D14) -> 0.00022291574 | K14: 1 | L14: =IF(K14=0,0,K14/$D14) -> 0.00011145787 | M14: 9217 | O14: 226 | P14: =IF(O14=0,0,O14/D14) -> 0.025189478 | Q14: 0 | R14: 0 | S14: 1 | T14: 1 | U14: 0 | V14: 1 | W14: 0 | X14: 1 | Y14: 0 | Z14: 0 | AA14: =SUM(R14:X14) -> 4 | AB14: 18 | AC14: 24 | AD14: 0 | AE14: 312
A15: כללי | B15: 11 | C15: אזור | D15: 11965 | E15: 2482 | F15: =E15/D15 -> 0.20743836 | G15: 79 | H15: =IF(G15=0,0,G15/$D15) -> 0.0066025909 | I15: 24 | J15: =IF(I15=0,0,I15/$D15) -> 0.0020058504 | K15: 3 | L15: =IF(K15=0,0,K15/$D15) -> 0.0002507313 | M15: 13786 | O15: 689 | P15: =IF(O15=0,0,O15/D15) -> 0.057584622 | Q15: 0 | R15: 11 | S15: 3 | T15: 8 | U15: 6 | V15: 14 | W15: 2 | X15: 18 | Y15: 7 | Z15: 6 | AA15: =SUM(R15:X15) -> 62 | AB15: 44 | AC15: 30 | AD15: 1 | AE15: 348
A16: כללי | B16: 12 | C16: אחוזת ברק | D16: 2361 | E16: 727 | F16: =E16/D16 -> 0.30792037 | G16: 20 | H16: =IF(G16=0,0,G16/$D16) -> 0.0084709869 | I16: 3 | J16: =IF(I16=0,0,I16/$D16) -> 0.001270648 | K16: 1 | L16: =IF(K16=0,0,K16/$D16) -> 0.00042354934 | M16: 2591 | O16: 100 | P16: =IF(O16=0,0,O16/D16) -> 0.042354934 | Q16: 0 | R16: 4 | S16: 0 | T16: 3 | U16: 1 | V16: 1 | W16: 0 | X16: 1 | Y16: 0 | Z16: 0 | AA16: =SUM(R16:X16) -> 10 | AB16: 21 | AC16: 22 | AD16: 0 | AE16: 82 | AG16: ה מ ב ט ב י ח ס ל כ ל ל ה א ו כ ל ו ס י ה
A17: כללי | B17: 13 | C17: אילת | D17: 56564 | E17: 11535 | F17: =E17/D17 -> 0.20392829 | G17: 96 | H17: =IF(G17=0,0,G17/$D17) -> 0.0016971926 | I17: 35 | J17: =IF(I17=0,0,I17/$D17) -> 0.00061876812 | K17: 4 | L17: =IF(K17=0,0,K17/$D17) -> 7.0716357e-05 | M17: 92893 | O17: 1272 | P17: =IF(O17=0,0,O17/D17) -> 0.022487801 | Q17: 0 | R17: 15 | S17: 11 | T17: 8 | U17: 13 | V17: 11 | W17: 6 | X17: 7 | Y17: 6 | Z17: 6 | AA17: =SUM(R17:X17) -> 71 | AB17: 102 | AC17: 92 | AD17: 2 | AE17: 1064 | AG17: ס"ה חולים פעילים | AJ17: ס"ה חולים מאושפזים | AL17: ס"ה נפטרים | AN17: ס"ה בדיקות | AP17: ס"ה מאומתים מההתחלה
A18: ערבי | B18: 14 | C18: אכסאל | D18: 14909 | E18: 1773 | F18: =E18/D18 -> 0.11892146 | G18: 91 | H18: =IF(G18=0,0,G18/$D18) -> 0.0061036958 | I18: 67 | J18: =IF(I18=0,0,I18/$D18) -> 0.0044939298 | K18: 5 | L18: =IF(K18=0,0,K18/$D18) -> 0.0003353679 | M18: 13307 | O18: 1088 | P18: =IF(O18=0,0,O18/D18) -> 0.072976055 | Q18: 0 | R18: 12 | S18: 7 | T18: 4 | U18: 18 | V18: 5 | W18: 14 | X18: 9 | Y18: 6 | Z18: 8 | AA18: =SUM(R18:X18) -> 69 | AB18: 54 | AC18: 56 | AD18: 4 | AE18: 41 | AG18: מעורב | AH18: =SUMIF(A:A,AG18,G:G) -> 27855 | AI18: =AH18/$D$4 -> 0.0030203838 | AJ18: =SUMIF(A:A,AG18,I:I) -> 10410 | AK18: =AJ18/$D$4 -> 0.001128781 | AL18: =SUMIF(A:A,AG18,K:K) -> 1207 | AM18: =AL18/$D$4 -> 0.00013087788 | AN18: =SUMIF(A:A,AG18,M:M) -> 2699408 | AO18: =AN18/$D$4 -> 0.29270322 | AP18: =SUMIF(A:A,AG18,O:O) -> 187400 | AQ18: =AP18/$D$4 -> 0.020320227
A19: ערבי | B19: 15 | C19: אל סייד | D19: 3304 | E19: 0 | F19: =E19/D19 -> 0 | G19: 0 | H19: =IF(G19=0,0,G19/$D19) -> 0 | I19: 3 | J19: =IF(I19=0,0,I19/$D19) -> 0.00090799031 | K19: 0 | L19: =IF(K19=0,0,K19/$D19) -> 0 | M19: 444 | O19: 0 | P19: =IF(O19=0,0,O19/D19) -> 0 | Q19: 0 | R19: 0 | S19: 0 | T19: 0 | U19: 0 | V19: 0 | W19: 0 | X19: 0 | Y19: 0 | Z19: 0 | AA19: =SUM(R19:X19) -> 0 | AB19: 0 | AC19: 0 | AD19: 1 | AE19: 0 | AG19: כללי | AH19: =SUMIF(A:A,AG19,G:G) -> 23202 | AI19: =AH19/$D$4 -> 0.0025158479 | AJ19: =SUMIF(A:A,AG19,I:I) -> 10726 | AK19: =AJ19/$D$4 -> 0.0011630456 | AL19: =SUMIF(A:A,AG19,K:K) -> 1622 | AM19: =AL19/$D$4 -> 0.00017587731 | AN19: =SUMIF(A:A,AG19,M:M) -> 4361783 | AO19: =AN19/$D$4 -> 0.47295848 | AP19: =SUMIF(A:A,AG19,O:O) -> 171808 | AQ19: =AP19/$D$4 -> 0.018629549
A20: כללי | B20: 16 | C20: אלון שבות | D20: 3222 | E20: 865 | F20: =E20/D20 -> 0.26846679 | G20: 39 | H20: =IF(G20=0,0,G20/$D20) -> 0.012104283 | I20: 4 | J20: =IF(I20=0,0,I20/$D20) -> 0.0012414649 | K20: 1 | L20: =IF(K20=0,0,K20/$D20) -> 0.00031036623 | M20: 7222 | O20: 168 | P20: =IF(O20=0,0,O20/D20) -> 0.052141527 | Q20: 0 | R20: 7 | S20: 2 | T20: 0 | U20: 3 | V20: 8 | W20: 11 | X20: 2 | Y20: 5 | Z20: 6 | AA20: =SUM(R20:X20) -> 33 | AB20: 18 | AC20: 9 | AD20: 0 | AE20: 112 | AG20: ערבי | AH20: =SUMIF(A:A,AG20,G:G) -> 8458 | AI20: =AH20/$D$4 -> 0.00091712102 | AJ20: =SUMIF(A:A,AG20,I:I) -> 4898 | AK20: =AJ20/$D$4 -> 0.00053110177 | AL20: =SUMIF(A:A,AG20,K:K) -> 666 | AM20: =AL20/$D$4 -> 7.2215961e-05 | AN20: =SUMIF(A:A,AG20,M:M) -> 972225 | AO20: =AN20/$D$4 -> 0.10542066 | AP20: =SUMIF(A:A,AG20,O:O) -> 76226 | AQ20: =AP20/$D$4 -> 0.0082653661
A21: כללי | B21: 17 | C21: אליכין | D21: 3440 | E21: 704 | F21: =E21/D21 -> 0.20465116 | G21: 14 | H21: =IF(G21=0,0,G21/$D21) -> 0.0040697674 | I21: 5 | J21: =IF(I21=0,0,I21/$D21) -> 0.0014534884 | K21: 1 | L21: =IF(K21=0,0,K21/$D21) -> 0.00029069767 | M21: 3306 | O21: 130 | P21: =IF(O21=0,0,O21/D21) -> 0.037790698 | Q21: 0 | R21: 3 | S21: 0 | T21: 1 | U21: 1 | V21: 2 | W21: 0 | X21: 2 | Y21: 1 | Z21: 2 | AA21: =SUM(R21:X21) -> 9 | AB21: 11 | AC21: 11 | AD21: 0 | AE21: 83 | AG21: חרדי | AH21: =SUMIF(A:A,AG21,G:G) -> 11993 | AI21: =AH21/$D$4 -> 0.0013004295 | AJ21: =SUMIF(A:A,AG21,I:I) -> 2600 | AK21: =AJ21/$D$4 -> 0.00028192417 | AL21: =SUMIF(A:A,AG21,K:K) -> 202 | AM21: =AL21/$D$4 -> 2.1903339e-05 | AN21: =SUMIF(A:A,AG21,M:M) -> 553197 | AO21: =AN21/$D$4 -> 0.059984464 | AP21: =SUMIF(A:A,AG21,O:O) -> 76141 | AQ21: =AP21/$D$4 -> 0.0082561494
A22: חרדי | B22: 18 | C22: אלעד | D22: 47548 | E22: 1879 | F22: =E22/D22 -> 0.039517961 | G22: 1411 | H22: =IF(G22=0,0,G22/$D22) -> 0.029675276 | I22: 235 | J22: =IF(I22=0,0,I22/$D22) -> 0.004942374 | K22: 4 | L22: =IF(K22=0,0,K22/$D22) -> 8.4125515e-05 | M22: 51664 | O22: 8347 | P22: =IF(O22=0,0,O22/D22) -> 0.17554892 | Q22: 0 | R22: 122 | S22: 82 | T22: 160 | U22: 211 | V22: 159 | W22: 203 | X22: 176 | Y22: 140 | Z22: 54 | AA22: =SUM(R22:X22) -> 1113 | AB22: 959 | AC22: 760 | AD22: 5 | AE22: 241
A23: כללי | B23: 19 | C23: אלעזר | D23: 2466 | E23: 531 | F23: =E23/D23 -> 0.21532847 | G23: 20 | H23: =IF(G23=0,0,G23/$D23) -> 0.0081103001 | I23: 2 | J23: =IF(I23=0,0,I23/$D23) -> 0.00081103001 | K23: 1 | L23: =IF(K23=0,0,K23/$D23) -> 0.000405515 | M23: 4684 | O23: 111 | P23: =IF(O23=0,0,O23/D23) -> 0.045012165 | Q23: 0 | R23: 1 | S23: 1 | T23: 1 | U23: 3 | V23: 2 | W23: 2 | X23: 3 | Y23: 3 | Z23: 0 | AA23: =SUM(R23:X23) -> 13 | AB23: 17 | AC23: 17 | AD23: 1 | AE23: 83
A24: כללי | B24: 20 | C24: אלפי מנשה | D24: 7836 | E24: 1751 | F24: =E24/D24 -> 0.22345584 | G24: 33 | H24: =IF(G24=0,0,G24/$D24) -> 0.0042113323 | I24: 11 | J24: =IF(I24=0,0,I24/$D24) -> 0.0014037774 | K24: 3 | L24: =IF(K24=0,0,K24/$D24) -> 0.00038284839 | M24: 7547 | O24: 204 | P24: =IF(O24=0,0,O24/D24) -> 0.026033691 | Q24: 0 | R24: 0 | S24: 0 | T24: 3 | U24: 6 | V24: 4 | W24: 4 | X24: 6 | Y24: 1 | Z24: 1 | AA24: =SUM(R24:X24) -> 23 | AB24: 12 | AC24: 9 | AD24: 0 | AE24: 413 | AG24: מ ב ט פ נ י ם מ י ג ז ר י
A25: כללי | B25: 21 | C25: אלקנה | D25: 3729 | E25: 1067 | F25: =E25/D25 -> 0.28613569 | G25: 51 | H25: =IF(G25=0,0,G25/$D25) -> 0.013676589 | I25: 5 | J25: =IF(I25=0,0,I25/$D25) -> 0.001340842 | K25: 2 | L25: =IF(K25=0,0,K25/$D25) -> 0.00053633682 | M25: 6782 | O25: 199 | P25: =IF(O25=0,0,O25/D25) -> 0.053365514 | Q25: 0 | R25: 2 | S25: 3 | T25: 3 | U25: 8 | V25: 6 | W25: 6 | X25: 13 | Y25: 12 | Z25: 10 | AA25: =SUM(R25:X25) -> 41 | AB25: 20 | AC25: 17 | AD25: 0 | AE25: 114 | AG25: ס"ה חולים פעילים | AJ25: ס"ה חולים מאושפזים | AL25: ס"ה נפטרים | AN25: ס"ה בדיקות | AP25: ס"ה מאומתים מההתחלה | AR25: ס"ה מאומתים השבוע
A26: ערבי | B26: 22 | C26: אעבלין | D26: 13219 | E26: 1698 | F26: =E26/D26 -> 0.12845147 | G26: 127 | H26: =IF(G26=0,0,G26/$D26) -> 0.0096073833 | I26: 56 | J26: =IF(I26=0,0,I26/$D26) -> 0.0042363265 | K26: 6 | L26: =IF(K26=0,0,K26/$D26) -> 0.00045389212 | M26: 12106 | O26: 945 | P26: =IF(O26=0,0,O26/D26) -> 0.07148801 | Q26: 0 | R26: 15 | S26: 15 | T26: 14 | U26: 16 | V26: 14 | W26: 10 | X26: 19 | Y26: 14 | Z26: 7 | AA26: =SUM(R26:X26) -> 103 | AB26: 91 | AC26: 73 | AD26: 1 | AE26: 395 | AG26: מעורב | AH26: =SUMIF(A:A,AG26,G:G) -> 27855 | AI26: =SUM(SUMIF($A:$A,$AG26,G:G)/SUMIF($A:$A,$AG26,$D:$D)) -> 0.010882156 | AJ26: =SUMIF(A:A,AG26,I:I) -> 10410 | AK26: =SUM(SUMIF($A:$A,$AG26,I:I)/SUMIF($A:$A,$AG26,$D:$D)) -> 0.0040668908 | AL26: =SUMIF(A:A,AG26,K:K) -> 1207 | AM26: =SUM(SUMIF($A:$A,$AG26,K:K)/SUMIF($A:$A,$AG26,$D:$D)) -> 0.00047154055 | AN26: =SUMIF(A:A,AG26,M:M) -> 2699408 | AO26: =SUM(SUMIF($A:$A,$AG26,M:M)/SUMIF($A:$A,$AG26,$D:$D)) -> 1.0545819 | AP26: =SUMIF(A:A,AG26,O:O) -> 187400 | AQ26: =SUM(SUMIF($A:$A,$AG26,O:O)/SUMIF($A:$A,$AG26,$D:$D)) -> 0.073211848 | AR26: =SUMIF(A:A,AG26,AA:AA) -> 22169
A27: כללי | B27: 23 | C27: אפרת | D27: 11403 | E27: 2491 | F27: =E27/D27 -> 0.21845128 | G27: 124 | H27: =IF(G27=0,0,G27/$D27) -> 0.010874331 | I27: 11 | J27: =IF(I27=0,0,I27/$D27) -> 0.00096465842 | K27: 0 | L27: =IF(K27=0,0,K27/$D27) -> 0 | M27: 19951 | O27: 668 | P27: =IF(O27=0,0,O27/D27) -> 0.058581075 | Q27: 0 | R27: 11 | S27: 7 | T27: 14 | U27: 21 | V27: 28 | W27: 14 | X27: 14 | Y27: 8 | Z27: 4 | AA27: =SUM(R27:X27) -> 109 | AB27: 88 | AC27: 81 | AD27: 0 | AE27: 300 | AG27: כללי | AH27: =SUMIF(A:A,AG27,G:G) -> 23202 | AI27: =SUM(SUMIF($A:$A,$AG27,G:G)/SUMIF($A:$A,$AG27,$D:$D)) -> 0.0057843487 | AJ27: =SUMIF(A:A,AG27,I:I) -> 10726 | AK27: =SUM(SUMIF($A:$A,$AG27,I:I)/SUMIF($A:$A,$AG27,$D:$D)) -> 0.0026740334 | AL27: =SUMIF(A:A,AG27,K:K) -> 1622 | AM27: =SUM(SUMIF($A:$A,$AG27,K:K)/SUMIF($A:$A,$AG27,$D:$D)) -> 0.0004043709 | AN27: =SUMIF(A:A,AG27,M:M) -> 4361783 | AO27: =SUM(SUMIF($A:$A,$AG27,M:M)/SUMIF($A:$A,$AG27,$D:$D)) -> 1.0874094 | AP27: =SUMIF(A:A,AG27,O:O) -> 171808 | AQ27: =SUM(SUMIF($A:$A,$AG27,O:O)/SUMIF($A:$A,$AG27,$D:$D)) -> 0.042832401 | AR27: =SUMIF(A:A,AG27,AA:AA) -> 16911
A28: כללי | B28: 24 | C28: אריאל | D28: 18298 | E28: 3191 | F28: =E28/D28 -> 0.17439064 | G28: 108 | H28: =IF(G28=0,0,G28/$D28) -> 0.0059022844 | I28: 24 | J28: =IF(I28=0,0,I28/$D28) -> 0.0013116188 | K28: 5 | L28: =IF(K28=0,0,K28/$D28) -> 0.00027325391 | M28: 20162 | O28: 602 | P28: =IF(O28=0,0,O28/D28) -> 0.03289977 | Q28: 2 | R28: 17 | S28: 3 | T28: 9 | U28: 7 | V28: 18 | W28: 7 | X28: 15 | Y28: 18 | Z28: 4 | AA28: =SUM(R28:X28) -> 76 | AB28: 59 | AC28: 42 | AD28: 6 | AE28: -44 | AG28: ערבי | AH28: =SUMIF(A:A,AG28,G:G) -> 8458 | AI28: =SUM(SUMIF($A:$A,$AG28,G:G)/SUMIF($A:$A,$AG28,$D:$D)) -> 0.0076105432 | AJ28: =SUMIF(A:A,AG28,I:I) -> 4898 | AK28: =SUM(SUMIF($A:$A,$AG28,I:I)/SUMIF($A:$A,$AG28,$D:$D)) -> 0.0044072405 | AL28: =SUMIF(A:A,AG28,K:K) -> 666 | AM28: =SUM(SUMIF($A:$A,$AG28,K:K)/SUMIF($A:$A,$AG28,$D:$D)) -> 0.00059926954 | AN28: =SUMIF(A:A,AG28,M:M) -> 972225 | AO28: =SUM(SUMIF($A:$A,$AG28,M:M)/SUMIF($A:$A,$AG28,$D:$D)) -> 0.87481205 | AP28: =SUMIF(A:A,AG28,O:O) -> 76226 | AQ28: =SUM(SUMIF($A:$A,$AG28,O:O)/SUMIF($A:$A,$AG28,$D:$D)) -> 0.068588468 | AR28: =SUMIF(A:A,AG28,AA:AA) -> 5765
A29: מעורב | B29: 25 | C29: אשדוד | D29: 225707 | E29: 38370 | F29: =E29/D29 -> 0.16999916 | G29: 1771 | H29: =IF(G29=0,0,G29/$D29) -> 0.0078464558 | I29: 922 | J29: =IF(I29=0,0,I29/$D29) -> 0.004084942 | K29: 122 | L29: =IF(K29=0,0,K29/$D29) -> 0.00054052378 | M29: 262568 | O29: 17665 | P29: =IF(O29=0,0,O29/D29) -> 0.078265185 | Q29: 4 | R29: 119 | S29: 189 | T29: 121 | U29: 285 | V29: 255 | W29: 172 | X29: 197 | Y29: 208 | Z29: 116 | AA29: =SUM(R29:X29) -> 1338 | AB29: 1194 | AC29: 1146 | AD29: 40 | AE29: 3001 | AG29: חרדי | AH29: =SUMIF(A:A,AG29,G:G) -> 11993 | AI29: =SUM(SUMIF($A:$A,$AG29,G:G)/SUMIF($A:$A,$AG29,$D:$D)) -> 0.025908851 | AJ29: =SUMIF(A:A,AG29,I:I) -> 2600 | AK29: =SUM(SUMIF($A:$A,$AG29,I:I)/SUMIF($A:$A,$AG29,$D:$D)) -> 0.005616861 | AL29: =SUMIF(A:A,AG29,K:K) -> 202 | AM29: =SUM(SUMIF($A:$A,$AG29,K:K)/SUMIF($A:$A,$AG29,$D:$D)) -> 0.00043638689 | AN29: =SUMIF(A:A,AG29,M:M) -> 553197 | AO29: =SUM(SUMIF($A:$A,$AG29,M:M)/SUMIF($A:$A,$AG29,$D:$D)) -> 1.1950887 | AP29: =SUMIF(A:A,AG29,O:O) -> 76141 | AQ29: =SUM(SUMIF($A:$A,$AG29,O:O)/SUMIF($A:$A,$AG29,$D:$D)) -> 0.16448977 | AR29: =SUMIF(A:A,AG29,AA:AA) -> 9327
A30: כללי | B30: 26 | C30: אשקלון | D30: 141817 | E30: 28825 | F30: =E30/D30 -> 0.2032549 | G30: 803 | H30: =IF(G30=0,0,G30/$D30) -> 0.0056622267 | I30: 599 | J30: =IF(I30=0,0,I30/$D30) -> 0.0042237531 | K30: 57 | L30: =IF(K30=0,0,K30/$D30) -> 0.00040192643 | M30: 147294 | O30: 6453 | P30: =IF(O30=0,0,O30/D30) -> 0.045502302 | Q30: 0 | R30: 113 | S30: 64 | T30: 55 | U30: 83 | V30: 93 | W30: 66 | X30: 130 | Y30: 84 | Z30: 60 | AA30: =SUM(R30:X30) -> 604 | AB30: 505 | AC30: 419 | AD30: -1 | AE30: 2275
A31: ערבי | B31: 27 | C31: באקה אל-גרביה | D31: 29564 | E31: 4282 | F31: =E31/D31 -> 0.14483832 | G31: 144 | H31: =IF(G31=0,0,G31/$D31) -> 0.0048707888 | I31: 139 | J31: =IF(I31=0,0,I31/$D31) -> 0.0047016642 | K31: 38 | L31: =IF(K31=0,0,K31/$D31) -> 0.001285347 | M31: 23212 | O31: 1971 | P31: =IF(O31=0,0,O31/D31) -> 0.066668922 | Q31: 2 | R31: 22 | S31: 0 | T31: 9 | U31: 7 | V31: 6 | W31: 17 | X31: 15 | Y31: 14 | Z31: 2 | AA31: =SUM(R31:X31) -> 76 | AB31: 83 | AC31: 82 | AD31: 4 | AE31: 50
A32: מעורב | B32: 28 | C32: באר יעקב | D32: 25852 | E32: 4322 | F32: =E32/D32 -> 0.16718242 | G32: 141 | H32: =IF(G32=0,0,G32/$D32) -> 0.0054541235 | I32: 61 | J32: =IF(I32=0,0,I32/$D32) -> 0.0023595853 | K32: 4 | L32: =IF(K32=0,0,K32/$D32) -> 0.00015472691 | M32: 27928 | O32: 1371 | P32: =IF(O32=0,0,O32/D32) -> 0.053032647 | Q32: 0 | R32: 8 | S32: 8 | T32: 18 | U32: 28 | V32: 24 | W32: 20 | X32: 19 | Y32: 21 | Z32: 10 | AA32: =SUM(R32:X32) -> 125 | AB32: 76 | AC32: 59 | AD32: 2 | AE32: 814 | AG32: מ ב ט ש ב ו ע י (ע ם י י ח ס ל ח ו ל י ם ה ח ד ש י ם )
A33: כללי | B33: 29 | C33: באר שבע | D33: 197168 | E33: 48635 | F33: =E33/D33 -> 0.24666782 | G33: 1047 | H33: =IF(G33=0,0,G33/$D33) -> 0.0053101923 | I33: 327 | J33: =IF(I33=0,0,I33/$D33) -> 0.0016584841 | K33: 63 | L33: =IF(K33=0,0,K33/$D33) -> 0.00031952447 | M33: 250177 | O33: 9040 | P33: =IF(O33=0,0,O33/D33) -> 0.045849225 | Q33: 3 | R33: 161 | S33: 54 | T33: 62 | U33: 176 | V33: 136 | W33: 109 | X33: 106 | Y33: 102 | Z33: 72 | AA33: =SUM(R33:X33) -> 804 | AB33: 678 | AC33: 579 | AD33: 41 | AE33: 2771 | AG33: ס"ה חולים חדשים | AJ33: אשפוזים חדשים | AL33: נפטרים חדשים | AN33: חיסונים חדשים
A34: ערבי | B34: 30 | C34: בועיינה-נוג'ידאת | D34: 10137 | E34: 897 | F34: =E34/D34 -> 0.088487718 | G34: 46 | H34: =IF(G34=0,0,G34/$D34) -> 0.0045378317 | I34: 49 | J34: =IF(I34=0,0,I34/$D34) -> 0.0048337773 | K34: 2 | L34: =IF(K34=0,0,K34/$D34) -> 0.00019729703 | M34: 8988 | O34: 553 | P34: =IF(O34=0,0,O34/D34) -> 0.054552629 | Q34: 0 | R34: 6 | S34: 3 | T34: 1 | U34: 4 | V34: 4 | W34: 7 | X34: 3 | Y34: 6 | Z34: 13 | AA34: =SUM(R34:X34) -> 28 | AB34: 32 | AC34: 38 | AD34: 2 | AE34: 99 | AG34: מעורב | AH34: =SUMIF(A:A,AG34,AA:AA) -> 22169 | AI34: =SUM(SUMIF($A:$A,$AG34,AA:AA)/($AA$4)) -> 0.40900705 | AJ34: =SUMIF(A:A,AG34,AD:AD) -> 901 | AK34: =SUM(SUMIF($A:$A,$AG34,AD:AD)/$AD$4) -> 0.41444342 | AL34: =SUMIF(A:A,AG34,Q:Q) -> 73 | AM34: =SUM(SUMIF($A:$A,$AG34,Q:Q)/$Q$4) -> 0.33953488 | AN34: =SUMIF(A:A,AG34,AE:AE) -> 37701 | AO34: =SUM(SUMIF($A:$A,$AG34,AE:AE)/$AE$4) -> 0.26552244
A35: ערבי | B35: 31 | C35: בוקעאתא | D35: 6658 | E35: 799 | F35: =E35/D35 -> 0.12000601 | G35: 22 | H35: =IF(G35=0,0,G35/$D35) -> 0.0033042956 | I35: 51 | J35: =IF(I35=0,0,I35/$D35) -> 0.0076599579 | K35: 11 | L35: =IF(K35=0,0,K35/$D35) -> 0.0016521478 | M35: 5280 | O35: 886 | P35: =IF(O35=0,0,O35/D35) -> 0.13307299 | Q35: 0 | R35: 2 | S35: 1 | T35: 0 | U35: 3 | V35: 0 | W35: 5 | X35: 1 | Y35: 2 | Z35: 3 | AA35: =SUM(R35:X35) -> 12 | AB35: 8 | AC35: 12 | AD35: 1 | AE35: 42 | AG35: כללי | AH35: =SUMIF(A:A,AG35,AA:AA) -> 16911 | AI35: =SUM(SUMIF($A:$A,$AG35,AA:AA)/($AA$4)) -> 0.31199956 | AJ35: =SUMIF(A:A,AG35,AD:AD) -> 865 | AK35: =SUM(SUMIF($A:$A,$AG35,AD:AD)/$AD$4) -> 0.39788408 | AL35: =SUMIF(A:A,AG35,Q:Q) -> 85 | AM35: =SUM(SUMIF($A:$A,$AG35,Q:Q)/$Q$4) -> 0.39534884 | AN35: =SUMIF(A:A,AG35,AE:AE) -> 85555 | AO35: =SUM(SUMIF($A:$A,$AG35,AE:AE)/$AE$4) -> 0.60255092
A36: ערבי | B36: 32 | C36: ביר אל-מכסור | D36: 10068 | E36: 1088 | F36: =E36/D36 -> 0.10806516 | G36: 68 | H36: =IF(G36=0,0,G36/$D36) -> 0.0067540723 | I36: 37 | J36: =IF(I36=0,0,I36/$D36) -> 0.0036750099 | K36: 2 | L36: =IF(K36=0,0,K36/$D36) -> 0.00019864919 | M36: 5189 | O36: 306 | P36: =IF(O36=0,0,O36/D36) -> 0.030393325 | Q36: 1 | R36: 7 | S36: 5 | T36: 6 | U36: 11 | V36: 7 | W36: 5 | X36: 13 | Y36: 2 | Z36: 4 | AA36: =SUM(R36:X36) -> 54 | AB36: 37 | AC36: 31 | AD36: 1 | AE36: 76 | AG36: ערבי | AH36: =SUMIF(A:A,AG36,AA:AA) -> 5765 | AI36: =SUM(SUMIF($A:$A,$AG36,AA:AA)/($AA$4)) -> 0.10636139 | AJ36: =SUMIF(A:A,AG36,AD:AD) -> 289 | AK36: =SUM(SUMIF($A:$A,$AG36,AD:AD)/$AD$4) -> 0.13293468 | AL36: =SUMIF(A:A,AG36,Q:Q) -> 44 | AM36: =SUM(SUMIF($A:$A,$AG36,Q:Q)/$Q$4) -> 0.20465116 | AN36: =SUMIF(A:A,AG36,AE:AE) -> 15263 | AO36: =SUM(SUMIF($A:$A,$AG36,AE:AE)/$AE$4) -> 0.107495
A37: ערבי | B37: 33 | C37: ביר הדאג' | D37: 2677 | E37: 0 | F37: =E37/D37 -> 0 | G37: 0 | H37: =IF(G37=0,0,G37/$D37) -> 0 | I37: 5 | J37: =IF(I37=0,0,I37/$D37) -> 0.0018677624 | K37: 1 | L37: =IF(K37=0,0,K37/$D37) -> 0.00037355248 | M37: 305 | O37: 15 | P37: =IF(O37=0,0,O37/D37) -> 0.0056032873 | Q37: 0 | R37: 0 | S37: 0 | T37: 0 | U37: 0 | V37: 0 | W37: 0 | X37: 0 | Y37: 0 | Z37: 0 | AA37: =SUM(R37:X37) -> 0 | AB37: 0 | AC37: 0 | AD37: 0 | AE37: 0 | AG37: חרדי | AH37: =SUMIF(A:A,AG37,AA:AA) -> 9327 | AI37: =SUM(SUMIF($A:$A,$AG37,AA:AA)/($AA$4)) -> 0.17207852 | AJ37: =SUMIF(A:A,AG37,AD:AD) -> 107 | AK37: =SUM(SUMIF($A:$A,$AG37,AD:AD)/$AD$4) -> 0.049218031 | AL37: =SUMIF(A:A,AG37,Q:Q) -> 11 | AM37: =SUM(SUMIF($A:$A,$AG37,Q:Q)/$Q$4) -> 0.051162791 | AN37: =SUMIF(A:A,AG37,AE:AE) -> 2751 | AO37: =SUM(SUMIF($A:$A,$AG37,AE:AE)/$AE$4) -> 0.019374877
A38: כללי | B38: 34 | C38: בית אל | D38: 5700 | E38: 1009 | F38: =E38/D38 -> 0.17701754 | G38: 55 | H38: =IF(G38=0,0,G38/$D38) -> 0.0096491228 | I38: 6 | J38: =IF(I38=0,0,I38/$D38) -> 0.0010526316 | K38: 1 | L38: =IF(K38=0,0,K38/$D38) -> 0.0001754386 | M38: 10105 | O38: 279 | P38: =IF(O38=0,0,O38/D38) -> 0.048947368 | Q38: 0 | R38: 12 | S38: 4 | T38: 0 | U38: 2 | V38: 22 | W38: 7 | X38: 8 | Y38: 22 | Z38: 7 | AA38: =SUM(R38:X38) -> 55 | AB38: 34 | AC38: 28 | AD38: 0 | AE38: 50
A39: כללי | B39: 35 | C39: בית אריה | D39: 5115 | E39: 855 | F39: =E39/D39 -> 0.16715543 | G39: 24 | H39: =IF(G39=0,0,G39/$D39) -> 0.0046920821 | I39: 4 | J39: =IF(I39=0,0,I39/$D39) -> 0.00078201369 | K39: 0 | L39: =IF(K39=0,0,K39/$D39) -> 0 | M39: 4837 | O39: 164 | P39: =IF(O39=0,0,O39/D39) -> 0.032062561 | Q39: 0 | R39: 0 | S39: 1 | T39: 0 | U39: 5 | V39: 3 | W39: 1 | X39: 4 | Y39: 4 | Z39: 1 | AA39: =SUM(R39:X39) -> 14 | AB39: 16 | AC39: 27 | AD39: 0 | AE39: -77
A40: ערבי | B40: 36 | C40: בית ג'ן | D40: 11913 | E40: 1420 | F40: =E40/D40 -> 0.11919752 | G40: 114 | H40: =IF(G40=0,0,G40/$D40) -> 0.009569378 | I40: 58 | J40: =IF(I40=0,0,I40/$D40) -> 0.0048686309 | K40: 8 | L40: =IF(K40=0,0,K40/$D40) -> 0.0006715353 | M40: 16478 | O40: 1174 | P40: =IF(O40=0,0,O40/D40) -> 0.098547805 | Q40: 0 | R40: 6 | S40: 14 | T40: 16 | U40: 7 | V40: 15 | W40: 3 | X40: 14 | Y40: 12 | Z40: 13 | AA40: =SUM(R40:X40) -> 75 | AB40: 88 | AC40: 88 | AD40: 1 | AE40: 391
...

Sheet ירושלים בשכונות
E1: מעודכן לפי המאגר מתאריך | H1: 44210 | J1: עדכון קודם בתאריך | L1: 44207 | N1: פער נפטרים מעדכון קודם | O1: יחס מאושפז פר מאומת | P1: מס' מאומתים יומיים שלופים מהמאגר בימי העדכון | U1: מאומתים יומיים מעדכון קודם | V1: מאומתים יומיים מעדכון 2 קודם
B2: עיר | E2: מס' נפשות | F2: חולים פעילים | H2: מאושפזים | I2: נפטרים | J2: בדיקות מצטבר | L2: מאומתים במצטבר | P2: 44207 | Q2: 44208 | R2: 44209 | S2: 44210 | T2: ס"ה
B3: ירושלים | D3: שכונה | E3: 936425 | F3: 14330 | G3: =F3/E3 -> 0.015302881 | H3: 4941 | I3: 513 | J3: 858148 | L3: 76033 | M3: =L3/E3 -> 0.08119497 | N3: 30 | O3: =H3/L3 -> 0.064984941 | P3: 1760 | Q3: 1656 | R3: 1670 | S3: 1639 | T3: =SUM(P3:S3) -> 6725 | U3: 3454 | V3: 5537 | AD3: ביתר עלית
A4: מעורב | B4: ירושלים | C4: 1 | D4: נווה יעקב | E4: 25552 | F4: 1135 | G4: =IF(F4=0,0,F4/E4) -> 0.044419224 | H4: 84 | I4: 12 | J4: 28706 | L4: 4411 | M4: =IF(L4=0,0,L4/E4) -> 0.17262837 | N4: 2 | O4: =IF(H4=0,0,H4/L4) -> 0.019043301 | P4: 158 | Q4: 145 | R4: 163 | S4: 175 | T4: =SUM(P4:S4) -> 641 | U4: 291 | V4: 373
A5: כללי | B5: ירושלים | C5: 2 | D5: פסגת זאב | E5: 43424 | F5: 641 | G5: =IF(F5=0,0,F5/E5) -> 0.014761422 | H5: 147 | I5: 25 | J5: 51054 | L5: 3063 | M5: =IF(L5=0,0,L5/E5) -> 0.07053703 | N5: 1 | O5: =IF(H5=0,0,H5/L5) -> 0.047992165 | P5: 73 | Q5: 81 | R5: 76 | S5: 80 | T5: =SUM(P5:S5) -> 310 | U5: 139 | V5: 207 | W5: הסבר למאושפזים ולנפטרים: המאגר מתחיל למנות רק מ-16- ומעלה. בשכונות שהיו שם פחות מ-16 נפטרים או מאושפזים במשך כל התקופה, לא ניתן לדעת כמה יש. מה שכן ניתן לגלות, זה לפי ימים. כי הם כותבים האם היה מקרה חדש באותו יום או לא. כך שלפחות יש לנו את המידע המינימלי הזה!
A6: ערבי | B6: ירושלים | C6: 3 | D6: כפר עקב | E6: 0 | F6: 0 | G6: =IF(F6=0,0,F6/E6) -> 0 | H6: 0 | I6: 0 | J6: 0 | L6: 0 | M6: =IF(L6=0,0,L6/E6) -> 0 | N6: 0 | O6: =IF(H6=0,0,H6/L6) -> 0 | P6: 0 | Q6: 0 | R6: 0 | S6: 0 | T6: =SUM(P6:S6) -> 0 | U6: 0 | V6: 0
A7: ערבי | B7: ירושלים | C7: 4 | D7: עטרות | E7: 0 | F7: 0 | G7: =IF(F7=0,0,F7/E7) -> 0 | H7: 0 | I7: 0 | J7: 0 | L7: 0 | M7: =IF(L7=0,0,L7/E7) -> 0 | N7: 0 | O7: =IF(H7=0,0,H7/L7) -> 0 | P7: 0 | Q7: 0 | R7: 0 | S7: 0 | T7: =SUM(P7:S7) -> 0 | U7: 0 | V7: 0
A8: ערבי | B8: ירושלים | C8: 5 | D8: בית חנינא | E8: 0 | F8: 0 | G8: =IF(F8=0,0,F8/E8) -> 0 | H8: 0 | I8: 0 | J8: 0 | L8: 0 | M8: =IF(L8=0,0,L8/E8) -> 0 | N8: 0 | O8: =IF(H8=0,0,H8/L8) -> 0 | P8: 0 | Q8: 0 | R8: 0 | S8: 0 | T8: =SUM(P8:S8) -> 0 | U8: 0 | V8: 0
A9: ערבי | B9: ירושלים | C9: 6 | D9: שעפת | E9: 0 | F9: 0 | G9: =IF(F9=0,0,F9/E9) -> 0 | H9: 0 | I9: 0 | J9: 0 | L9: 0 | M9: =IF(L9=0,0,L9/E9) -> 0 | N9: 0 | O9: =IF(H9=0,0,H9/L9) -> 0 | P9: 0 | Q9: 0 | R9: 0 | S9: 0 | T9: =SUM(P9:S9) -> 0 | U9: 0 | V9: 0
A10: חרדי | B10: ירושלים | C10: 7 | D10: רמת שלמה | E10: 14682 | F10: 737 | G10: =IF(F10=0,0,F10/E10) -> 0.050197521 | H10: 83 | I10: 6 | J10: 23559 | L10: 3738 | M10: =IF(L10=0,0,L10/E10) -> 0.25459747 | N10: 0 | O10: =IF(H10=0,0,H10/L10) -> 0.022204387 | P10: 111 | Q10: 101 | R10: 76 | S10: 94 | T10: =SUM(P10:S10) -> 382 | U10: 175 | V10: 310
A11: חרדי | B11: ירושלים | C11: 8 | D11: רמות א' | E11: 18876 | F11: 779 | G11: =IF(F11=0,0,F11/E11) -> 0.041269337 | H11: 64 | I11: 2 | J11: 25687 | L11: 3419 | M11: =IF(L11=0,0,L11/E11) -> 0.18112948 | N11: 0 | O11: =IF(H11=0,0,H11/L11) -> 0.018718924 | P11: 100 | Q11: 103 | R11: 117 | S11: 86 | T11: =SUM(P11:S11) -> 406 | U11: 195 | V11: 275
A12: חרדי | B12: ירושלים | C12: 9 | D12: רמות פולין | E12: 6345 | F12: 362 | G12: =IF(F12=0,0,F12/E12) -> 0.057052797 | H12: 21 | I12: 2 | J12: 8423 | L12: 1482 | M12: =IF(L12=0,0,L12/E12) -> 0.23356974 | N12: 0 | O12: =IF(H12=0,0,H12/L12) -> 0.01417004 | P12: 48 | Q12: 43 | R12: 47 | S12: 46 | T12: =SUM(P12:S12) -> 184 | U12: 99 | V12: 110 | W12: ה מ ב ט ב י ח ס ל כ ל ל ה מ א ו מ ת י ם
A13: מעורב | B13: ירושלים | C13: 10 | D13: רמות ד' | E13: 5694 | F13: 245 | G13: =IF(F13=0,0,F13/E13) -> 0.043027749 | H13: 17 | I13: 2 | J13: 7351 | L13: 1213 | M13: =IF(L13=0,0,L13/E13) -> 0.21303126 | N13: 0 | O13: =IF(H13=0,0,H13/L13) -> 0.014014839 | P13: 30 | Q13: 37 | R13: 40 | S13: 34 | T13: =SUM(P13:S13) -> 141 | U13: 56 | V13: 88 | W13: ס"ה חולים פעילים | Z13: ס"ה חולים מאושפזים | AB13: ס"ה נפטרים | AD13: ס"ה בדיקות | AF13: ס"ה מאומתים מההתחלה
A14: מעורב | B14: ירושלים | C14: 11 | D14: רמות ג' | E14: 10541 | F14: 394 | G14: =IF(F14=0,0,F14/E14) -> 0.037377858 | H14: 37 | I14: 3 | J14: 15077 | L14: 1833 | M14: =IF(L14=0,0,L14/E14) -> 0.17389242 | N14: 1 | O14: =IF(H14=0,0,H14/L14) -> 0.020185488 | P14: 34 | Q14: 58 | R14: 63 | S14: 38 | T14: =SUM(P14:S14) -> 193 | U14: 114 | V14: 137 | W14: מעורב | X14: =SUMIF(A:A,W14,F:F) -> 5516 | Y14: =X14/$F$3 -> 0.38492673 | Z14: =SUMIF(A:A,W14,H:H) -> 719 | AA14: =Z14/$L$3 -> 0.0094564202 | AB14: =SUMIF(A:A,W14,I:I) -> 109 | AC14: =AB14/$L$3 -> 0.001433588 | AD14: =SUMIF(A:A,W14,J:J) -> 242815 | AE14: =AD14/$L$3 -> 3.1935475 | AF14: =SUMIF(A:A,W14,L:L) -> 23092 | AG14: =AF14/$L$3 -> 0.30371023
A15: מעורב | B15: ירושלים | C15: 12 | D15: רמות ב' | E15: 8489 | F15: 226 | G15: =IF(F15=0,0,F15/E15) -> 0.026622688 | H15: 22 | I15: 2 | J15: 11356 | L15: 1037 | M15: =IF(L15=0,0,L15/E15) -> 0.12215809 | N15: 0 | O15: =IF(H15=0,0,H15/L15) -> 0.021215043 | P15: 21 | Q15: 34 | R15: 32 | S15: 31 | T15: =SUM(P15:S15) -> 118 | U15: 58 | V15: 74 | W15: כללי | X15: =SUMIF(A:A,W15,F:F) -> 2494 | Y15: =X15/F3 -> 0.17404047 | Z15: =SUMIF(A:A,W15,H:H) -> 1319 | AA15: =Z15/$L$3 -> 0.017347731 | AB15: =SUMIF(A:A,W15,I:I) -> 168 | AC15: =AB15/$L$3 -> 0.0022095669 | AD15: =SUMIF(A:A,W15,J:J) -> 287729 | AE15: =AD15/$L$3 -> 3.7842647 | AF15: =SUMIF(A:A,W15,L:L) -> 16749 | AG15: =AF15/$L$3 -> 0.22028593
A16: כללי | B16: ירושלים | C16: 13 | D16: נפתוח | E16: 0 | F16: 0 | G16: =IF(F16=0,0,F16/E16) -> 0 | H16: 0 | I16: 0 | J16: 0 | L16: 0 | M16: =IF(L16=0,0,L16/E16) -> 0 | N16: 0 | O16: =IF(H16=0,0,H16/L16) -> 0 | P16: 0 | Q16: 0 | R16: 0 | S16: 0 | T16: =SUM(P16:S16) -> 0 | U16: 0 | V16: 0 | W16: ערבי | X16: =SUMIF(A:A,W16,F:F) -> 135 | Y16: =X16/F3 -> 0.0094207955 | Z16: =SUMIF(A:A,W16,H:H) -> 37 | AA16: =Z16/$L$3 -> 0.0004866308 | AB16: =SUMIF(A:A,W16,I:I) -> 6 | AC16: =AB16/$L$3 -> 7.8913104e-05 | AD16: =SUMIF(A:A,W16,J:J) -> 15555 | AE16: =AD16/$L$3 -> 0.20458222 | AF16: =SUMIF(A:A,W16,L:L) -> 612 | AG16: =AF16/$L$3 -> 0.0080491366
A17: כללי | B17: ירושלים | C17: 14 | D17: הר חוצבים | E17: 0 | F17: 0 | G17: =IF(F17=0,0,F17/E17) -> 0 | H17: 0 | I17: 0 | J17: 0 | L17: 0 | M17: =IF(L17=0,0,L17/E17) -> 0 | N17: 0 | O17: =IF(H17=0,0,H17/L17) -> 0 | P17: 0 | Q17: 0 | R17: 0 | S17: 0 | T17: =SUM(P17:S17) -> 0 | U17: 0 | V17: 0 | W17: חרדי | X17: =SUMIF(A:A,W17,F:F) -> 5424 | Y17: =X17/F3 -> 0.37850663 | Z17: =SUMIF(A:A,W17,H:H) -> 843 | AA17: =Z17/$L$3 -> 0.011087291 | AB17: =SUMIF(A:A,W17,I:I) -> 129 | AC17: =AB17/$L$3 -> 0.0016966317 | AD17: =SUMIF(A:A,W17,J:J) -> 176386 | AE17: =AD17/$L$3 -> 2.3198611 | AF17: =SUMIF(A:A,W17,L:L) -> 26010 | AG17: =AF17/$L$3 -> 0.3420883
