Workbook

Sheet דוח מרכזי
E1: נתונים חדשים 7 ימים | G1: פרמטר 1 | H1: פרמטר 2 | I1: פרמטר 3 | T1: מספור צבעי ערים | AH1: נתונים היסטוריים | AO1: היסטוריית ממוצע אחוז החיובי
AH2: חרדי משוער | AI2: ערבים מובהק בלבד | AJ2: כללי | AK2: מס' מאומתים חדשים | AM2: חרדים חדשים משוער
C3: מאומתים חדשים מהיום | D3: אחוז ביחס לתחלואה היומית | E3: מאומתים חדשים | F3: בדיקות חדשות | G3: שיעור חיובי בבדיקות | H3: תחלואה חדשה ל10,000 נפש | I3: מאומתים חדשים שבוע קודם | J3: שיעור חולים חדשים משבוע קודם יחס ל10000 | K3: מקדם הדבקה שבועי | L3: ציון | M3: ציון ממוצע שבועי | T3: =COUNTIF(AF:AF,1) -> 93 | U3: =COUNTIF(AF:AF,2) -> 87 | V3: =COUNTIF(AF:AF,3) -> 52 | W3: =COUNTIF(AF:AF,4) -> 91 | X3: חדש!!! חדש!!! סיכומים של לוח הבקרה (דשבורד) של משרד הבריאות, מתעדכן כל יום מאתמול | AG3: תאריך | AL3: מקדם הדבקה יומי | AN3: מצב חרדים פעילים | AO3: חרדי מובהק | AP3: כללי בארץ
A4: 1 | B4: אלעד | C4: 185 | D4: 0.023 | E4: 1030 | F4: 4295 | G4: 0.2398 | H4: 217 | I4: 1009 | J4: 212 | K4: 10.4 | L4: =IF(N4="","",IF(E4=0,"0",SUM($S$7)+LN(Q4)+SUM(G4*100)/$R$7)) -> 10.42402 | M4: 10.6 | N4: =IF(E4="","",IF(J4=0,E4*1,IF(E4=0,0,H4/J4))) -> 1.0235849 | O4: =IF(N4="","",N4*N4) -> 1.0477261 | Q4: =IF(H4="","",H4*O4) -> 227.35655 | T4: חדש!!!!!! חדש!!!!!!! מידע על החיסונים בגליון'הערים בישראל' | X4: ערים חרדיות מובהקות | Y4: חדשים | Z4: פעילים | AA4: יחס חדשים לכללי | AB4: כדי להעריך מהו הנתח החרדי בהדבקה היומית, ניתן לקחת את הסיכום של הערים החרדיות המובהקות באחוזים: חדשים פעילים | AF4: =IF(L4="0",4,IF(L4>7.5,1,IF(L4>6,2,IF(L4>4.5,3,IF(L4>0,4))))) -> 1 | AG4: 18 בינואר 2021 | 20:34 | AH4: =AD9 -> 0.3177 | AI4: =Y32 -> 0.0881 | AJ4: =1-AH4-AI4 -> 0.5942 | AK4: =X32 -> 8048 | AL4: =AK$4/SUM(AK$5) -> 1.9653236 | AM4: =Y12+AC29 -> 2557 | AN4: =Z12+AD29 -> 23355 | AO4: =AA12 -> 0.2169 | AP4: =AVERAGE(G:G) -> 0.070579321
A5: 2 | B5: אשדוד | C5: 325 | D5: 0.0404 | E5: 1367 | F5: 15197 | G5: 0.09 | H5: 61 | I5: 1218 | J5: 54 | K5: 7.5 | L5: =IF(N5="","",IF(E5=0,"0",SUM($S$7)+LN(Q5)+SUM(G5*100)/$R$7)) -> 7.4796535 | M5: 7.3 | N5: =IF(E5="","",IF(J5=0,E5*1,IF(E5=0,0,H5/J5))) -> 1.1296296 | O5: =IF(N5="","",N5*N5) -> 1.2760631 | Q5: =IF(H5="","",H5*O5) -> 77.839849 | R5: מספרים קבועים, משתנה בועדת ההיגוי | X5: אלעד | Y5: 185 | Z5: 1442 | AA5: 0.0052 | AF5: =IF(L5="0",4,IF(L5>7.5,1,IF(L5>6,2,IF(L5>4.5,3,IF(L5>0,4))))) -> 2 | AG5: 17 בינואר 2021 | 21:30 | AH5: 0.4779 | AI5: 0.1448 | AJ5: 0.3773 | AK5: 4095 | AL5: 0.83622626 | AM5: 1957 | AN5: 24076 | AO5: 0.2155 | AP5: 0.069956481
A6: 3 | B6: אשקלון | C6: 79 | D6: 0.0098 | E6: 540 | F6: 9005 | G6: 0.06 | H6: 38 | I6: 533 | J6: 38 | K6: 6.4 | L6: =IF(N6="","",IF(E6=0,"0",SUM($S$7)+LN(Q6)+SUM(G6*100)/$R$7)) -> 6.3875862 | M6: 6.7 | N6: =IF(E6="","",IF(J6=0,E6*1,IF(E6=0,0,H6/J6))) -> 1 | O6: =IF(N6="","",N6*N6) -> 1 | Q6: =IF(H6="","",H6*O6) -> 38 | R6: לוגריתם | S6: מספר קבוע | X6: ביתר עילית | Y6: 126 | Z6: 1575 | AA6: 0.0067 | AD6: =Y13 -> 0.1595 | AE6: =Z13 -> 0.1541 | AF6: =IF(L6="0",4,IF(L6>7.5,1,IF(L6>6,2,IF(L6>4.5,3,IF(L6>0,4))))) -> 2 | AG6: 16 בינואר 2021 | 20:58 | AH6: 0.2233 | AI6: 0.086 | AJ6: 0.6907 | AK6: 4897 | AL6: 0.53466536 | AM6: 1093 | AN6: 24120 | AO6: 0.2114 | AP6: 0.069650926
A7: 4 | B7: באר שבע | C7: 165 | D7: 0.0205 | E7: 694 | F7: 11567 | G7: 0.06 | H7: 35 | I7: 742 | J7: 38 | K7: 6.2 | L7: =IF(N7="","",IF(E7=0,"0",SUM($S$7)+LN(Q7)+SUM(G7*100)/$R$7)) -> 6.1408719 | M7: 6.1 | N7: =IF(E7="","",IF(J7=0,E7*1,IF(E7=0,0,H7/J7))) -> 0.92105263 | O7: =IF(N7="","",N7*N7) -> 0.84833795 | Q7: =IF(H7="","",H7*O7) -> 29.691828 | R7: 8 | S7: 2 | X7: בני ברק | Y7: 607 | Z7: 4844 | AA7: 0.0218 | AB7: ולהוסיף את היחס שלהם בערים המעורבות לפי | AF7: =IF(L7="0",4,IF(L7>7.5,1,IF(L7>6,2,IF(L7>4.5,3,IF(L7>0,4))))) -> 2 | AG7: 15 בינואר 2021 | 09:41 | AH7: 0.3635 | AI7: 0.0697 | AJ7: 0.5668 | AK7: 9159 | AL7: 1.0796888 | AM7: 3330 | AN7: 24113 | AO7: 0.1921 | AP7: 0.068405556
A8: 5 | B8: בית שמש | C8: 337 | D8: 0.0419 | E8: 1821 | F8: 10119 | G8: 0.18 | H8: 144 | I8: 1793 | J8: 141 | K8: 9.2 | L8: =IF(N8="","",IF(E8=0,"0",SUM($S$7)+LN(Q8)+SUM(G8*100)/$R$7)) -> 9.2619201 | M8: 9.4 | N8: =IF(E8="","",IF(J8=0,E8*1,IF(E8=0,0,H8/J8))) -> 1.0212766 | O8: =IF(N8="","",N8*N8) -> 1.0430059 | Q8: =IF(H8="","",H8*O8) -> 150.19285 | X8: מודיעין עילית | Y8: 297 | Z8: 3198 | AA8: 0.0083 | AB8: החשבון בטבלה כאן למטה. ס"ה: | AD8: =AC30 -> 0.1582 | AE8: =AD30 -> 0.1546 | AF8: =IF(L8="0",4,IF(L8>7.5,1,IF(L8>6,2,IF(L8>4.5,3,IF(L8>0,4))))) -> 1 | AG8: 14 בינואר 2021 | 22:50 | AH8: 0.4466 | AI8: 0.0822 | AJ8: 0.4712 | AK8: 8483 | AL8: 1.4630907 | AM8: 3789 | AN8: 23544 | AO8: 0.1892 | AP8: 0.066699074
A9: 6 | B9: ביתר עילית | C9: 126 | D9: 0.0157 | E9: 1342 | F9: 4629 | G9: 0.2899 | H9: 218 | I9: 1214 | J9: 197 | K9: 11.2 | L9: =IF(N9="","",IF(E9=0,"0",SUM($S$7)+LN(Q9)+SUM(G9*100)/$R$7)) -> 11.210828 | M9: 11.5 | N9: =IF(E9="","",IF(J9=0,E9*1,IF(E9=0,0,H9/J9))) -> 1.106599 | O9: =IF(N9="","",N9*N9) -> 1.2245613 | Q9: =IF(H9="","",H9*O9) -> 266.95437 | R9: עדכון אחרון: 18 בינואר 2021 | 20:34 | X9: עמנואל | Y9: 6 | Z9: 42 | AA9: 0.0005 | AB9: ולקבוע את הנתח ביחד: | AD9: =SUM(AD6+AD8) -> 0.3177 | AE9: =SUM(AE6+AE8) -> 0.3087 | AF9: =IF(L9="0",4,IF(L9>7.5,1,IF(L9>6,2,IF(L9>4.5,3,IF(L9>0,4))))) -> 1 | AG9: 13 בינואר 2021 | 22:41 | AH9: 0.313 | AI9: 0.1109 | AJ9: 0.5761 | AK9: 5798 | AL9: 0.59503284 | AM9: 1815 | AN9: 22098 | AO9: 0.1849 | AP9: 0.06592716
A10: 7 | B10: בני ברק | C10: 607 | D10: 0.0754 | E10: 3397 | F10: 16988 | G10: 0.2 | H10: 169 | I10: 2815 | J10: 140 | K10: 10 | L10: =IF(N10="","",IF(E10=0,"0",SUM($S$7)+LN(Q10)+SUM(G10*100)/$R$7)) -> 10.006411 | M10: 9.7 | N10: =IF(E10="","",IF(J10=0,E10*1,IF(E10=0,0,H10/J10))) -> 1.2071429 | O10: =IF(N10="","",N10*N10) -> 1.4571939 | Q10: =IF(H10="","",H10*O10) -> 246.26577 | X10: קרית יערים | Y10: 24 | Z10: 223 | AA10: 0.0007 | AF10: =IF(L10="0",4,IF(L10>7.5,1,IF(L10>6,2,IF(L10>4.5,3,IF(L10>0,4))))) -> 1 | AG10: 12 בינואר 2021 | 21:56 | AH10: 0.3464 | AI10: 0.0898 | AJ10: 0.5638 | AK10: 9744 | AL10: 1.6693507 | AM10: 3375 | AN10: 20846 | AO10: 0.1765 | AP10: 0.065328395
A11: 8 | B11: הרצליה | C11: 20 | D11: 0.0025 | E11: 190 | F11: 4754 | G11: 0.04 | H11: 20 | I11: 197 | J11: 21 | K11: 5.4 | L11: =IF(N11="","",IF(E11=0,"0",SUM($S$7)+LN(Q11)+SUM(G11*100)/$R$7)) -> 5.3981519 | M11: 5.4 | N11: =IF(E11="","",IF(J11=0,E11*1,IF(E11=0,0,H11/J11))) -> 0.95238095 | O11: =IF(N11="","",N11*N11) -> 0.90702948 | Q11: =IF(H11="","",H11*O11) -> 18.14059 | X11: רכסים | Y11: 39 | Z11: 335 | AA11: 0.0013 | AB11: פער חרדי לעומת הכללי, לקחת מזה חישוב לערים מעורבות | AF11: =IF(L11="0",4,IF(L11>7.5,1,IF(L11>6,2,IF(L11>4.5,3,IF(L11>0,4))))) -> 3 | AG11: 11 בינואר 2021 | 21:42 | AH11: 0.4202 | AI11: 0.1177 | AJ11: 0.4621 | AK11: 5837 | AL11: 0.99184367 | AM11: 2453 | AN11: 18391 | AO11: 0.1751 | AP11: 0.065110802
A12: 9 | B12: חדרה | C12: 65 | D12: 0.0081 | E12: 304 | F12: 5075 | G12: 0.0599 | H12: 32 | I12: 276 | J12: 29 | K12: 6.4 | L12: =IF(N12="","",IF(E12=0,"0",SUM($S$7)+LN(Q12)+SUM(G12*100)/$R$7)) -> 6.411366 | M12: 6.4 | N12: =IF(E12="","",IF(J12=0,E12*1,IF(E12=0,0,H12/J12))) -> 1.1034483 | O12: =IF(N12="","",N12*N12) -> 1.2175981 | Q12: =IF(H12="","",H12*O12) -> 38.963139 | X12: ס"ה חרדים מובהקים | Y12: 1284 | Z12: 11659 | AA12: 0.2169 | AD12: חדשים | AE12: פעילים | AF12: =IF(L12="0",4,IF(L12>7.5,1,IF(L12>6,2,IF(L12>4.5,3,IF(L12>0,4))))) -> 2 | AG12: 10 בינואר 2021 | 21:59 | AH12: 0.3551 | AI12: 0.1111 | AJ12: 0.5338 | AK12: 5885 | AL12: 1.0812052 | AM12: 2090 | AN12: 18025 | AO12: 0.1735 | AP12: 0.06515679
A13: 10 | B13: חולון | C13: 140 | D13: 0.0174 | E13: 683 | F13: 11397 | G13: 0.0599 | H13: 37 | I13: 760 | J13: 41 | K13: 6.1 | L13: =IF(N13="","",IF(E13=0,"0",SUM($S$7)+LN(Q13)+SUM(G13*100)/$R$7)) -> 6.1543596 | M13: 6.5 | N13: =IF(E13="","",IF(J13=0,E13*1,IF(E13=0,0,H13/J13))) -> 0.90243902 | O13: =IF(N13="","",N13*N13) -> 0.81439619 | Q13: =IF(H13="","",H13*O13) -> 30.132659 | X13: אחוז מתוך המאומתים | Y13: 0.1595 | Z13: 0.1541 | AA13: 0.0444 | AB13: מאומתים ביחס לאוכלוסיה: | AD13: =Y13/AA13 -> 3.5923423 | AE13: =Z13/AA13 -> 3.4707207 | AF13: =IF(L13="0",4,IF(L13>7.5,1,IF(L13>6,2,IF(L13>4.5,3,IF(L13>0,4))))) -> 2 | AG13: 9 בינואר 2021 | 22:19 | AH13: 0.2507 | AI13: 0.1325 | AJ13: 0.6168 | AK13: 5443 | AL13: 0.73257066 | AM13: 1364 | AN13: 17644 | AO13: 0.1792 | AP13: 0.065304012
A14: 11 | B14: חיפה | C14: 152 | D14: 0.0189 | E14: 1080 | F14: 18000 | G14: 0.06 | H14: 39 | I14: 1366 | J14: 50 | K14: 6 | L14: =IF(N14="","",IF(E14=0,"0",SUM($S$7)+LN(Q14)+SUM(G14*100)/$R$7)) -> 5.9166389 | M14: 6.7 | N14: =IF(E14="","",IF(J14=0,E14*1,IF(E14=0,0,H14/J14))) -> 0.78 | O14: =IF(N14="","",N14*N14) -> 0.6084 | Q14: =IF(H14="","",H14*O14) -> 23.7276 | R14: כל הזכויות שמורות ל פתרונות אקסל 5725225@gmail.com | X14: ערים מעורבות | Y14: חדשים | Z14: פעילים | AA14: יחס אוכלוסיה | AB14: ערך חרדי אוכלוסי לפי בחירות | AC14: יחס מאומתים חדשים משוער | AD14: יחס משוער לחולים פעילים | AE14: יחס חרדי אוכלוסי משוער | AF14: =IF(L14="0",4,IF(L14>7.5,1,IF(L14>6,2,IF(L14>4.5,3,IF(L14>0,4))))) -> 3 | AG14: 8 בינואר 2021 | 14:29 | AH14: 0.3463 | AI14: 0.0914 | AJ14: 0.5623 | AK14: 7430 | AL14: 1.1352177 | AM14: 2573 | AN14: 16591 | AO14: 0.1749 | AP14: 0.065292901
A15: 12 | B15: טבריה | C15: 50 | D15: 0.0062 | E15: 212 | F15: 2651 | G15: 0.08 | H15: 47 | I15: 270 | J15: 60 | K15: 6.4 | L15: =IF(N15="","",IF(E15=0,"0",SUM($S$7)+LN(Q15)+SUM(G15*100)/$R$7)) -> 6.3617537 | M15: 6.6 | N15: =IF(E15="","",IF(J15=0,E15*1,IF(E15=0,0,H15/J15))) -> 0.78333333 | O15: =IF(N15="","",N15*N15) -> 0.61361111 | Q15: =IF(H15="","",H15*O15) -> 28.839722 | AF15: =IF(L15="0",4,IF(L15>7.5,1,IF(L15>6,2,IF(L15>4.5,3,IF(L15>0,4))))) -> 2 | AG15: 7 בינואר 2021 | 20:11 | AH15: 0.2538 | AI15: 0.092 | AJ15: 0.6542 | AK15: 6545 | AL15: 0.82493068 | AM15: 1661 | AN15: 15474 | AO15: 0.175 | AP15: 0.062684568
A16: 13 | B16: ירושלים | C16: 1708 | D16: 0.2122 | E16: 11128 | F16: 65462 | G16: 0.17 | H16: 119 | I16: 10676 | J16: 115 | K16: 9 | L16: =IF(N16="","",IF(E16=0,"0",SUM($S$7)+LN(Q16)+SUM(G16*100)/$R$7)) -> 8.9725062 | M16: 8.9 | N16: =IF(E16="","",IF(J16=0,E16*1,IF(E16=0,0,H16/J16))) -> 1.0347826 | O16: =IF(N16="","",N16*N16) -> 1.070775 | Q16: =IF(H16="","",H16*O16) -> 127.42223 | X16: אופקים | Y16: 20 | Z16: 266 | AA16: 0.0035 | AB16: 0.2531 | AC16: 20 | AD16: 223 | AE16: 0.0009 | AF16: =IF(L16="0",4,IF(L16>7.5,1,IF(L16>6,2,IF(L16>4.5,3,IF(L16>0,4))))) -> 1 | AG16: 6 בינואר 2021 | 17:01 | AH16: 0.3603 | AI16: 0.093 | AJ16: 0.5467 | AK16: 7934 | AL16: 1.108565 | AM16: 2859 | AN16: 14686 | AO16: 0.1762 | AP16: 0.063566667
A17: 14 | B17: מודיעין עילית | C17: 297 | D17: 0.0369 | E17: 2393 | F17: 11965 | G17: 0.2 | H17: 311 | I17: 2380 | J17: 309 | K17: 10.3 | L17: =IF(N17="","",IF(E17=0,"0",SUM($S$7)+LN(Q17)+SUM(G17*100)/$R$7)) -> 10.252696 | M17: 10.8 | N17: =IF(E17="","",IF(J17=0,E17*1,IF(E17=0,0,H17/J17))) -> 1.0064725 | O17: =IF(N17="","",N17*N17) -> 1.0129869 | Q17: =IF(H17="","",H17*O17) -> 315.03892 | X17: אשדוד | Y17: 325 | Z17: 1834 | AA17: 0.0245 | AB17: 0.1678 | AC17: 115 | AD17: 1051 | AE17: 0.0041 | AF17: =IF(L17="0",4,IF(L17>7.5,1,IF(L17>6,2,IF(L17>4.5,3,IF(L17>0,4))))) -> 1 | AG17: 5 בינואר 2021 | 21:37 | AH17: 0.3482 | AI17: 0.1042 | AJ17: 0.5476 | AK17: 7157 | AL17: 1.1223146 | AM17: 2492 | AN17: 12668 | AO17: 0.1735 | AP17: 0.062512654
A18: 15 | B18: עמנואל | C18: 6 | D18: 0.0007 | E18: 40 | F18: 154 | G18: 0.2597 | H18: 95 | I18: 12 | J18: 29 | K18: 12.2 | L18: =IF(N18="","",IF(E18=0,"0",SUM($S$7)+LN(Q18)+SUM(G18*100)/$R$7)) -> 12.173289 | M18: 9.1 | N18: =IF(E18="","",IF(J18=0,E18*1,IF(E18=0,0,H18/J18))) -> 3.2758621 | O18: =IF(N18="","",N18*N18) -> 10.731272 | Q18: =IF(H18="","",H18*O18) -> 1019.4709 | X18: בית שמש | Y18: 337 | Z18: 2369 | AA18: 0.0138 | AB18: 0.3564 | AC18: 137 | AD18: 1254 | AE18: 0.0049 | AF18: =IF(L18="0",4,IF(L18>7.5,1,IF(L18>6,2,IF(L18>4.5,3,IF(L18>0,4))))) -> 1 | AG18: 4 בינואר 2021 | 23:25 | AH18: 0.3343 | AI18: 0.133 | AJ18: 0.5327 | AK18: 6377 | AL18: 1.467664 | AM18: 2132 | AN18: 10526 | AO18: 0.165 | AP18: 0.061257099
A19: 16 | B19: ערד | C19: 20 | D19: 0.0025 | E19: 109 | F19: 1563 | G19: 0.0697 | H19: 40 | I19: 222 | J19: 82 | K19: 5.1 | L19: =IF(N19="","",IF(E19=0,"0",SUM($S$7)+LN(Q19)+SUM(G19*100)/$R$7)) -> 5.1244499 | M19: 6.3 | N19: =IF(E19="","",IF(J19=0,E19*1,IF(E19=0,0,H19/J19))) -> 0.48780488 | O19: =IF(N19="","",N19*N19) -> 0.2379536 | Q19: =IF(H19="","",H19*O19) -> 9.518144 | X19: בת ים | Y19: 99 | Z19: 754 | AA19: 0.0141 | AB19: 0.0549 | AC19: 22 | AD19: 198 | AE19: 0.0008 | AF19: =IF(L19="0",4,IF(L19>7.5,1,IF(L19>6,2,IF(L19>4.5,3,IF(L19>0,4))))) -> 3 | AG19: 3 בינואר 2021 | 20:55 | AH19: 0.1845 | AI19: 0.1213 | AJ19: 0.6942 | AK19: 4345 | AL19: 1.0566634 | AM19: 802 | AN19: 10044 | AO19: 0.1592 | AP19: 0.060345988
A20: 17 | B20: פתח תקווה | C20: 219 | D20: 0.0272 | E20: 1443 | F20: 20624 | G20: 0.07 | H20: 59 | I20: 1399 | J20: 57 | K20: 7 | L20: =IF(N20="","",IF(E20=0,"0",SUM($S$7)+LN(Q20)+SUM(G20*100)/$R$7)) -> 7.0215098 | M20: 7.2 | N20: =IF(E20="","",IF(J20=0,E20*1,IF(E20=0,0,H20/J20))) -> 1.0350877 | O20: =IF(N20="","",N20*N20) -> 1.0714066 | Q20: =IF(H20="","",H20*O20) -> 63.212989 | X20: גבעת זאב | Y20: 34 | Z20: 360 | AA20: 0.0021 | AB20: 0.2981 | AC20: 17 | AD20: 157 | AE20: 0.0006 | AF20: =IF(L20="0",4,IF(L20>7.5,1,IF(L20>6,2,IF(L20>4.5,3,IF(L20>0,4))))) -> 2 | AG20: 2 בינואר 2021 | 21:25 | AH20: 0.2318 | AI20: 0.1318 | AJ20: 0.6364 | AK20: 4112 | AL20: 0.94117647 | AM20: 953 | AN20: 9739 | AO20: 0.148 | AP20: 0.059235802
A21: 18 | B21: צפת | C21: 27 | D21: 0.0034 | E21: 341 | F21: 2277 | G21: 0.1498 | H21: 95 | I21: 390 | J21: 108 | K21: 8.2 | L21: =IF(N21="","",IF(E21=0,"0",SUM($S$7)+LN(Q21)+SUM(G21*100)/$R$7)) -> 8.1698682 | M21: 8.7 | N21: =IF(E21="","",IF(J21=0,E21*1,IF(E21=0,0,H21/J21))) -> 0.87962963 | O21: =IF(N21="","",N21*N21) -> 0.77374829 | Q21: =IF(H21="","",H21*O21) -> 73.506087 | X21: חיפה | Y21: 152 | Z21: 1871 | AA21: 0.0297 | AB21: 0.0385 | AC21: 32 | AD21: 292 | AE21: 0.0011 | AF21: =IF(L21="0",4,IF(L21>7.5,1,IF(L21>6,2,IF(L21>4.5,3,IF(L21>0,4))))) -> 1 | AG21: 1 בינואר 2021 | 15:03 | AH21: 0.2875 | AI21: 0.1245 | AJ21: 0.588 | AK21: 4369 | AL21: 0.90063904 | AM21: 1256 | AN21: 8927 | AO21: 0.1364 | AP21: 0.055673765
A22: 19 | B22: קרית גת | C22: 26 | D22: 0.0032 | E22: 520 | F22: 4735 | G22: 0.1098 | H22: 90 | I22: 341 | J22: 59 | K22: 8.7 | L22: =IF(N22="","",IF(E22=0,"0",SUM($S$7)+LN(Q22)+SUM(G22*100)/$R$7)) -> 8.7168541 | M22: 8 | N22: =IF(E22="","",IF(J22=0,E22*1,IF(E22=0,0,H22/J22))) -> 1.5254237 | O22: =IF(N22="","",N22*N22) -> 2.3269176 | Q22: =IF(H22="","",H22*O22) -> 209.42258 | X22: טבריה | Y22: 50 | Z22: 364 | AA22: 0.0049 | AB22: 0.1495 | AC22: 20 | AD22: 186 | AE22: 0.0007 | AF22: =IF(L22="0",4,IF(L22>7.5,1,IF(L22>6,2,IF(L22>4.5,3,IF(L22>0,4))))) -> 1 | AG22: 31 בדצמבר 2020 | 18:03 | AH22: 0.297 | AI22: 0.1447 | AJ22: 0.5583 | AK22: 4851 | AL22: 1.0977597 | AM22: 1441 | AN22: 8351 | AO22: 0.1322 | AP22: 0.055008333
A23: 20 | B23: קרית מלאכי | C23: 45 | D23: 0.0056 | E23: 245 | F23: 2041 | G23: 0.12 | H23: 100 | I23: 161 | J23: 66 | K23: 8.9 | L23: =IF(N23="","",IF(E23=0,"0",SUM($S$7)+LN(Q23)+SUM(G23*100)/$R$7)) -> 8.9362011 | M23: 8.5 | N23: =IF(E23="","",IF(J23=0,E23*1,IF(E23=0,0,H23/J23))) -> 1.5151515 | O23: =IF(N23="","",N23*N23) -> 2.2956841 | Q23: =IF(H23="","",H23*O23) -> 229.56841 | X23: ירושלים | Y23: 1708 | Z23: 15582 | AA23: 0.101 | AB23: 0.2577 | AC23: 728 | AD23: 6656 | AE23: 0.026 | AF23: =IF(L23="0",4,IF(L23>7.5,1,IF(L23>6,2,IF(L23>4.5,3,IF(L23>0,4))))) -> 1 | AG23: 30 בדצמבר 2020 | 17:59 | AH23: 0.1876 | AI23: 0.1224 | AJ23: 0.69 | AK23: 4419 | AL23: 0.85095321 | AM23: 829 | AN23: 7726 | AO23: 0.1194 | AP23: 0.052526852
A24: 21 | B24: רחובות | C24: 105 | D24: 0.013 | E24: 643 | F24: 9190 | G24: 0.07 | H24: 46 | I24: 619 | J24: 44 | K24: 6.8 | L24: =IF(N24="","",IF(E24=0,"0",SUM($S$7)+LN(Q24)+SUM(G24*100)/$R$7)) -> 6.7925449 | M24: 6.8 | N24: =IF(E24="","",IF(J24=0,E24*1,IF(E24=0,0,H24/J24))) -> 1.0454545 | O24: =IF(N24="","",N24*N24) -> 1.0929752 | Q24: =IF(H24="","",H24*O24) -> 50.27686 | X24: נתניה | Y24: 183 | Z24: 1366 | AA24: 0.0235 | AB24: 0.0896 | AC24: 59 | AD24: 539 | AE24: 0.0021 | AF24: =IF(L24="0",4,IF(L24>7.5,1,IF(L24>6,2,IF(L24>4.5,3,IF(L24>0,4))))) -> 2 | AG24: 29 בדצמבר 2020 | 21:41 | AH24: 0.2415 | AI24: 0.1585 | AJ24: 0.6 | AK24: 5193 | AL24: 1.4381058 | AM24: 1254 | AN24: 6549 | AO24: 0.1209 | AP24: 0.050955864
A25: 22 | B25: רכסים | C25: 39 | D25: 0.0048 | E25: 222 | F25: 1236 | G25: 0.1796 | H25: 179 | I25: 244 | J25: 197 | K25: 9.2 | L25: =IF(N25="","",IF(E25=0,"0",SUM($S$7)+LN(Q25)+SUM(G25*100)/$R$7)) -> 9.24075 | M25: 9.6 | N25: =IF(E25="","",IF(J25=0,E25*1,IF(E25=0,0,H25/J25))) -> 0.90862944 | O25: =IF(N25="","",N25*N25) -> 0.82560746 | Q25: =IF(H25="","",H25*O25) -> 147.78374 | X25: ערד | Y25: 20 | Z25: 205 | AA25: 0.0029 | AB25: 0.1507 | AC25: 12 | AD25: 113 | AE25: 0.0004 | AF25: =IF(L25="0",4,IF(L25>7.5,1,IF(L25>6,2,IF(L25>4.5,3,IF(L25>0,4))))) -> 1 | AG25: 28 בדצמבר 2020 | 22:41 | AH25: 0.2513 | AI25: 0.0906 | AJ25: 0.6581 | AK25: 3611 | AL25: 1.000277 | AM25: 907 | AN25: 5561 | AO25: 0.1111 | AP25: 0.04957716
A26: 23 | B26: רמת גן | C26: 77 | D26: 0.0096 | E26: 372 | F26: 9302 | G26: 0.04 | H26: 25 | I26: 552 | J26: 38 | K26: 4.9 | L26: =IF(N26="","",IF(E26=0,"0",SUM($S$7)+LN(Q26)+SUM(G26*100)/$R$7)) -> 4.8814552 | M26: 5.8 | N26: =IF(E26="","",IF(J26=0,E26*1,IF(E26=0,0,H26/J26))) -> 0.65789474 | O26: =IF(N26="","",N26*N26) -> 0.43282548 | Q26: =IF(H26="","",H26*O26) -> 10.820637 | X26: פתח תקווה | Y26: 219 | Z26: 2327 | AA26: 0.0266 | AB26: 0.0845 | AC26: 63 | AD26: 575 | AE26: 0.0023 | AF26: =IF(L26="0",4,IF(L26>7.5,1,IF(L26>6,2,IF(L26>4.5,3,IF(L26>0,4))))) -> 3 | AG26: 27 בדצמבר 2020 | 20:46 | AH26: 0.1291 | AI26: 0.2507 | AJ26: 0.6202 | AK26: 3610 | AL26: 0.87791829 | AM26: 466 | AN26: 5582 | AO26: 0.1096 | AP26: 0.048819444
A27: 24 | B27: תל אביב - יפו | C27: 204 | D27: 0.0253 | E27: 1200 | F27: 30008 | G27: 0.04 | H27: 26 | I27: 1342 | J27: 29 | K27: 5.5 | L27: =IF(N27="","",IF(E27=0,"0",SUM($S$7)+LN(Q27)+SUM(G27*100)/$R$7)) -> 5.539698 | M27: 5.9 | N27: =IF(E27="","",IF(J27=0,E27*1,IF(E27=0,0,H27/J27))) -> 0.89655172 | O27: =IF(N27="","",N27*N27) -> 0.80380499 | Q27: =IF(H27="","",H27*O27) -> 20.89893 | X27: צפת | Y27: 27 | Z27: 516 | AA27: 0.0039 | AB27: 0.2093 | AC27: 23 | AD27: 209 | AE27: 0.0008 | AF27: =IF(L27="0",4,IF(L27>7.5,1,IF(L27>6,2,IF(L27>4.5,3,IF(L27>0,4))))) -> 3 | AG27: 26 בדצמבר 2020 | 22:10 | AH27: 0.227 | AI27: 0.1364 | AJ27: 0.6366 | AK27: 4112 | AL27: 0.99805825 | AM27: 933 | AN27: 5433 | AO27: 0.1081 | AP27: 0.048335185
A28: 25 | B28: אבו ג'ווייעד (שבט) | C28: 0 | D28: 0 | E28: 8 | F28: 56 | G28: 0.1429 | H28: 18 | I28: 0 | J28: 0 | K28: 10.8 | L28: =IF(N28="","",IF(E28=0,"0",SUM($S$7)+LN(Q28)+SUM(G28*100)/$R$7)) -> 10.835505 | M28: 8.1 | N28: =IF(E28="","",IF(J28=0,E28*1,IF(E28=0,0,H28/J28))) -> 8 | O28: =IF(N28="","",N28*N28) -> 64 | Q28: =IF(H28="","",H28*O28) -> 1152 | X28: קרית גת | Y28: 26 | Z28: 734 | AA28: 0.0062 | AB28: 0.152 | AC28: 26 | AD28: 242 | AE28: 0.0009 | AF28: =IF(L28="0",4,IF(L28>7.5,1,IF(L28>6,2,IF(L28>4.5,3,IF(L28>0,4))))) -> 1 | AG28: 25 בדצמבר 2020 | 14:13 | AH28: 0.1757 | AI28: 0.1614 | AJ28: 0.6629 | AK28: 4120 | AL28: 2.4494649 | AM28: 724 | AN28: 4654 | AO28: 0.1151 | AP28: 0.047108025
A29: 26 | B29: אבו גוש | C29: 8 | D29: 0.001 | E29: 153 | F29: 810 | G29: 0.1889 | H29: 192 | I29: 126 | J29: 158 | K29: 10 | L29: =IF(N29="","",IF(E29=0,"0",SUM($S$7)+LN(Q29)+SUM(G29*100)/$R$7)) -> 10.008546 | M29: 9.6 | N29: =IF(E29="","",IF(J29=0,E29*1,IF(E29=0,0,H29/J29))) -> 1.2151899 | O29: =IF(N29="","",N29*N29) -> 1.4766864 | Q29: =IF(H29="","",H29*O29) -> 283.52379 | X29: ס"ה מעורב | Y29: 3200 | Z29: 28548 | AC29: 1273 | AD29: 11696 | AF29: =IF(L29="0",4,IF(L29>7.5,1,IF(L29>6,2,IF(L29>4.5,3,IF(L29>0,4))))) -> 1 | AG29: 24 בדצמבר 2020 | 22:27 | AH29: 0.1725 | AI29: 0.2551 | AJ29: 0.5724 | AK29: 1682 | AL29: 0.47180926 | AM29: 290 | AN29: 4051 | AO29: 0.1179 | AP29: 0.045901852
A30: 27 | B30: אבו סנאן | C30: 21 | D30: 0.0026 | E30: 70 | F30: 584 | G30: 0.1199 | H30: 53 | I30: 54 | J30: 41 | K30: 8 | L30: =IF(N30="","",IF(E30=0,"0",SUM($S$7)+LN(Q30)+SUM(G30*100)/$R$7)) -> 7.9824816 | M30: 6.9 | N30: =IF(E30="","",IF(J30=0,E30*1,IF(E30=0,0,H30/J30))) -> 1.2926829 | O30: =IF(N30="","",N30*N30) -> 1.6710291 | Q30: =IF(H30="","",H30*O30) -> 88.564545 | Y30: 0.3976 | Z30: 0.3774 | AA30: 0.2566 | AC30: 0.1582 | AD30: 0.1546 | AE30: 0.0457 | AF30: =IF(L30="0",4,IF(L30>7.5,1,IF(L30>6,2,IF(L30>4.5,3,IF(L30>0,4))))) -> 1 | AG30: 23 בדצמבר 2020 | 21:46 | AH30: 0.2832 | AI30: 0.1456 | AJ30: 0.5712 | AK30: 3565 | AL30: 0.90436327 | AM30: 1010 | AN30: 3793 | AO30: 0.1208 | AP30: 0.044939815
A31: 28 | B31: אבו קורינאת (שבט) | C31: 0 | D31: 0 | E31: 3 | F31: 20 | G31: 0.15 | H31: 5 | I31: 0 | J31: 0 | K31: 7.6 | L31: =IF(N31="","",IF(E31=0,"0",SUM($S$7)+LN(Q31)+SUM(G31*100)/$R$7)) -> 7.6816625 | M31: 4.2 | N31: =IF(E31="","",IF(J31=0,E31*1,IF(E31=0,0,H31/J31))) -> 3 | O31: =IF(N31="","",N31*N31) -> 9 | Q31: =IF(H31="","",H31*O31) -> 45 | X31: ס"ה ישובים ערבים מובהקים | Y31: 709 | Z31: 7184 | AF31: =IF(L31="0",4,IF(L31>7.5,1,IF(L31>6,2,IF(L31>4.5,3,IF(L31>0,4))))) -> 1 | AG31: 22 בדצמבר 2020 | 21:45 | AH31: 0.2027 | AI31: 0.1771 | AJ31: 0.6202 | AK31: 3942 | AL31: 1.7319859 | AM31: 799 | AN31: 2810 | AO31: 0.1104 | AP31: 0.042774383
A32: 29 | B32: אבו רובייעה (שבט) | C32: 0 | D32: 0 | E32: 0 | F32: 0 | G32: 0 | H32: 0 | I32: 0 | J32: 0 | K32: 0 | L32: =IF(N32="","",IF(E32=0,"0",SUM($S$7)+LN(Q32)+SUM(G32*100)/$R$7)) -> 0 | M32: 2.7 | N32: =IF(E32="","",IF(J32=0,E32*1,IF(E32=0,0,H32/J32))) -> 0 | O32: =IF(N32="","",N32*N32) -> 0 | Q32: =IF(H32="","",H32*O32) -> 0 | X32: 8048 | Y32: 0.0881 | Z32: 0.095 | AA32: 0.1081 | AF32: =IF(L32="0",4,IF(L32>7.5,1,IF(L32>6,2,IF(L32>4.5,3,IF(L32>0,4))))) -> 4 | AG32: 21 בדצמבר 2020 | 17:43 | AH32: 0.1012 | AI32: 0.1661 | AJ32: 0.7327 | AK32: 2276 | AL32: 1.5685734 | AM32: 230 | AN32: 2029 | AO32: 0.0949 | AP32: 0.03955463
A33: 30 | B33: אבו רוקייק (שבט) | C33: 0 | D33: 0 | E33: 0 | F33: 49 | G33: 0 | H33: 0 | I33: 0 | J33: 0 | K33: 0 | L33: =IF(N33="","",IF(E33=0,"0",SUM($S$7)+LN(Q33)+SUM(G33*100)/$R$7)) -> 0 | M33: 0 | N33: =IF(E33="","",IF(J33=0,E33*1,IF(E33=0,0,H33/J33))) -> 0 | O33: =IF(N33="","",N33*N33) -> 0 | Q33: =IF(H33="","",H33*O33) -> 0 | AF33: =IF(L33="0",4,IF(L33>7.5,1,IF(L33>6,2,IF(L33>4.5,3,IF(L33>0,4))))) -> 4 | AG33: 20 בדצמבר 2020 | 21:03 | AH33: 0.0769 | AI33: 0.3494 | AJ33: 0.5737 | AK33: 1451 | AL33: 0.72369077 | AM33: 112 | AN33: 2051 | AO33: 0.0962 | AP33: 0.039145679
A34: 31 | B34: אבו תלול | C34: 0 | D34: 0 | E34: 0 | F34: 0 | G34: 0 | H34: 0 | I34: 0 | J34: 0 | K34: 0 | L34: =IF(N34="","",IF(E34=0,"0",SUM($S$7)+LN(Q34)+SUM(G34*100)/$R$7)) -> 0 | M34: 5.9 | N34: =IF(E34="","",IF(J34=0,E34*1,IF(E34=0,0,H34/J34))) -> 0 | O34: =IF(N34="","",N34*N34) -> 0 | Q34: =IF(H34="","",H34*O34) -> 0 | AF34: =IF(L34="0",4,IF(L34>7.5,1,IF(L34>6,2,IF(L34>4.5,3,IF(L34>0,4))))) -> 4 | AG34: 19 בדצמבר 2020 | 21:42 | AH34: 0.148 | AI34: 0.2519 | AJ34: 0.6001 | AK34: 2005 | AL34: 0.90152878 | AM34: 297 | AN34: 2051 | AO34: 0.0962 | AP34: 0.039145679
A35: 32 | B35: אבטין | C35: 3 | D35: 0.0004 | E35: 16 | F35: 104 | G35: 0.1538 | H35: 57 | I35: 11 | J35: 39 | K35: 8.7 | L35: =IF(N35="","",IF(E35=0,"0",SUM($S$7)+LN(Q35)+SUM(G35*100)/$R$7)) -> 8.7245305 | M35: 6.5 | N35: =IF(E35="","",IF(J35=0,E35*1,IF(E35=0,0,H35/J35))) -> 1.4615385 | O35: =IF(N35="","",N35*N35) -> 2.1360947 | Q35: =IF(H35="","",H35*O35) -> 121.7574 | AF35: =IF(L35="0",4,IF(L35>7.5,1,IF(L35>6,2,IF(L35>4.5,3,IF(L35>0,4))))) -> 1 | AG35: 18 בדצמבר 2020 | 12:20 | AH35: 0.1902 | AI35: 0.2028 | AJ35: 0.607 | AK35: 2224 | AL35: 0.88782435 | AM35: 423 | AN35: 1555 | AO35: 0.0804 | AP35: 0.037303704
A36: 33 | B36: אבן יהודה | C36: 7 | D36: 0.0009 | E36: 33 | F36: 1109 | G36: 0.0298 | H36: 25 | I36: 31 | J36: 23 | K36: 5.7 | L36: =IF(N36="","",IF(E36=0,"0",SUM($S$7)+LN(Q36)+SUM(G36*100)/$R$7)) -> 5.758139 | M36: 5.6 | N36: =IF(E36="","",IF(J36=0,E36*1,IF(E36=0,0,H36/J36))) -> 1.0869565 | O36: =IF(N36="","",N36*N36) -> 1.1814745 | Q36: =IF(H36="","",H36*O36) -> 29.536862 | AF36: =IF(L36="0",4,IF(L36>7.5,1,IF(L36>6,2,IF(L36>4.5,3,IF(L36>0,4))))) -> 3 | AG36: 17 בדצמבר 2020 | 21:49 | AH36: 0.1224 | AI36: 0.2491 | AJ36: 0.6285 | AK36: 2505 | AL36: 0.99920223 | AM36: 306 | AN36: 1335 | AO36: 0.0548 | AP36: 0.036269444
A37: 34 | B37: אום אל-פחם | C37: -47 | D37: -0.0058 | E37: 189 | F37: 1582 | G37: 0.1195 | H37: 34 | I37: 277 | J37: 49 | K37: 6.2 | L37: =IF(N37="","",IF(E37=0,"0",SUM($S$7)+LN(Q37)+SUM(G37*100)/$R$7)) -> 6.289191 | M37: 7.8 | N37: =IF(E37="","",IF(J37=0,E37*1,IF(E37=0,0,H37/J37))) -> 0.69387755 | O37: =IF(N37="","",N37*N37) -> 0.48146606 | Q37: =IF(H37="","",H37*O37) -> 16.369846 | AF37: =IF(L37="0",4,IF(L37>7.5,1,IF(L37>6,2,IF(L37>4.5,3,IF(L37>0,4))))) -> 2 | AG37: 16 בדצמבר 2020 | 22:11 | AH37: 0.0811 | AI37: 0.2238 | AJ37: 0.6951 | AK37: 2507 | AL37: 1.3989955 | AM37: 203 | AN37: 1078 | AO37: 0.0432 | AP37: 0.034680247
A38: 35 | B38: אום בטין | C38: 0 | D38: 0 | E38: 0 | F38: 7 | G38: 0 | H38: 0 | I38: 0 | J38: 0 | K38: 0 | L38: =IF(N38="","",IF(E38=0,"0",SUM($S$7)+LN(Q38)+SUM(G38*100)/$R$7)) -> 0 | M38: 0 | N38: =IF(E38="","",IF(J38=0,E38*1,IF(E38=0,0,H38/J38))) -> 0 | O38: =IF(N38="","",N38*N38) -> 0 | Q38: =IF(H38="","",H38*O38) -> 0 | AF38: =IF(L38="0",4,IF(L38>7.5,1,IF(L38>6,2,IF(L38>4.5,3,IF(L38>0,4))))) -> 4 | AG38: 15 בדצמבר 2020 | 10:33 | AH38: 0.088 | AI38: 0.1964 | AJ38: 0.7156 | AK38: 1792 | AL38: 1.0854028 | AM38: 158 | AN38: 926 | AO38: 0.0349 | AP38: 0.031870988
A39: 36 | B39: אופקים | C39: 20 | D39: 0.0025 | E39: 220 | F39: 2454 | G39: 0.0896 | H39: 69 | I39: 131 | J39: 41 | K39: 8.4 | L39: =IF(N39="","",IF(E39=0,"0",SUM($S$7)+LN(Q39)+SUM(G39*100)/$R$7)) -> 8.3951754 | M39: 7.4 | N39: =IF(E39="","",IF(J39=0,E39*1,IF(E39=0,0,H39/J39))) -> 1.6829268 | O39: =IF(N39="","",N39*N39) -> 2.8322427 | Q39: =IF(H39="","",H39*O39) -> 195.42475 | AF39: =IF(L39="0",4,IF(L39>7.5,1,IF(L39>6,2,IF(L39>4.5,3,IF(L39>0,4))))) -> 1 | AG39: 14 בדצמבר 2020 | 21:50 | AH39: 0.0775 | AI39: 0.3265 | AJ39: 0.596 | AK39: 1651 | AL39: 1.8446927 | AM39: 128 | AN39: 742 | AO39: 0.0356 | AP39: 0.032078395
A40: 37 | B40: אור יהודה | C40: 20 | D40: 0.0025 | E40: 173 | F40: 2168 | G40: 0.0798 | H40: 50 | I40: 144 | J40: 41 | K40: 7.3 | L40: =IF(N40="","",IF(E40=0,"0",SUM($S$7)+LN(Q40)+SUM(G40*100)/$R$7)) -> 7.3064249 | M40: 6.6 | N40: =IF(E40="","",IF(J40=0,E40*1,IF(E40=0,0,H40/J40))) -> 1.2195122 | O40: =IF(N40="","",N40*N40) -> 1.48721 | Q40: =IF(H40="","",H40*O40) -> 74.3605 | AF40: =IF(L40="0",4,IF(L40>7.5,1,IF(L40>6,2,IF(L40>4.5,3,IF(L40>0,4))))) -> 2 | AG40: 13 בדצמבר 2020 | 21:55 | AH40: 0.013 | AI40: 0.4134 | AJ40: 0.5736 | AK40: 895 | AL40: 0.81068841 | AM40: 12 | AN40: 1.39 | AO40: 0.0355 | AP40: 0.034813272
A41: 38 | B41: אור עקיבא | C41: 20 | D41: 0.0025 | E41: 131 | F41: 1464 | G41: 0.0895 | H41: 67 | I41: 100 | J41: 51 | K41: 7.9 | L41: =IF(N41="","",IF(E41=0,"0",SUM($S$7)+LN(Q41)+SUM(G41*100)/$R$7)) -> 7.8691766 | M41: 7.8 | N41: =IF(E41="","",IF(J41=0,E41*1,IF(E41=0,0,H41/J41))) -> 1.3137255 | O41: =IF(N41="","",N41*N41) -> 1.7258747 | Q41: =IF(H41="","",H41*O41) -> 115.6336 | AF41: =IF(L41="0",4,IF(L41>7.5,1,IF(L41>6,2,IF(L41>4.5,3,IF(L41>0,4))))) -> 1 | AG41: 12 בדצמבר 2020 | 21:49 | AH41: 0.0298 | AI41: 0.242 | AJ41: 0.7282 | AK41: 1104 | AL41: #DIV/0! | AM41: 66 | AN41: 1.39 | AO41: 0.0355 | AP41: 0.034813272
A42: 39 | B42: אורנית | C42: -1 | D42: -0.0001 | E42: 1 | F42: 197 | G42: 0.0051 | H42: 1 | I42: 15 | J42: 17 | K42: -3.2 | L42: =IF(N42="","",IF(E42=0,"0",SUM($S$7)+LN(Q42)+SUM(G42*100)/$R$7)) -> -3.6026767 | M42: 2.7 | N42: =IF(E42="","",IF(J42=0,E42*1,IF(E42=0,0,H42/J42))) -> 0.058823529 | O42: =IF(N42="","",N42*N42) -> 0.0034602076 | Q42: =IF(H42="","",H42*O42) -> 0.0034602076 | AF42: =IF(L42="0",4,IF(L42>7.5,1,IF(L42>6,2,IF(L42>4.5,3,IF(L42>0,4))))) -> FALSE | AG42: 11 בדצמבר 2020 | 22:48 | AK42: 1104
A43: 40 | B43: אזור | C43: 11 | D43: 0.0014 | E43: 58 | F43: 975 | G43: 0.0595 | H43: 48 | I43: 45 | J43: 38 | K43: 7.1 | L43: =IF(N43="","",IF(E43=0,"0",SUM($S$7)+LN(Q43)+SUM(G43*100)/$R$7)) -> 7.0821807 | M43: 6.3 | N43: =IF(E43="","",IF(J43=0,E43*1,IF(E43=0,0,H43/J43))) -> 1.2631579 | O43: =IF(N43="","",N43*N43) -> 1.5955679 | Q43: =IF(H43="","",H43*O43) -> 76.587258 | AF43: =IF(L43="0",4,IF(L43>7.5,1,IF(L43>6,2,IF(L43>4.5,3,IF(L43>0,4))))) -> 2 | AG43: 10 בדצמבר 2020 | 22:48 | AH43: 0.0908 | AI43: 0.2878 | AJ43: 0.6214 | AK43: 1626 | AL43: 0.86031746 | AM43: 148 | AN43: 2.26 | AO43: 0.0373 | AP43: 0.032345062
A44: 41 | B44: אחוזת ברק | C44: -1 | D44: -0.0001 | E44: 3 | F44: 199 | G44: 0.0151 | H44: 13 | I44: 17 | J44: 72 | K44: 1.3 | L44: =IF(N44="","",IF(E44=0,"0",SUM($S$7)+LN(Q44)+SUM(G44*100)/$R$7)) -> 1.3302658 | M44: 5.3 | N44: =IF(E44="","",IF(J44=0,E44*1,IF(E44=0,0,H44/J44))) -> 0.18055556 | O44: =IF(N44="","",N44*N44) -> 0.032600309 | Q44: =IF(H44="","",H44*O44) -> 0.42380401 | AF44: =IF(L44="0",4,IF(L44>7.5,1,IF(L44>6,2,IF(L44>4.5,3,IF(L44>0,4))))) -> 4 | AG44: 9 בדצמבר 2020 | 22:46 | AH44: 0.0507 | AI44: 0.2603 | AJ44: 0.689 | AK44: 1890 | AL44: 1.1303828 | AM44: 96 | AN44: 820 | AO44: 0.0372 | AP44: 0.031337346
A45: 42 | B45: אטרש (שבט) | C45: 0 | D45: 0 | E45: 0 | F45: 0 | G45: 0 | H45: 0 | I45: 0 | J45: 0 | K45: 0 | L45: =IF(N45="","",IF(E45=0,"0",SUM($S$7)+LN(Q45)+SUM(G45*100)/$R$7)) -> 0 | M45: 6.4 | N45: =IF(E45="","",IF(J45=0,E45*1,IF(E45=0,0,H45/J45))) -> 0 | O45: =IF(N45="","",N45*N45) -> 0 | Q45: =IF(H45="","",H45*O45) -> 0 | AF45: =IF(L45="0",4,IF(L45>7.5,1,IF(L45>6,2,IF(L45>4.5,3,IF(L45>0,4))))) -> 4 | AG45: 8 בדצמבר 2020 | 21:38 | AH45: 0.0473 | AI45: 0.3176 | AJ45: 0.6351 | AK45: 1672 | AL45: 1.78 | AM45: 79 | AN45: 622 | AO45: 0.0437 | AP45: 0.032
A46: 43 | B46: אילת | C46: 21 | D46: 0.0026 | E46: 66 | F46: 2205 | G46: 0.0299 | H46: 12 | I46: 79 | J46: 14 | K46: 4.5 | L46: =IF(N46="","",IF(E46=0,"0",SUM($S$7)+LN(Q46)+SUM(G46*100)/$R$7)) -> 4.5503553 | M46: 5.1 | N46: =IF(E46="","",IF(J46=0,E46*1,IF(E46=0,0,H46/J46))) -> 0.85714286 | O46: =IF(N46="","",N46*N46) -> 0.73469388 | Q46: =IF(H46="","",H46*O46) -> 8.8163265 | AF46: =IF(L46="0",4,IF(L46>7.5,1,IF(L46>6,2,IF(L46>4.5,3,IF(L46>0,4))))) -> 3 | AG46: 7 בדצמבר 2020 | 21:38 | AH46: 0.0012 | AI46: 0.3447 | AJ46: 0.6541 | AK46: 937 | AL46: 0.92224409 | AM46: 17 | AN46: 356 | AO46: 0.0394 | AP46: 0.029972222
A47: 44 | B47: אכסאל | C47: 22 | D47: 0.0027 | E47: 67 | F47: 616 | G47: 0.1088 | H47: 45 | I47: 62 | J47: 42 | K47: 7.3 | L47: =IF(N47="","",IF(E47=0,"0",SUM($S$7)+LN(Q47)+SUM(G47*100)/$R$7)) -> 7.3046482 | M47: 6.9 | N47: =IF(E47="","",IF(J47=0,E47*1,IF(E47=0,0,H47/J47))) -> 1.0714286 | O47: =IF(N47="","",N47*N47) -> 1.1479592 | Q47: =IF(H47="","",H47*O47) -> 51.658163 | AF47: =IF(L47="0",4,IF(L47>7.5,1,IF(L47>6,2,IF(L47>4.5,3,IF(L47>0,4))))) -> 2 | AG47: 6 בדצמבר 2020 | 21:38 | AH47: 0.0282 | AI47: 0.3711 | AJ47: 0.6007 | AK47: 1016 | AL47: 0.75036928 | AM47: 29 | AN47: 356 | AO47: 0.0324 | AP47: 0.022864198
A48: 45 | B48: אל-בטוף | C48: 0 | D48: 0 | E48: 0 | F48: 0 | G48: 0 | H48: 0 | I48: 0 | J48: 0 | K48: 0 | L48: =IF(N48="","",IF(E48=0,"0",SUM($S$7)+LN(Q48)+SUM(G48*100)/$R$7)) -> 0 | M48: 0 | N48: =IF(E48="","",IF(J48=0,E48*1,IF(E48=0,0,H48/J48))) -> 0 | O48: =IF(N48="","",N48*N48) -> 0 | Q48: =IF(H48="","",H48*O48) -> 0 | AF48: =IF(L48="0",4,IF(L48>7.5,1,IF(L48>6,2,IF(L48>4.5,3,IF(L48>0,4))))) -> 4 | AG48: 5 בדצמבר 2020 | 21:35 | AH48: 0.0355 | AI48: 0.3693 | AJ48: 0.5952 | AK48: 2708 | AL48: 1.7504848 | AM48: 96 | AN48: 391 | AO48: 0.0355 | AP48: 0.023813272
A49: 46 | B49: אל סייד | C49: 0 | D49: 0 | E49: 0 | F49: 0 | G49: 0 | H49: 0 | I49: 0 | J49: 0 | K49: 0 | L49: =IF(N49="","",IF(E49=0,"0",SUM($S$7)+LN(Q49)+SUM(G49*100)/$R$7)) -> 0 | M49: 0 | N49: =IF(E49="","",IF(J49=0,E49*1,IF(E49=0,0,H49/J49))) -> 0 | O49: =IF(N49="","",N49*N49) -> 0 | Q49: =IF(H49="","",H49*O49) -> 0 | AF49: =IF(L49="0",4,IF(L49>7.5,1,IF(L49>6,2,IF(L49>4.5,3,IF(L49>0,4))))) -> 4 | AG49: 3 בדצמבר 2020 | 20:59 | AH49: 0.0777 | AI49: 0.2812 | AJ49: 0.6411 | AK49: 1547 | AL49: 1.3949504 | AM49: 120 | AN49: 359 | AO49: 0.0318 | AP49: 0.022350309
A50: 47 | B50: אל קסום | C50: 0 | D50: 0 | E50: 0 | F50: 0 | G50: 0 | H50: 0 | I50: 0 | J50: 0 | K50: 0 | L50: =IF(N50="","",IF(E50=0,"0",SUM($S$7)+LN(Q50)+SUM(G50*100)/$R$7)) -> 0 | M50: 0 | N50: =IF(E50="","",IF(J50=0,E50*1,IF(E50=0,0,H50/J50))) -> 0 | O50: =IF(N50="","",N50*N50) -> 0 | Q50: =IF(H50="","",H50*O50) -> 0 | AF50: =IF(L50="0",4,IF(L50>7.5,1,IF(L50>6,2,IF(L50>4.5,3,IF(L50>0,4))))) -> 4 | AG50: 2 בדצמבר 2020 | 18:26 | AH50: 0.0257 | AI50: 0.294 | AJ50: 0.6803 | AK50: 1109 | AL50: 0.92570952 | AM50: 29 | AN50: 382 | AO50: 0.0242 | AP50: 0.022862654
A51: 48 | B51: אלון שבות | C51: 6 | D51: 0.0007 | E51: 39 | F51: 786 | G51: 0.0496 | H51: 121 | I51: 18 | J51: 56 | K51: 9 | L51: =IF(N51="","",IF(E51=0,"0",SUM($S$7)+LN(Q51)+SUM(G51*100)/$R$7)) -> 8.9566683 | M51: 8.4 | N51: =IF(E51="","",IF(J51=0,E51*1,IF(E51=0,0,H51/J51))) -> 2.1607143 | O51: =IF(N51="","",N51*N51) -> 4.6686862 | Q51: =IF(H51="","",H51*O51) -> 564.91103 | AF51: =IF(L51="0",4,IF(L51>7.5,1,IF(L51>6,2,IF(L51>4.5,3,IF(L51>0,4))))) -> 1 | AG51: 1 בדצמבר 2020 | 22:00 | AH51: 0.0451 | AI51: 0.3047 | AJ51: 0.6502 | AK51: 1198 | AL51: =AK51/AK52 -> 1.0345423 | AM51: 54 | AN51: 405 | AO51: 0.0256 | AP51: 0.022125617
A52: 49 | B52: אלונה | C52: 0 | D52: 0 | E52: 0 | F52: 0 | G52: 0 | H52: 0 | I52: 0 | J52: 0 | K52: 0 | L52: =IF(N52="","",IF(E52=0,"0",SUM($S$7)+LN(Q52)+SUM(G52*100)/$R$7)) -> 0 | M52: 0 | N52: =IF(E52="","",IF(J52=0,E52*1,IF(E52=0,0,H52/J52))) -> 0 | O52: =IF(N52="","",N52*N52) -> 0 | Q52: =IF(H52="","",H52*O52) -> 0 | AF52: =IF(L52="0",4,IF(L52>7.5,1,IF(L52>6,2,IF(L52>4.5,3,IF(L52>0,4))))) -> 4 | AG52: 30 בנובמבר 2020 | 21:39 | AH52: 0.0694 | AI52: 0.2651 | AJ52: 0.6655 | AK52: 1158 | AL52: =AK52/AK53 -> 1.5019455 | AM52: 80 | AN52: 381 | AO52: 0.0241 | AP52: 0.021935802
A53: 50 | B53: אליכין | C53: 7 | D53: 0.0009 | E53: 12 | F53: 258 | G53: 0.0465 | H53: 35 | I53: 10 | J53: 29 | K53: 6.5 | L53: =IF(N53="","",IF(E53=0,"0",SUM($S$7)+LN(Q53)+SUM(G53*100)/$R$7)) -> 6.5127025 | M53: 6.1 | N53: =IF(E53="","",IF(J53=0,E53*1,IF(E53=0,0,H53/J53))) -> 1.2068966 | O53: =IF(N53="","",N53*N53) -> 1.4565993 | Q53: =IF(H53="","",H53*O53) -> 50.980975 | AF53: =IF(L53="0",4,IF(L53>7.5,1,IF(L53>6,2,IF(L53>4.5,3,IF(L53>0,4))))) -> 2 | AG53: 29 בנובמבר 2020 | 22:03 | AH53: 0.032 | AI53: 0.3852 | AJ53: 0.5828 | AK53: 771 | AL53: =AK53/AK54 -> 0.47358722 | AM53: 25 | AN53: 351 | AO53: 0.0264 | AP53: 0.02186358
A54: 51 | B54: אלעזר | C54: 3 | D54: 0.0004 | E54: 12 | F54: 431 | G54: 0.0278 | H54: 49 | I54: 17 | J54: 69 | K54: 5.5 | L54: =IF(N54="","",IF(E54=0,"0",SUM($S$7)+LN(Q54)+SUM(G54*100)/$R$7)) -> 5.5547479 | M54: 6 | N54: =IF(E54="","",IF(J54=0,E54*1,IF(E54=0,0,H54/J54))) -> 0.71014493 | O54: =IF(N54="","",N54*N54) -> 0.50430582 | Q54: =IF(H54="","",H54*O54) -> 24.710985 | AF54: =IF(L54="0",4,IF(L54>7.5,1,IF(L54>6,2,IF(L54>4.5,3,IF(L54>0,4))))) -> 3 | AG54: 28 בנובמבר 2020 | 22:32 | AH54: 0.0252 | AI54: 0.3606 | AJ54: 0.6142 | AK54: 1628 | AL54: =AK54/AK55 -> 1.4733032 | AM54: 41 | AN54: 371 | AO54: 0.031 | AP54: 0.02303642
A55: 52 | B55: אלפי מנשה | C55: 10 | D55: 0.0012 | E55: 27 | F55: 550 | G55: 0.0491 | H55: 34 | I55: 16 | J55: 20 | K55: 7.2 | L55: =IF(N55="","",IF(E55=0,"0",SUM($S$7)+LN(Q55)+SUM(G55*100)/$R$7)) -> 7.201367 | M55: 6.3 | N55: =IF(E55="","",IF(J55=0,E55*1,IF(E55=0,0,H55/J55))) -> 1.7 | O55: =IF(N55="","",N55*N55) -> 2.89 | Q55: =IF(H55="","",H55*O55) -> 98.26 | AF55: =IF(L55="0",4,IF(L55>7.5,1,IF(L55>6,2,IF(L55>4.5,3,IF(L55>0,4))))) -> 2 | AG55: 26 בנובמבר 2020 | 22:12 | AH55: 0.0455 | AI55: 0.3095 | AJ55: 0.645 | AK55: 1105 | AL55: =AK55/AK56 -> 1.1730361 | AM55: 50 | AN55: 412 | AO55: 0.0176 | AP55: 0.020907099
A56: 53 | B56: אלקנה | C56: 8 | D56: 0.001 | E56: 57 | F56: 966 | G56: 0.059 | H56: 153 | I56: 27 | J56: 72 | K56: 9.3 | L56: =IF(N56="","",IF(E56=0,"0",SUM($S$7)+LN(Q56)+SUM(G56*100)/$R$7)) -> 9.2754815 | M56: 7.9 | N56: =IF(E56="","",IF(J56=0,E56*1,IF(E56=0,0,H56/J56))) -> 2.125 | O56: =IF(N56="","",N56*N56) -> 4.515625 | Q56: =IF(H56="","",H56*O56) -> 690.89062 | AF56: =IF(L56="0",4,IF(L56>7.5,1,IF(L56>6,2,IF(L56>4.5,3,IF(L56>0,4))))) -> 1 | AG56: 25 בנובמבר 2020 | 22:32 | AH56: 0.0383 | AI56: 0.3174 | AJ56: 0.6443 | AK56: 942 | AL56: =AK56/AK57 -> 1.1030445 | AM56: 36 | AN56: 425 | AO56: 0.0175 | AP56: 0.019133025
A57: 54 | B57: אעבלין | C57: 18 | D57: 0.0022 | E57: 93 | F57: 621 | G57: 0.1498 | H57: 70 | I57: 85 | J57: 64 | K57: 8.3 | L57: =IF(N57="","",IF(E57=0,"0",SUM($S$7)+LN(Q57)+SUM(G57*100)/$R$7)) -> 8.3002196 | M57: 7.8 | N57: =IF(E57="","",IF(J57=0,E57*1,IF(E57=0,0,H57/J57))) -> 1.09375 | O57: =IF(N57="","",N57*N57) -> 1.1962891 | Q57: =IF(H57="","",H57*O57) -> 83.740234 | AF57: =IF(L57="0",4,IF(L57>7.5,1,IF(L57>6,2,IF(L57>4.5,3,IF(L57>0,4))))) -> 1 | AG57: 24 בנובמבר 2020 | 21:55 | AH57: 0.0506 | AI57: 0.3431 | AJ57: 0.6063 | AK57: 854 | AL57: =AK57/AK58 -> 1.0166667 | AM57: 43 | AN57: 459 | AO57: 0.0277 | AP57: 0.020289815
A58: 55 | B58: אעצם (שבט) | C58: -1 | D58: -0.0001 | E58: 0 | F58: 0 | G58: 0 | H58: 0 | I58: 0 | J58: 0 | K58: 0 | L58: =IF(N58="","",IF(E58=0,"0",SUM($S$7)+LN(Q58)+SUM(G58*100)/$R$7)) -> 0 | M58: 4.4 | N58: =IF(E58="","",IF(J58=0,E58*1,IF(E58=0,0,H58/J58))) -> 0 | O58: =IF(N58="","",N58*N58) -> 0 | Q58: =IF(H58="","",H58*O58) -> 0 | AF58: =IF(L58="0",4,IF(L58>7.5,1,IF(L58>6,2,IF(L58>4.5,3,IF(L58>0,4))))) -> 4 | AG58: 23 בנובמבר 2020 | 21:31 | AH58: 0.0623 | AI58: 0.3119 | AJ58: 0.6258 | AK58: 840 | AL58: =AK58/AK59 -> 1.3023256 | AM58: 52 | AN58: 431 | AO58: 0.0262 | AP58: 0.020093519
A59: 56 | B59: אפרת | C59: 16 | D59: 0.002 | E59: 99 | F59: 1659 | G59: 0.0597 | H59: 87 | I59: 88 | J59: 77 | K59: 7.4 | L59: =IF(N59="","",IF(E59=0,"0",SUM($S$7)+LN(Q59)+SUM(G59*100)/$R$7)) -> 7.4563635 | M59: 7.4 | N59: =IF(E59="","",IF(J59=0,E59*1,IF(E59=0,0,H59/J59))) -> 1.1298701 | O59: =IF(N59="","",N59*N59) -> 1.2766065 | Q59: =IF(H59="","",H59*O59) -> 111.06477 | AF59: =IF(L59="0",4,IF(L59>7.5,1,IF(L59>6,2,IF(L59>4.5,3,IF(L59>0,4))))) -> 2 | AG59: 22 בנובמבר 2020 | 23:03 | AH59: 0.0656 | AI59: 0.4496 | AJ59: 0.4848 | AK59: 645 | AL59: =AK59/AK60 -> 0.51231136 | AM59: 42 | AN59: 432 | AO59: 0.0274 | AP59: 0.021118519
A60: 57 | B60: אריאל | C60: 3 | D60: 0.0004 | E60: 57 | F60: 1427 | G60: 0.0399 | H60: 31 | I60: 58 | J60: 32 | K60: 5.9 | L60: =IF(N60="","",IF(E60=0,"0",SUM($S$7)+LN(Q60)+SUM(G60*100)/$R$7)) -> 5.8692398 | M60: 6.2 | N60: =IF(E60="","",IF(J60=0,E60*1,IF(E60=0,0,H60/J60))) -> 0.96875 | O60: =IF(N60="","",N60*N60) -> 0.93847656 | Q60: =IF(H60="","",H60*O60) -> 29.092773 | AF60: =IF(L60="0",4,IF(L60>7.5,1,IF(L60>6,2,IF(L60>4.5,3,IF(L60>0,4))))) -> 3 | AG60: 21 בנובמבר 2020 | 20:59 | AH60: 0.031 | AI60: 0.3693 | AJ60: 0.5997 | AK60: 1259 | AL60: =AK60/AK61 -> 1.859675 | AM60: 39 | AN60: 466 | AO60: 0.0269 | AP60: 0.023275617
A61: 58 | B61: אשכול | C61: 0 | D61: 0 | E61: 0 | F61: 0 | G61: 0 | H61: 0 | I61: 0 | J61: 0 | K61: 0 | L61: =IF(N61="","",IF(E61=0,"0",SUM($S$7)+LN(Q61)+SUM(G61*100)/$R$7)) -> 0 | M61: 0 | N61: =IF(E61="","",IF(J61=0,E61*1,IF(E61=0,0,H61/J61))) -> 0 | O61: =IF(N61="","",N61*N61) -> 0 | Q61: =IF(H61="","",H61*O61) -> 0 | AF61: =IF(L61="0",4,IF(L61>7.5,1,IF(L61>6,2,IF(L61>4.5,3,IF(L61>0,4))))) -> 4 | AG61: 44154 | AH61: 0.0757 | AI61: 0.3309 | AJ61: 0.5934 | AK61: 677 | AL61: =AK61/AK62 -> 0.90508021 | AM61: 51 | AN61: 530 | AO61: 0.0265 | AP61: 0.022302469
A62: 59 | B62: באקה אל-גרביה | C62: 9 | D62: 0.0011 | E62: 69 | F62: 628 | G62: 0.1099 | H62: 23 | I62: 77 | J62: 26 | K62: 6.3 | L62: =IF(N62="","",IF(E62=0,"0",SUM($S$7)+LN(Q62)+SUM(G62*100)/$R$7)) -> 6.2640396 | M62: 6.2 | N62: =IF(E62="","",IF(J62=0,E62*1,IF(E62=0,0,H62/J62))) -> 0.88461538 | O62: =IF(N62="","",N62*N62) -> 0.78254438 | Q62: =IF(H62="","",H62*O62) -> 17.998521 | AF62: =IF(L62="0",4,IF(L62>7.5,1,IF(L62>6,2,IF(L62>4.5,3,IF(L62>0,4))))) -> 2 | AG62: 44153 | AH62: 0.1048 | AI62: 0.3115 | AJ62: 0.5837 | AK62: 748 | AL62: =AK62/AK63 -> 1.0176871 | AM62: 78 | AN62: 528 | AO62: 0.0266 | AP62: 0.022554012
A63: 60 | B63: באר טוביה | C63: 0 | D63: 0 | E63: 0 | F63: 0 | G63: 0 | H63: 0 | I63: 0 | J63: 0 | K63: 0 | L63: =IF(N63="","",IF(E63=0,"0",SUM($S$7)+LN(Q63)+SUM(G63*100)/$R$7)) -> 0 | M63: 0 | N63: =IF(E63="","",IF(J63=0,E63*1,IF(E63=0,0,H63/J63))) -> 0 | O63: =IF(N63="","",N63*N63) -> 0 | Q63: =IF(H63="","",H63*O63) -> 0 | AF63: =IF(L63="0",4,IF(L63>7.5,1,IF(L63>6,2,IF(L63>4.5,3,IF(L63>0,4))))) -> 4 | AG63: 44152 | AH63: 0.0698 | AI63: 0.2857 | AJ63: 0.6445 | AK63: 735 | AL63: =AK63/AK64 -> 0.76882845 | AM63: 51 | AN63: 638 | AO63: 0.0265 | AP63: 0.022098462
A64: 61 | B64: באר יעקב | C64: 26 | D64: 0.0032 | E64: 121 | F64: 2020 | G64: 0.0599 | H64: 47 | I64: 95 | J64: 37 | K64: 7.1 | L64: =IF(N64="","",IF(E64=0,"0",SUM($S$7)+LN(Q64)+SUM(G64*100)/$R$7)) -> 7.077357 | M64: 6.6 | N64: =IF(E64="","",IF(J64=0,E64*1,IF(E64=0,0,H64/J64))) -> 1.2702703 | O64: =IF(N64="","",N64*N64) -> 1.6135866 | Q64: =IF(H64="","",H64*O64) -> 75.838568 | AF64: =IF(L64="0",4,IF(L64>7.5,1,IF(L64>6,2,IF(L64>4.5,3,IF(L64>0,4))))) -> 2 | AG64: 44151 | AH64: 0.0872 | AI64: 0.2981 | AJ64: 0.6147 | AK64: 956 | AL64: =AK64/AK65 -> 2.6120219 | AM64: 83 | AN64: 613 | AO64: 0.0431 | AP64: 0.031419692
A65: 62 | B65: בדואי ללא שיוך רשות | C65: 0 | D65: 0 | E65: 0 | F65: 0 | G65: 0 | H65: 0 | I65: 0 | J65: 0 | K65: 0 | L65: =IF(N65="","",IF(E65=0,"0",SUM($S$7)+LN(Q65)+SUM(G65*100)/$R$7)) -> 0 | M65: 0 | N65: =IF(E65="","",IF(J65=0,E65*1,IF(E65=0,0,H65/J65))) -> 0 | O65: =IF(N65="","",N65*N65) -> 0 | Q65: =IF(H65="","",H65*O65) -> 0 | AF65: =IF(L65="0",4,IF(L65>7.5,1,IF(L65>6,2,IF(L65>4.5,3,IF(L65>0,4))))) -> 4 | AG65: 44150 | AH65: 0.0113 | AI65: 0.3607 | AJ65: 0.628 | AK65: 366 | AL65: =AK65/AK66 -> 0.59609121 | AM65: 4 | AN65: 571 | AO65: 0.0453 | AP65: 0.031006462
A66: 63 | B66: בוסתאן אל-מרג' | C66: 0 | D66: 0 | E66: 0 | F66: 0 | G66: 0 | H66: 0 | I66: 0 | J66: 0 | K66: 0 | L66: =IF(N66="","",IF(E66=0,"0",SUM($S$7)+LN(Q66)+SUM(G66*100)/$R$7)) -> 0 | M66: 0 | N66: =IF(E66="","",IF(J66=0,E66*1,IF(E66=0,0,H66/J66))) -> 0 | O66: =IF(N66="","",N66*N66) -> 0 | Q66: =IF(H66="","",H66*O66) -> 0 | AF66: =IF(L66="0",4,IF(L66>7.5,1,IF(L66>6,2,IF(L66>4.5,3,IF(L66>0,4))))) -> 4 | AG66: 44149 | AH66: 0.0965 | AI66: 0.3583 | AJ66: 0.5452 | AK66: 614 | AL66: =AK66/AK67 -> 1.2454361 | AM66: 59 | AN66: 662 | AO66: 0.0497 | AP66: 0.029963385
A67: 64 | B67: בועיינה-נוג'ידאת | C67: 10 | D67: 0.0012 | E67: 44 | F67: 344 | G67: 0.1279 | H67: 43 | I67: 29 | J67: 29 | K67: 8.2 | L67: =IF(N67="","",IF(E67=0,"0",SUM($S$7)+LN(Q67)+SUM(G67*100)/$R$7)) -> 8.1477587 | M67: 6.9 | N67: =IF(E67="","",IF(J67=0,E67*1,IF(E67=0,0,H67/J67))) -> 1.4827586 | O67: =IF(N67="","",N67*N67) -> 2.1985731 | Q67: =IF(H67="","",H67*O67) -> 94.538644 | AF67: =IF(L67="0",4,IF(L67>7.5,1,IF(L67>6,2,IF(L67>4.5,3,IF(L67>0,4))))) -> 1 | AG67: 13/11/20 חצי | AH67: 0.1245 | AI67: 0.2819 | AJ67: 0.5936 | AK67: 493 | AL67: =AK67/AK68 -> 0.62012579 | AM67: 61 | AN67: 622 | AO67: 0.0445 | AP67: 0.028107692
A68: 65 | B68: בוקעאתא | C68: 4 | D68: 0.0005 | E68: 14 | F68: 74 | G68: 0.1892 | H68: 21 | I68: 10 | J68: 15 | K68: 8.1 | L68: =IF(N68="","",IF(E68=0,"0",SUM($S$7)+LN(Q68)+SUM(G68*100)/$R$7)) -> 8.0824669 | M68: 6.4 | N68: =IF(E68="","",IF(J68=0,E68*1,IF(E68=0,0,H68/J68))) -> 1.4 | O68: =IF(N68="","",N68*N68) -> 1.96 | Q68: =IF(H68="","",H68*O68) -> 41.16 | AF68: =IF(L68="0",4,IF(L68>7.5,1,IF(L68>6,2,IF(L68>4.5,3,IF(L68>0,4))))) -> 1 | AG68: 44147 | AH68: 0.0912 | AI68: 0.3862 | AJ68: 0.5226 | AK68: 795 | AL68: =AK68/AK69 -> 1.2679426 | AM68: 72 | AN68: 617 | AO68: 0.0294 | AP68: 0.017879692
A69: 66 | B69: ביר אל-מכסור | C69: 11 | D69: 0.0014 | E69: 53 | F69: 331 | G69: 0.1601 | H69: 53 | I69: 39 | J69: 39 | K69: 8.6 | L69: =IF(N69="","",IF(E69=0,"0",SUM($S$7)+LN(Q69)+SUM(G69*100)/$R$7)) -> 8.5850024 | M69: 7.5 | N69: =IF(E69="","",IF(J69=0,E69*1,IF(E69=0,0,H69/J69))) -> 1.3589744 | O69: =IF(N69="","",N69*N69) -> 1.8468113 | Q69: =IF(H69="","",H69*O69) -> 97.880999 | AF69: =IF(L69="0",4,IF(L69>7.5,1,IF(L69>6,2,IF(L69>4.5,3,IF(L69>0,4))))) -> 1 | AG69: 44146 | AH69: 0.1648 | AI69: 0.3573 | AJ69: 0.4779 | AK69: 627 | AL69: =AK69/AK70 -> 0.8660221 | AM69: 103 | AN69: 636 | AO69: 0.0269 | AP69: 0.01748
A70: 67 | B70: ביר הדאג' | C70: 0 | D70: 0 | E70: 0 | F70: 0 | G70: 0 | H70: 0 | I70: 0 | J70: 0 | K70: 0 | L70: =IF(N70="","",IF(E70=0,"0",SUM($S$7)+LN(Q70)+SUM(G70*100)/$R$7)) -> 0 | M70: 0 | N70: =IF(E70="","",IF(J70=0,E70*1,IF(E70=0,0,H70/J70))) -> 0 | O70: =IF(N70="","",N70*N70) -> 0 | Q70: =IF(H70="","",H70*O70) -> 0 | AF70: =IF(L70="0",4,IF(L70>7.5,1,IF(L70>6,2,IF(L70>4.5,3,IF(L70>0,4))))) -> 4 | AG70: 44145 | AH70: 0.0789 | AI70: 0.2983 | AJ70: 0.6228 | AK70: 724 | AL70: =AK70/AK71 -> 1.1565495 | AM70: 57 | AN70: 665 | AO70: 0.0192 | AP70: 0.018994462
A71: 68 | B71: בית אל | C71: 17 | D71: 0.0021 | E71: 80 | F71: 1007 | G71: 0.0794 | H71: 140 | I71: 32 | J71: 56 | K71: 9.8 | L71: =IF(N71="","",IF(E71=0,"0",SUM($S$7)+LN(Q71)+SUM(G71*100)/$R$7)) -> 9.7667239 | M71: 8.1 | N71: =IF(E71="","",IF(J71=0,E71*1,IF(E71=0,0,H71/J71))) -> 2.5 | O71: =IF(N71="","",N71*N71) -> 6.25 | Q71: =IF(H71="","",H71*O71) -> 875 | AF71: =IF(L71="0",4,IF(L71>7.5,1,IF(L71>6,2,IF(L71>4.5,3,IF(L71>0,4))))) -> 1 | AG71: 44144 | AH71: 0.0801 | AI71: 0.2891 | AJ71: 0.6308 | AK71: 626 | AL71: =AK71/AK72 -> 2.3622642 | AM71: 50 | AN71: 643 | AO71: 0.0168 | AP71: 0.019189846
A72: 69 | B72: בית אריה | C72: 7 | D72: 0.0009 | E72: 19 | F72: 321 | G72: 0.0592 | H72: 37 | I72: 18 | J72: 35 | K72: 6.5 | L72: =IF(N72="","",IF(E72=0,"0",SUM($S$7)+LN(Q72)+SUM(G72*100)/$R$7)) -> 6.4620576 | M72: 5.6 | N72: =IF(E72="","",IF(J72=0,E72*1,IF(E72=0,0,H72/J72))) -> 1.0571429 | O72: =IF(N72="","",N72*N72) -> 1.117551 | Q72: =IF(H72="","",H72*O72) -> 41.349388 | AF72: =IF(L72="0",4,IF(L72>7.5,1,IF(L72>6,2,IF(L72>4.5,3,IF(L72>0,4))))) -> 2 | AG72: 44143 | AH72: 0.0562 | AI72: 0.3094 | AJ72: 0.6344 | AK72: 265 | AL72: =AK72/AK73 -> 0.50669216 | AM72: 15 | AN72: 663 | AO72: 0.0151 | AP72: 0.021577231
A73: 70 | B73: בית ג'ן | C73: 33 | D73: 0.0041 | E73: 102 | F73: 730 | G73: 0.1397 | H73: 86 | I73: 83 | J73: 70 | K73: 8.6 | L73: =IF(N73="","",IF(E73=0,"0",SUM($S$7)+LN(Q73)+SUM(G73*100)/$R$7)) -> 8.6123014 | M73: 7.6 | N73: =IF(E73="","",IF(J73=0,E73*1,IF(E73=0,0,H73/J73))) -> 1.2285714 | O73: =IF(N73="","",N73*N73) -> 1.5093878 | Q73: =IF(H73="","",H73*O73) -> 129.80735 | AF73: =IF(L73="0",4,IF(L73>7.5,1,IF(L73>6,2,IF(L73>4.5,3,IF(L73>0,4))))) -> 1 | AG73: 44142 | AH73: 0.0721 | AI73: 0.3308 | AJ73: 0.5971 | AK73: 523 | AL73: =AK73/AK74 -> 1.091858 | AM73: 38 | AN73: 721 | AO73: 0.0169 | AP73: 0.023693846
A74: 71 | B74: בית דגן | C74: 6 | D74: 0.0007 | E74: 37 | F74: 421 | G74: 0.0879 | H74: 56 | I74: 27 | J74: 41 | K74: 7.8 | L74: =IF(N74="","",IF(E74=0,"0",SUM($S$7)+LN(Q74)+SUM(G74*100)/$R$7)) -> 7.7476609 | M74: 6.9 | N74: =IF(E74="","",IF(J74=0,E74*1,IF(E74=0,0,H74/J74))) -> 1.3658537 | O74: =IF(N74="","",N74*N74) -> 1.8655562 | Q74: =IF(H74="","",H74*O74) -> 104.47115 | AF74: =IF(L74="0",4,IF(L74>7.5,1,IF(L74>6,2,IF(L74>4.5,3,IF(L74>0,4))))) -> 1 | AG74: 44141 | AH74: 0.0942 | AI74: 0.2923 | AJ74: 0.6135 | AK74: 479 | AL74: =AK74/AK75 -> 0.87249545 | AM74: 45 | AN74: 735 | AO74: 0.015 | AP74: 0.021520615
A75: 72 | B75: בית חשמונאי | C75: 0 | D75: 0 | E75: 4 | F75: 122 | G75: 0.0328 | H75: 19 | I75: 3 | J75: 14 | K75: 5.9 | L75: =IF(N75="","",IF(E75=0,"0",SUM($S$7)+LN(Q75)+SUM(G75*100)/$R$7)) -> 5.9652023 | M75: 4.5 | N75: =IF(E75="","",IF(J75=0,E75*1,IF(E75=0,0,H75/J75))) -> 1.3571429 | O75: =IF(N75="","",N75*N75) -> 1.8418367 | Q75: =IF(H75="","",H75*O75) -> 34.994898 | AF75: =IF(L75="0",4,IF(L75>7.5,1,IF(L75>6,2,IF(L75>4.5,3,IF(L75>0,4))))) -> 3 | AG75: 44140 | AH75: 0.1194 | AI75: 0.3206 | AJ75: 0.56 | AK75: 549 | AL75: =AK75/AK76 -> 0.74189189 | AM75: 66 | AN75: 663 | AO75: 0.0213 | AP75: 0.021567077
A76: 73 | B76: בית יצחק-שער חפר | C76: 2 | D76: 0.0002 | E76: 8 | F76: 175 | G76: 0.0457 | H76: 38 | I76: 4 | J76: 19 | K76: 7.6 | L76: =IF(N76="","",IF(E76=0,"0",SUM($S$7)+LN(Q76)+SUM(G76*100)/$R$7)) -> 7.5951305 | M76: 7 | N76: =IF(E76="","",IF(J76=0,E76*1,IF(E76=0,0,H76/J76))) -> 2 | O76: =IF(N76="","",N76*N76) -> 4 | Q76: =IF(H76="","",H76*O76) -> 152 | AF76: =IF(L76="0",4,IF(L76>7.5,1,IF(L76>6,2,IF(L76>4.5,3,IF(L76>0,4))))) -> 1 | AG76: 44139 | AH76: 0.0588 | AI76: 0.3365 | AJ76: 0.6047 | AK76: 740 | AL76: =AK76/AK77 -> 0.93081761 | AM76: 44 | AN76: 749 | AO76: 0.0172 | AP76: 0.023108923
A77: 74 | B77: בית שאן | C77: 36 | D77: 0.0045 | E77: 100 | F77: 1670 | G77: 0.0599 | H77: 52 | I77: 100 | J77: 52 | K77: 6.7 | L77: =IF(N77="","",IF(E77=0,"0",SUM($S$7)+LN(Q77)+SUM(G77*100)/$R$7)) -> 6.6999937 | M77: 7.1 | N77: =IF(E77="","",IF(J77=0,E77*1,IF(E77=0,0,H77/J77))) -> 1 | O77: =IF(N77="","",N77*N77) -> 1 | Q77: =IF(H77="","",H77*O77) -> 52 | AF77: =IF(L77="0",4,IF(L77>7.5,1,IF(L77>6,2,IF(L77>4.5,3,IF(L77>0,4))))) -> 2 | AG77: 44138 | AH77: 0.1069 | AI77: 0.2818 | AJ77: 0.6113 | AK77: 795 | AL77: =AK77/AK78 -> 1.7023555 | AM77: 85 | AN77: 898 | AO77: 0.0203 | AP77: 0.022974154
A78: 75 | B78: בני עי"ש | C78: 7 | D78: 0.0009 | E78: 28 | F78: 404 | G78: 0.0693 | H78: 41 | I78: 21 | J78: 31 | K78: 7.2 | L78: =IF(N78="","",IF(E78=0,"0",SUM($S$7)+LN(Q78)+SUM(G78*100)/$R$7)) -> 7.1389918 | M78: 6.5 | N78: =IF(E78="","",IF(J78=0,E78*1,IF(E78=0,0,H78/J78))) -> 1.3225806 | O78: =IF(N78="","",N78*N78) -> 1.7492196 | Q78: =IF(H78="","",H78*O78) -> 71.718002 | AF78: =IF(L78="0",4,IF(L78>7.5,1,IF(L78>6,2,IF(L78>4.5,3,IF(L78>0,4))))) -> 2 | AG78: 44137 | AH78: 0.0637 | AI78: 0.2869 | AJ78: 0.6494 | AK78: 467 | AL78: =AK78/AK79 -> 0.69701493 | AM78: 30 | AN78: 890 | AO78: 0.0186 | AP78: 0.022767692
A79: 76 | B79: בני שמעון | C79: 0 | D79: 0 | E79: 0 | F79: 0 | G79: 0 | H79: 0 | I79: 0 | J79: 0 | K79: 0 | L79: =IF(N79="","",IF(E79=0,"0",SUM($S$7)+LN(Q79)+SUM(G79*100)/$R$7)) -> 0 | M79: 0 | N79: =IF(E79="","",IF(J79=0,E79*1,IF(E79=0,0,H79/J79))) -> 0 | O79: =IF(N79="","",N79*N79) -> 0 | Q79: =IF(H79="","",H79*O79) -> 0 | AF79: =IF(L79="0",4,IF(L79>7.5,1,IF(L79>6,2,IF(L79>4.5,3,IF(L79>0,4))))) -> 4 | AG79: 2/11/20 לפנות בוקר | AH79: 0.1208 | AI79: 0.3328 | AJ79: 0.5464 | AK79: 670 | AL79: =AK79/AK80 -> 1.046875 | AM79: 81 | AN79: 960 | AO79: 0.0198 | AP79: 0.023167692
A80: 77 | B80: בנימינה-גבעת עדה | C80: 5 | D80: 0.0006 | E80: 20 | F80: 694 | G80: 0.0288 | H80: 14 | I80: 23 | J80: 16 | K80: 4.7 | L80: =IF(N80="","",IF(E80=0,"0",SUM($S$7)+LN(Q80)+SUM(G80*100)/$R$7)) -> 4.7319945 | M80: 4.7 | N80: =IF(E80="","",IF(J80=0,E80*1,IF(E80=0,0,H80/J80))) -> 0.875 | O80: =IF(N80="","",N80*N80) -> 0.765625 | Q80: =IF(H80="","",H80*O80) -> 10.71875 | AF80: =IF(L80="0",4,IF(L80>7.5,1,IF(L80>6,2,IF(L80>4.5,3,IF(L80>0,4))))) -> 3 | AG80: 44135 | AH80: 0.0778 | AI80: 0.2609 | AJ80: 0.6613 | AK80: 640 | AL80: =AK80/AK81 -> 1.1678832 | AM80: 50 | AN80: 1126 | AO80: 0.0273 | AP80: 0.025455692
A81: 78 | B81: בסמ"ה | C81: 7 | D81: 0.0009 | E81: 42 | F81: 301 | G81: 0.1395 | H81: 39 | I81: 34 | J81: 32 | K81: 7.8 | L81: =IF(N81="","",IF(E81=0,"0",SUM($S$7)+LN(Q81)+SUM(G81*100)/$R$7)) -> 7.8029631 | M81: 7.5 | N81: =IF(E81="","",IF(J81=0,E81*1,IF(E81=0,0,H81/J81))) -> 1.21875 | O81: =IF(N81="","",N81*N81) -> 1.4853516 | Q81: =IF(H81="","",H81*O81) -> 57.928711 | AF81: =IF(L81="0",4,IF(L81>7.5,1,IF(L81>6,2,IF(L81>4.5,3,IF(L81>0,4))))) -> 1 | AG81: 44134 | AH81: 0.1457 | AI81: 0.2044 | AJ81: 0.6499 | AK81: 548 | AL81: =AK81/AK82 -> 0.980322 | AM81: 80 | AN81: 1311 | AO81: 0.025 | AP81: 0.023186769
A82: 79 | B82: בסמת טבעון | C82: 5 | D82: 0.0006 | E82: 40 | F82: 272 | G82: 0.1471 | H82: 51 | I82: 29 | J82: 37 | K82: 8.4 | L82: =IF(N82="","",IF(E82=0,"0",SUM($S$7)+LN(Q82)+SUM(G82*100)/$R$7)) -> 8.4123911 | M82: 7.8 | N82: =IF(E82="","",IF(J82=0,E82*1,IF(E82=0,0,H82/J82))) -> 1.3783784 | O82: =IF(N82="","",N82*N82) -> 1.899927 | Q82: =IF(H82="","",H82*O82) -> 96.896275 | AF82: =IF(L82="0",4,IF(L82>7.5,1,IF(L82>6,2,IF(L82>4.5,3,IF(L82>0,4))))) -> 1 | AG82: 44133 | AH82: 0.0793 | AI82: 0.2147 | AJ82: 0.706 | AK82: 559 | AL82: =AK82/AK83 -> 0.70670038 | AM82: 44 | AN82: 1313 | AO82: 0.0259 | AP82: 0.023627077
A83: 80 | B83: בענה | C83: -2 | D83: -0.0002 | E83: 29 | F83: 223 | G83: 0.13 | H83: 34 | I83: 26 | J83: 31 | K83: 7.4 | L83: =IF(N83="","",IF(E83=0,"0",SUM($S$7)+LN(Q83)+SUM(G83*100)/$R$7)) -> 7.3361072 | M83: 7.1 | N83: =IF(E83="","",IF(J83=0,E83*1,IF(E83=0,0,H83/J83))) -> 1.0967742 | O83: =IF(N83="","",N83*N83) -> 1.2029136 | Q83: =IF(H83="","",H83*O83) -> 40.899063 | AF83: =IF(L83="0",4,IF(L83>7.5,1,IF(L83>6,2,IF(L83>4.5,3,IF(L83>0,4))))) -> 2 | AG83: 44132 | AH83: 0.1056 | AI83: 0.2528 | AJ83: 0.6416 | AK83: 791 | AL83: =AK83/AK84 -> 0.9634592 | AM83: 84 | AN83: 1569 | AO83: 0.0248 | AP83: 0.023497231
A84: 81 | B84: ברכה | C84: 1 | D84: 0.0001 | E84: 24 | F84: 411 | G84: 0.0584 | H84: 89 | I84: 21 | J84: 78 | K84: 7.5 | L84: =IF(N84="","",IF(E84=0,"0",SUM($S$7)+LN(Q84)+SUM(G84*100)/$R$7)) -> 7.4824915 | M84: 7.1 | N84: =IF(E84="","",IF(J84=0,E84*1,IF(E84=0,0,H84/J84))) -> 1.1410256 | O84: =IF(N84="","",N84*N84) -> 1.3019395 | Q84: =IF(H84="","",H84*O84) -> 115.87262 | AF84: =IF(L84="0",4,IF(L84>7.5,1,IF(L84>6,2,IF(L84>4.5,3,IF(L84>0,4))))) -> 2 | AG84: 44131 | AH84: 0.1352 | AI84: 0.229 | AJ84: 0.6358 | AK84: 821 | AL84: =AK84/AK85 -> 0.95465116 | AM84: 111 | AN84: 1970 | AO84: 0.0301 | AP84: 0.023889538
A85: 82 | B85: ברנר | C85: 0 | D85: 0 | E85: 0 | F85: 0 | G85: 0 | H85: 0 | I85: 20 | J85: 27 | K85: 0 | L85: =IF(N85="","",IF(E85=0,"0",SUM($S$7)+LN(Q85)+SUM(G85*100)/$R$7)) -> 0 | M85: 0 | N85: =IF(E85="","",IF(J85=0,E85*1,IF(E85=0,0,H85/J85))) -> 0 | O85: =IF(N85="","",N85*N85) -> 0 | Q85: =IF(H85="","",H85*O85) -> 0 | AF85: =IF(L85="0",4,IF(L85>7.5,1,IF(L85>6,2,IF(L85>4.5,3,IF(L85>0,4))))) -> 4 | AG85: 44130 | AH85: 0.1521 | AI85: 0.1826 | AJ85: 0.6653 | AK85: 860 | AL85: =AK85/AK86 -> 1.7165669 | AM85: 131 | AN85: 1995 | AO85: 0.0296 | AP85: 0.025313846
A86: 83 | B86: בת חפר | C86: 10 | D86: 0.0012 | E86: 21 | F86: 263 | G86: 0.0798 | H86: 41 | I86: 20 | J86: 39 | K86: 6.8 | L86: =IF(N86="","",IF(E86=0,"0",SUM($S$7)+LN(Q86)+SUM(G86*100)/$R$7)) -> 6.8110929 | M86: 6.4 | N86: =IF(E86="","",IF(J86=0,E86*1,IF(E86=0,0,H86/J86))) -> 1.0512821 | O86: =IF(N86="","",N86*N86) -> 1.105194 | Q86: =IF(H86="","",H86*O86) -> 45.312952 | AF86: =IF(L86="0",4,IF(L86>7.5,1,IF(L86>6,2,IF(L86>4.5,3,IF(L86>0,4))))) -> 2 | AG86: 44129 | AH86: 0.1738 | AI86: 0.3154 | AJ86: 0.5108 | AK86: 501 | AL86: =AK86/AK87 -> 0.73784978 | AM86: 87 | AN86: 2154 | AO86: 0.0409 | AP86: 0.028360615
A87: 84 | B87: בת ים | C87: 99 | D87: 0.0123 | E87: 415 | F87: 6926 | G87: 0.0599 | H87: 32 | I87: 440 | J87: 34 | K87: 6.1 | L87: =IF(N87="","",IF(E87=0,"0",SUM($S$7)+LN(Q87)+SUM(G87*100)/$R$7)) -> 6.0932367 | M87: 6.2 | N87: =IF(E87="","",IF(J87=0,E87*1,IF(E87=0,0,H87/J87))) -> 0.94117647 | O87: =IF(N87="","",N87*N87) -> 0.88581315 | Q87: =IF(H87="","",H87*O87) -> 28.346021 | AF87: =IF(L87="0",4,IF(L87>7.5,1,IF(L87>6,2,IF(L87>4.5,3,IF(L87>0,4))))) -> 2 | AG87: 44128 | AH87: 0.1275 | AI87: 0.1885 | AJ87: 0.684 | AK87: 679 | AL87: =AK87/AK88 -> 1.6480583 | AM87: 87 | AN87: 2890 | AO87: 0.0458 | AP87: 0.028816
A88: 85 | B88: ג'דיידה-מכר | C88: 29 | D88: 0.0036 | E88: 93 | F88: 780 | G88: 0.1192 | H88: 45 | I88: 92 | J88: 44 | K88: 7.3 | L88: =IF(N88="","",IF(E88=0,"0",SUM($S$7)+LN(Q88)+SUM(G88*100)/$R$7)) -> 7.3416082 | M88: 6.8 | N88: =IF(E88="","",IF(J88=0,E88*1,IF(E88=0,0,H88/J88))) -> 1.0227273 | O88: =IF(N88="","",N88*N88) -> 1.0459711 | Q88: =IF(H88="","",H88*O88) -> 47.068698 | AF88: =IF(L88="0",4,IF(L88>7.5,1,IF(L88>6,2,IF(L88>4.5,3,IF(L88>0,4))))) -> 2 | AG88: 44127 | AH88: 0.2241 | AI88: 0.182 | AJ88: 0.5939 | AK88: 412 | AL88: =AK88/AK89 -> 0.47356322 | AM88: 92 | AN88: 3474 | AO88: 0.0414 | AP88: 0.026459077
A89: 86 | B89: ג'ולס | C89: 9 | D89: 0.0011 | E89: 40 | F89: 287 | G89: 0.1394 | H89: 64 | I89: 41 | J89: 66 | K89: 7.9 | L89: =IF(N89="","",IF(E89=0,"0",SUM($S$7)+LN(Q89)+SUM(G89*100)/$R$7)) -> 7.8398398 | M89: 8.1 | N89: =IF(E89="","",IF(J89=0,E89*1,IF(E89=0,0,H89/J89))) -> 0.96969697 | O89: =IF(N89="","",N89*N89) -> 0.94031221 | Q89: =IF(H89="","",H89*O89) -> 60.179982 | AF89: =IF(L89="0",4,IF(L89>7.5,1,IF(L89>6,2,IF(L89>4.5,3,IF(L89>0,4))))) -> 1 | AG89: 44126 | AH89: 0.1615 | AI89: 0.1816 | AJ89: 0.6569 | AK89: 870 | AL89: =AK89/AK90 -> 0.76923077 | AM89: 140 | AN89: 3620 | AO89: 0.0429 | AP89: 0.027805846
A90: 87 | B90: ג'לג'וליה | C90: 1 | D90: 0.0001 | E90: 36 | F90: 283 | G90: 0.1272 | H90: 35 | I90: 28 | J90: 27 | K90: 7.7 | L90: =IF(N90="","",IF(E90=0,"0",SUM($S$7)+LN(Q90)+SUM(G90*100)/$R$7)) -> 7.6643705 | M90: 7.6 | N90: =IF(E90="","",IF(J90=0,E90*1,IF(E90=0,0,H90/J90))) -> 1.2962963 | O90: =IF(N90="","",N90*N90) -> 1.6803841 | Q90: =IF(H90="","",H90*O90) -> 58.813443 | AF90: =IF(L90="0",4,IF(L90>7.5,1,IF(L90>6,2,IF(L90>4.5,3,IF(L90>0,4))))) -> 1 | AG90: 44125 | AH90: 0.2284 | AI90: 0.1618 | AJ90: 0.6098 | AK90: 1131 | AL90: =AK90/AK91 -> 0.91283293 | AM90: 258 | AN90: 4522 | AO90: 0.0497 | AP90: 0.028817538
A91: 88 | B91: ג'סר א-זרקא | C91: -3 | D91: -0.0004 | E91: 50 | F91: 724 | G91: 0.0691 | H91: 33 | I91: 67 | J91: 45 | K91: 5.8 | L91: =IF(N91="","",IF(E91=0,"0",SUM($S$7)+LN(Q91)+SUM(G91*100)/$R$7)) -> 5.7399477 | M91: 6.8 | N91: =IF(E91="","",IF(J91=0,E91*1,IF(E91=0,0,H91/J91))) -> 0.73333333 | O91: =IF(N91="","",N91*N91) -> 0.53777778 | Q91: =IF(H91="","",H91*O91) -> 17.746667 | AF91: =IF(L91="0",4,IF(L91>7.5,1,IF(L91>6,2,IF(L91>4.5,3,IF(L91>0,4))))) -> 3 | AG91: 44124 | AH91: 0.2721 | AI91: 0.1421 | AJ91: 0.5858 | AK91: 1239 | AL91: =AK91/AK92 -> 0.73443983 | AM91: 337 | AN91: 5601 | AO91: 0.0646 | AP91: 0.031349231
... A94: 91 | B94: גבע בנימין | C94: 2 | D94: 0.0002 | E94: 49 | F94: 446 | G94: 0.1099 | H94: 90 | I94: 46 | J94: 85 | K94: 8 | L94: =IF(N94="","",IF(E94=0,"0",SUM($S$7)+LN(Q94)+SUM(G94*100)/$R$7)) -> 7.9878765 | M94: 7.8 | N94: =IF(E94="","",IF(J94=0,E94*1,IF(E94=0,0,H94/J94))) -> 1.0588235 | O94: =IF(N94="","",N94*N94) -> 1.1211073 | Q94: =IF(H94="","",H94*O94) -> 100.89965 | AF94: =IF(L94="0",4,IF(L94>7.5,1,IF(L94>6,2,IF(L94>4.5,3,IF(L94>0,4))))) -> 1 | AG94: 44121 | AH94: 0.2235 | AI94: 0.1393 | AJ94: 0.6372 | AK94: 1479 | AL94: =AK94/AK95 -> 1.6076087 | AM94: 331 | AN94: 9584 | AO94: 0.1286 | AP94: 0.0434
A95: 92 | B95: גבעת אבני | C95: 0 | D95: 0 | E95: 5 | F95: 147 | G95: 0.034 | H95: 25 | I95: 0 | J95: 0 | K95: 8.8 | L95: =IF(N95="","",IF(E95=0,"0",SUM($S$7)+LN(Q95)+SUM(G95*100)/$R$7)) -> 8.8627516 | M95: 8.5 | N95: =IF(E95="","",IF(J95=0,E95*1,IF(E95=0,0,H95/J95))) -> 5 | O95: =IF(N95="","",N95*N95) -> 25 | Q95: =IF(H95="","",H95*O95) -> 625 | AF95: =IF(L95="0",4,IF(L95>7.5,1,IF(L95>6,2,IF(L95>4.5,3,IF(L95>0,4))))) -> 1 | AG95: 16/10/20 חצי | AH95: 0.3454 | AI95: 0.1098 | AJ95: 0.5448 | AK95: 920 | AL95: =AK95/AK96 -> 0.56511057 | AM95: 318 | AN95: 11147 | AO95: 0.1187 | AP95: 0.039998462
A96: 93 | B96: גבעת ברנר | C96: 0 | D96: 0 | E96: 5 | F96: 87 | G96: 0.0575 | H96: 21 | I96: 3 | J96: 13 | K96: 6.8 | L96: =IF(N96="","",IF(E96=0,"0",SUM($S$7)+LN(Q96)+SUM(G96*100)/$R$7)) -> 6.7224186 | M96: 5 | N96: =IF(E96="","",IF(J96=0,E96*1,IF(E96=0,0,H96/J96))) -> 1.6153846 | O96: =IF(N96="","",N96*N96) -> 2.6094675 | Q96: =IF(H96="","",H96*O96) -> 54.798817 | AF96: =IF(L96="0",4,IF(L96>7.5,1,IF(L96>6,2,IF(L96>4.5,3,IF(L96>0,4))))) -> 2 | AG96: 44119 | AH96: 0.3883 | AI96: 0.0768 | AJ96: 0.5349 | AK96: 1628 | AL96: =AK96/AK97 -> 0.89647577 | AM96: 632 | AN96: 11928 | AO96: 0.1196 | AP96: 0.039238462
A97: 94 | B97: גבעת זאב | C97: 34 | D97: 0.0042 | E97: 275 | F97: 1969 | G97: 0.1397 | H97: 145 | I97: 304 | J97: 160 | K97: 8.5 | L97: =IF(N97="","",IF(E97=0,"0",SUM($S$7)+LN(Q97)+SUM(G97*100)/$R$7)) -> 8.5261036 | M97: 8.8 | N97: =IF(E97="","",IF(J97=0,E97*1,IF(E97=0,0,H97/J97))) -> 0.90625 | O97: =IF(N97="","",N97*N97) -> 0.82128906 | Q97: =IF(H97="","",H97*O97) -> 119.08691 | AF97: =IF(L97="0",4,IF(L97>7.5,1,IF(L97>6,2,IF(L97>4.5,3,IF(L97>0,4))))) -> 1 | AG97: 44118 | AH97: 0.3116 | AI97: 0.0754 | AJ97: 0.613 | AK97: 1816 | AL97: =AK97/AK98 -> 0.73137334 | AM97: 566 | AN97: 13669 | AO97: 0.1195 | AP97: 0.042833231
A98: 95 | B98: גבעת שמואל | C98: 25 | D98: 0.0031 | E98: 120 | F98: 2412 | G98: 0.0498 | H98: 48 | I98: 144 | J98: 57 | K98: 6.1 | L98: =IF(N98="","",IF(E98=0,"0",SUM($S$7)+LN(Q98)+SUM(G98*100)/$R$7)) -> 6.1500005 | M98: 6.6 | N98: =IF(E98="","",IF(J98=0,E98*1,IF(E98=0,0,H98/J98))) -> 0.84210526 | O98: =IF(N98="","",N98*N98) -> 0.70914127 | Q98: =IF(H98="","",H98*O98) -> 34.038781 | AF98: =IF(L98="0",4,IF(L98>7.5,1,IF(L98>6,2,IF(L98>4.5,3,IF(L98>0,4))))) -> 2 | AG98: 44117 | AH98: 0.4063 | AI98: 0.0511 | AJ98: 0.5426 | AK98: 2483 | AL98: =AK98/AK99 -> 0.74609375 | AM98: 1009 | AN98: 15495 | AO98: 0.124 | AP98: 0.044493231
A99: 96 | B99: גבעתיים | C99: 35 | D99: 0.0043 | E99: 117 | F99: 2929 | G99: 0.0399 | H99: 21 | I99: 107 | J99: 19 | K99: 5.7 | L99: =IF(N99="","",IF(E99=0,"0",SUM($S$7)+LN(Q99)+SUM(G99*100)/$R$7)) -> 5.7434394 | M99: 5 | N99: =IF(E99="","",IF(J99=0,E99*1,IF(E99=0,0,H99/J99))) -> 1.1052632 | O99: =IF(N99="","",N99*N99) -> 1.2216066 | Q99: =IF(H99="","",H99*O99) -> 25.65374 | AF99: =IF(L99="0",4,IF(L99>7.5,1,IF(L99>6,2,IF(L99>4.5,3,IF(L99>0,4))))) -> 3 | AG99: 44116 | AH99: 0.4939 | AI99: 0.0514 | AJ99: 0.4547 | AK99: 3328 | AL99: =AK99/AK100 -> 5.5838926 | AM99: 1644 | AN99: 17348 | AO99: 0.1655 | AP99: 0.054736
A100: 97 | B100: גדרה | C100: 3 | D100: 0.0004 | E100: 62 | F100: 1550 | G100: 0.04 | H100: 25 | I100: 63 | J100: 25 | K100: 5.7 | L100: =IF(N100="","",IF(E100=0,"0",SUM($S$7)+LN(Q100)+SUM(G100*100)/$R$7)) -> 5.7188758 | M100: 5.2 | N100: =IF(E100="","",IF(J100=0,E100*1,IF(E100=0,0,H100/J100))) -> 1 | O100: =IF(N100="","",N100*N100) -> 1 | Q100: =IF(H100="","",H100*O100) -> 25 | AF100: =IF(L100="0",4,IF(L100>7.5,1,IF(L100>6,2,IF(L100>4.5,3,IF(L100>0,4))))) -> 3 | AG100: 44115 | AH100: 0.1865 | AI100: 0.1527 | AJ100: 0.6608 | AK100: 596 | AL100: =AK100/AK101 -> 0.19363223 | AM100: 111
A101: 98 | B101: גדרות | C101: 0 | D101: 0 | E101: 0 | F101: 0 | G101: 0 | H101: 0 | I101: 0 | J101: 0 | K101: 0 | L101: =IF(N101="","",IF(E101=0,"0",SUM($S$7)+LN(Q101)+SUM(G101*100)/$R$7)) -> 0 | M101: 0 | N101: =IF(E101="","",IF(J101=0,E101*1,IF(E101=0,0,H101/J101))) -> 0 | O101: =IF(N101="","",N101*N101) -> 0 | Q101: =IF(H101="","",H101*O101) -> 0 | AF101: =IF(L101="0",4,IF(L101>7.5,1,IF(L101>6,2,IF(L101>4.5,3,IF(L101>0,4))))) -> 4 | AG101: 44114 | AH101: 0.3413 | AI101: 0.0708 | AJ101: 0.5879 | AK101: 3078 | AL101: =AK101/AK102 -> 2.4428571 | AM101: 1051
A102: 99 | B102: גולן | C102: 0 | D102: 0 | E102: 0 | F102: 0 | G102: 0 | H102: 0 | I102: 0 | J102: 0 | K102: 0 | L102: =IF(N102="","",IF(E102=0,"0",SUM($S$7)+LN(Q102)+SUM(G102*100)/$R$7)) -> 0 | M102: 0 | N102: =IF(E102="","",IF(J102=0,E102*1,IF(E102=0,0,H102/J102))) -> 0 | O102: =IF(N102="","",N102*N102) -> 0 | Q102: =IF(H102="","",H102*O102) -> 0 | AF102: =IF(L102="0",4,IF(L102>7.5,1,IF(L102>6,2,IF(L102>4.5,3,IF(L102>0,4))))) -> 4 | AG102: 9/10/20 חצי | AH102: 0.3981 | AI102: 0.0675 | AJ102: 0.5344 | AK102: 1260 | AL102: =AK102/AK103 -> 0.34146341 | AM102: 502
...

Sheet הערים בישראל
D1: שימו לב! בגליון זה חישבנו לפי המאגר העירוני בלבד, ולא לפי המאגר השכונתי. הבדיקות עברו לפי כמות בדיקות ראשונות לזיהוי
D2: מעודכן לפי המאגר מתאריך | I2: 44212 | K2: עדכון קודם בתאריך | O2: 44178 | Q2: פער נפטרים מעדכון הקודם | R2: מס' מאומתים יומיים שלופים מהמאגר בימי העדכון | AB2: מאומתיים יומיים מעדכון קודם | AC2: מאומתיים יומיים מעדכון 2 קודם | AD2: מאושפזים חדשים | AE2: מתחסנים חדשים | AI2: הבדיקות במצטבר: הן לפי הנבדקים בלבד. כלומר אם נבדק בדק את עצמו פעמיים, כאן יופיע רק פעם אחת
D3: מס' נפשות | E3: מתחסנים | G3: חולים פעילים | I3: מאושפזים במצטבר | K3: נפטרים | M3: בדיקות מצטבר | O3: מאומתים במצטבר | R3: 44204 | S3: 44205 | T3: 44206 | U3: 44207 | V3: 44208 | W3: 44209 | X3: 44210 | Y3: 44211 | Z3: 44212 | AA3: ס"ה
D4: 9222338 | E4: 1482577 | F4: =E4/D4 -> 0.16075934 | G4: 71918 | H4: =G4/D4 -> 0.0077982394 | I4: 28758 | K4: 3720 | M4: 8662272 | O4: 514410 | P4: =O4/D4 -> 0.055778697 | Q4: 215 | R4: 7600 | S4: 4827 | T4: 6484 | U4: 9114 | V4: 8663 | W4: 8920 | X4: 8594 | Y4: 7814 | Z4: 4525 | AA4: =SUM(R4:X4) -> 54202 | AB4: 48183 | AC4: 43047 | AD4: 2174 | AE4: 141988
A5: ערבי | B5: 1 | C5: אבו גוש | D5: 7964 | E5: 1067 | F5: =E5/D5 -> 0.1339779 | G5: 188 | H5: =IF(G5=0,0,G5/$D5) -> 0.023606228 | I5: 61 | J5: =IF(I5=0,0,I5/$D5) -> 0.0076594676 | K5: 2 | L5: =IF(K5=0,0,K5/$D5) -> 0.00025113009 | M5: 10055 | O5: 742 | P5: =IF(O5=0,0,O5/D5) -> 0.093169262 | Q5: 0 | R5: 15 | S5: 44 | T5: 25 | U5: 16 | V5: 12 | W5: 20 | X5: 30 | Y5: 10 | Z5: 50 | AA5: =SUM(R5:X5) -> 162 | AB5: 115 | AC5: 67 | AD5: 7 | AE5: 187
A6: ערבי | B6: 2 | C6: אבו סנאן | D6: 13317 | E6: 1112 | F6: =E6/D6 -> 0.08350229 | G6: 108 | H6: =IF(G6=0,0,G6/$D6) -> 0.0081099347 | I6: 95 | J6: =IF(I6=0,0,I6/$D6) -> 0.0071337388 | K6: 11 | L6: =IF(K6=0,0,K6/$D6) -> 0.00082601186 | M6: 11909 | O6: 896 | P6: =IF(O6=0,0,O6/D6) -> 0.067282421 | Q6: 0 | R6: 11 | S6: 10 | T6: 6 | U6: 13 | V6: 13 | W6: 5 | X6: 9 | Y6: 14 | Z6: 4 | AA6: =SUM(R6:X6) -> 67 | AB6: 46 | AC6: 53 | AD6: 3 | AE6: 106
A7: ערבי | B7: 3 | C7: אבטין | D7: 2819 | E7: 314 | F7: =E7/D7 -> 0.11138702 | G7: 26 | H7: =IF(G7=0,0,G7/$D7) -> 0.0092231288 | I7: 8 | J7: =IF(I7=0,0,I7/$D7) -> 0.0028378858 | K7: 0 | L7: =IF(K7=0,0,K7/$D7) -> 0 | M7: 1784 | O7: 140 | P7: =IF(O7=0,0,O7/D7) -> 0.049663001 | Q7: 0 | R7: 2 | S7: 1 | T7: 1 | U7: 4 | V7: 5 | W7: 1 | X7: 4 | Y7: 1 | Z7: 2 | AA7: =SUM(R7:X7) -> 18 | AB7: 8 | AC7: 6 | AD7: 0 | AE7: 51
A8: כללי | B8: 4 | C8: אבן יהודה | D8: 13310 | E8: 3498 | F8: =E8/D8 -> 0.26280992 | G8: 55 | H8: =IF(G8=0,0,G8/$D8) -> 0.0041322314 | I8: 39 | J8: =IF(I8=0,0,I8/$D8) -> 0.0029301277 | K8: 7 | L8: =IF(K8=0,0,K8/$D8) -> 0.00052592036 | M8: 16424 | O8: 398 | P8: =IF(O8=0,0,O8/D8) -> 0.029902329 | Q8: 0 | R8: 5 | S8: 7 | T8: 3 | U8: 6 | V8: 6 | W8: 5 | X8: 7 | Y8: 5 | Z8: 4 | AA8: =SUM(R8:X8) -> 39 | AB8: 32 | AC8: 30 | AD8: -2 | AE8: 435 | AG8: ה מ ב ט ב י ח ס ל כ ל ל ה מ א ו מ ת י ם
A9: ערבי | B9: 5 | C9: אום אל-פחם | D9: 56190 | E9: 5287 | F9: =E9/D9 -> 0.094091475 | G9: 421 | H9: =IF(G9=0,0,G9/$D9) -> 0.0074924364 | I9: 239 | J9: =IF(I9=0,0,I9/$D9) -> 0.0042534259 | K9: 51 | L9: =IF(K9=0,0,K9/$D9) -> 0.00090763481 | M9: 39694 | O9: 4348 | P9: =IF(O9=0,0,O9/D9) -> 0.077380317 | Q9: 1 | R9: 38 | S9: 31 | T9: 92 | U9: 36 | V9: 51 | W9: 40 | X9: 21 | Y9: 16 | Z9: 22 | AA9: =SUM(R9:X9) -> 309 | AB9: 291 | AC9: 175 | AD9: 10 | AE9: 461 | AG9: ס"ה חולים פעילים | AJ9: ס"ה חולים מאושפזים | AL9: ס"ה נפטרים | AN9: ס"ה בדיקות | AP9: ס"ה מאומתים מההתחלה
A10: ערבי | B10: 6 | C10: אום בטין | D10: 4022 | E10: 19 | F10: =E10/D10 -> 0.0047240179 | G10: 0 | H10: =IF(G10=0,0,G10/$D10) -> 0 | I10: 0 | J10: =IF(I10=0,0,I10/$D10) -> 0 | K10: 0 | L10: =IF(K10=0,0,K10/$D10) -> 0 | M10: 405 | O10: 0 | P10: =IF(O10=0,0,O10/D10) -> 0 | Q10: 0 | R10: 0 | S10: 0 | T10: 0 | U10: 0 | V10: 0 | W10: 0 | X10: 0 | Y10: 0 | Z10: 0 | AA10: =SUM(R10:X10) -> 0 | AB10: 0 | AC10: 0 | AD10: 0 | AE10: 19 | AG10: מעורב | AH10: =SUMIF(A:A,AG10,G:G) -> 27855 | AI10: =AH10/$O$4 -> 0.054149414 | AJ10: =SUMIF(A:A,AG10,I:I) -> 10410 | AK10: =AJ10/$O$4 -> 0.020236776 | AL10: =SUMIF(A:A,AG10,K:K) -> 1207 | AM10: =AL10/$O$4 -> 0.0023463774 | AN10: =SUMIF(A:A,AG10,M:M) -> 2699408 | AO10: =AN10/$O$4 -> 5.2475807 | AP10: =SUMIF(A:A,AG10,O:O) -> 187400 | AQ10: =AP10/$O$4 -> 0.36430085
A11: מעורב | B11: 7 | C11: אופקים | D11: 31835 | E11: 4671 | F11: =E11/D11 -> 0.1467253 | G11: 210 | H11: =IF(G11=0,0,G11/$D11) -> 0.0065965133 | I11: 39 | J11: =IF(I11=0,0,I11/$D11) -> 0.0012250667 | K11: 2 | L11: =IF(K11=0,0,K11/$D11) -> 6.2823936e-05 | M11: 37811 | O11: 2222 | P11: =IF(O11=0,0,O11/D11) -> 0.069797393 | Q11: 0 | R11: 18 | S11: 3 | T11: 23 | U11: 35 | V11: 56 | W11: 25 | X11: 29 | Y11: 60 | Z11: 9 | AA11: =SUM(R11:X11) -> 189 | AB11: 123 | AC11: 125 | AD11: 2 | AE11: 331 | AG11: כללי | AH11: =SUMIF(A:A,AG11,G:G) -> 23202 | AI11: =AH11/$O$4 -> 0.0451041 | AJ11: =SUMIF(A:A,AG11,I:I) -> 10726 | AK11: =AJ11/$O$4 -> 0.020851072 | AL11: =SUMIF(A:A,AG11,K:K) -> 1622 | AM11: =AL11/$O$4 -> 0.0031531269 | AN11: =SUMIF(A:A,AG11,M:M) -> 4361783 | AO11: =AN11/$O$4 -> 8.4791956 | AP11: =SUMIF(A:A,AG11,O:O) -> 171808 | AQ11: =AP11/$O$4 -> 0.3339904
A12: מעורב | B12: 8 | C12: אור יהודה | D12: 34763 | E12: 6772 | F12: =E12/D12 -> 0.19480482 | G12: 235 | H12: =IF(G12=0,0,G12/$D12) -> 0.006760061 | I12: 200 | J12: =IF(I12=0,0,I12/$D12) -> 0.0057532434 | K12: 20 | L12: =IF(K12=0,0,K12/$D12) -> 0.00057532434 | M12: 39934 | O12: 2558 | P12: =IF(O12=0,0,O12/D12) -> 0.073583983 | Q12: 0 | R12: 13 | S12: 26 | T12: 19 | U12: 19 | V12: 36 | W12: 27 | X12: 36 | Y12: 39 | Z12: 12 | AA12: =SUM(R12:X12) -> 176 | AB12: 151 | AC12: 141 | AD12: 5 | AE12: 1081 | AG12: ערבי | AH12: =SUMIF(A:A,AG12,G:G) -> 8458 | AI12: =AH12/$O$4 -> 0.016442138 | AJ12: =SUMIF(A:A,AG12,I:I) -> 4898 | AK12: =AJ12/$O$4 -> 0.0095215878 | AL12: =SUMIF(A:A,AG12,K:K) -> 666 | AM12: =AL12/$O$4 -> 0.0012946871 | AN12: =SUMIF(A:A,AG12,M:M) -> 972225 | AO12: =AN12/$O$4 -> 1.8899808 | AP12: =SUMIF(A:A,AG12,O:O) -> 76226 | AQ12: =AP12/$O$4 -> 0.14818141
A13: כללי | B13: 9 | C13: אור עקיבא | D13: 19560 | E13: 3328 | F13: =E13/D13 -> 0.17014315 | G13: 146 | H13: =IF(G13=0,0,G13/$D13) -> 0.0074642127 | I13: 37 | J13: =IF(I13=0,0,I13/$D13) -> 0.0018916155 | K13: 10 | L13: =IF(K13=0,0,K13/$D13) -> 0.00051124744 | M13: 19688 | O13: 1031 | P13: =IF(O13=0,0,O13/D13) -> 0.052709611 | Q13: 0 | R13: 13 | S13: 15 | T13: 13 | U13: 22 | V13: 17 | W13: 22 | X13: 15 | Y13: 30 | Z13: 11 | AA13: =SUM(R13:X13) -> 117 | AB13: 102 | AC13: 70 | AD13: 3 | AE13: 123 | AG13: חרדי | AH13: =SUMIF(A:A,AG13,G:G) -> 11993 | AI13: =AH13/$O$4 -> 0.023314088 | AJ13: =SUMIF(A:A,AG13,I:I) -> 2600 | AK13: =AJ13/$O$4 -> 0.0050543341 | AL13: =SUMIF(A:A,AG13,K:K) -> 202 | AM13: =AL13/$O$4 -> 0.00039268288 | AN13: =SUMIF(A:A,AG13,M:M) -> 553197 | AO13: =AN13/$O$4 -> 1.0754009 | AP13: =SUMIF(A:A,AG13,O:O) -> 76141 | AQ13: =AP13/$O$4 -> 0.14801617
A14: כללי | B14: 10 | C14: אורנית | D14: 8972 | E14: 2056 | F14: =E14/D14 -> 0.22915738 | G14: 15 | H14: =IF(G14=0,0,G14/$D14) -> 0.001671868 | I14: 2 | J14: =IF(I14=0,0,I14/$D14) -> 0.00022291574 | K14: 1 | L14: =IF(K14=0,0,K14/$D14) -> 0.00011145787 | M14: 9217 | O14: 226 | P14: =IF(O14=0,0,O14/D14) -> 0.025189478 | Q14: 0 | R14: 0 | S14: 1 | T14: 1 | U14: 0 | V14: 1 | W14: 0 | X14: 1 | Y14: 0 | Z14: 0 | AA14: =SUM(R14:X14) -> 4 | AB14: 18 | AC14: 24 | AD14: 0 | AE14: 312
A15: כללי | B15: 11 | C15: אזור | D15: 11965 | E15: 2482 | F15: =E15/D15 -> 0.20743836 | G15: 79 | H15: =IF(G15=0,0,G15/$D15) -> 0.0066025909 | I15: 24 | J15: =IF(I15=0,0,I15/$D15) -> 0.0020058504 | K15: 3 | L15: =IF(K15=0,0,K15/$D15) -> 0.0002507313 | M15: 13786 | O15: 689 | P15: =IF(O15=0,0,O15/D15) -> 0.057584622 | Q15: 0 | R15: 11 | S15: 3 | T15: 8 | U15: 6 | V15: 14 | W15: 2 | X15: 18 | Y15: 7 | Z15: 6 | AA15: =SUM(R15:X15) -> 62 | AB15: 44 | AC15: 30 | AD15: 1 | AE15: 348
A16: כללי | B16: 12 | C16: אחוזת ברק | D16: 2361 | E16: 727 | F16: =E16/D16 -> 0.30792037 | G16: 20 | H16: =IF(G16=0,0,G16/$D16) -> 0.0084709869 | I16: 3 | J16: =IF(I16=0,0,I16/$D16) -> 0.001270648 | K16: 1 | L16: =IF(K16=0,0,K16/$D16) -> 0.00042354934 | M16: 2591 | O16: 100 | P16: =IF(O16=0,0,O16/D16) -> 0.042354934 | Q16: 0 | R16: 4 | S16: 0 | T16: 3 | U16: 1 | V16: 1 | W16: 0 | X16: 1 | Y16: 0 | Z16: 0 | AA16: =SUM(R16:X16) -> 10 | AB16: 21 | AC16: 22 | AD16: 0 | AE16: 82 | AG16: ה מ ב ט ב י ח ס ל כ ל ל ה א ו כ ל ו ס י ה
A17: כללי | B17: 13 | C17: אילת | D17: 56564 | E17: 11535 | F17: =E17/D17 -> 0.20392829 | G17: 96 | H17: =IF(G17=0,0,G17/$D17) -> 0.0016971926 | I17: 35 | J17: =IF(I17=0,0,I17/$D17) -> 0.00061876812 | K17: 4 | L17: =IF(K17=0,0,K17/$D17) -> 7.0716357e-05 | M17: 92893 | O17: 1272 | P17: =IF(O17=0,0,O17/D17) -> 0.022487801 | Q17: 0 | R17: 15 | S17: 11 | T17: 8 | U17: 13 | V17: 11 | W17: 6 | X17: 7 | Y17: 6 | Z17: 6 | AA17: =SUM(R17:X17) -> 71 | AB17: 102 | AC17: 92 | AD17: 2 | AE17: 1064 | AG17: ס"ה חולים פעילים | AJ17: ס"ה חולים מאושפזים | AL17: ס"ה נפטרים | AN17: ס"ה בדיקות | AP17: ס"ה מאומתים מההתחלה
A18: ערבי | B18: 14 | C18: אכסאל | D18: 14909 | E18: 1773 | F18: =E18/D18 -> 0.11892146 | G18: 91 | H18: =IF(G18=0,0,G18/$D18) -> 0.0061036958 | I18: 67 | J18: =IF(I18=0,0,I18/$D18) -> 0.0044939298 | K18: 5 | L18: =IF(K18=0,0,K18/$D18) -> 0.0003353679 | M18: 13307 | O18: 1088 | P18: =IF(O18=0,0,O18/D18) -> 0.072976055 | Q18: 0 | R18: 12 | S18: 7 | T18: 4 | U18: 18 | V18: 5 | W18: 14 | X18: 9 | Y18: 6 | Z18: 8 | AA18: =SUM(R18:X18) -> 69 | AB18: 54 | AC18: 56 | AD18: 4 | AE18: 41 | AG18: מעורב | AH18: =SUMIF(A:A,AG18,G:G) -> 27855 | AI18: =AH18/$D$4 -> 0.0030203838 | AJ18: =SUMIF(A:A,AG18,I:I) -> 10410 | AK18: =AJ18/$D$4 -> 0.001128781 | AL18: =SUMIF(A:A,AG18,K:K) -> 1207 | AM18: =AL18/$D$4 -> 0.00013087788 | AN18: =SUMIF(A:A,AG18,M:M) -> 2699408 | AO18: =AN18/$D$4 -> 0.29270322 | AP18: =SUMIF(A:A,AG18,O:O) -> 187400 | AQ18: =AP18/$D$4 -> 0.020320227
A19: ערבי | B19: 15 | C19: אל סייד | D19: 3304 | E19: 0 | F19: =E19/D19 -> 0 | G19: 0 | H19: =IF(G19=0,0,G19/$D19) -> 0 | I19: 3 | J19: =IF(I19=0,0,I19/$D19) -> 0.00090799031 | K19: 0 | L19: =IF(K19=0,0,K19/$D19) -> 0 | M19: 444 | O19: 0 | P19: =IF(O19=0,0,O19/D19) -> 0 | Q19: 0 | R19: 0 | S19: 0 | T19: 0 | U19: 0 | V19: 0 | W19: 0 | X19: 0 | Y19: 0 | Z19: 0 | AA19: =SUM(R19:X19) -> 0 | AB19: 0 | AC19: 0 | AD19: 1 | AE19: 0 | AG19: כללי | AH19: =SUMIF(A:A,AG19,G:G) -> 23202 | AI19: =AH19/$D$4 -> 0.0025158479 | AJ19: =SUMIF(A:A,AG19,I:I) -> 10726 | AK19: =AJ19/$D$4 -> 0.0011630456 | AL19: =SUMIF(A:A,AG19,K:K) -> 1622 | AM19: =AL19/$D$4 -> 0.00017587731 | AN19: =SUMIF(A:A,AG19,M:M) -> 4361783 | AO19: =AN19/$D$4 -> 0.47295848 | AP19: =SUMIF(A:A,AG19,O:O) -> 171808 | AQ19: =AP19/$D$4 -> 0.018629549
A20: כללי | B20: 16 | C20: אלון שבות | D20: 3222 | E20: 865 | F20: =E20/D20 -> 0.26846679 | G20: 39 | H20: =IF(G20=0,0,G20/$D20) -> 0.012104283 | I20: 4 | J20: =IF(I20=0,0,I20/$D20) -> 0.0012414649 | K20: 1 | L20: =IF(K20=0,0,K20/$D20) -> 0.00031036623 | M20: 7222 | O20: 168 | P20: =IF(O20=0,0,O20/D20) -> 0.052141527 | Q20: 0 | R20: 7 | S20: 2 | T20: 0 | U20: 3 | V20: 8 | W20: 11 | X20: 2 | Y20: 5 | Z20: 6 | AA20: =SUM(R20:X20) -> 33 | AB20: 18 | AC20: 9 | AD20: 0 | AE20: 112 | AG20: ערבי | AH20: =SUMIF(A:A,AG20,G:G) -> 8458 | AI20: =AH20/$D$4 -> 0.00091712102 | AJ20: =SUMIF(A:A,AG20,I:I) -> 4898 | AK20: =AJ20/$D$4 -> 0.00053110177 | AL20: =SUMIF(A:A,AG20,K:K) -> 666 | AM20: =AL20/$D$4 -> 7.2215961e-05 | AN20: =SUMIF(A:A,AG20,M:M) -> 972225 | AO20: =AN20/$D$4 -> 0.10542066 | AP20: =SUMIF(A:A,AG20,O:O) -> 76226 | AQ20: =AP20/$D$4 -> 0.0082653661
A21: כללי | B21: 17 | C21: אליכין | D21: 3440 | E21: 704 | F21: =E21/D21 -> 0.20465116 | G21: 14 | H21: =IF(G21=0,0,G21/$D21) -> 0.0040697674 | I21: 5 | J21: =IF(I21=0,0,I21/$D21) -> 0.0014534884 | K21: 1 | L21: =IF(K21=0,0,K21/$D21) -> 0.00029069767 | M21: 3306 | O21: 130 | P21: =IF(O21=0,0,O21/D21) -> 0.037790698 | Q21: 0 | R21: 3 | S21: 0 | T21: 1 | U21: 1 | V21: 2 | W21: 0 | X21: 2 | Y21: 1 | Z21: 2 | AA21: =SUM(R21:X21) -> 9 | AB21: 11 | AC21: 11 | AD21: 0 | AE21: 83 | AG21: חרדי | AH21: =SUMIF(A:A,AG21,G:G) -> 11993 | AI21: =AH21/$D$4 -> 0.0013004295 | AJ21: =SUMIF(A:A,AG21,I:I) -> 2600 | AK21: =AJ21/$D$4 -> 0.00028192417 | AL21: =SUMIF(A:A,AG21,K:K) -> 202 | AM21: =AL21/$D$4 -> 2.1903339e-05 | AN21: =SUMIF(A:A,AG21,M:M) -> 553197 | AO21: =AN21/$D$4 -> 0.059984464 | AP21: =SUMIF(A:A,AG21,O:O) -> 76141 | AQ21: =AP21/$D$4 -> 0.0082561494
A22: חרדי | B22: 18 | C22: אלעד | D22: 47548 | E22: 1879 | F22: =E22/D22 -> 0.039517961 | G22: 1411 | H22: =IF(G22=0,0,G22/$D22) -> 0.029675276 | I22: 235 | J22: =IF(I22=0,0,I22/$D22) -> 0.004942374 | K22: 4 | L22: =IF(K22=0,0,K22/$D22) -> 8.4125515e-05 | M22: 51664 | O22: 8347 | P22: =IF(O22=0,0,O22/D22) -> 0.17554892 | Q22: 0 | R22: 122 | S22: 82 | T22: 160 | U22: 211 | V22: 159 | W22: 203 | X22: 176 | Y22: 140 | Z22: 54 | AA22: =SUM(R22:X22) -> 1113 | AB22: 959 | AC22: 760 | AD22: 5 | AE22: 241
A23: כללי | B23: 19 | C23: אלעזר | D23: 2466 | E23: 531 | F23: =E23/D23 -> 0.21532847 | G23: 20 | H23: =IF(G23=0,0,G23/$D23) -> 0.0081103001 | I23: 2 | J23: =IF(I23=0,0,I23/$D23) -> 0.00081103001 | K23: 1 | L23: =IF(K23=0,0,K23/$D23) -> 0.000405515 | M23: 4684 | O23: 111 | P23: =IF(O23=0,0,O23/D23) -> 0.045012165 | Q23: 0 | R23: 1 | S23: 1 | T23: 1 | U23: 3 | V23: 2 | W23: 2 | X23: 3 | Y23: 3 | Z23: 0 | AA23: =SUM(R23:X23) -> 13 | AB23: 17 | AC23: 17 | AD23: 1 | AE23: 83
A24: כללי | B24: 20 | C24: אלפי מנשה | D24: 7836 | E24: 1751 | F24: =E24/D24 -> 0.22345584 | G24: 33 | H24: =IF(G24=0,0,G24/$D24) -> 0.0042113323 | I24: 11 | J24: =IF(I24=0,0,I24/$D24) -> 0.0014037774 | K24: 3 | L24: =IF(K24=0,0,K24/$D24) -> 0.00038284839 | M24: 7547 | O24: 204 | P24: =IF(O24=0,0,O24/D24) -> 0.026033691 | Q24: 0 | R24: 0 | S24: 0 | T24: 3 | U24: 6 | V24: 4 | W24: 4 | X24: 6 | Y24: 1 | Z24: 1 | AA24: =SUM(R24:X24) -> 23 | AB24: 12 | AC24: 9 | AD24: 0 | AE24: 413 | AG24: מ ב ט פ נ י ם מ י ג ז ר י
A25: כללי | B25: 21 | C25: אלקנה | D25: 3729 | E25: 1067 | F25: =E25/D25 -> 0.28613569 | G25: 51 | H25: =IF(G25=0,0,G25/$D25) -> 0.013676589 | I25: 5 | J25: =IF(I25=0,0,I25/$D25) -> 0.001340842 | K25: 2 | L25: =IF(K25=0,0,K25/$D25) -> 0.00053633682 | M25: 6782 | O25: 199 | P25: =IF(O25=0,0,O25/D25) -> 0.053365514 | Q25: 0 | R25: 2 | S25: 3 | T25: 3 | U25: 8 | V25: 6 | W25: 6 | X25: 13 | Y25: 12 | Z25: 10 | AA25: =SUM(R25:X25) -> 41 | AB25: 20 | AC25: 17 | AD25: 0 | AE25: 114 | AG25: ס"ה חולים פעילים | AJ25: ס"ה חולים מאושפזים | AL25: ס"ה נפטרים | AN25: ס"ה בדיקות | AP25: ס"ה מאומתים מההתחלה | AR25: ס"ה מאומתים השבוע
A26: ערבי | B26: 22 | C26: אעבלין | D26: 13219 | E26: 1698 | F26: =E26/D26 -> 0.12845147 | G26: 127 | H26: =IF(G26=0,0,G26/$D26) -> 0.0096073833 | I26: 56 | J26: =IF(I26=0,0,I26/$D26) -> 0.0042363265 | K26: 6 | L26: =IF(K26=0,0,K26/$D26) -> 0.00045389212 | M26: 12106 | O26: 945 | P26: =IF(O26=0,0,O26/D26) -> 0.07148801 | Q26: 0 | R26: 15 | S26: 15 | T26: 14 | U26: 16 | V26: 14 | W26: 10 | X26: 19 | Y26: 14 | Z26: 7 | AA26: =SUM(R26:X26) -> 103 | AB26: 91 | AC26: 73 | AD26: 1 | AE26: 395 | AG26: מעורב | AH26: =SUMIF(A:A,AG26,G:G) -> 27855 | AI26: =SUM(SUMIF($A:$A,$AG26,G:G)/SUMIF($A:$A,$AG26,$D:$D)) -> 0.010882156 | AJ26: =SUMIF(A:A,AG26,I:I) -> 10410 | AK26: =SUM(SUMIF($A:$A,$AG26,I:I)/SUMIF($A:$A,$AG26,$D:$D)) -> 0.0040668908 | AL26: =SUMIF(A:A,AG26,K:K) -> 1207 | AM26: =SUM(SUMIF($A:$A,$AG26,K:K)/SUMIF($A:$A,$AG26,$D:$D)) -> 0.00047154055 | AN26: =SUMIF(A:A,AG26,M:M) -> 2699408 | AO26: =SUM(SUMIF($A:$A,$AG26,M:M)/SUMIF($A:$A,$AG26,$D:$D)) -> 1.0545819 | AP26: =SUMIF(A:A,AG26,O:O) -> 187400 | AQ26: =SUM(SUMIF($A:$A,$AG26,O:O)/SUMIF($A:$A,$AG26,$D:$D)) -> 0.073211848 | AR26: =SUMIF(A:A,AG26,AA:AA) -> 22169
A27: כללי | B27: 23 | C27: אפרת | D27: 11403 | E27: 2491 | F27: =E27/D27 -> 0.21845128 | G27: 124 | H27: =IF(G27=0,0,G27/$D27) -> 0.010874331 | I27: 11 | J27: =IF(I27=0,0,I27/$D27) -> 0.00096465842 | K27: 0 | L27: =IF(K27=0,0,K27/$D27) -> 0 | M27: 19951 | O27: 668 | P27: =IF(O27=0,0,O27/D27) -> 0.058581075 | Q27: 0 | R27: 11 | S27: 7 | T27: 14 | U27: 21 | V27: 28 | W27: 14 | X27: 14 | Y27: 8 | Z27: 4 | AA27: =SUM(R27:X27) -> 109 | AB27: 88 | AC27: 81 | AD27: 0 | AE27: 300 | AG27: כללי | AH27: =SUMIF(A:A,AG27,G:G) -> 23202 | AI27: =SUM(SUMIF($A:$A,$AG27,G:G)/SUMIF($A:$A,$AG27,$D:$D)) -> 0.0057843487 | AJ27: =SUMIF(A:A,AG27,I:I) -> 10726 | AK27: =SUM(SUMIF($A:$A,$AG27,I:I)/SUMIF($A:$A,$AG27,$D:$D)) -> 0.0026740334 | AL27: =SUMIF(A:A,AG27,K:K) -> 1622 | AM27: =SUM(SUMIF($A:$A,$AG27,K:K)/SUMIF($A:$A,$AG27,$D:$D)) -> 0.0004043709 | AN27: =SUMIF(A:A,AG27,M:M) -> 4361783 | AO27: =SUM(SUMIF($A:$A,$AG27,M:M)/SUMIF($A:$A,$AG27,$D:$D)) -> 1.0874094 | AP27: =SUMIF(A:A,AG27,O:O) -> 171808 | AQ27: =SUM(SUMIF($A:$A,$AG27,O:O)/SUMIF($A:$A,$AG27,$D:$D)) -> 0.042832401 | AR27: =SUMIF(A:A,AG27,AA:AA) -> 16911
A28: כללי | B28: 24 | C28: אריאל | D28: 18298 | E28: 3191 | F28: =E28/D28 -> 0.17439064 | G28: 108 | H28: =IF(G28=0,0,G28/$D28) -> 0.0059022844 | I28: 24 | J28: =IF(I28=0,0,I28/$D28) -> 0.0013116188 | K28: 5 | L28: =IF(K28=0,0,K28/$D28) -> 0.00027325391 | M28: 20162 | O28: 602 | P28: =IF(O28=0,0,O28/D28) -> 0.03289977 | Q28: 2 | R28: 17 | S28: 3 | T28: 9 | U28: 7 | V28: 18 | W28: 7 | X28: 15 | Y28: 18 | Z28: 4 | AA28: =SUM(R28:X28) -> 76 | AB28: 59 | AC28: 42 | AD28: 6 | AE28: -44 | AG28: ערבי | AH28: =SUMIF(A:A,AG28,G:G) -> 8458 | AI28: =SUM(SUMIF($A:$A,$AG28,G:G)/SUMIF($A:$A,$AG28,$D:$D)) -> 0.0076105432 | AJ28: =SUMIF(A:A,AG28,I:I) -> 4898 | AK28: =SUM(SUMIF($A:$A,$AG28,I:I)/SUMIF($A:$A,$AG28,$D:$D)) -> 0.0044072405 | AL28: =SUMIF(A:A,AG28,K:K) -> 666 | AM28: =SUM(SUMIF($A:$A,$AG28,K:K)/SUMIF($A:$A,$AG28,$D:$D)) -> 0.00059926954 | AN28: =SUMIF(A:A,AG28,M:M) -> 972225 | AO28: =SUM(SUMIF($A:$A,$AG28,M:M)/SUMIF($A:$A,$AG28,$D:$D)) -> 0.87481205 | AP28: =SUMIF(A:A,AG28,O:O) -> 76226 | AQ28: =SUM(SUMIF($A:$A,$AG28,O:O)/SUMIF($A:$A,$AG28,$D:$D)) -> 0.068588468 | AR28: =SUMIF(A:A,AG28,AA:AA) -> 5765
A29: מעורב | B29: 25 | C29: אשדוד | D29: 225707 | E29: 38370 | F29: =E29/D29 -> 0.16999916 | G29: 1771 | H29: =IF(G29=0,0,G29/$D29) -> 0.0078464558 | I29: 922 | J29: =IF(I29=0,0,I29/$D29) -> 0.004084942 | K29: 122 | L29: =IF(K29=0,0,K29/$D29) -> 0.00054052378 | M29: 262568 | O29: 17665 | P29: =IF(O29=0,0,O29/D29) -> 0.078265185 | Q29: 4 | R29: 119 | S29: 189 | T29: 121 | U29: 285 | V29: 255 | W29: 172 | X29: 197 | Y29: 208 | Z29: 116 | AA29: =SUM(R29:X29) -> 1338 | AB29: 1194 | AC29: 1146 | AD29: 40 | AE29: 3001 | AG29: חרדי | AH29: =SUMIF(A:A,AG29,G:G) -> 11993 | AI29: =SUM(SUMIF($A:$A,$AG29,G:G)/SUMIF($A:$A,$AG29,$D:$D)) -> 0.025908851 | AJ29: =SUMIF(A:A,AG29,I:I) -> 2600 | AK29: =SUM(SUMIF($A:$A,$AG29,I:I)/SUMIF($A:$A,$AG29,$D:$D)) -> 0.005616861 | AL29: =SUMIF(A:A,AG29,K:K) -> 202 | AM29: =SUM(SUMIF($A:$A,$AG29,K:K)/SUMIF($A:$A,$AG29,$D:$D)) -> 0.00043638689 | AN29: =SUMIF(A:A,AG29,M:M) -> 553197 | AO29: =SUM(SUMIF($A:$A,$AG29,M:M)/SUMIF($A:$A,$AG29,$D:$D)) -> 1.1950887 | AP29: =SUMIF(A:A,AG29,O:O) -> 76141 | AQ29: =SUM(SUMIF($A:$A,$AG29,O:O)/SUMIF($A:$A,$AG29,$D:$D)) -> 0.16448977 | AR29: =SUMIF(A:A,AG29,AA:AA) -> 9327
A30: כללי | B30: 26 | C30: אשקלון | D30: 141817 | E30: 28825 | F30: =E30/D30 -> 0.2032549 | G30: 803 | H30: =IF(G30=0,0,G30/$D30) -> 0.0056622267 | I30: 599 | J30: =IF(I30=0,0,I30/$D30) -> 0.0042237531 | K30: 57 | L30: =IF(K30=0,0,K30/$D30) -> 0.00040192643 | M30: 147294 | O30: 6453 | P30: =IF(O30=0,0,O30/D30) -> 0.045502302 | Q30: 0 | R30: 113 | S30: 64 | T30: 55 | U30: 83 | V30: 93 | W30: 66 | X30: 130 | Y30: 84 | Z30: 60 | AA30: =SUM(R30:X30) -> 604 | AB30: 505 | AC30: 419 | AD30: -1 | AE30: 2275
A31: ערבי | B31: 27 | C31: באקה אל-גרביה | D31: 29564 | E31: 4282 | F31: =E31/D31 -> 0.14483832 | G31: 144 | H31: =IF(G31=0,0,G31/$D31) -> 0.0048707888 | I31: 139 | J31: =IF(I31=0,0,I31/$D31) -> 0.0047016642 | K31: 38 | L31: =IF(K31=0,0,K31/$D31) -> 0.001285347 | M31: 23212 | O31: 1971 | P31: =IF(O31=0,0,O31/D31) -> 0.066668922 | Q31: 2 | R31: 22 | S31: 0 | T31: 9 | U31: 7 | V31: 6 | W31: 17 | X31: 15 | Y31: 14 | Z31: 2 | AA31: =SUM(R31:X31) -> 76 | AB31: 83 | AC31: 82 | AD31: 4 | AE31: 50
A32: מעורב | B32: 28 | C32: באר יעקב | D32: 25852 | E32: 4322 | F32: =E32/D32 -> 0.16718242 | G32: 141 | H32: =IF(G32=0,0,G32/$D32) -> 0.0054541235 | I32: 61 | J32: =IF(I32=0,0,I32/$D32) -> 0.0023595853 | K32: 4 | L32: =IF(K32=0,0,K32/$D32) -> 0.00015472691 | M32: 27928 | O32: 1371 | P32: =IF(O32=0,0,O32/D32) -> 0.053032647 | Q32: 0 | R32: 8 | S32: 8 | T32: 18 | U32: 28 | V32: 24 | W32: 20 | X32: 19 | Y32: 21 | Z32: 10 | AA32: =SUM(R32:X32) -> 125 | AB32: 76 | AC32: 59 | AD32: 2 | AE32: 814 | AG32: מ ב ט ש ב ו ע י (ע ם י י ח ס ל ח ו ל י ם ה ח ד ש י ם )
A33: כללי | B33: 29 | C33: באר שבע | D33: 197168 | E33: 48635 | F33: =E33/D33 -> 0.24666782 | G33: 1047 | H33: =IF(G33=0,0,G33/$D33) -> 0.0053101923 | I33: 327 | J33: =IF(I33=0,0,I33/$D33) -> 0.0016584841 | K33: 63 | L33: =IF(K33=0,0,K33/$D33) -> 0.00031952447 | M33: 250177 | O33: 9040 | P33: =IF(O33=0,0,O33/D33) -> 0.045849225 | Q33: 3 | R33: 161 | S33: 54 | T33: 62 | U33: 176 | V33: 136 | W33: 109 | X33: 106 | Y33: 102 | Z33: 72 | AA33: =SUM(R33:X33) -> 804 | AB33: 678 | AC33: 579 | AD33: 41 | AE33: 2771 | AG33: ס"ה חולים חדשים | AJ33: אשפוזים חדשים | AL33: נפטרים חדשים | AN33: חיסונים חדשים
A34: ערבי | B34: 30 | C34: בועיינה-נוג'ידאת | D34: 10137 | E34: 897 | F34: =E34/D34 -> 0.088487718 | G34: 46 | H34: =IF(G34=0,0,G34/$D34) -> 0.0045378317 | I34: 49 | J34: =IF(I34=0,0,I34/$D34) -> 0.0048337773 | K34: 2 | L34: =IF(K34=0,0,K34/$D34) -> 0.00019729703 | M34: 8988 | O34: 553 | P34: =IF(O34=0,0,O34/D34) -> 0.054552629 | Q34: 0 | R34: 6 | S34: 3 | T34: 1 | U34: 4 | V34: 4 | W34: 7 | X34: 3 | Y34: 6 | Z34: 13 | AA34: =SUM(R34:X34) -> 28 | AB34: 32 | AC34: 38 | AD34: 2 | AE34: 99 | AG34: מעורב | AH34: =SUMIF(A:A,AG34,AA:AA) -> 22169 | AI34: =SUM(SUMIF($A:$A,$AG34,AA:AA)/($AA$4)) -> 0.40900705 | AJ34: =SUMIF(A:A,AG34,AD:AD) -> 901 | AK34: =SUM(SUMIF($A:$A,$AG34,AD:AD)/$AD$4) -> 0.41444342 | AL34: =SUMIF(A:A,AG34,Q:Q) -> 73 | AM34: =SUM(SUMIF($A:$A,$AG34,Q:Q)/$Q$4) -> 0.33953488 | AN34: =SUMIF(A:A,AG34,AE:AE) -> 37701 | AO34: =SUM(SUMIF($A:$A,$AG34,AE:AE)/$AE$4) -> 0.26552244
A35: ערבי | B35: 31 | C35: בוקעאתא | D35: 6658 | E35: 799 | F35: =E35/D35 -> 0.12000601 | G35: 22 | H35: =IF(G35=0,0,G35/$D35) -> 0.0033042956 | I35: 51 | J35: =IF(I35=0,0,I35/$D35) -> 0.0076599579 | K35: 11 | L35: =IF(K35=0,0,K35/$D35) -> 0.0016521478 | M35: 5280 | O35: 886 | P35: =IF(O35=0,0,O35/D35) -> 0.13307299 | Q35: 0 | R35: 2 | S35: 1 | T35: 0 | U35: 3 | V35: 0 | W35: 5 | X35: 1 | Y35: 2 | Z35: 3 | AA35: =SUM(R35:X35) -> 12 | AB35: 8 | AC35: 12 | AD35: 1 | AE35: 42 | AG35: כללי | AH35: =SUMIF(A:A,AG35,AA:AA) -> 16911 | AI35: =SUM(SUMIF($A:$A,$AG35,AA:AA)/($AA$4)) -> 0.31199956 | AJ35: =SUMIF(A:A,AG35,AD:AD) -> 865 | AK35: =SUM(SUMIF($A:$A,$AG35,AD:AD)/$AD$4) -> 0.39788408 | AL35: =SUMIF(A:A,AG35,Q:Q) -> 85 | AM35: =SUM(SUMIF($A:$A,$AG35,Q:Q)/$Q$4) -> 0.39534884 | AN35: =SUMIF(A:A,AG35,AE:AE) -> 85555 | AO35: =SUM(SUMIF($A:$A,$AG35,AE:AE)/$AE$4) -> 0.60255092
A36: ערבי | B36: 32 | C36: ביר אל-מכסור | D36: 10068 | E36: 1088 | F36: =E36/D36 -> 0.10806516 | G36: 68 | H36: =IF(G36=0,0,G36/$D36) -> 0.0067540723 | I36: 37 | J36: =IF(I36=0,0,I36/$D36) -> 0.0036750099 | K36: 2 | L36: =IF(K36=0,0,K36/$D36) -> 0.00019864919 | M36: 5189 | O36: 306 | P36: =IF(O36=0,0,O36/D36) -> 0.030393325 | Q36: 1 | R36: 7 | S36: 5 | T36: 6 | U36: 11 | V36: 7 | W36: 5 | X36: 13 | Y36: 2 | Z36: 4 | AA36: =SUM(R36:X36) -> 54 | AB36: 37 | AC36: 31 | AD36: 1 | AE36: 76 | AG36: ערבי | AH36: =SUMIF(A:A,AG36,AA:AA) -> 5765 | AI36: =SUM(SUMIF($A:$A,$AG36,AA:AA)/($AA$4)) -> 0.10636139 | AJ36: =SUMIF(A:A,AG36,AD:AD) -> 289 | AK36: =SUM(SUMIF($A:$A,$AG36,AD:AD)/$AD$4) -> 0.13293468 | AL36: =SUMIF(A:A,AG36,Q:Q) -> 44 | AM36: =SUM(SUMIF($A:$A,$AG36,Q:Q)/$Q$4) -> 0.20465116 | AN36: =SUMIF(A:A,AG36,AE:AE) -> 15263 | AO36: =SUM(SUMIF($A:$A,$AG36,AE:AE)/$AE$4) -> 0.107495
A37: ערבי | B37: 33 | C37: ביר הדאג' | D37: 2677 | E37: 0 | F37: =E37/D37 -> 0 | G37: 0 | H37: =IF(G37=0,0,G37/$D37) -> 0 | I37: 5 | J37: =IF(I37=0,0,I37/$D37) -> 0.0018677624 | K37: 1 | L37: =IF(K37=0,0,K37/$D37) -> 0.00037355248 | M37: 305 | O37: 15 | P37: =IF(O37=0,0,O37/D37) -> 0.0056032873 | Q37: 0 | R37: 0 | S37: 0 | T37: 0 | U37: 0 | V37: 0 | W37: 0 | X37: 0 | Y37: 0 | Z37: 0 | AA37: =SUM(R37:X37) -> 0 | AB37: 0 | AC37: 0 | AD37: 0 | AE37: 0 | AG37: חרדי | AH37: =SUMIF(A:A,AG37,AA:AA) -> 9327 | AI37: =SUM(SUMIF($A:$A,$AG37,AA:AA)/($AA$4)) -> 0.17207852 | AJ37: =SUMIF(A:A,AG37,AD:AD) -> 107 | AK37: =SUM(SUMIF($A:$A,$AG37,AD:AD)/$AD$4) -> 0.049218031 | AL37: =SUMIF(A:A,AG37,Q:Q) -> 11 | AM37: =SUM(SUMIF($A:$A,$AG37,Q:Q)/$Q$4) -> 0.051162791 | AN37: =SUMIF(A:A,AG37,AE:AE) -> 2751 | AO37: =SUM(SUMIF($A:$A,$AG37,AE:AE)/$AE$4) -> 0.019374877
A38: כללי | B38: 34 | C38: בית אל | D38: 5700 | E38: 1009 | F38: =E38/D38 -> 0.17701754 | G38: 55 | H38: =IF(G38=0,0,G38/$D38) -> 0.0096491228 | I38: 6 | J38: =IF(I38=0,0,I38/$D38) -> 0.0010526316 | K38: 1 | L38: =IF(K38=0,0,K38/$D38) -> 0.0001754386 | M38: 10105 | O38: 279 | P38: =IF(O38=0,0,O38/D38) -> 0.048947368 | Q38: 0 | R38: 12 | S38: 4 | T38: 0 | U38: 2 | V38: 22 | W38: 7 | X38: 8 | Y38: 22 | Z38: 7 | AA38: =SUM(R38:X38) -> 55 | AB38: 34 | AC38: 28 | AD38: 0 | AE38: 50
A39: כללי | B39: 35 | C39: בית אריה | D39: 5115 | E39: 855 | F39: =E39/D39 -> 0.16715543 | G39: 24 | H39: =IF(G39=0,0,G39/$D39) -> 0.0046920821 | I39: 4 | J39: =IF(I39=0,0,I39/$D39) -> 0.00078201369 | K39: 0 | L39: =IF(K39=0,0,K39/$D39) -> 0 | M39: 4837 | O39: 164 | P39: =IF(O39=0,0,O39/D39) -> 0.032062561 | Q39: 0 | R39: 0 | S39: 1 | T39: 0 | U39: 5 | V39: 3 | W39: 1 | X39: 4 | Y39: 4 | Z39: 1 | AA39: =SUM(R39:X39) -> 14 | AB39: 16 | AC39: 27 | AD39: 0 | AE39: -77
A40: ערבי | B40: 36 | C40: בית ג'ן | D40: 11913 | E40: 1420 | F40: =E40/D40 -> 0.11919752 | G40: 114 | H40: =IF(G40=0,0,G40/$D40) -> 0.009569378 | I40: 58 | J40: =IF(I40=0,0,I40/$D40) -> 0.0048686309 | K40: 8 | L40: =IF(K40=0,0,K40/$D40) -> 0.0006715353 | M40: 16478 | O40: 1174 | P40: =IF(O40=0,0,O40/D40) -> 0.098547805 | Q40: 0 | R40: 6 | S40: 14 | T40: 16 | U40: 7 | V40: 15 | W40: 3 | X40: 14 | Y40: 12 | Z40: 13 | AA40: =SUM(R40:X40) -> 75 | AB40: 88 | AC40: 88 | AD40: 1 | AE40: 391
A41: כללי | B41: 37 | C41: בית דגן | D41: 6573 | E41: 1385 | F41: =E41/D41 -> 0.21071048 | G41: 44 | H41: =IF(G41=0,0,G41/$D41) -> 0.0066940514 | I41: 12 | J41: =IF(I41=0,0,I41/$D41) -> 0.0018256504 | K41: 2 | L41: =IF(K41=0,0,K41/$D41) -> 0.00030427506 | M41: 6046 | O41: 296 | P41: =IF(O41=0,0,O41/D41) -> 0.04503271 | Q41: 0 | R41: 6 | S41: 2 | T41: 2 | U41: 2 | V41: 7 | W41: 3 | X41: 9 | Y41: 10 | Z41: 6 | AA41: =SUM(R41:X41) -> 31 | AB41: 33 | AC41: 31 | AD41: 1 | AE41: 204
A42: כללי | B42: 38 | C42: בית חשמונאי | D42: 2139 | E42: 546 | F42: =E42/D42 -> 0.25525947 | G42: 3 | H42: =IF(G42=0,0,G42/$D42) -> 0.0014025245 | I42: 0 | J42: =IF(I42=0,0,I42/$D42) -> 0 | K42: 0 | L42: =IF(K42=0,0,K42/$D42) -> 0 | M42: 2765 | O42: 65 | P42: =IF(O42=0,0,O42/D42) -> 0.030388032 | Q42: 0 | R42: 0 | S42: 0 | T42: 1 | U42: 0 | V42: 0 | W42: 0 | X42: 1 | Y42: 2 | Z42: 1 | AA42: =SUM(R42:X42) -> 2 | AB42: 4 | AC42: 6 | AD42: 0 | AE42: 98
A43: כללי | B43: 39 | C43: בית יצחק-שער חפר | D43: 2084 | E43: 742 | F43: =E43/D43 -> 0.35604607 | G43: 8 | H43: =IF(G43=0,0,G43/$D43) -> 0.0038387716 | I43: 4 | J43: =IF(I43=0,0,I43/$D43) -> 0.0019193858 | K43: 0 | L43: =IF(K43=0,0,K43/$D43) -> 0 | M43: 1854 | O43: 55 | P43: =IF(O43=0,0,O43/D43) -> 0.026391555 | Q43: 0 | R43: 0 | S43: 0 | T43: 2 | U43: 1 | V43: 1 | W43: 2 | X43: 1 | Y43: 0 | Z43: 1 | AA43: =SUM(R43:X43) -> 7 | AB43: 3 | AC43: 1 | AD43: 0 | AE43: 63
A44: כללי | B44: 40 | C44: בית שאן | D44: 19310 | E44: 3602 | F44: =E44/D44 -> 0.18653547 | G44: 93 | H44: =IF(G44=0,0,G44/$D44) -> 0.0048161574 | I44: 93 | J44: =IF(I44=0,0,I44/$D44) -> 0.0048161574 | K44: 6 | L44: =IF(K44=0,0,K44/$D44) -> 0.00031071983 | M44: 17344 | O44: 1090 | P44: =IF(O44=0,0,O44/D44) -> 0.056447437 | Q44: 1 | R44: 13 | S44: 11 | T44: 5 | U44: 29 | V44: 16 | W44: 10 | X44: 7 | Y44: 13 | Z44: 12 | AA44: =SUM(R44:X44) -> 91 | AB44: 83 | AC44: 81 | AD44: 17 | AE44: 110
A45: מעורב | B45: 41 | C45: בית שמש | D45: 126846 | E45: 10565 | F45: =E45/D45 -> 0.083289974 | G45: 2272 | H45: =IF(G45=0,0,G45/$D45) -> 0.017911483 | I45: 529 | J45: =IF(I45=0,0,I45/$D45) -> 0.0041704114 | K45: 21 | L45: =IF(K45=0,0,K45/$D45) -> 0.00016555508 | M45: 114036 | O45: 13335 | P45: =IF(O45=0,0,O45/D45) -> 0.10512748 | Q45: 0 | R45: 324 | S45: 146 | T45: 188 | U45: 369 | V45: 289 | W45: 324 | X45: 312 | Y45: 320 | Z45: 108 | AA45: =SUM(R45:X45) -> 1952 | AB45: 1671 | AC45: 1386 | AD45: 41 | AE45: 840
A46: חרדי | B46: 42 | C46: ביתר עילית | D46: 61648 | E46: 2037 | F46: =E46/D46 -> 0.033042434 | G46: 1750 | H46: =IF(G46=0,0,G46/$D46) -> 0.028386971 | I46: 207 | J46: =IF(I46=0,0,I46/$D46) -> 0.0033577732 | K46: 7 | L46: =IF(K46=0,0,K46/$D46) -> 0.00011354788 | M46: 51706 | O46: 9691 | P46: =IF(O46=0,0,O46/D46) -> 0.15719894 | Q46: 2 | R46: 253 | S46: 102 | T46: 140 | U46: 187 | V46: 203 | W46: 349 | X46: 199 | Y46: 244 | Z46: 70 | AA46: =SUM(R46:X46) -> 1433 | AB46: 1222 | AC46: 977 | AD46: 22 | AE46: -46
A47: חרדי | B47: 43 | C47: בני ברק | D47: 200806 | E47: 14977 | F47: =E47/D47 -> 0.074584425 | G47: 4828 | H47: =IF(G47=0,0,G47/$D47) -> 0.024043106 | I47: 1672 | J47: =IF(I47=0,0,I47/$D47) -> 0.0083264444 | K47: 158 | L47: =IF(K47=0,0,K47/$D47) -> 0.00078682908 | M47: 245895 | O47: 35454 | P47: =IF(O47=0,0,O47/D47) -> 0.17655847 | Q47: 4 | R47: 361 | S47: 215 | T47: 444 | U47: 613 | V47: 557 | W47: 795 | X47: 593 | Y47: 463 | Z47: 109 | AA47: =SUM(R47:X47) -> 3578 | AB47: 2693 | AC47: 2300 | AD47: 55 | AE47: 1157
A48: כללי | B48: 44 | C48: בני עי"ש | D48: 6778 | E48: 1140 | F48: =E48/D48 -> 0.16819121 | G48: 33 | H48: =IF(G48=0,0,G48/$D48) -> 0.0048686928 | I48: 28 | J48: =IF(I48=0,0,I48/$D48) -> 0.0041310121 | K48: 3 | L48: =IF(K48=0,0,K48/$D48) -> 0.00044260844 | M48: 8415 | O48: 232 | P48: =IF(O48=0,0,O48/D48) -> 0.034228386 | Q48: 0 | R48: 1 | S48: 4 | T48: 3 | U48: 5 | V48: 4 | W48: 5 | X48: 5 | Y48: 4 | Z48: 3 | AA48: =SUM(R48:X48) -> 27 | AB48: 19 | AC48: 17 | AD48: 17 | AE48: 179
A49: כללי | B49: 45 | C49: בנימינה-גבעת עדה | D49: 14466 | E49: 2727 | F49: =E49/D49 -> 0.18851099 | G49: 29 | H49: =IF(G49=0,0,G49/$D49) -> 0.0020047007 | I49: 5 | J49: =IF(I49=0,0,I49/$D49) -> 0.00034563805 | K49: 0 | L49: =IF(K49=0,0,K49/$D49) -> 0 | M49: 14777 | O49: 330 | P49: =IF(O49=0,0,O49/D49) -> 0.022812111 | Q49: 0 | R49: 3 | S49: 5 | T49: 1 | U49: 5 | V49: 2 | W49: 4 | X49: 5 | Y49: 4 | Z49: 2 | AA49: =SUM(R49:X49) -> 25 | AB49: 23 | AC49: 21 | AD49: 0 | AE49: 176
A50: כללי | B50: 46 | C50: בסמ"ה | D50: 10726 | E50: 843 | F50: =E50/D50 -> 0.07859407 | G50: 59 | H50: =IF(G50=0,0,G50/$D50) -> 0.0055006526 | I50: 49 | J50: =IF(I50=0,0,I50/$D50) -> 0.0045683386 | K50: 5 | L50: =IF(K50=0,0,K50/$D50) -> 0.000466157 | M50: 7753 | O50: 616 | P50: =IF(O50=0,0,O50/D50) -> 0.057430543 | Q50: 0 | R50: 3 | S50: 0 | T50: 3 | U50: 5 | V50: 8 | W50: 4 | X50: 9 | Y50: 5 | Z50: 4 | AA50: =SUM(R50:X50) -> 32 | AB50: 39 | AC50: 42 | AD50: 1 | AE50: 90
B51: 47 | C51: בסמת טבעון | D51: 7914 | E51: 577 | F51: =E51/D51 -> 0.072908769 | G51: 20 | H51: =IF(G51=0,0,G51/$D51) -> 0.002527167 | I51: 5 | J51: =IF(I51=0,0,I51/$D51) -> 0.00063179176 | K51: 0 | L51: =IF(K51=0,0,K51/$D51) -> 0 | M51: 4826 | O51: 243 | P51: =IF(O51=0,0,O51/D51) -> 0.03070508 | Q51: 0 | R51: 5 | S51: 1 | T51: 6 | U51: 5 | V51: 1 | W51: 5 | X51: 7 | Y51: 10 | Z51: 5 | AA51: =SUM(R51:X51) -> 30 | AB51: 24 | AC51: 18 | AD51: 2 | AE51: 84
A52: ערבי | B52: 48 | C52: בענה | D52: 8433 | E52: 572 | F52: =E52/D52 -> 0.067828768 | G52: 51 | H52: =IF(G52=0,0,G52/$D52) -> 0.0060476699 | I52: 53 | J52: =IF(I52=0,0,I52/$D52) -> 0.0062848334 | K52: 7 | L52: =IF(K52=0,0,K52/$D52) -> 0.00083007233 | M52: 8401 | O52: 737 | P52: =IF(O52=0,0,O52/D52) -> 0.087394759 | Q52: 0 | R52: 4 | S52: 5 | T52: 8 | U52: 2 | V52: 5 | W52: 3 | X52: 6 | Y52: 4 | Z52: 3 | AA52: =SUM(R52:X52) -> 33 | AB52: 26 | AC52: 24 | AD52: -2 | AE52: 90
A53: כללי | B53: 49 | C53: ברכה | D53: 2707 | E53: 183 | F53: =E53/D53 -> 0.067602512 | G53: 37 | H53: =IF(G53=0,0,G53/$D53) -> 0.013668267 | I53: 0 | J53: =IF(I53=0,0,I53/$D53) -> 0 | K53: 0 | L53: =IF(K53=0,0,K53/$D53) -> 0 | M53: 4866 | O53: 150 | P53: =IF(O53=0,0,O53/D53) -> 0.055411895 | Q53: 0 | R53: 0 | S53: 0 | T53: 4 | U53: 4 | V53: 2 | W53: 5 | X53: 11 | Y53: 3 | Z53: 0 | AA53: =SUM(R53:X53) -> 26 | AB53: 23 | AC53: 29 | AD53: 0 | AE53: -21
A54: כללי | B54: 50 | C54: ברנר | D54: 7394 | E54: 133 | F54: =E54/D54 -> 0.017987557 | G54: 29 | H54: =IF(G54=0,0,G54/$D54) -> 0.003922099 | I54: 7 | J54: =IF(I54=0,0,I54/$D54) -> 0.00094671355 | K54: 3 | L54: =IF(K54=0,0,K54/$D54) -> 0.00040573438 | M54: 1950 | O54: 158 | P54: =IF(O54=0,0,O54/D54) -> 0.021368677 | Q54: 0 | R54: 3 | S54: 3 | T54: 0 | U54: 5 | V54: 2 | W54: 5 | X54: 5 | Y54: 2 | Z54: 0 | AA54: =SUM(R54:X54) -> 23 | AB54: 15 | AC54: 9 | AD54: 0 | AE54: 19
A55: כללי | B55: 51 | C55: בת חפר | D55: 5097 | E55: 1382 | F55: =E55/D55 -> 0.27113989 | G55: 25 | H55: =IF(G55=0,0,G55/$D55) -> 0.004904846 | I55: 5 | J55: =IF(I55=0,0,I55/$D55) -> 0.0009809692 | K55: 0 | L55: =IF(K55=0,0,K55/$D55) -> 0 | M55: 5204 | O55: 180 | P55: =IF(O55=0,0,O55/D55) -> 0.035314891 | Q55: 0 | R55: 2 | S55: 3 | T55: 3 | U55: 6 | V55: 1 | W55: 2 | X55: 1 | Y55: 4 | Z55: 0 | AA55: =SUM(R55:X55) -> 18 | AB55: 16 | AC55: 10 | AD55: 1 | AE55: 207
A56: כללי | B56: 52 | C56: בת ים | D56: 129868 | E56: 26104 | F56: =E56/D56 -> 0.2010041 | G56: 788 | H56: =IF(G56=0,0,G56/$D56) -> 0.0060676995 | I56: 672 | J56: =IF(I56=0,0,I56/$D56) -> 0.0051744849 | K56: 133 | L56: =IF(K56=0,0,K56/$D56) -> 0.0010241168 | M56: 130018 | O56: 5655 | P56: =IF(O56=0,0,O56/D56) -> 0.043544214 | Q56: 3 | R56: 85 | S56: 45 | T56: 42 | U56: 74 | V56: 62 | W56: 81 | X56: 61 | Y56: 78 | Z56: 34 | AA56: =SUM(R56:X56) -> 450 | AB56: 422 | AC56: 378 | AD56: 39 | AE56: 2077
A57: ערבי | B57: 53 | C57: ג'דיידה-מכר | D57: 20765 | E57: 1964 | F57: =E57/D57 -> 0.09458223 | G57: 142 | H57: =IF(G57=0,0,G57/$D57) -> 0.0068384301 | I57: 89 | J57: =IF(I57=0,0,I57/$D57) -> 0.0042860583 | K57: 30 | L57: =IF(K57=0,0,K57/$D57) -> 0.0014447387 | M57: 18827 | O57: 1356 | P57: =IF(O57=0,0,O57/D57) -> 0.065302191 | Q57: 0 | R57: 22 | S57: 4 | T57: 12 | U57: 22 | V57: 8 | W57: 19 | X57: 9 | Y57: 10 | Z57: 9 | AA57: =SUM(R57:X57) -> 96 | AB57: 80 | AC57: 113 | AD57: 4 | AE57: 329
A58: ערבי | B58: 54 | C58: ג'ולס | D58: 6252 | E58: 565 | F58: =E58/D58 -> 0.090371081 | G58: 54 | H58: =IF(G58=0,0,G58/$D58) -> 0.0086372361 | I58: 39 | J58: =IF(I58=0,0,I58/$D58) -> 0.0062380038 | K58: 5 | L58: =IF(K58=0,0,K58/$D58) -> 0.00079974408 | M58: 6119 | O58: 541 | P58: =IF(O58=0,0,O58/D58) -> 0.08653231 | Q58: 0 | R58: 2 | S58: 7 | T58: 2 | U58: 9 | V58: 2 | W58: 6 | X58: 8 | Y58: 6 | Z58: 9 | AA58: =SUM(R58:X58) -> 36 | AB58: 36 | AC58: 35 | AD58: 1 | AE58: 110
A59: ערבי | B59: 55 | C59: ג'לג'וליה | D59: 10188 | E59: 596 | F59: =E59/D59 -> 0.058500196 | G59: 66 | H59: =IF(G59=0,0,G59/$D59) -> 0.0064782097 | I59: 58 | J59: =IF(I59=0,0,I59/$D59) -> 0.0056929721 | K59: 7 | L59: =IF(K59=0,0,K59/$D59) -> 0.00068708284 | M59: 9404 | O59: 690 | P59: =IF(O59=0,0,O59/D59) -> 0.067726737 | Q59: 1 | R59: 7 | S59: 2 | T59: 4 | U59: 1 | V59: 10 | W59: 10 | X59: 6 | Y59: 4 | Z59: 0 | AA59: =SUM(R59:X59) -> 40 | AB59: 30 | AC59: 38 | AD59: 3 | AE59: 146
A60: ערבי | B60: 56 | C60: ג'סר א-זרקא | D60: 14967 | E60: 1149 | F60: =E60/D60 -> 0.076768892 | G60: 102 | H60: =IF(G60=0,0,G60/$D60) -> 0.006814993 | I60: 85 | J60: =IF(I60=0,0,I60/$D60) -> 0.0056791608 | K60: 5 | L60: =IF(K60=0,0,K60/$D60) -> 0.00033406828 | M60: 20760 | O60: 739 | P60: =IF(O60=0,0,O60/D60) -> 0.049375292 | Q60: 0 | R60: 4 | S60: 10 | T60: 6 | U60: 1 | V60: 14 | W60: 10 | X60: 24 | Y60: 0 | Z60: 1 | AA60: =SUM(R60:X60) -> 69 | AB60: 65 | AC60: 49 | AD60: 5 | AE60: 62
A61: ערבי | B61: 57 | C61: ג'ש (גוש חלב) | D61: 3134 | E61: 735 | F61: =E61/D61 -> 0.23452457 | G61: 83 | H61: =IF(G61=0,0,G61/$D61) -> 0.026483727 | I61: 6 | J61: =IF(I61=0,0,I61/$D61) -> 0.0019144863 | K61: 1 | L61: =IF(K61=0,0,K61/$D61) -> 0.00031908105 | M61: 3582 | O61: 217 | P61: =IF(O61=0,0,O61/D61) -> 0.069240587 | Q61: 0 | R61: 51 | S61: 1 | T61: 2 | U61: 4 | V61: 7 | W61: 3 | X61: 1 | Y61: 5 | Z61: 6 | AA61: =SUM(R61:X61) -> 69 | AB61: 76 | AC61: 33 | AD61: 1 | AE61: 56
A62: ערבי | B62: 58 | C62: ג'ת | D62: 12206 | E62: 1638 | F62: =E62/D62 -> 0.1341963 | G62: 87 | H62: =IF(G62=0,0,G62/$D62) -> 0.0071276421 | I62: 54 | J62: =IF(I62=0,0,I62/$D62) -> 0.0044240537 | K62: 4 | L62: =IF(K62=0,0,K62/$D62) -> 0.00032770768 | M62: 11807 | O62: 907 | P62: =IF(O62=0,0,O62/D62) -> 0.074307718 | Q62: 0 | R62: 3 | S62: 3 | T62: 17 | U62: 12 | V62: 7 | W62: 13 | X62: 19 | Y62: 9 | Z62: 6 | AA62: =SUM(R62:X62) -> 74 | AB62: 40 | AC62: 30 | AD62: 1 | AE62: 66
A63: כללי | B63: 59 | C63: גבע בנימין | D63: 5424 | E63: 532 | F63: =E63/D63 -> 0.098082596 | G63: 66 | H63: =IF(G63=0,0,G63/$D63) -> 0.012168142 | I63: 12 | J63: =IF(I63=0,0,I63/$D63) -> 0.0022123894 | K63: 0 | L63: =IF(K63=0,0,K63/$D63) -> 0 | M63: 5610 | O63: 352 | P63: =IF(O63=0,0,O63/D63) -> 0.064896755 | Q63: 0 | R63: 0 | S63: 8 | T63: 13 | U63: 11 | V63: 10 | W63: 12 | X63: 7 | Y63: 4 | Z63: 6 | AA63: =SUM(R63:X63) -> 61 | AB63: 37 | AC63: 33 | AD63: 1 | AE63: 105
... A112: ערבי | B112: 108 | C112: ירכא | D112: 15589 | E112: 1124 | F112: =E112/D112 -> 0.072102123 | G112: 157 | H112: =IF(G112=0,0,G112/$D112) -> 0.010071204 | I112: 91 | J112: =IF(I112=0,0,I112/$D112) -> 0.0058374495 | K112: 37 | L112: =IF(K112=0,0,K112/$D112) -> 0.0023734685 | M112: 18645 | O112: 1538 | P112: =IF(O112=0,0,O112/D112) -> 0.098659311 | Q112: 1 | R112: 4 | S112: 19 | T112: 5 | U112: 17 | V112: 23 | W112: 18 | X112: 24 | Y112: 22 | Z112: 12 | AA112: =SUM(R112:X112) -> 110 | AB112: 76 | AC112: 78 | AD112: 2 | AE112: 226
B113: 109 | D113: 0 | E113: 0 | F113: =E113/D113 -> #DIV/0! | G113: 0 | H113: =IF(G113=0,0,G113/$D113) -> 0 | I113: 0 | J113: =IF(I113=0,0,I113/$D113) -> 0 | K113: 0 | L113: =IF(K113=0,0,K113/$D113) -> 0 | M113: 0 | O113: 0 | P113: =IF(O113=0,0,O113/D113) -> 0 | Q113: 0 | R113: 0 | S113: 0 | T113: 0 | U113: 0 | V113: 0 | W113: 0 | X113: 0 | Y113: 0 | Z113: 0 | AA113: =SUM(R113:X113) -> 0 | AB113: 0 | AC113: 31 | AD113: 0 | AE113: 0
A114: ערבי | B114: 110 | C114: כאבול | D114: 12320 | E114: 1835 | F114: =E114/D114 -> 0.14894481 | G114: 161 | H114: =IF(G114=0,0,G114/$D114) -> 0.013068182 | I114: 48 | J114: =IF(I114=0,0,I114/$D114) -> 0.0038961039 | K114: 2 | L114: =IF(K114=0,0,K114/$D114) -> 0.00016233766 | M114: 11667 | O114: 1013 | P114: =IF(O114=0,0,O114/D114) -> 0.082224026 | Q114: 0 | R114: 5 | S114: 10 | T114: 10 | U114: 22 | V114: 7 | W114: 22 | X114: 15 | Y114: 17 | Z114: 4 | AA114: =SUM(R114:X114) -> 91 | AB114: 116 | AC114: 0 | AD114: 2 | AE114: 327
A115: ערבי | B115: 111 | C115: כאוכב אבו אל-היג'א | D115: 3872 | E115: 608 | F115: =E115/D115 -> 0.15702479 | G115: 44 | H115: =IF(G115=0,0,G115/$D115) -> 0.011363636 | I115: 33 | J115: =IF(I115=0,0,I115/$D115) -> 0.0085227273 | K115: 1 | L115: =IF(K115=0,0,K115/$D115) -> 0.00025826446 | M115: 4989 | O115: 344 | P115: =IF(O115=0,0,O115/D115) -> 0.088842975 | Q115: 0 | R115: 1 | S115: 4 | T115: 13 | U115: 6 | V115: 5 | W115: 2 | X115: 5 | Y115: 5 | Z115: 4 | AA115: =SUM(R115:X115) -> 36 | AB115: 33 | AC115: 122 | AD115: 6 | AE115: 46
A116: כללי | B116: 112 | C116: כוכב השחר | D116: 2469 | E116: 287 | F116: =E116/D116 -> 0.11624139 | G116: 45 | H116: =IF(G116=0,0,G116/$D116) -> 0.018226002 | I116: 2 | J116: =IF(I116=0,0,I116/$D116) -> 0.00081004455 | K116: 0 | L116: =IF(K116=0,0,K116/$D116) -> 0 | M116: 3733 | O116: 139 | P116: =IF(O116=0,0,O116/D116) -> 0.056298096 | Q116: 0 | R116: 10 | S116: 1 | T116: 6 | U116: 8 | V116: 4 | W116: 3 | X116: 8 | Y116: 6 | Z116: 1 | AA116: =SUM(R116:X116) -> 40 | AB116: 32 | AC116: 35 | AD116: 0 | AE116: -59
A117: כללי | B117: 113 | C117: כוכב יאיר | D117: 9121 | E117: 2383 | F117: =E117/D117 -> 0.26126521 | G117: 15 | H117: =IF(G117=0,0,G117/$D117) -> 0.0016445565 | I117: 10 | J117: =IF(I117=0,0,I117/$D117) -> 0.001096371 | K117: 2 | L117: =IF(K117=0,0,K117/$D117) -> 0.0002192742 | M117: 7638 | O117: 187 | P117: =IF(O117=0,0,O117/D117) -> 0.020502138 | Q117: 0 | R117: 2 | S117: 1 | T117: 2 | U117: 1 | V117: 3 | W117: 1 | X117: 1 | Y117: 2 | Z117: 1 | AA117: =SUM(R117:X117) -> 11 | AB117: 11 | AC117: 33 | AD117: 1 | AE117: 138
A118: כללי | B118: 114 | C118: כוכב יעקב | D118: 8937 | E118: 410 | F118: =E118/D118 -> 0.045876692 | G118: 304 | H118: =IF(G118=0,0,G118/$D118) -> 0.034015889 | I118: 33 | J118: =IF(I118=0,0,I118/$D118) -> 0.0036925143 | K118: 0 | L118: =IF(K118=0,0,K118/$D118) -> 0 | M118: 9660 | O118: 1197 | P118: =IF(O118=0,0,O118/D118) -> 0.13393756 | Q118: 0 | R118: 11 | S118: 45 | T118: 28 | U118: 18 | V118: 50 | W118: 95 | X118: 26 | Y118: 29 | Z118: 29 | AA118: =SUM(R118:X118) -> 273 | AB118: 200 | AC118: 8 | AD118: 1 | AE118: 65
A119: כללי | B119: 115 | C119: כסיפה | D119: 17703 | E119: 324 | F119: =E119/D119 -> 0.018301983 | G119: 29 | H119: =IF(G119=0,0,G119/$D119) -> 0.0016381404 | I119: 45 | J119: =IF(I119=0,0,I119/$D119) -> 0.002541942 | K119: 4 | L119: =IF(K119=0,0,K119/$D119) -> 0.0002259504 | M119: 7176 | O119: 493 | P119: =IF(O119=0,0,O119/D119) -> 0.027848387 | Q119: 0 | R119: 3 | S119: 1 | T119: 5 | U119: 0 | V119: 4 | W119: 4 | X119: 4 | Y119: 0 | Z119: 9 | AA119: =SUM(R119:X119) -> 21 | AB119: 18 | AC119: 153 | AD119: 0 | AE119: 27
A120: ערבי | B120: 116 | C120: כסרא-סמיע | D120: 8705 | E120: 570 | F120: =E120/D120 -> 0.065479609 | G120: 20 | H120: =IF(G120=0,0,G120/$D120) -> 0.0022975302 | I120: 40 | J120: =IF(I120=0,0,I120/$D120) -> 0.0045950603 | K120: 4 | L120: =IF(K120=0,0,K120/$D120) -> 0.00045950603 | M120: 8010 | O120: 552 | P120: =IF(O120=0,0,O120/D120) -> 0.063411832 | Q120: 0 | R120: 0 | S120: 1 | T120: 3 | U120: 2 | V120: 5 | W120: 0 | X120: 4 | Y120: 1 | Z120: 1 | AA120: =SUM(R120:X120) -> 15 | AB120: 10 | AC120: 16 | AD120: 1 | AE120: 132
A121: ערבי | B121: 117 | C121: כעביה-טבאש-חג'אג'רה | D121: 5869 | E121: 400 | F121: =E121/D121 -> 0.068154711 | G121: 65 | H121: =IF(G121=0,0,G121/$D121) -> 0.011075141 | I121: 34 | J121: =IF(I121=0,0,I121/$D121) -> 0.0057931505 | K121: 4 | L121: =IF(K121=0,0,K121/$D121) -> 0.00068154711 | M121: 3534 | O121: 305 | P121: =IF(O121=0,0,O121/D121) -> 0.051967967 | Q121: 1 | R121: 8 | S121: 9 | T121: 4 | U121: 7 | V121: 3 | W121: 5 | X121: 7 | Y121: 9 | Z121: 4 | AA121: =SUM(R121:X121) -> 43 | AB121: 40 | AC121: 17 | AD121: -1 | AE121: 69
A122: כללי | B122: 118 | C122: כפר אדומים | D122: 4307 | E122: 770 | F122: =E122/D122 -> 0.17877873 | G122: 26 | H122: =IF(G122=0,0,G122/$D122) -> 0.0060366845 | I122: 3 | J122: =IF(I122=0,0,I122/$D122) -> 0.00069654052 | K122: 0 | L122: =IF(K122=0,0,K122/$D122) -> 0 | M122: 6596 | O122: 180 | P122: =IF(O122=0,0,O122/D122) -> 0.041792431 | Q122: 0 | R122: 2 | S122: 3 | T122: 5 | U122: 2 | V122: 6 | W122: 0 | X122: 3 | Y122: 1 | Z122: 3 | AA122: =SUM(R122:X122) -> 21 | AB122: 24 | AC122: 24 | AD122: 1 | AE122: 139
A123: ערבי | B123: 119 | C123: כפר ברא | D123: 3793 | E123: 338 | F123: =E123/D123 -> 0.089111521 | G123: 19 | H123: =IF(G123=0,0,G123/$D123) -> 0.0050092275 | I123: 8 | J123: =IF(I123=0,0,I123/$D123) -> 0.0021091484 | K123: 0 | L123: =IF(K123=0,0,K123/$D123) -> 0 | M123: 3290 | O123: 302 | P123: =IF(O123=0,0,O123/D123) -> 0.079620353 | Q123: 0 | R123: 2 | S123: 1 | T123: 1 | U123: 1 | V123: 2 | W123: 1 | X123: 5 | Y123: 3 | Z123: 0 | AA123: =SUM(R123:X123) -> 13 | AB123: 14 | AC123: 19 | AD123: 1 | AE123: 73
A124: כללי | B124: 120 | C124: כפר האורנים | D124: 2212 | E124: 623 | F124: =E124/D124 -> 0.28164557 | G124: 10 | H124: =IF(G124=0,0,G124/$D124) -> 0.0045207957 | I124: 2 | J124: =IF(I124=0,0,I124/$D124) -> 0.00090415913 | K124: 0 | L124: =IF(K124=0,0,K124/$D124) -> 0 | M124: 2902 | O124: 98 | P124: =IF(O124=0,0,O124/D124) -> 0.044303797 | Q124: 0 | R124: 1 | S124: 1 | T124: 1 | U124: 1 | V124: 0 | W124: 3 | X124: 0 | Y124: 0 | Z124: 0 | AA124: =SUM(R124:X124) -> 7 | AB124: 6 | AC124: 15 | AD124: 0 | AE124: 128
B125: 121 | D125: 0 | E125: 0 | F125: =E125/D125 -> #DIV/0! | G125: 2 | H125: =IF(G125=0,0,G125/$D125) -> #DIV/0! | I125: 3 | J125: =IF(I125=0,0,I125/$D125) -> #DIV/0! | K125: 0 | L125: =IF(K125=0,0,K125/$D125) -> 0 | M125: 0 | O125: 0 | P125: =IF(O125=0,0,O125/D125) -> 0 | Q125: 0 | R125: 0 | S125: 0 | T125: 0 | U125: 0 | V125: 0 | W125: 0 | X125: 0 | Y125: 0 | Z125: 0 | AA125: =SUM(R125:X125) -> 0 | AB125: 0 | AC125: 19 | AD125: 0 | AE125: 0
A126: כללי | B126: 122 | C126: כפר ורדים | D126: 5516 | E126: 1969 | F126: =E126/D126 -> 0.35696157 | G126: 22 | H126: =IF(G126=0,0,G126/$D126) -> 0.0039883974 | I126: 11 | J126: =IF(I126=0,0,I126/$D126) -> 0.0019941987 | K126: 2 | L126: =IF(K126=0,0,K126/$D126) -> 0.00036258158 | M126: 6665 | O126: 158 | P126: =IF(O126=0,0,O126/D126) -> 0.028643945 | Q126: 0 | R126: 0 | S126: 1 | T126: 7 | U126: 2 | V126: 4 | W126: 0 | X126: 0 | Y126: 2 | Z126: 3 | AA126: =SUM(R126:X126) -> 14 | AB126: 21 | AC126: 7 | AD126: 1 | AE126: 163
A127: חרדי | B127: 123 | C127: כפר חב"ד | D127: 6874 | E127: 808 | F127: =E127/D127 -> 0.11754437 | G127: 52 | H127: =IF(G127=0,0,G127/$D127) -> 0.0075647367 | I127: 30 | J127: =IF(I127=0,0,I127/$D127) -> 0.0043642712 | K127: 0 | L127: =IF(K127=0,0,K127/$D127) -> 0 | M127: 9084 | O127: 764 | P127: =IF(O127=0,0,O127/D127) -> 0.11114344 | Q127: 0 | R127: 7 | S127: 3 | T127: 2 | U127: 1 | V127: 14 | W127: 10 | X127: 10 | Y127: 18 | Z127: 10 | AA127: =SUM(R127:X127) -> 47 | AB127: 29 | AC127: 0 | AD127: 0 | AE127: 33
A128: ערבי | B128: 124 | C128: כפר יאסיף | D128: 10667 | E128: 1686 | F128: =E128/D128 -> 0.15805756 | G128: 106 | H128: =IF(G128=0,0,G128/$D128) -> 0.0099371895 | I128: 52 | J128: =IF(I128=0,0,I128/$D128) -> 0.0048748477 | K128: 1 | L128: =IF(K128=0,0,K128/$D128) -> 9.374707e-05 | M128: 11896 | O128: 649 | P128: =IF(O128=0,0,O128/D128) -> 0.060841849 | Q128: 0 | R128: 7 | S128: 7 | T128: 13 | U128: 15 | V128: 10 | W128: 4 | X128: 3 | Y128: 7 | Z128: 3 | AA128: =SUM(R128:X128) -> 59 | AB128: 76 | AC128: 26 | AD128: 5 | AE128: 182
A129: חרדי | B129: 125 | C129: כפר יונה | D129: 22915 | E129: 4872 | F129: =E129/D129 -> 0.21261183 | G129: 78 | H129: =IF(G129=0,0,G129/$D129) -> 0.0034038839 | I129: 29 | J129: =IF(I129=0,0,I129/$D129) -> 0.0012655466 | K129: 6 | L129: =IF(K129=0,0,K129/$D129) -> 0.00026183722 | M129: 22573 | O129: 820 | P129: =IF(O129=0,0,O129/D129) -> 0.035784421 | Q129: 1 | R129: 10 | S129: 7 | T129: 7 | U129: 14 | V129: 5 | W129: 5 | X129: 7 | Y129: 5 | Z129: 6 | AA129: =SUM(R129:X129) -> 55 | AB129: 75 | AC129: 32 | AD129: 0 | AE129: 525
A130: ערבי | B130: 126 | C130: כפר כמא | D130: 3366 | E130: 775 | F130: =E130/D130 -> 0.23024361 | G130: 13 | H130: =IF(G130=0,0,G130/$D130) -> 0.0038621509 | I130: 3 | J130: =IF(I130=0,0,I130/$D130) -> 0.0008912656 | K130: 0 | L130: =IF(K130=0,0,K130/$D130) -> 0 | M130: 2867 | O130: 113 | P130: =IF(O130=0,0,O130/D130) -> 0.033571004 | Q130: 0 | R130: 2 | S130: 1 | T130: 2 | U130: 0 | V130: 3 | W130: 1 | X130: 0 | Y130: 0 | Z130: 1 | AA130: =SUM(R130:X130) -> 9 | AB130: 10 | AC130: 110 | AD130: 0 | AE130: 98
A131: ערבי | B131: 127 | C131: כפר כנא | D131: 22786 | E131: 3833 | F131: =E131/D131 -> 0.16821733 | G131: 300 | H131: =IF(G131=0,0,G131/$D131) -> 0.013165979 | I131: 84 | J131: =IF(I131=0,0,I131/$D131) -> 0.0036864742 | K131: 6 | L131: =IF(K131=0,0,K131/$D131) -> 0.00026331958 | M131: 18029 | O131: 1777 | P131: =IF(O131=0,0,O131/D131) -> 0.077986483 | Q131: 1 | R131: 56 | S131: 14 | T131: 20 | U131: 30 | V131: 39 | W131: 27 | X131: 25 | Y131: 21 | Z131: 21 | AA131: =SUM(R131:X131) -> 211 | AB131: 219 | AC131: 76 | AD131: 6 | AE131: 566
A132: ערבי | B132: 128 | C132: כפר מנדא | D132: 20343 | E132: 1745 | F132: =E132/D132 -> 0.085778892 | G132: 107 | H132: =IF(G132=0,0,G132/$D132) -> 0.0052597945 | I132: 114 | J132: =IF(I132=0,0,I132/$D132) -> 0.0056038932 | K132: 9 | L132: =IF(K132=0,0,K132/$D132) -> 0.00044241262 | M132: 9754 | O132: 1345 | P132: =IF(O132=0,0,O132/D132) -> 0.066116109 | Q132: 1 | R132: 16 | S132: 7 | T132: 4 | U132: 11 | V132: 6 | W132: 14 | X132: 15 | Y132: 18 | Z132: 9 | AA132: =SUM(R132:X132) -> 73 | AB132: 54 | AC132: 8 | AD132: 5 | AE132: 225
A133: ערבי | B133: 129 | C133: כפר מצר | D133: 2769 | E133: 216 | F133: =E133/D133 -> 0.078006501 | G133: 26 | H133: =IF(G133=0,0,G133/$D133) -> 0.0093896714 | I133: 11 | J133: =IF(I133=0,0,I133/$D133) -> 0.0039725533 | K133: 2 | L133: =IF(K133=0,0,K133/$D133) -> 0.00072228241 | M133: 2013 | O133: 199 | P133: =IF(O133=0,0,O133/D133) -> 0.0718671 | Q133: 0 | R133: 1 | S133: 0 | T133: 0 | U133: 2 | V133: 2 | W133: 6 | X133: 9 | Y133: 0 | Z133: 1 | AA133: =SUM(R133:X133) -> 20 | AB133: 5 | AC133: 240 | AD133: 0 | AE133: 22
A134: כללי | B134: 130 | C134: כפר סבא | D134: 97982 | E134: 29051 | F134: =E134/D134 -> 0.29649323 | G134: 407 | H134: =IF(G134=0,0,G134/$D134) -> 0.0041538242 | I134: 165 | J134: =IF(I134=0,0,I134/$D134) -> 0.0016839828 | K134: 41 | L134: =IF(K134=0,0,K134/$D134) -> 0.0004184442 | M134: 110168 | O134: 2770 | P134: =IF(O134=0,0,O134/D134) -> 0.028270499 | Q134: 2 | R134: 27 | S134: 24 | T134: 18 | U134: 30 | V134: 49 | W134: 56 | X134: 49 | Y134: 34 | Z134: 33 | AA134: =SUM(R134:X134) -> 253 | AB134: 267 | AC134: 66 | AD134: 13 | AE134: 2526
A135: ערבי | B135: 131 | C135: כפר קאסם | D135: 24074 | E135: 2611 | F135: =E135/D135 -> 0.10845726 | G135: 156 | H135: =IF(G135=0,0,G135/$D135) -> 0.0064800199 | I135: 146 | J135: =IF(I135=0,0,I135/$D135) -> 0.006064634 | K135: 9 | L135: =IF(K135=0,0,K135/$D135) -> 0.0003738473 | M135: 24294 | O135: 2464 | P135: =IF(O135=0,0,O135/D135) -> 0.10235108 | Q135: 1 | R135: 9 | S135: 10 | T135: 11 | U135: 16 | V135: 15 | W135: 15 | X135: 15 | Y135: 16 | Z135: 3 | AA135: =SUM(R135:X135) -> 91 | AB135: 106 | AC135: 15 | AD135: 6 | AE135: 506
A136: ערבי | B136: 132 | C136: כפר קרע | D136: 19150 | E136: 2254 | F136: =E136/D136 -> 0.11770235 | G136: 44 | H136: =IF(G136=0,0,G136/$D136) -> 0.0022976501 | I136: 100 | J136: =IF(I136=0,0,I136/$D136) -> 0.0052219321 | K136: 13 | L136: =IF(K136=0,0,K136/$D136) -> 0.00067885117 | M136: 17314 | O136: 1277 | P136: =IF(O136=0,0,O136/D136) -> 0.066684073 | Q136: 1 | R136: 4 | S136: 3 | T136: 2 | U136: 9 | V136: 2 | W136: 3 | X136: 1 | Y136: 6 | Z136: 2 | AA136: =SUM(R136:X136) -> 24 | AB136: 26 | AC136: 260 | AD136: 2 | AE136: 138
A137: כללי | B137: 133 | C137: כפר תבור | D137: 4388 | E137: 1427 | F137: =E137/D137 -> 0.3252051 | G137: 29 | H137: =IF(G137=0,0,G137/$D137) -> 0.0066089335 | I137: 4 | J137: =IF(I137=0,0,I137/$D137) -> 0.00091157703 | K137: 0 | L137: =IF(K137=0,0,K137/$D137) -> 0 | M137: 4827 | O137: 152 | P137: =IF(O137=0,0,O137/D137) -> 0.034639927 | Q137: 0 | R137: 0 | S137: 6 | T137: 3 | U137: 8 | V137: 3 | W137: 0 | X137: 2 | Y137: 0 | Z137: 2 | AA137: =SUM(R137:X137) -> 22 | AB137: 21 | AC137: 119 | AD137: 1 | AE137: 128
... A175: כללי | B175: 171 | C175: נצרת | D175: 78529 | E175: 9364 | F175: =E175/D175 -> 0.11924257 | G175: 864 | H175: =IF(G175=0,0,G175/$D175) -> 0.011002305 | I175: 402 | J175: =IF(I175=0,0,I175/$D175) -> 0.005119128 | K175: 34 | L175: =IF(K175=0,0,K175/$D175) -> 0.00043296107 | M175: 57710 | O175: 6217 | P175: =IF(O175=0,0,O175/D175) -> 0.079168205 | Q175: 3 | R175: 138 | S175: 82 | T175: 67 | U175: 102 | V175: 112 | W175: 108 | X175: 107 | Y175: 69 | Z175: 60 | AA175: =SUM(R175:X175) -> 716 | AB175: 695 | AC175: 15 | AD175: 43 | AE175: 1451
B176: 172 | D176: 0 | E176: 9345 | F176: =E176/D176 -> #DIV/0! | G176: 359 | H176: =IF(G176=0,0,G176/$D176) -> #DIV/0! | I176: 108 | J176: =IF(I176=0,0,I176/$D176) -> #DIV/0! | K176: 23 | L176: =IF(K176=0,0,K176/$D176) -> #DIV/0! | M176: 45659 | O176: 1836 | P176: =IF(O176=0,0,O176/D176) -> #DIV/0! | Q176: 2 | R176: 0 | S176: 0 | T176: 0 | U176: 0 | V176: 0 | W176: 0 | X176: 0 | Y176: 0 | Z176: 0 | AA176: =SUM(R176:X176) -> 0 | AB176: 0 | AC176: 1242 | AD176: 9 | AE176: 465
A177: כללי | B177: 173 | C177: נשר | D177: 22177 | E177: 6212 | F177: =E177/D177 -> 0.28011002 | G177: 118 | H177: =IF(G177=0,0,G177/$D177) -> 0.0053208279 | I177: 40 | J177: =IF(I177=0,0,I177/$D177) -> 0.0018036705 | K177: 5 | L177: =IF(K177=0,0,K177/$D177) -> 0.00022545881 | M177: 22350 | O177: 686 | P177: =IF(O177=0,0,O177/D177) -> 0.030932949 | Q177: 0 | R177: 7 | S177: 14 | T177: 9 | U177: 16 | V177: 14 | W177: 11 | X177: 9 | Y177: 6 | Z177: 7 | AA177: =SUM(R177:X177) -> 80 | AB177: 95 | AC177: 92 | AD177: 5 | AE177: 343
A178: כללי | B178: 174 | C178: נתיבות | D178: 38479 | E178: 3976 | F178: =E178/D178 -> 0.10332909 | G178: 405 | H178: =IF(G178=0,0,G178/$D178) -> 0.010525222 | I178: 126 | J178: =IF(I178=0,0,I178/$D178) -> 0.0032745134 | K178: 11 | L178: =IF(K178=0,0,K178/$D178) -> 0.00028587021 | M178: 42962 | O178: 3816 | P178: =IF(O178=0,0,O178/D178) -> 0.099170976 | Q178: 1 | R178: 47 | S178: 15 | T178: 13 | U178: 54 | V178: 64 | W178: 58 | X178: 57 | Y178: 60 | Z178: 34 | AA178: =SUM(R178:X178) -> 308 | AB178: 270 | AC178: 654 | AD178: 6 | AE178: 467
A179: מעורב | B179: 175 | C179: נתניה | D179: 216897 | E179: 39649 | F179: =E179/D179 -> 0.18280105 | G179: 1272 | H179: =IF(G179=0,0,G179/$D179) -> 0.0058645348 | I179: 764 | J179: =IF(I179=0,0,I179/$D179) -> 0.0035224093 | K179: 100 | L179: =IF(K179=0,0,K179/$D179) -> 0.00046104833 | M179: 210220 | O179: 10336 | P179: =IF(O179=0,0,O179/D179) -> 0.047653956 | Q179: 7 | R179: 100 | S179: 78 | T179: 129 | U179: 183 | V179: 113 | W179: 131 | X179: 162 | Y179: 153 | Z179: 43 | AA179: =SUM(R179:X179) -> 896 | AB179: 789 | AC179: 0 | AD179: 78 | AE179: 1448
A180: ערבי | B180: 176 | C180: סאג'ור | D180: 4118 | E180: 545 | F180: =E180/D180 -> 0.1323458 | G180: 59 | H180: =IF(G180=0,0,G180/$D180) -> 0.014327343 | I180: 28 | J180: =IF(I180=0,0,I180/$D180) -> 0.0067994172 | K180: 2 | L180: =IF(K180=0,0,K180/$D180) -> 0.00048567266 | M180: 5410 | O180: 339 | P180: =IF(O180=0,0,O180/D180) -> 0.082321515 | Q180: 0 | R180: 3 | S180: 5 | T180: 7 | U180: 5 | V180: 8 | W180: 7 | X180: 2 | Y180: 2 | Z180: 2 | AA180: =SUM(R180:X180) -> 37 | AB180: 36 | AC180: 87 | AD180: 15 | AE180: 76
A181: כללי | B181: 177 | C181: סביון | D181: 4335 | E181: 1563 | F181: =E181/D181 -> 0.36055363 | G181: 17 | H181: =IF(G181=0,0,G181/$D181) -> 0.0039215686 | I181: 2 | J181: =IF(I181=0,0,I181/$D181) -> 0.00046136102 | K181: 0 | L181: =IF(K181=0,0,K181/$D181) -> 0 | M181: 6179 | O181: 165 | P181: =IF(O181=0,0,O181/D181) -> 0.038062284 | Q181: 0 | R181: 2 | S181: 0 | T181: 1 | U181: 3 | V181: 0 | W181: 2 | X181: 2 | Y181: 2 | Z181: 1 | AA181: =SUM(R181:X181) -> 10 | AB181: 10 | AC181: 241 | AD181: 0 | AE181: 110
A182: כללי | B182: 178 | C182: סולם | D182: 2950 | E182: 358 | F182: =E182/D182 -> 0.12135593 | G182: 26 | H182: =IF(G182=0,0,G182/$D182) -> 0.0088135593 | I182: 10 | J182: =IF(I182=0,0,I182/$D182) -> 0.0033898305 | K182: 4 | L182: =IF(K182=0,0,K182/$D182) -> 0.0013559322 | M182: 2309 | O182: 178 | P182: =IF(O182=0,0,O182/D182) -> 0.060338983 | Q182: 0 | R182: 1 | S182: 2 | T182: 2 | U182: 2 | V182: 0 | W182: 0 | X182: 2 | Y182: 0 | Z182: 1 | AA182: =SUM(R182:X182) -> 9 | AB182: 22 | AC182: 658 | AD182: -1 | AE182: 49
A183: ערבי | B183: 179 | C183: סח'נין | D183: 32736 | E183: 6934 | F183: =E183/D183 -> 0.21181574 | G183: 428 | H183: =IF(G183=0,0,G183/$D183) -> 0.013074291 | I183: 132 | J183: =IF(I183=0,0,I183/$D183) -> 0.0040322581 | K183: 10 | L183: =IF(K183=0,0,K183/$D183) -> 0.0003054741 | M183: 41039 | O183: 3442 | P183: =IF(O183=0,0,O183/D183) -> 0.10514418 | Q183: 0 | R183: 34 | S183: 26 | T183: 55 | U183: 47 | V183: 51 | W183: 61 | X183: 33 | Y183: 35 | Z183: 31 | AA183: =SUM(R183:X183) -> 307 | AB183: 314 | AC183: 28 | AD183: 7 | AE183: 480
A184: ערבי | B184: 180 | C184: סלמה | D184: 3490 | E184: 322 | F184: =E184/D184 -> 0.09226361 | G184: 26 | H184: =IF(G184=0,0,G184/$D184) -> 0.0074498567 | I184: 11 | J184: =IF(I184=0,0,I184/$D184) -> 0.0031518625 | K184: 1 | L184: =IF(K184=0,0,K184/$D184) -> 0.00028653295 | M184: 3381 | O184: 283 | P184: =IF(O184=0,0,O184/D184) -> 0.081088825 | Q184: 0 | R184: 0 | S184: 3 | T184: 2 | U184: 4 | V184: 5 | W184: 2 | X184: 3 | Y184: 0 | Z184: 3 | AA184: =SUM(R184:X184) -> 19 | AB184: 22 | AC184: 13 | AD184: 0 | AE184: 43
A185: ערבי | B185: 181 | C185: ע'ג'ר | D185: 2686 | E185: 72 | F185: =E185/D185 -> 0.026805659 | G185: 5 | H185: =IF(G185=0,0,G185/$D185) -> 0.0018615041 | I185: 7 | J185: =IF(I185=0,0,I185/$D185) -> 0.0026061057 | K185: 0 | L185: =IF(K185=0,0,K185/$D185) -> 0 | M185: 542 | O185: 24 | P185: =IF(O185=0,0,O185/D185) -> 0.0089352197 | Q185: 0 | R185: 0 | S185: 0 | T185: 1 | U185: 1 | V185: 0 | W185: 2 | X185: 0 | Y185: 0 | Z185: 0 | AA185: =SUM(R185:X185) -> 4 | AB185: 1 | AC185: 23 | AD185: 2 | AE185: 5
...

Sheet ירושלים בשכונות
E1: מעודכן לפי המאגר מתאריך | H1: 44210 | J1: עדכון קודם בתאריך | L1: 44207 | N1: פער נפטרים מעדכון קודם | O1: יחס מאושפז פר מאומת | P1: מס' מאומתים יומיים שלופים מהמאגר בימי העדכון | U1: מאומתים יומיים מעדכון קודם | V1: מאומתים יומיים מעדכון 2 קודם
B2: עיר | E2: מס' נפשות | F2: חולים פעילים | H2: מאושפזים | I2: נפטרים | J2: בדיקות מצטבר | L2: מאומתים במצטבר | P2: 44207 | Q2: 44208 | R2: 44209 | S2: 44210 | T2: ס"ה
B3: ירושלים | D3: שכונה | E3: 936425 | F3: 14330 | G3: =F3/E3 -> 0.015302881 | H3: 4941 | I3: 513 | J3: 858148 | L3: 76033 | M3: =L3/E3 -> 0.08119497 | N3: 30 | O3: =H3/L3 -> 0.064984941 | P3: 1760 | Q3: 1656 | R3: 1670 | S3: 1639 | T3: =SUM(P3:S3) -> 6725 | U3: 3454 | V3: 5537 | AD3: ביתר עלית
A4: מעורב | B4: ירושלים | C4: 1 | D4: נווה יעקב | E4: 25552 | F4: 1135 | G4: =IF(F4=0,0,F4/E4) -> 0.044419224 | H4: 84 | I4: 12 | J4: 28706 | L4: 4411 | M4: =IF(L4=0,0,L4/E4) -> 0.17262837 | N4: 2 | O4: =IF(H4=0,0,H4/L4) -> 0.019043301 | P4: 158 | Q4: 145 | R4: 163 | S4: 175 | T4: =SUM(P4:S4) -> 641 | U4: 291 | V4: 373
A5: כללי | B5: ירושלים | C5: 2 | D5: פסגת זאב | E5: 43424 | F5: 641 | G5: =IF(F5=0,0,F5/E5) -> 0.014761422 | H5: 147 | I5: 25 | J5: 51054 | L5: 3063 | M5: =IF(L5=0,0,L5/E5) -> 0.07053703 | N5: 1 | O5: =IF(H5=0,0,H5/L5) -> 0.047992165 | P5: 73 | Q5: 81 | R5: 76 | S5: 80 | T5: =SUM(P5:S5) -> 310 | U5: 139 | V5: 207 | W5: הסבר למאושפזים ולנפטרים: המאגר מתחיל למנות רק מ-16- ומעלה. בשכונות שהיו שם פחות מ-16 נפטרים או מאושפזים במשך כל התקופה, לא ניתן לדעת כמה יש. מה שכן ניתן לגלות, זה לפי ימים. כי הם כותבים האם היה מקרה חדש באותו יום או לא. כך שלפחות יש לנו את המידע המינימלי הזה!
A6: ערבי | B6: ירושלים | C6: 3 | D6: כפר עקב | E6: 0 | F6: 0 | G6: =IF(F6=0,0,F6/E6) -> 0 | H6: 0 | I6: 0 | J6: 0 | L6: 0 | M6: =IF(L6=0,0,L6/E6) -> 0 | N6: 0 | O6: =IF(H6=0,0,H6/L6) -> 0 | P6: 0 | Q6: 0 | R6: 0 | S6: 0 | T6: =SUM(P6:S6) -> 0 | U6: 0 | V6: 0
A7: ערבי | B7: ירושלים | C7: 4 | D7: עטרות | E7: 0 | F7: 0 | G7: =IF(F7=0,0,F7/E7) -> 0 | H7: 0 | I7: 0 | J7: 0 | L7: 0 | M7: =IF(L7=0,0,L7/E7) -> 0 | N7: 0 | O7: =IF(H7=0,0,H7/L7) -> 0 | P7: 0 | Q7: 0 | R7: 0 | S7: 0 | T7: =SUM(P7:S7) -> 0 | U7: 0 | V7: 0
A8: ערבי | B8: ירושלים | C8: 5 | D8: בית חנינא | E8: 0 | F8: 0 | G8: =IF(F8=0,0,F8/E8) -> 0 | H8: 0 | I8: 0 | J8: 0 | L8: 0 | M8: =IF(L8=0,0,L8/E8) -> 0 | N8: 0 | O8: =IF(H8=0,0,H8/L8) -> 0 | P8: 0 | Q8: 0 | R8: 0 | S8: 0 | T8: =SUM(P8:S8) -> 0 | U8: 0 | V8: 0
A9: ערבי | B9: ירושלים | C9: 6 | D9: שעפת | E9: 0 | F9: 0 | G9: =IF(F9=0,0,F9/E9) -> 0 | H9: 0 | I9: 0 | J9: 0 | L9: 0 | M9: =IF(L9=0,0,L9/E9) -> 0 | N9: 0 | O9: =IF(H9=0,0,H9/L9) -> 0 | P9: 0 | Q9: 0 | R9: 0 | S9: 0 | T9: =SUM(P9:S9) -> 0 | U9: 0 | V9: 0
A10: חרדי | B10: ירושלים | C10: 7 | D10: רמת שלמה | E10: 14682 | F10: 737 | G10: =IF(F10=0,0,F10/E10) -> 0.050197521 | H10: 83 | I10: 6 | J10: 23559 | L10: 3738 | M10: =IF(L10=0,0,L10/E10) -> 0.25459747 | N10: 0 | O10: =IF(H10=0,0,H10/L10) -> 0.022204387 | P10: 111 | Q10: 101 | R10: 76 | S10: 94 | T10: =SUM(P10:S10) -> 382 | U10: 175 | V10: 310
A11: חרדי | B11: ירושלים | C11: 8 | D11: רמות א' | E11: 18876 | F11: 779 | G11: =IF(F11=0,0,F11/E11) -> 0.041269337 | H11: 64 | I11: 2 | J11: 25687 | L11: 3419 | M11: =IF(L11=0,0,L11/E11) -> 0.18112948 | N11: 0 | O11: =IF(H11=0,0,H11/L11) -> 0.018718924 | P11: 100 | Q11: 103 | R11: 117 | S11: 86 | T11: =SUM(P11:S11) -> 406 | U11: 195 | V11: 275
A12: חרדי | B12: ירושלים | C12: 9 | D12: רמות פולין | E12: 6345 | F12: 362 | G12: =IF(F12=0,0,F12/E12) -> 0.057052797 | H12: 21 | I12: 2 | J12: 8423 | L12: 1482 | M12: =IF(L12=0,0,L12/E12) -> 0.23356974 | N12: 0 | O12: =IF(H12=0,0,H12/L12) -> 0.01417004 | P12: 48 | Q12: 43 | R12: 47 | S12: 46 | T12: =SUM(P12:S12) -> 184 | U12: 99 | V12: 110 | W12: ה מ ב ט ב י ח ס ל כ ל ל ה מ א ו מ ת י ם
A13: מעורב | B13: ירושלים | C13: 10 | D13: רמות ד' | E13: 5694 | F13: 245 | G13: =IF(F13=0,0,F13/E13) -> 0.043027749 | H13: 17 | I13: 2 | J13: 7351 | L13: 1213 | M13: =IF(L13=0,0,L13/E13) -> 0.21303126 | N13: 0 | O13: =IF(H13=0,0,H13/L13) -> 0.014014839 | P13: 30 | Q13: 37 | R13: 40 | S13: 34 | T13: =SUM(P13:S13) -> 141 | U13: 56 | V13: 88 | W13: ס"ה חולים פעילים | Z13: ס"ה חולים מאושפזים | AB13: ס"ה נפטרים | AD13: ס"ה בדיקות | AF13: ס"ה מאומתים מההתחלה
A14: מעורב | B14: ירושלים | C14: 11 | D14: רמות ג' | E14: 10541 | F14: 394 | G14: =IF(F14=0,0,F14/E14) -> 0.037377858 | H14: 37 | I14: 3 | J14: 15077 | L14: 1833 | M14: =IF(L14=0,0,L14/E14) -> 0.17389242 | N14: 1 | O14: =IF(H14=0,0,H14/L14) -> 0.020185488 | P14: 34 | Q14: 58 | R14: 63 | S14: 38 | T14: =SUM(P14:S14) -> 193 | U14: 114 | V14: 137 | W14: מעורב | X14: =SUMIF(A:A,W14,F:F) -> 5516 | Y14: =X14/$F$3 -> 0.38492673 | Z14: =SUMIF(A:A,W14,H:H) -> 719 | AA14: =Z14/$L$3 -> 0.0094564202 | AB14: =SUMIF(A:A,W14,I:I) -> 109 | AC14: =AB14/$L$3 -> 0.001433588 | AD14: =SUMIF(A:A,W14,J:J) -> 242815 | AE14: =AD14/$L$3 -> 3.1935475 | AF14: =SUMIF(A:A,W14,L:L) -> 23092 | AG14: =AF14/$L$3 -> 0.30371023
A15: מעורב | B15: ירושלים | C15: 12 | D15: רמות ב' | E15: 8489 | F15: 226 | G15: =IF(F15=0,0,F15/E15) -> 0.026622688 | H15: 22 | I15: 2 | J15: 11356 | L15: 1037 | M15: =IF(L15=0,0,L15/E15) -> 0.12215809 | N15: 0 | O15: =IF(H15=0,0,H15/L15) -> 0.021215043 | P15: 21 | Q15: 34 | R15: 32 | S15: 31 | T15: =SUM(P15:S15) -> 118 | U15: 58 | V15: 74 | W15: כללי | X15: =SUMIF(A:A,W15,F:F) -> 2494 | Y15: =X15/F3 -> 0.17404047 | Z15: =SUMIF(A:A,W15,H:H) -> 1319 | AA15: =Z15/$L$3 -> 0.017347731 | AB15: =SUMIF(A:A,W15,I:I) -> 168 | AC15: =AB15/$L$3 -> 0.0022095669 | AD15: =SUMIF(A:A,W15,J:J) -> 287729 | AE15: =AD15/$L$3 -> 3.7842647 | AF15: =SUMIF(A:A,W15,L:L) -> 16749 | AG15: =AF15/$L$3 -> 0.22028593
A16: כללי | B16: ירושלים | C16: 13 | D16: נפתוח | E16: 0 | F16: 0 | G16: =IF(F16=0,0,F16/E16) -> 0 | H16: 0 | I16: 0 | J16: 0 | L16: 0 | M16: =IF(L16=0,0,L16/E16) -> 0 | N16: 0 | O16: =IF(H16=0,0,H16/L16) -> 0 | P16: 0 | Q16: 0 | R16: 0 | S16: 0 | T16: =SUM(P16:S16) -> 0 | U16: 0 | V16: 0 | W16: ערבי | X16: =SUMIF(A:A,W16,F:F) -> 135 | Y16: =X16/F3 -> 0.0094207955 | Z16: =SUMIF(A:A,W16,H:H) -> 37 | AA16: =Z16/$L$3 -> 0.0004866308 | AB16: =SUMIF(A:A,W16,I:I) -> 6 | AC16: =AB16/$L$3 -> 7.8913104e-05 | AD16: =SUMIF(A:A,W16,J:J) -> 15555 | AE16: =AD16/$L$3 -> 0.20458222 | AF16: =SUMIF(A:A,W16,L:L) -> 612 | AG16: =AF16/$L$3 -> 0.0080491366
A17: כללי | B17: ירושלים | C17: 14 | D17: הר חוצבים | E17: 0 | F17: 0 | G17: =IF(F17=0,0,F17/E17) -> 0 | H17: 0 | I17: 0 | J17: 0 | L17: 0 | M17: =IF(L17=0,0,L17/E17) -> 0 | N17: 0 | O17: =IF(H17=0,0,H17/L17) -> 0 | P17: 0 | Q17: 0 | R17: 0 | S17: 0 | T17: =SUM(P17:S17) -> 0 | U17: 0 | V17: 0 | W17: חרדי | X17: =SUMIF(A:A,W17,F:F) -> 5424 | Y17: =X17/F3 -> 0.37850663 | Z17: =SUMIF(A:A,W17,H:H) -> 843 | AA17: =Z17/$L$3 -> 0.011087291 | AB17: =SUMIF(A:A,W17,I:I) -> 129 | AC17: =AB17/$L$3 -> 0.0016966317 | AD17: =SUMIF(A:A,W17,J:J) -> 176386 | AE17: =AD17/$L$3 -> 2.3198611 | AF17: =SUMIF(A:A,W17,L:L) -> 26010 | AG17: =AF17/$L$3 -> 0.3420883
A18: חרדי | B18: ירושלים | C18: 15 | D18: עזרת תורה | E18: 2801 | F18: 108 | G18: =IF(F18=0,0,F18/E18) -> 0.038557658 | H18: 34 | I18: 8 | J18: 4163 | L18: 546 | M18: =IF(L18=0,0,L18/E18) -> 0.19493038 | N18: 0 | O18: =IF(H18=0,0,H18/L18) -> 0.062271062 | P18: 19 | Q18: 14 | R18: 14 | S18: 13 | T18: =SUM(P18:S18) -> 60 | U18: 19 | V18: 23
A19: חרדי | B19: ירושלים | C19: 16 | D19: שיכון חב"ד | E19: 4137 | F19: 118 | G19: =IF(F19=0,0,F19/E19) -> 0.028523084 | H19: 28 | I19: 3 | J19: 3485 | L19: 608 | M19: =IF(L19=0,0,L19/E19) -> 0.1469664 | N19: 0 | O19: =IF(H19=0,0,H19/L19) -> 0.046052632 | P19: 22 | Q19: 7 | R19: 14 | S19: 11 | T19: =SUM(P19:S19) -> 54 | U19: 29 | V19: 51
A20: חרדי | B20: ירושלים | C20: 17 | D20: תל ארזה | E20: 4434 | F20: 129 | G20: =IF(F20=0,0,F20/E20) -> 0.029093369 | H20: 15 | I20: 2 | J20: 3566 | L20: 656 | M20: =IF(L20=0,0,L20/E20) -> 0.14794768 | N20: 1 | O20: =IF(H20=0,0,H20/L20) -> 0.022865854 | P20: 18 | Q20: 21 | R20: 12 | S20: 13 | T20: =SUM(P20:S20) -> 64 | U20: 35 | V20: 32 | W20: ה מ ב ט ב י ח ס ל כ ל ל ה א ו כ ל ו ס י ה
A21: חרדי | B21: ירושלים | C21: 18 | D21: סנהדריה | E21: 4422 | F21: 219 | G21: =IF(F21=0,0,F21/E21) -> 0.049525102 | H21: 30 | I21: 4 | J21: 6431 | L21: 985 | M21: =IF(L21=0,0,L21/E21) -> 0.22274989 | N21: 2 | O21: =IF(H21=0,0,H21/L21) -> 0.030456853 | P21: 34 | Q21: 21 | R21: 24 | S21: 27 | T21: =SUM(P21:S21) -> 106 | U21: 62 | V21: 44 | W21: ס"ה חולים פעילים | Z21: ס"ה חולים מאושפזים | AB21: ס"ה נפטרים | AD21: ס"ה בדיקות | AF21: ס"ה מאומתים מההתחלה
A22: חרדי | B22: ירושלים | C22: 19 | D22: סנהדריה המורחבת | E22: 4430 | F22: 171 | G22: =IF(F22=0,0,F22/E22) -> 0.038600451 | H22: 20 | I22: 6 | J22: 3291 | L22: 566 | M22: =IF(L22=0,0,L22/E22) -> 0.12776524 | N22: 0 | O22: =IF(H22=0,0,H22/L22) -> 0.035335689 | P22: 18 | Q22: 33 | R22: 14 | S22: 22 | T22: =SUM(P22:S22) -> 87 | U22: 43 | V22: 56 | W22: מעורב | X22: =SUMIF(A:A,W22,F:F) -> 5516 | Y22: =X22/$E$3 -> 0.0058904878 | Z22: =SUMIF(A:A,W22,H:H) -> 719 | AA22: =Z22/$E$3 -> 0.00076781376 | AB22: =SUMIF(A:A,W22,I:I) -> 109 | AC22: =AB22/$E$3 -> 0.00011640014 | AD22: =SUMIF(A:A,W22,J:J) -> 242815 | AE22: =AD22/$E$3 -> 0.2593 | AF22: =SUMIF(A:A,W22,L:L) -> 23092 | AG22: =AF22/$E$3 -> 0.024659743
A23: מעורב | B23: ירושלים | C23: 20 | D23: רמת אשכול | E23: 15536 | F23: 547 | G23: =IF(F23=0,0,F23/E23) -> 0.035208548 | H23: 67 | I23: 11 | J23: 18006 | L23: 2638 | M23: =IF(L23=0,0,L23/E23) -> 0.16979918 | N23: 2 | O23: =IF(H23=0,0,H23/L23) -> 0.025398029 | P23: 82 | Q23: 60 | R23: 79 | S23: 71 | T23: =SUM(P23:S23) -> 292 | U23: 150 | V23: 155 | W23: כללי | X23: =SUMIF(A:A,W23,F:F) -> 2494 | Y23: =X23/$E$3 -> 0.0026633206 | Z23: =SUMIF(A:A,W23,H:H) -> 1319 | AA23: =Z23/$E$3 -> 0.0014085485 | AB23: =SUMIF(A:A,W23,I:I) -> 168 | AC23: =AB23/$E$3 -> 0.00017940572 | AD23: =SUMIF(A:A,W23,J:J) -> 287729 | AE23: =AD23/$E$3 -> 0.30726326 | AF23: =SUMIF(A:A,W23,L:L) -> 16749 | AG23: =AF23/$E$3 -> 0.017886109
A24: חרדי | B24: ירושלים | C24: 21 | D24: ארזי הבירה | E24: 2753 | F24: 83 | G24: =IF(F24=0,0,F24/E24) -> 0.030148928 | H24: 13 | I24: 1 | J24: 2195 | L24: 374 | M24: =IF(L24=0,0,L24/E24) -> 0.1358518 | N24: 0 | O24: =IF(H24=0,0,H24/L24) -> 0.034759358 | P24: 7 | Q24: 18 | R24: 7 | S24: 11 | T24: =SUM(P24:S24) -> 43 | U24: 23 | V24: 17 | W24: ערבי | X24: =SUMIF(A:A,W24,F:F) -> 135 | Y24: =X24/$E$3 -> 0.00014416531 | Z24: =SUMIF(A:A,W24,H:H) -> 37 | AA24: =Z24/$E$3 -> 3.9511974e-05 | AB24: =SUMIF(A:A,W24,I:I) -> 6 | AC24: =AB24/$E$3 -> 6.4073471e-06 | AD24: =SUMIF(A:A,W24,J:J) -> 15555 | AE24: =AD24/$E$3 -> 0.016611047 | AF24: =SUMIF(A:A,W24,L:L) -> 612 | AG24: =AF24/$E$3 -> 0.0006535494
A25: כללי | B25: ירושלים | C25: 22 | D25: גבעה הצרפתית | E25: 7563 | F25: 94 | G25: =IF(F25=0,0,F25/E25) -> 0.01242893 | H25: 18 | I25: 2 | J25: 6843 | L25: 413 | M25: =IF(L25=0,0,L25/E25) -> 0.05460796 | N25: 0 | O25: =IF(H25=0,0,H25/L25) -> 0.043583535 | P25: 14 | Q25: 8 | R25: 7 | S25: 12 | T25: =SUM(P25:S25) -> 41 | U25: 24 | V25: 28 | W25: חרדי | X25: =SUMIF(A:A,W25,F:F) -> 5424 | Y25: =X25/$E$3 -> 0.0057922418 | Z25: =SUMIF(A:A,W25,H:H) -> 843 | AA25: =Z25/$E$3 -> 0.00090023227 | AB25: =SUMIF(A:A,W25,I:I) -> 129 | AC25: =AB25/$E$3 -> 0.00013775796 | AD25: =SUMIF(A:A,W25,J:J) -> 176386 | AE25: =AD25/$E$3 -> 0.18836105 | AF25: =SUMIF(A:A,W25,L:L) -> 26010 | AG25: =AF25/$E$3 -> 0.02777585
A26: כללי | B26: ירושלים | C26: 23 | D26: הר הצופים | E26: 1263 | F26: 0 | G26: =IF(F26=0,0,F26/E26) -> 0 | H26: 0 | I26: 0 | J26: 0 | L26: 0 | M26: =IF(L26=0,0,L26/E26) -> 0 | N26: 0 | O26: =IF(H26=0,0,H26/L26) -> 0 | P26: 0 | Q26: 0 | R26: 0 | S26: 0 | T26: =SUM(P26:S26) -> 0 | U26: 0 | V26: 0
A27: ערבי | B27: ירושלים | C27: 24 | D27: עיסוויה | E27: 0 | F27: 0 | G27: =IF(F27=0,0,F27/E27) -> 0 | H27: 0 | I27: 0 | J27: 0 | L27: 0 | M27: =IF(L27=0,0,L27/E27) -> 0 | N27: 0 | O27: =IF(H27=0,0,H27/L27) -> 0 | P27: 0 | Q27: 0 | R27: 0 | S27: 0 | T27: =SUM(P27:S27) -> 0 | U27: 0 | V27: 0
A28: ערבי | B28: ירושלים | C28: 25 | D28: א-טור | E28: 0 | F28: 0 | G28: =IF(F28=0,0,F28/E28) -> 0 | H28: 0 | I28: 0 | J28: 0 | L28: 0 | M28: =IF(L28=0,0,L28/E28) -> 0 | N28: 0 | O28: =IF(H28=0,0,H28/L28) -> 0 | P28: 0 | Q28: 0 | R28: 0 | S28: 0 | T28: =SUM(P28:S28) -> 0 | U28: 0 | V28: 0 | W28: מ ב ט פ נ י ם מ י ג ז ר י
A29: ערבי | B29: ירושלים | C29: 26 | D29: הר הזיתים | E29: 0 | F29: 0 | G29: =IF(F29=0,0,F29/E29) -> 0 | H29: 0 | I29: 0 | J29: 0 | L29: 0 | M29: =IF(L29=0,0,L29/E29) -> 0 | N29: 0 | O29: =IF(H29=0,0,H29/L29) -> 0 | P29: 0 | Q29: 0 | R29: 0 | S29: 0 | T29: =SUM(P29:S29) -> 0 | U29: 0 | V29: 0 | W29: ס"ה חולים פעילים | Z29: ס"ה חולים מאושפזים | AB29: ס"ה נפטרים | AD29: ס"ה בדיקות | AF29: ס"ה מאומתים מההתחלה
A30: ערבי | B30: ירושלים | C30: 27 | D30: ואדי אל ג'וז | E30: 0 | F30: 0 | G30: =IF(F30=0,0,F30/E30) -> 0 | H30: 0 | I30: 0 | J30: 0 | L30: 0 | M30: =IF(L30=0,0,L30/E30) -> 0 | N30: 0 | O30: =IF(H30=0,0,H30/L30) -> 0 | P30: 0 | Q30: 0 | R30: 0 | S30: 0 | T30: =SUM(P30:S30) -> 0 | U30: 0 | V30: 0 | W30: מעורב | X30: =SUMIF(A:A,W30,F:F) -> 5516 | Y30: =SUM(SUMIF($A:$A,$W30,F:F)/SUMIF($A:$A,$W30,$E:$E)) -> 0.025464181 | Z30: =SUMIF(A:A,W30,H:H) -> 719 | AA30: =SUM(SUMIF($A:$A,$W30,H:H)/SUMIF($A:$A,$W30,$E:$E)) -> 0.0033192071 | AB30: =SUMIF(A:A,W30,I:I) -> 109 | AC30: =SUM(SUMIF($A:$A,$W30,I:I)/SUMIF($A:$A,$W30,$E:$E)) -> 0.00050318995 | AD30: =SUMIF(A:A,W30,J:J) -> 242815 | AE30: =SUM(SUMIF($A:$A,$W30,J:J)/SUMIF($A:$A,$W30,$E:$E)) -> 1.1209364 | AF30: =SUMIF(A:A,W30,L:L) -> 23092 | AG30: =SUM(SUMIF($A:$A,$W30,L:L)/SUMIF($A:$A,$W30,$E:$E)) -> 0.10660241
A31: ערבי | B31: ירושלים | C31: 28 | D31: שיח' ג'ראח | E31: 0 | F31: 0 | G31: =IF(F31=0,0,F31/E31) -> 0 | H31: 0 | I31: 0 | J31: 0 | L31: 0 | M31: =IF(L31=0,0,L31/E31) -> 0 | N31: 0 | O31: =IF(H31=0,0,H31/L31) -> 0 | P31: 0 | Q31: 0 | R31: 0 | S31: 0 | T31: =SUM(P31:S31) -> 0 | U31: 0 | V31: 0 | W31: כללי | X31: =SUMIF(A:A,W31,F:F) -> 2494 | Y31: =SUM(SUMIF(A:A,W31,F:F)/SUMIF(A:A,W31,E:E)) -> 0.013035343 | Z31: =SUMIF(A:A,W31,H:H) -> 1319 | AA31: =SUM(SUMIF($A:$A,$W31,H:H)/SUMIF($A:$A,$W31,$E:$E)) -> 0.0068939925 | AB31: =SUMIF(A:A,W31,I:I) -> 168 | AC31: =SUM(SUMIF($A:$A,$W31,I:I)/SUMIF($A:$A,$W31,$E:$E)) -> 0.00087808244 | AD31: =SUMIF(A:A,W31,J:J) -> 287729 | AE31: =SUM(SUMIF($A:$A,$W31,J:J)/SUMIF($A:$A,$W31,$E:$E)) -> 1.5038677 | AF31: =SUMIF(A:A,W31,L:L) -> 16749 | AG31: =SUM(SUMIF($A:$A,$W31,L:L)/SUMIF($A:$A,$W31,$E:$E)) -> 0.087541683
A32: ערבי | B32: ירושלים | C32: 29 | D32: מסעודיה | E32: 0 | F32: 0 | G32: =IF(F32=0,0,F32/E32) -> 0 | H32: 0 | I32: 0 | J32: 0 | L32: 0 | M32: =IF(L32=0,0,L32/E32) -> 0 | N32: 0 | O32: =IF(H32=0,0,H32/L32) -> 0 | P32: 0 | Q32: 0 | R32: 0 | S32: 0 | T32: =SUM(P32:S32) -> 0 | U32: 0 | V32: 0 | W32: ערבי | X32: =SUMIF(A:A,W32,F:F) -> 135 | Y32: =SUM(SUMIF(A:A,W32,F:F)/SUMIF(A:A,W32,E:E)) -> 0.010580767 | Z32: =SUMIF(A:A,W32,H:H) -> 37 | AA32: =SUM(SUMIF($A:$A,$W32,H:H)/SUMIF($A:$A,$W32,$E:$E)) -> 0.0028999138 | AB32: =SUMIF(A:A,W32,I:I) -> 6 | AC32: =SUM(SUMIF($A:$A,$W32,I:I)/SUMIF($A:$A,$W32,$E:$E)) -> 0.00047025629 | AD32: =SUMIF(A:A,W32,J:J) -> 15555 | AE32: =SUM(SUMIF($A:$A,$W32,J:J)/SUMIF($A:$A,$W32,$E:$E)) -> 1.2191394 | AF32: =SUMIF(A:A,W32,L:L) -> 612 | AG32: =SUM(SUMIF($A:$A,$W32,L:L)/SUMIF($A:$A,$W32,$E:$E)) -> 0.047966142
A33: ערבי | B33: ירושלים | C33: 30 | D33: באב א זהרה | E33: 0 | F33: 0 | G33: =IF(F33=0,0,F33/E33) -> 0 | H33: 0 | I33: 0 | J33: 0 | L33: 0 | M33: =IF(L33=0,0,L33/E33) -> 0 | N33: 0 | O33: =IF(H33=0,0,H33/L33) -> 0 | P33: 0 | Q33: 0 | R33: 0 | S33: 0 | T33: =SUM(P33:S33) -> 0 | U33: 0 | V33: 0 | W33: חרדי | X33: =SUMIF(A:A,W33,F:F) -> 5424 | Y33: =SUM(SUMIF(A:A,W33,F:F)/SUMIF(A:A,W33,E:E)) -> 0.033382159 | Z33: =SUMIF(A:A,W33,H:H) -> 843 | AA33: =SUM(SUMIF($A:$A,$W33,H:H)/SUMIF($A:$A,$W33,$E:$E)) -> 0.005188267 | AB33: =SUMIF(A:A,W33,I:I) -> 129 | AC33: =SUM(SUMIF($A:$A,$W33,I:I)/SUMIF($A:$A,$W33,$E:$E)) -> 0.0007939341 | AD33: =SUMIF(A:A,W33,J:J) -> 176386 | AE33: =SUM(SUMIF($A:$A,$W33,J:J)/SUMIF($A:$A,$W33,$E:$E)) -> 1.0855726 | AF33: =SUMIF(A:A,W33,L:L) -> 26010 | AG33: =SUM(SUMIF($A:$A,$W33,L:L)/SUMIF($A:$A,$W33,$E:$E)) -> 0.16007927
A34: ערבי | B34: ירושלים | C34: 31 | D34: הרובע המוסלמי | E34: 0 | F34: 0 | G34: =IF(F34=0,0,F34/E34) -> 0 | H34: 0 | I34: 0 | J34: 0 | L34: 0 | M34: =IF(L34=0,0,L34/E34) -> 0 | N34: 0 | O34: =IF(H34=0,0,H34/L34) -> 0 | P34: 0 | Q34: 0 | R34: 0 | S34: 0 | T34: =SUM(P34:S34) -> 0 | U34: 0 | V34: 0
A35: מעורב | B35: ירושלים | C35: 32 | D35: הרובע היהודי | E35: 0 | F35: 0 | G35: =IF(F35=0,0,F35/E35) -> 0 | H35: 0 | I35: 0 | J35: 0 | L35: 0 | M35: =IF(L35=0,0,L35/E35) -> 0 | N35: 0 | O35: =IF(H35=0,0,H35/L35) -> 0 | P35: 0 | Q35: 0 | R35: 0 | S35: 0 | T35: =SUM(P35:S35) -> 0 | U35: 0 | V35: 0
A36: ערבי | B36: ירושלים | C36: 33 | D36: הרובע הארמני | E36: 0 | F36: 0 | G36: =IF(F36=0,0,F36/E36) -> 0 | H36: 0 | I36: 0 | J36: 0 | L36: 0 | M36: =IF(L36=0,0,L36/E36) -> 0 | N36: 0 | O36: =IF(H36=0,0,H36/L36) -> 0 | P36: 0 | Q36: 0 | R36: 0 | S36: 0 | T36: =SUM(P36:S36) -> 0 | U36: 0 | V36: 0
A37: ערבי | B37: ירושלים | C37: 34 | D37: הרובע הנוצרי | E37: 0 | F37: 0 | G37: =IF(F37=0,0,F37/E37) -> 0 | H37: 0 | I37: 0 | J37: 0 | L37: 0 | M37: =IF(L37=0,0,L37/E37) -> 0 | N37: 0 | O37: =IF(H37=0,0,H37/L37) -> 0 | P37: 0 | Q37: 0 | R37: 0 | S37: 0 | T37: =SUM(P37:S37) -> 0 | U37: 0 | V37: 0
A38: כללי | B38: ירושלים | C38: 35 | D38: ממילא | E38: 0 | F38: 0 | G38: =IF(F38=0,0,F38/E38) -> 0 | H38: 0 | I38: 0 | J38: 0 | L38: 0 | M38: =IF(L38=0,0,L38/E38) -> 0 | N38: 0 | O38: =IF(H38=0,0,H38/L38) -> 0 | P38: 0 | Q38: 0 | R38: 0 | S38: 0 | T38: =SUM(P38:S38) -> 0 | U38: 0 | V38: 0
A39: מעורב | B39: ירושלים | C39: 36 | D39: מוסררה | E39: 3674 | F39: 27 | G39: =IF(F39=0,0,F39/E39) -> 0.0073489385 | H39: 21 | I39: 4 | J39: 2068 | L39: 189 | M39: =IF(L39=0,0,L39/E39) -> 0.051442569 | N39: 1 | O39: =IF(H39=0,0,H39/L39) -> 0.11111111 | P39: 6 | Q39: 1 | R39: 8 | S39: 2 | T39: =SUM(P39:S39) -> 17 | U39: 4 | V39: 4
A40: חרדי | B40: ירושלים | C40: 37 | D40: מאה שערים | E40: 8621 | F40: 44 | G40: =IF(F40=0,0,F40/E40) -> 0.0051038163 | H40: 28 | I40: 5 | J40: 2087 | L40: 301 | M40: =IF(L40=0,0,L40/E40) -> 0.034914743 | N40: 0 | O40: =IF(H40=0,0,H40/L40) -> 0.093023256 | P40: 9 | Q40: 2 | R40: 5 | S40: 1 | T40: =SUM(P40:S40) -> 17 | U40: 9 | V40: 14
A41: חרדי | B41: ירושלים | C41: 38 | D41: בית ישראל | E41: 11077 | F41: 132 | G41: =IF(F41=0,0,F41/E41) -> 0.011916584 | H41: 39 | I41: 6 | J41: 4394 | L41: 707 | M41: =IF(L41=0,0,L41/E41) -> 0.063825946 | N41: 0 | O41: =IF(H41=0,0,H41/L41) -> 0.055162659 | P41: 22 | Q41: 22 | R41: 16 | S41: 20 | T41: =SUM(P41:S41) -> 80 | U41: 30 | V41: 24
A42: חרדי | B42: ירושלים | C42: 39 | D42: הבוכרים | E42: 9485 | F42: 170 | G42: =IF(F42=0,0,F42/E42) -> 0.017923036 | H42: 56 | I42: 9 | J42: 6773 | L42: 1170 | M42: =IF(L42=0,0,L42/E42) -> 0.12335266 | N42: 0 | O42: =IF(H42=0,0,H42/L42) -> 0.047863248 | P42: 24 | Q42: 16 | R42: 23 | S42: 22 | T42: =SUM(P42:S42) -> 85 | U42: 43 | V42: 68
A43: חרדי | B43: ירושלים | C43: 40 | D43: גאולה | E43: 9158 | F43: 195 | G43: =IF(F43=0,0,F43/E43) -> 0.021292859 | H43: 48 | I43: 11 | J43: 5378 | L43: 909 | M43: =IF(L43=0,0,L43/E43) -> 0.09925748 | N43: 0 | O43: =IF(H43=0,0,H43/L43) -> 0.052805281 | P43: 26 | Q43: 14 | R43: 25 | S43: 18 | T43: =SUM(P43:S43) -> 83 | U43: 31 | V43: 49
A44: חרדי | B44: ירושלים | C44: 41 | D44: שנלר | E44: 0 | F44: 0 | G44: =IF(F44=0,0,F44/E44) -> 0 | H44: 0 | I44: 0 | J44: 0 | L44: 0 | M44: =IF(L44=0,0,L44/E44) -> 0 | N44: 0 | O44: =IF(H44=0,0,H44/L44) -> 0 | P44: 0 | Q44: 0 | R44: 0 | S44: 0 | T44: =SUM(P44:S44) -> 0 | U44: 0 | V44: 0
A45: חרדי | B45: ירושלים | C45: 42 | D45: מקור ברוך | E45: 8293 | F45: 260 | G45: =IF(F45=0,0,F45/E45) -> 0.031351742 | H45: 53 | I45: 8 | J45: 9619 | L45: 1251 | M45: =IF(L45=0,0,L45/E45) -> 0.15085011 | N45: 1 | O45: =IF(H45=0,0,H45/L45) -> 0.042366107 | P45: 36 | Q45: 31 | R45: 37 | S45: 18 | T45: =SUM(P45:S45) -> 122 | U45: 70 | V45: 78
... A89: מעורב | B89: ירושלים | C89: 86 | D89: גבעת מרדכי | E89: 6702 | F89: 135 | G89: =IF(F89=0,0,F89/E89) -> 0.020143241 | H89: 23 | I89: 1 | J89: 7665 | L89: 518 | M89: =IF(L89=0,0,L89/E89) -> 0.077290361 | N89: 1 | O89: =IF(H89=0,0,H89/L89) -> 0.044401544 | P89: 25 | Q89: 14 | R89: 19 | S89: 16 | T89: =SUM(P89:S89) -> 74 | U89: 34 | V89: 43
A90: כללי | B90: ירושלים | C90: 87 | D90: גבעת אורנים | E90: 5231 | F90: 46 | G90: =IF(F90=0,0,F90/$E90) -> 0.0087937297 | H90: 14 | I90: 4 | J90: 7089 | L90: 221 | M90: =IF(L90=0,0,L90/E90) -> 0.042248136 | N90: 0 | O90: =IF(H90=0,0,H90/L90) -> 0.063348416 | P90: 6 | Q90: 3 | R90: 3 | S90: 3 | T90: =SUM(P90:S90) -> 15 | U90: 10 | V90: 23
A91: כללי | B91: ירושלים | C91: 88 | D91: גבעת אורן | E91: 3925 | F91: 29 | G91: =IF(F91=0,0,F91/E91) -> 0.007388535 | H91: 7 | I91: 1 | J91: 4510 | L91: 148 | M91: =IF(L91=0,0,L91/E91) -> 0.037707006 | N91: 0 | O91: =IF(H91=0,0,H91/L91) -> 0.047297297 | P91: 1 | Q91: 5 | R91: 4 | S91: 3 | T91: =SUM(P91:S91) -> 13 | U91: 5 | V91: 10
A92: כללי | B92: ירושלים | C92: 89 | D92: עמק רפאים | E92: 1991 | F92: 20 | G92: =IF(F92=0,0,F92/E92) -> 0.010045203 | H92: 5 | I92: 0 | J92: 2163 | L92: 88 | M92: =IF(L92=0,0,L92/E92) -> 0.044198895 | N92: 0 | O92: =IF(H92=0,0,H92/L92) -> 0.056818182 | P92: 1 | Q92: 0 | R92: 2 | S92: 3 | T92: =SUM(P92:S92) -> 6 | U92: 8 | V92: 6
A93: כללי | B93: ירושלים | C93: 90 | D93: המושבה הגרמנית | E93: 1999 | F93: 0 | G93: =IF(F93=0,0,F93/E93) -> 0 | H93: 0 | I93: 0 | J93: 0 | L93: 0 | M93: =IF(L93=0,0,L93/E93) -> 0 | N93: 0 | O93: =IF(H93=0,0,H93/L93) -> 0 | P93: 0 | Q93: 0 | R93: 0 | S93: 0 | T93: =SUM(P93:S93) -> 0 | U93: 0 | V93: 0
A94: כללי | B94: ירושלים | C94: 91 | D94: קוממיות | E94: 2158 | F94: 32 | G94: =IF(F94=0,0,F94/E94) -> 0.014828545 | H94: 5 | I94: 2 | J94: 2618 | L94: 110 | M94: =IF(L94=0,0,L94/E94) -> 0.050973123 | N94: 1 | O94: =IF(H94=0,0,H94/L94) -> 0.045454545 | P94: 3 | Q94: 1 | R94: 0 | S94: 10 | T94: =SUM(P94:S94) -> 14 | U94: 8 | V94: 6
A95: כללי | B95: ירושלים | C95: 92 | D95: ימק"א | E95: 1106 | F95: 0 | G95: =IF(F95=0,0,F95/E95) -> 0 | H95: 0 | I95: 0 | J95: 0 | L95: 0 | M95: =IF(L95=0,0,L95/E95) -> 0 | N95: 0 | O95: =IF(H95=0,0,H95/L95) -> 0 | P95: 0 | Q95: 0 | R95: 0 | S95: 0 | T95: =SUM(P95:S95) -> 0 | U95: 0 | V95: 0
A96: מעורב | B96: ירושלים | C96: 93 | D96: ימין משה | E96: 0 | F96: 0 | G96: =IF(F96=0,0,F96/E96) -> 0 | H96: 0 | I96: 0 | J96: 0 | L96: 0 | M96: =IF(L96=0,0,L96/E96) -> 0 | N96: 0 | O96: =IF(H96=0,0,H96/L96) -> 0 | P96: 0 | Q96: 0 | R96: 0 | S96: 0 | T96: =SUM(P96:S96) -> 0 | U96: 0 | V96: 0
A97: כללי | B97: ירושלים | C97: 94 | D97: תלפיות | E97: 24019 | F97: 178 | G97: =IF(F97=0,0,F97/E97) -> 0.0074107998 | H97: 92 | I97: 16 | J97: 30506 | L97: 1113 | M97: =IF(L97=0,0,L97/E97) -> 0.046338315 | N97: 0 | O97: =IF(H97=0,0,H97/L97) -> 0.082659479 | P97: 17 | Q97: 14 | R97: 22 | S97: 21 | T97: =SUM(P97:S97) -> 74 | U97: 47 | V97: 48
A98: ערבי | B98: ירושלים | C98: 95 | D98: בקעה | E98: 7640 | F98: 99 | G98: =IF(F98=0,0,F98/E98) -> 0.012958115 | H98: 29 | I98: 5 | J98: 9608 | L98: 391 | M98: =IF(L98=0,0,L98/E98) -> 0.05117801 | N98: 0 | O98: =IF(H98=0,0,H98/L98) -> 0.074168798 | P98: 9 | Q98: 15 | R98: 13 | S98: 7 | T98: =SUM(P98:S98) -> 44 | U98: 24 | V98: 17
A99: כללי | B99: ירושלים | C99: 96 | D99: אלנבי | E99: 1145 | F99: 0 | G99: =IF(F99=0,0,F99/E99) -> 0 | H99: 0 | I99: 0 | J99: 0 | L99: 0 | M99: =IF(L99=0,0,L99/E99) -> 0 | N99: 0 | O99: =IF(H99=0,0,H99/L99) -> 0 | P99: 0 | Q99: 0 | R99: 0 | S99: 0 | T99: =SUM(P99:S99) -> 0 | U99: 0 | V99: 0
A100: כללי | B100: ירושלים | C100: 97 | D100: רמות רחל | E100: 3259 | F100: 26 | G100: =IF(F100=0,0,F100/E100) -> 0.0079779073 | H100: 13 | I100: 4 | J100: 3657 | L100: 116 | M100: =IF(L100=0,0,L100/E100) -> 0.03559374 | N100: 1 | O100: =IF(H100=0,0,H100/L100) -> 0.11206897 | P100: 2 | Q100: 0 | R100: 3 | S100: 2 | T100: =SUM(P100:S100) -> 7 | U100: 6 | V100: 9
A101: כללי | B101: ירושלים | C101: 98 | D101: מקור חיים | E101: 2111 | F101: 20 | G101: =IF(F101=0,0,F101/E101) -> 0.0094741829 | H101: 16 | I101: 0 | J101: 3158 | L101: 138 | M101: =IF(L101=0,0,L101/E101) -> 0.065371862 | N101: 0 | O101: =IF(H101=0,0,H101/L101) -> 0.11594203 | P101: 5 | Q101: 2 | R101: 6 | S101: 0 | T101: =SUM(P101:S101) -> 13 | U101: 2 | V101: 3
A102: כללי | B102: ירושלים | C102: 99 | D102: מוריה | E102: 4347 | F102: 36 | G102: =IF(F102=0,0,F102/E102) -> 0.0082815735 | H102: 5 | I102: 0 | J102: 3911 | L102: 158 | M102: =IF(L102=0,0,L102/E102) -> 0.036346906 | N102: 0 | O102: =IF(H102=0,0,H102/L102) -> 0.03164557 | P102: 3 | Q102: 1 | R102: 3 | S102: 10 | T102: =SUM(P102:S102) -> 17 | U102: 12 | V102: 7
... A117: מעורב | B117: ירושלים | C117: 114 | D117: גילה | E117: 31239 | F117: 507 | G117: =IF(F117=0,0,F117/E117) -> 0.016229713 | H117: 126 | I117: 18 | J117: 36293 | L117: 1985 | M117: =IF(L117=0,0,L117/E117) -> 0.063542367 | N117: 1 | O117: =IF(H117=0,0,H117/L117) -> 0.063476071 | P117: 61 | Q117: 41 | R117: 55 | S117: 63 | T117: =SUM(P117:S117) -> 220 | U117: 133 | V117: 146
A118: כללי | B118: ירושלים | C118: 115 | D118: ללא שם | E118: 0 | F118: 408 | H118: 709 | I118: 67 | J118: 68861 | L118: 6268 | N118: 5 | O118: =IF(H118=0,0,H118/L118) -> 0.11311423 | P118: 45 | Q118: 21 | R118: 34 | S118: 39 | T118: =SUM(P118:S118) -> 139 | U118: 70 | V118: 1554
B119: ביתר עלית
B120: ביתר עלית
B121: ביתר עלית
B122: ביתר עלית
B123: ביתר עלית
B124: ביתר עלית

Sheet בני ברק
C1: מעודכן לפי המאגר מתאריך | H1: ='ירושלים בשכונות'!H1 -> 44210 | J1: עדכון קודם בתאריך | M1: ='ירושלים בשכונות'!L1 -> 44207 | N1: פער נפטרים מעדכון קודם | O1: מס' מאומתים יומיים שלופים מהמאגר בימי העדכון | T1: מאומתים יומיים מעדכון קודם | U1: מאומתים יומיים מעדכון 2 קודם
B2: עיר | E2: מס' נפשות | F2: חולים פעילים | H2: מאושפזים | I2: נפטרים | J2: בדיקות מצטבר | L2: מאומתים במצטבר | O2: 44207 | P2: 44208 | Q2: 44209 | R2: 44210 | S2: ס"ה
B3: בני ברק | E3: 200806 | F3: 4828 | G3: =F3/E3 -> 0.024043106 | H3: 1672 | I3: 158 | J3: 242673 | L3: 34448 | M3: =L3/E3 -> 0.17154866 | N3: 4 | O3: 529 | P3: 535 | Q3: 543 | R3: 538 | S3: =SUM(O3:R3) -> 2145 | T3: 996 | U3: 1427
A4: חרדי | C4: 1 | D4: גבעת רוקח | E4: 9544 | F4: 251 | G4: =IF(F4=0,0,F4/E4) -> 0.026299246 | H4: 51 | I4: 4 | J4: 11956 | L4: 1661 | M4: =IF(L4=0,0,L4/$E4) -> 0.17403604 | N4: 0 | O4: 6 | P4: 6 | Q4: 7 | R4: 6 | S4: =SUM(O4:R4) -> 25 | T4: 14 | U4: 24
A5: חרדי | C5: 2 | D5: דברי שיר | E5: 4074 | F5: 139 | G5: =IF(F5=0,0,F5/E5) -> 0.034118802 | H5: 35 | I5: 7 | J5: 4605 | L5: 761 | M5: =IF(L5=0,0,L5/$E5) -> 0.18679431 | N5: 0 | O5: 9 | P5: 9 | Q5: 7 | R5: 6 | S5: =SUM(O5:R5) -> 31 | T5: 23 | U5: 26
A6: חרדי | C6: 3 | D6: הליגמן | E6: 4345 | F6: 125 | G6: =IF(F6=0,0,F6/E6) -> 0.0287687 | H6: 29 | I6: 4 | J6: 5638 | L6: 861 | M6: =IF(L6=0,0,L6/$E6) -> 0.1981588 | N6: 0 | O6: 10 | P6: 7 | Q6: 7 | R6: 5 | S6: =SUM(O6:R6) -> 29 | T6: 7 | U6: 12
A7: חרדי | C7: 4 | D7: הר שלום | E7: 8285 | F7: 211 | G7: =IF(F7=0,0,F7/E7) -> 0.025467713 | H7: 45 | I7: 9 | J7: 9998 | L7: 1441 | M7: =IF(L7=0,0,L7/$E7) -> 0.17392879 | N7: 0 | O7: 0 | P7: 0 | Q7: 0 | R7: 0 | S7: =SUM(O7:R7) -> 0 | T7: 0 | U7: 0
A8: חרדי | C8: 5 | D8: ויזניץ | E8: 8510 | F8: 69 | G8: =IF(F8=0,0,F8/E8) -> 0.0081081081 | H8: 61 | I8: 12 | J8: 5775 | L8: 818 | M8: =IF(L8=0,0,L8/$E8) -> 0.096122209 | N8: 0 | O8: 57 | P8: 49 | Q8: 60 | R8: 47 | S8: =SUM(O8:R8) -> 213 | T8: 91 | U8: 137
A9: חרדי | C9: 6 | D9: זכרון מאיר | E9: 9483 | F9: 240 | G9: =IF(F9=0,0,F9/E9) -> 0.025308447 | H9: 59 | I9: 7 | J9: 9981 | L9: 1599 | M9: =IF(L9=0,0,L9/$E9) -> 0.16861753 | N9: 1 | O9: 0 | P9: 0 | Q9: 0 | R9: 0 | S9: =SUM(O9:R9) -> 0 | T9: 0 | U9: 0
A10: חרדי | C10: 7 | D10: יהודה הנשיא | E10: 5653 | F10: 149 | G10: =IF(F10=0,0,F10/E10) -> 0.026357686 | H10: 32 | I10: 6 | J10: 8291 | L10: 1059 | M10: =IF(L10=0,0,L10/$E10) -> 0.18733416 | N10: 0 | O10: 0 | P10: 0 | Q10: 0 | R10: 0 | S10: =SUM(O10:R10) -> 0 | T10: 0 | U10: 0
A11: מעורב | C11: 8 | D11: מערב העיר | E11: 11427 | F11: 246 | G11: =IF(F11=0,0,F11/E11) -> 0.02152796 | H11: 52 | I11: 12 | J11: 13997 | L11: 1724 | M11: =IF(L11=0,0,L11/$E11) -> 0.15087074 | N11: 1 | O11: 0 | P11: 0 | Q11: 0 | R11: 0 | S11: =SUM(O11:R11) -> 0 | T11: 0 | U11: 0
A12: חרדי | C12: 9 | D12: משכנות | E12: 13352 | F12: 305 | G12: =IF(F12=0,0,F12/E12) -> 0.02284302 | H12: 98 | I12: 9 | J12: 15174 | L12: 2357 | M12: =IF(L12=0,0,L12/$E12) -> 0.17652786 | N12: 0 | O12: 73 | P12: 91 | Q12: 97 | R12: 73 | S12: =SUM(O12:R12) -> 334 | T12: 160 | U12: 226 | V12: ה מ ב ט ב י ח ס ל כ ל ל ה מ א ו מ ת י ם
A13: חרדי | C13: 10 | D13: נאות יוסף | E13: 16899 | F13: 476 | G13: =IF(F13=0,0,F13/E13) -> 0.028167347 | H13: 104 | I13: 17 | J13: 20161 | L13: 3276 | M13: =IF(L13=0,0,L13/$E13) -> 0.19385762 | N13: 0 | O13: 23 | P13: 34 | Q13: 33 | R13: 35 | S13: =SUM(O13:R13) -> 125 | T13: 36 | U13: 60 | V13: ס"ה חולים פעילים | Y13: ס"ה חולים מאושפזים | AA13: ס"ה נפטרים | AC13: ס"ה בדיקות | AE13: ס"ה מאומתים מההתחלה
A14: מעורב | C14: 11 | D14: פרדס כץ | E14: 25198 | F14: 475 | G14: =IF(F14=0,0,F14/E14) -> 0.018850702 | H14: 112 | I14: 12 | J14: 28578 | L14: 3413 | M14: =IF(L14=0,0,L14/$E14) -> 0.13544726 | N14: 0 | O14: 28 | P14: 32 | Q14: 18 | R14: 19 | S14: =SUM(O14:R14) -> 97 | T14: 73 | U14: 73 | V14: מעורב | W14: =SUMIF(A:A,V14,F:F) -> 1320 | X14: =W14/$F$3 -> 0.27340514 | Y14: =SUMIF(A:A,V14,H:H) -> 346 | Z14: =Y14/$F$3 -> 0.071665286 | AA14: =SUMIF(A:A,V14,I:I) -> 41 | AB14: =AA14/$F$3 -> 0.0084921292 | AC14: =SUMIF(A:A,V14,J:J) -> 74222 | AD14: =AC14/$F$3 -> 15.373239 | AE14: =SUMIF(A:A,V14,L:L) -> 10103 | AF14: =AE14/$F$3 -> 2.0925849
A15: חרדי | C15: 12 | D15: צעירי ישיבת פוניבז | E15: 7038 | F15: 180 | G15: =IF(F15=0,0,F15/E15) -> 0.025575448 | H15: 38 | I15: 4 | J15: 8252 | L15: 1233 | M15: =IF(L15=0,0,L15/$E15) -> 0.17519182 | N15: 0 | O15: 0 | P15: 0 | Q15: 0 | R15: 0 | S15: =SUM(O15:R15) -> 0 | T15: 0 | U15: 0 | V15: כללי | W15: =SUMIF(A:A,V15,F:F) -> 0 | X15: =W15/F3 -> 0 | Y15: =SUMIF(A:A,V15,H:H) -> 0 | Z15: =Y15/$F$3 -> 0 | AA15: =SUMIF(A:A,V15,I:I) -> 0 | AB15: =AA15/$F$3 -> 0 | AC15: =SUMIF(A:A,V15,J:J) -> 0 | AD15: =AC15/$F$3 -> 0 | AE15: =SUMIF(A:A,V15,L:L) -> 0 | AF15: =AE15/$F$3 -> 0
A16: חרדי | C16: 13 | D16: קרית הרצוג | E16: 10649 | F16: 284 | G16: =IF(F16=0,0,F16/E16) -> 0.026669171 | H16: 50 | I16: 2 | J16: 12914 | L16: 1814 | M16: =IF(L16=0,0,L16/$E16) -> 0.17034463 | N16: 0 | O16: 106 | P16: 85 | Q16: 100 | R16: 108 | S16: =SUM(O16:R16) -> 399 | T16: 168 | U16: 222 | V16: ערבי | W16: =SUMIF(A:A,V16,F:F) -> 0 | X16: =W16/F3 -> 0 | Y16: =SUMIF(A:A,V16,H:H) -> 0 | Z16: =Y16/$F$3 -> 0 | AA16: =SUMIF(A:A,V16,I:I) -> 0 | AB16: =AA16/$F$3 -> 0 | AC16: =SUMIF(A:A,V16,J:J) -> 0 | AD16: =AC16/$F$3 -> 0 | AE16: =SUMIF(A:A,V16,L:L) -> 0 | AF16: =AE16/$F$3 -> 0
A17: חרדי | C17: 14 | D17: רמת אהרן | E17: 7962 | F17: 242 | G17: =IF(F17=0,0,F17/E17) -> 0.030394373 | H17: 61 | I17: 5 | J17: 10781 | L17: 1703 | M17: =IF(L17=0,0,L17/$E17) -> 0.21389098 | N17: 0 | O17: 32 | P17: 41 | Q17: 25 | R17: 27 | S17: =SUM(O17:R17) -> 125 | T17: 57 | U17: 125 | V17: חרדי | W17: =SUMIF(A:A,V17,F:F) -> 3508 | X17: =W17/F3 -> 0.72659486 | Y17: =SUMIF(A:A,V17,H:H) -> 910 | Z17: =Y17/$F$3 -> 0.18848384 | AA17: =SUMIF(A:A,V17,I:I) -> 117 | AB17: =AA17/$F$3 -> 0.024233637 | AC17: =SUMIF(A:A,V17,J:J) -> 163478 | AD17: =AC17/$F$3 -> 33.860398 | AE17: =SUMIF(A:A,V17,L:L) -> 24345 | AF17: =AE17/$F$3 -> 5.0424606
A18: חרדי | C18: 15 | D18: רמת אלחנן | E18: 6131 | F18: 176 | G18: =IF(F18=0,0,F18/E18) -> 0.028706573 | H18: 49 | I18: 12 | J18: 7502 | L18: 929 | M18: =IF(L18=0,0,L18/$E18) -> 0.15152504 | N18: 2 | O18: 79 | P18: 60 | Q18: 51 | R18: 67 | S18: =SUM(O18:R18) -> 257 | T18: 118 | U18: 185
A19: חרדי | C19: 16 | D19: שיכון ג | E19: 10432 | F19: 223 | G19: =IF(F19=0,0,F19/E19) -> 0.021376534 | H19: 48 | I19: 3 | J19: 12672 | L19: 1730 | M19: =IF(L19=0,0,L19/$E19) -> 0.16583589 | N19: 0 | O19: 0 | P19: 0 | Q19: 0 | R19: 0 | S19: =SUM(O19:R19) -> 0 | T19: 0 | U19: 0
A20: חרדי | C20: 17 | D20: שיכון ד | E20: 7056 | F20: 165 | G20: =IF(F20=0,0,F20/E20) -> 0.023384354 | H20: 36 | I20: 4 | J20: 7473 | L20: 1035 | M20: =IF(L20=0,0,L20/$E20) -> 0.14668367 | N20: 0 | O20: 0 | P20: 0 | Q20: 0 | R20: 0 | S20: =SUM(O20:R20) -> 0 | T20: 0 | U20: 0 | V20: ה מ ב ט ב י ח ס ל כ ל ל ה א ו כ ל ו ס י ה
A21: מעורב | C21: 18 | D21: שיכון ה | E21: 12026 | F21: 257 | G21: =IF(F21=0,0,F21/E21) -> 0.021370364 | H21: 81 | I21: 8 | J21: 13782 | L21: 2163 | M21: =IF(L21=0,0,L21/$E21) -> 0.1798603 | N21: 0 | O21: 0 | P21: 0 | Q21: 0 | R21: 0 | S21: =SUM(O21:R21) -> 0 | T21: 0 | U21: 0 | V21: ס"ה חולים פעילים | Y21: ס"ה חולים מאושפזים | AA21: ס"ה נפטרים | AC21: ס"ה בדיקות | AE21: ס"ה מאומתים מההתחלה
A22: מעורב | C22: 19 | D22: שיכון ו | E22: 6574 | F22: 150 | G22: =IF(F22=0,0,F22/E22) -> 0.022817159 | H22: 48 | I22: 6 | J22: 6732 | L22: 1079 | M22: =IF(L22=0,0,L22/$E22) -> 0.16413143 | N22: 0 | O22: 48 | P22: 43 | Q22: 47 | R22: 46 | S22: =SUM(O22:R22) -> 184 | T22: 99 | U22: 110 | V22: מעורב | W22: =SUMIF(A:A,V22,F:F) -> 1320 | X22: =W22/$E$3 -> 0.0065735088 | Y22: =SUMIF(A:A,V22,H:H) -> 346 | Z22: =Y22/$E$3 -> 0.0017230561 | AA22: =SUMIF(A:A,V22,I:I) -> 41 | AB22: =AA22/$E$3 -> 0.00020417717 | AC22: =SUMIF(A:A,V22,J:J) -> 74222 | AD22: =AC22/$E$3 -> 0.36962043 | AE22: =SUMIF(A:A,V22,L:L) -> 10103 | AF22: =AE22/$E$3 -> 0.050312242
A23: חרדי | C23: 20 | D23: שיכון חזו"א לדרמן | E23: 5325 | F23: 91 | G23: =IF(F23=0,0,F23/E23) -> 0.017089202 | H23: 56 | I23: 7 | J23: 5706 | L23: 940 | M23: =IF(L23=0,0,L23/$E23) -> 0.17652582 | N23: 0 | O23: 0 | P23: 0 | Q23: 0 | R23: 0 | S23: =SUM(O23:R23) -> 0 | T23: 0 | U23: 0 | V23: כללי | W23: =SUMIF(A:A,V23,F:F) -> 0 | X23: =W23/$E$3 -> 0 | Y23: =SUMIF(A:A,V23,H:H) -> 0 | Z23: =Y23/$E$3 -> 0 | AA23: =SUMIF(A:A,V23,I:I) -> 0 | AB23: =AA23/$E$3 -> 0 | AC23: =SUMIF(A:A,V23,J:J) -> 0 | AD23: =AC23/$E$3 -> 0 | AE23: =SUMIF(A:A,V23,L:L) -> 0 | AF23: =AE23/$E$3 -> 0
A24: חרדי | C24: 21 | D24: שיכון סאטמר | E24: 7139 | F24: 182 | G24: =IF(F24=0,0,F24/E24) -> 0.025493767 | H24: 58 | I24: 5 | J24: 6599 | L24: 1128 | M24: =IF(L24=0,0,L24/$E24) -> 0.15800532 | N24: 0 | O24: 0 | P24: 0 | Q24: 0 | R24: 0 | S24: =SUM(O24:R24) -> 0 | T24: 0 | U24: 0 | V24: ערבי | W24: =SUMIF(A:A,V24,F:F) -> 0 | X24: =W24/$E$3 -> 0 | Y24: =SUMIF(A:A,V24,H:H) -> 0 | Z24: =Y24/$E$3 -> 0 | AA24: =SUMIF(A:A,V24,I:I) -> 0 | AB24: =AA24/$E$3 -> 0 | AC24: =SUMIF(A:A,V24,J:J) -> 0 | AD24: =AC24/$E$3 -> 0 | AE24: =SUMIF(A:A,V24,L:L) -> 0 | AF24: =AE24/$E$3 -> 0
A25: כללי | C25: 22 | D25: תעשיה | E25: 60 | F25: 0 | G25: =IF(F25=0,0,F25/E25) -> 0 | H25: 0 | I25: 0 | J25: 0 | L25: 0 | M25: =IF(L25=0,0,L25/$E25) -> 0 | N25: 0 | O25: 46 | P25: 46 | Q25: 61 | R25: 66 | S25: =SUM(O25:R25) -> 219 | T25: 102 | U25: 133 | V25: חרדי | W25: =SUMIF(A:A,V25,F:F) -> 3508 | X25: =W25/$E$3 -> 0.017469598 | Y25: =SUMIF(A:A,V25,H:H) -> 910 | Z25: =Y25/$E$3 -> 0.0045317371 | AA25: =SUMIF(A:A,V25,I:I) -> 117 | AB25: =AA25/$E$3 -> 0.00058265191 | AC25: =SUMIF(A:A,V25,J:J) -> 163478 | AD25: =AC25/$E$3 -> 0.81410914 | AE25: =SUMIF(A:A,V25,L:L) -> 24345 | AF25: =AE25/$E$3 -> 0.12123642
A26: מעורב | C26: 23 | D26: תפארת נחמן | E26: 7477 | F26: 192 | G26: =IF(F26=0,0,F26/E26) -> 0.025678748 | H26: 53 | I26: 3 | J26: 11133 | L26: 1724 | M26: =IF(L26=0,0,L26/$E26) -> 0.23057376 | N26: 0 | O26: 3 | P26: 7 | Q26: 6 | R26: 10 | S26: =SUM(O26:R26) -> 26 | T26: 7 | U26: 30
C27: 24 | D27: ללא שם | F27: 0 | H27: 0 | I27: 0 | J27: 4973 | L27: 0 | N27: 0 | O27: 9 | P27: 25 | Q27: 24 | R27: 23 | S27: =SUM(O27:R27) -> 81 | T27: 41 | U27: 64
V28: מ ב ט פ נ י ם מ י ג ז ר י
V29: ס"ה חולים פעילים | Y29: ס"ה חולים מאושפזים | AA29: ס"ה נפטרים | AC29: ס"ה בדיקות | AE29: ס"ה מאומתים מההתחלה
V30: מעורב | W30: =SUMIF(A:A,V30,F:F) -> 1320 | X30: =SUM(SUMIF($A:$A,$V30,F:F)/SUMIF($A:$A,$V30,$E:$E)) -> 0.02105196 | Y30: =SUMIF(A:A,V30,H:H) -> 346 | Z30: =SUM(SUMIF($A:$A,$V30,H:H)/SUMIF($A:$A,$V30,$E:$E)) -> 0.0055181653 | AA30: =SUMIF(A:A,V30,I:I) -> 41 | AB30: =SUM(SUMIF($A:$A,$V30,I:I)/SUMIF($A:$A,$V30,$E:$E)) -> 0.00065388664 | AC30: =SUMIF(A:A,V30,J:J) -> 74222 | AD30: =SUM(SUMIF($A:$A,$V30,J:J)/SUMIF($A:$A,$V30,$E:$E)) -> 1.1837262 | AE30: =SUMIF(A:A,V30,L:L) -> 10103 | AF30: =SUM(SUMIF($A:$A,$V30,L:L)/SUMIF($A:$A,$V30,$E:$E)) -> 0.16112724
V31: כללי | W31: =SUMIF(A:A,V31,F:F) -> 0 | X31: =SUM(SUMIF(A:A,V31,F:F)/SUMIF(A:A,V31,E:E)) -> 0 | Y31: =SUMIF(A:A,V31,H:H) -> 0 | Z31: 0 | AA31: =SUMIF(A:A,V31,I:I) -> 0 | AB31: 0 | AC31: =SUMIF(A:A,V31,J:J) -> 0 | AD31: 0 | AE31: =SUMIF(A:A,V31,L:L) -> 0 | AF31: 0
V32: ערבי | W32: =SUMIF(A:A,V32,F:F) -> 0 | X32: 0 | Y32: =SUMIF(A:A,V32,H:H) -> 0 | Z32: 0 | AA32: =SUMIF(A:A,V32,I:I) -> 0 | AB32: 0 | AC32: =SUMIF(A:A,V32,J:J) -> 0 | AD32: 0 | AE32: =SUMIF(A:A,V32,L:L) -> 0 | AF32: 0
V33: חרדי | W33: =SUMIF(A:A,V33,F:F) -> 3508 | X33: =SUM(SUMIF(A:A,V33,F:F)/SUMIF(A:A,V33,E:E)) -> 0.024725643 | Y33: =SUMIF(A:A,V33,H:H) -> 910 | Z33: =SUM(SUMIF($A:$A,$V33,H:H)/SUMIF($A:$A,$V33,$E:$E)) -> 0.0064140065 | AA33: =SUMIF(A:A,V33,I:I) -> 117 | AB33: =SUM(SUMIF($A:$A,$V33,I:I)/SUMIF($A:$A,$V33,$E:$E)) -> 0.00082465798 | AC33: =SUMIF(A:A,V33,J:J) -> 163478 | AD33: =SUM(SUMIF($A:$A,$V33,J:J)/SUMIF($A:$A,$V33,$E:$E)) -> 1.1522516 | AE33: =SUMIF(A:A,V33,L:L) -> 24345 | AF33: =SUM(SUMIF($A:$A,$V33,L:L)/SUMIF($A:$A,$V33,$E:$E)) -> 0.17159229

Sheet ביתר עלית
A1: מעודכן לפי המאגר מתאריך | D1: ='ירושלים בשכונות'!H1 -> 44210 | I1: ='ירושלים בשכונות'!L1 -> 44207 | K1: פער נפטרים מעדכון קודם | L1: מס' מאומתים יומיים שלופים מהמאגר | Q1: מאומתים יומיים מעדכון קודם | R1: מאומתים יומיים מעדכון 2 קודם
B2: מס' נפשות | C2: חולים פעילים | E2: מאושפזים | F2: נפטרים | G2: בדיקות מצטבר | I2: מאומתים במצטבר | L2: 44207 | M2: 44208 | N2: 44209 | O2: 44210 | P2: ס"ה
B3: 61648 | C3: 1750 | D3: =C3/B3 -> 0.028386971 | E3: 207 | F3: 7 | G3: 50561 | I3: 9222 | J3: =I3/B3 -> 0.14959123 | K3: 2 | L3: 186 | M3: 201 | N3: 343 | O3: 198 | P3: =SUM(L3:O3) -> 928 | Q3: 493 | R3: 692
A4: האתרוג | B4: 3842 | C4: 122 | D4: =C4/B4 -> 0.031754295 | E4: 36 | F4: 2 | G4: 3747 | I4: 699 | J4: =I4/B4 -> 0.18193649 | K4: 1 | L4: 15 | M4: 11 | N4: 42 | O4: 5 | P4: =SUM(L4:O4) -> 73 | Q4: 31 | R4: 36
A5: הערבה | B5: 5626 | C5: 205 | D5: =C5/B5 -> 0.036437967 | E5: 35 | F5: 0 | G5: 5154 | I5: 1042 | J5: =I5/B5 -> 0.18521152 | K5: 0 | L5: 21 | M5: 24 | N5: 52 | O5: 22 | P5: =SUM(L5:O5) -> 119 | Q5: 56 | R5: 45
A6: הדקל | B6: 10879 | C6: 381 | D6: =C6/B6 -> 0.035021601 | E6: 43 | F6: 0 | G6: 10796 | I6: 1910 | J6: =I6/B6 -> 0.17556761 | K6: 0 | L6: 26 | M6: 37 | N6: 57 | O6: 47 | P6: =SUM(L6:O6) -> 167 | Q6: 115 | R6: 140
A7: הדס | B7: 4529 | C7: 165 | D7: =C7/B7 -> 0.036431883 | E7: 9 | F7: 1 | G7: 4506 | I7: 760 | J7: =I7/B7 -> 0.16780746 | K7: 0 | L7: 18 | M7: 24 | N7: 33 | O7: 16 | P7: =SUM(L7:O7) -> 91 | Q7: 53 | R7: 53
A8: הגפן | B8: 34394 | C8: 877 | D8: =C8/B8 -> 0.025498633 | E8: 84 | F8: 4 | G8: 25385 | I8: 4811 | J8: =I8/B8 -> 0.13987905 | K8: 1 | L8: 106 | M8: 105 | N8: 159 | O8: 108 | P8: =SUM(L8:O8) -> 478 | Q8: 238 | R8: 288
A9: ללא שם | B9: 0 | C9: 0 | E9: 0 | F9: 0 | G9: 973 | I9: 0 | L9: 0 | M9: 0 | N9: 0 | O9: 0 | P9: =SUM(L9:O9) -> 0 | Q9: 0 | R9: 130
I11: משום מה, לא מופיעים הפעם במאגר את הנתונים על שם 'ללא שם'
A12: לגבי הנפטרים החדשים: ראיתי שבעדכון האחרון הם עדכנו שני חדשים שנפטרו, אחד בהגפן בתאריך 25/12/20 והשני באתרוג בתאריך 13/1/21

Sheet בית שמש
C1: מעודכן לפי המאגר מתאריך | H1: ='ירושלים בשכונות'!H1 -> 44210 | J1: עדכון קודם בתאריך | M1: ='ירושלים בשכונות'!L1 -> 44207 | O1: מס' מאומתים יומיים שלופים מהמאגר בימי העדכון | T1: מאומתים יומיים מעדכון קודם | U1: מאומתים יומיים מעדכון 2 קודם
E2: מס' נפשות | F2: חולים פעילים | H2: מאושפזים | I2: נפטרים | J2: בדיקות מצטבר | L2: מאומתים במצטבר | N2: פער נפטרים מעדכון קודם | O2: 44207 | P2: 44208 | Q2: 44209 | R2: 44210 | S2: ס"ה
E3: 126846 | F3: 2272 | G3: =F3/E3 -> 0.017911483 | H3: 529 | I3: 21 | J3: 110284 | L3: 12187 | M3: =L3/E3 -> 0.096077133 | O3: 193 | P3: 178 | Q3: 201 | R3: 211 | S3: =SUM(O3:R3) -> 783 | T3: 359 | U3: 452
A4: חרדי | C4: 1 | D4: נחלה | E4: 13768 | F4: 219 | G4: =IF(F4=0,0,F4/E4) -> 0.01590645 | H4: 44 | I4: 4 | J4: 10893 | L4: 2022 | M4: =IF(L4=0,0,L4/$E4) -> 0.14686229 | O4: 44 | P4: 34 | Q4: 46 | R4: 36 | S4: =SUM(O4:R4) -> 160 | T4: 98 | U4: 138
A5: חרדי | C5: 2 | D5: רמה ב' | E5: 25001 | F5: 179 | G5: =IF(F5=0,0,F5/E5) -> 0.0071597136 | H5: 58 | I5: 2 | J5: 8261 | L5: 1363 | M5: =IF(L5=0,0,L5/$E5) -> 0.054517819 | O5: 94 | P5: 85 | Q5: 86 | R5: 94 | S5: =SUM(O5:R5) -> 359 | T5: 147 | U5: 186
A6: חרדי | C6: 3 | D6: רמה א' | E6: 25234 | F6: 876 | G6: =IF(F6=0,0,F6/E6) -> 0.034715067 | H6: 58 | I6: 7 | J6: 31376 | L6: 3571 | M6: =IF(L6=0,0,L6/$E6) -> 0.14151542 | O6: 40 | P6: 43 | Q6: 47 | R6: 61 | S6: =SUM(O6:R6) -> 191 | T6: 90 | U6: 91
A7: חרדי | C7: 4 | D7: רמה ג' | E7: 14680 | F7: 412 | G7: =IF(F7=0,0,F7/E7) -> 0.028065395 | H7: 41 | I7: 1 | J7: 13096 | L7: 1851 | M7: =IF(L7=0,0,L7/$E7) -> 0.12608992 | O7: 2 | P7: 1 | Q7: 0 | R7: 2 | S7: =SUM(O7:R7) -> 5 | T7: 8 | U7: 13
A8: חרדי | C8: 5 | D8: ללא שם | F8: 0 | H8: 0 | I8: 0 | J8: 5439 | L8: 0 | O8: 13 | P8: 15 | Q8: 22 | R8: 18 | S8: =SUM(O8:R8) -> 68 | T8: 16 | U8: 24
C10: 1 | D10: עוד לא הכנסנו את החילוני של בית שמש, חסר לנו עדיין מיפוי שכונות! אבל הס"ה מהשורה הוורודה, היא כן כוללת את כל בית שמש
C13: 2 | D13: למשל, עכשיו בעדכון הנוכחי, יש נפטר אחד שהוא לא בשכונות החרדיות
C14: 3 | D14: המאומתים היומיים כן מתייחסים רק לשכונות החרדיות, וגם שורת הסיכום שלהם מתייחסת רק לשכונות החרדיות

Sheet פינת ההודעות
A1: תאריך | B1: שם | C1: הודעה
A2: 44145 | B2: י. ב | C2: יש טור חדש בפירוט לפי שכונות, סיכום נפטרים בין העדכון הנוכחי לבין העדכון הקודם (29-10 - 08-11).
A3: 44145 | B3: י. ב | C3: ביום זה בבוקר, יש עדכון למאומתים היומיים, ונמצא מצב שבו יש לערים מסויימות, מינוס חולים, כנראה מעדכוני מאגרים
A4: 44146 | C4: הופס! עלייה חרדית. בטח, יתחילו מחר כל הצעקות על 'העלייה החרדית המדאיגה'.
A5: 44150 | C5: האם בכוונה סופרים ביום ראשון רק שני עדכונים מתוך 3, כדי שאת העדכון השלישי יספרו ביחד עם יום שני?
A6: 44153 | B6: י.ב. | C6: נוסף טור לציון שבועי. הנלקח מממוצע ציוני הרמזור ל-7 הימים האחרונים
A7: 44156 | B7: י.ב. | C7: הסיכום של היום מסכם גם את יום שבת וגם את של יום שישי
A8: 44158 | B8: י.ב. | C8: לפי דוח מל"ל, בשבוע שעבר התחלואה במגזר הערבי הגיעה ל48.5% מהתחלואה היומית. ואם נשווה לפי הדוח שלנו, היום -שבמשוער שלנו הגיעו הערבים ל45% - באמת כבר אמור להיות בערך 60%
A9: 44168 | B9: י.ב. | C9: מיום זה כבר מחושב הרמזור לפי התקנון החדש, שמ-7 נכנסים לאדום!
A10: 44170 | B10: ד | C10: מה אם עידכון עמודה 2 ???
A11: 44170 | B11: י.ב. | C11: עודכן!!!
A12: 44172 | B12: י.ב. | C12: משרד הבריאות שינה את התצוגה שלהם. והם לא מדווחים יותר על מאומתים, אלא ביחס שבועי, כרגע אני מחפש דרך איך לקבל מידע על המצב היומי יחס לעיר. מצטער!
A13: 44174 | B13: י.ב. | C13: כרגע אני עובד על פיילוט ניסיוני, איך לשלוף את הנתונים מתוך טבלת הרמזים של משרד הבריאות. ולכן נא לקחת את זה כמידה משערת בלבד!
A14: 44174 | B14: י.ב. | C14: בינתיים נראה שזה עובד די בסדר, אבל נצטרך לעקוב עוד כמה ימים, לראות האם הצלחנו להגיע לנוסחה המבוקשת
A15: 44179 | B15: י.ב. | C15: יש תקלה במאגר. כל הנתונים ב10/12 זהים לחלוטין לנתונים של 09/12. פניתי למשרד הבריאות, לקבל מאגר מתוקן יותר.
A16: 44179 | B16: י.ב. | C16: הרגע החזירו לי ממשרד הבריאות, שהעלו קובץ חדש מתוקן יותר
A17: 44195 | B17: י.ב. | C17: יצא היום מאגר ממשרד הבריאות, אבל יש שם משהו לא תקין. לכן לא עדכנתי את ה'מצטברים'
... A19: 44199 | B19: י.ב. | C19: הבעיה אותרה, וטופלה! תודה על העירנות

Sheet סיכום לוח הבקרה
B1: בדיקות | D1: מאומתים | J1: מצב אשפוז | Q1: נפטרים
B2: בדיקות | C2: אחוז חיובי | D2: מאומתים חדשים | E2: מצטבר מאומתים | F2: (פער בין המאומתים) | G2: חולים פעילים | H2: ס"ה פעילים חדשים | I2: פער למחלימים | J2: בית | K2: מלון | L2: קריטי | M2: מונשמים | N2: קשה | O2: בינוני - קל | Q2: מצטבר נפטרים | R2: נפטרים חדשים
A3: 44213 | B3: 64432 | C3: 0.09 | D3: 5629 | E3: 548332 | F3: -796 | G3: 81044 | H3: -2567 | I3: 8196 | J3: 77493 | K3: 1606 | L3: 352 | M3: 282 | N3: 825 | P3: 768 | Q3: 4005 | R3: 46
A4: 44212 | B4: 71689 | C4: 0.072 | D4: 5060 | E4: 543499 | F4: 5413 | G4: 83611 | H4: 4527 | I4: 533 | J4: 79745 | K4: 1988 | L4: 338 | M4: 274 | N4: 846 | P4: 694 | Q4: 3959 | R4: 67
A5: 44211 | B5: 101722 | C5: 0.085 | D5: 8398 | E5: 533026 | F5: -5186 | G5: 79084 | H5: 448 | I5: 7950 | J5: 75271 | K5: 1988 | L5: 351 | M5: 291 | N5: 790 | P5: 684 | Q5: 3892 | R5: 22
A6: 44210 | B6: 123111 | C6: 0.077 | D6: 9192 | E6: 529814 | F6: 562 | G6: 78636 | H6: 415 | I6: 8777 | J6: 74853 | K6: 1988 | L6: 330 | M6: 247 | N6: 758 | P6: 707 | Q6: 3870 | R6: 53
A7: 44209 | B7: 121669 | C7: 0.079 | D7: 9420 | E7: 520060 | F7: 577 | G7: 78221 | H7: 2090 | I7: 7330 | J7: 74346 | K7: 2090 | L7: 314 | M7: 258 | N7: 740 | P7: 731 | Q7: 3817 | R7: 46
A8: 44208 | B8: 128715 | C8: 0.073 | D8: 9226 | E8: 510063 | F8: -236 | G8: 76131 | H8: 3768 | I8: 5458 | J8: 72832 | K8: 1562 | L8: 336 | M8: 269 | N8: 727 | P8: 674 | Q8: 3771 | R8: 67
A9: 44207 | B9: 129983 | C9: 0.076 | D9: 9665 | E9: 501073 | F9: 89 | G9: 72363 | H9: 4622 | I9: 5043 | J9: 69195 | K9: 1435 | L9: 327 | M9: 262 | N9: 742 | P9: 664 | Q9: 3704 | R9: 33
A10: 44206 | B10: 97238 | C10: 0.072 | D10: 6896 | E10: 491319 | G10: 67741 | H10: 1752 | J10: 64633 | K10: 1435 | L10: 304 | M10: 244 | N10: 729 | P10: 640 | Q10: 3671 | R10: 26
A11: 44205 | B11: 83681 | C11: 0.063 | D11: 5138 | E11: 486575 | F11: 131 | G11: 69493 | H11: 1713 | I11: 3376 | J11: 66595 | K11: 1256 | L11: 300 | M11: 236 | N11: 675 | O11: 308 | P11: 168 | Q11: 3645 | R11: 49
A12: 44204 | B12: 123233 | C12: 0.066 | D12: 8024 | E12: 481306 | F12: 43 | G12: 65008 | H12: 350 | I12: 7643 | J12: 62244 | K12: 1256 | L12: 283 | M12: 224 | N12: 637 | O12: 263 | P12: 101 | Q12: 3596 | R12: 31
A13: 44203 | B13: 125025 | C13: 0.062 | D13: 7611 | E13: 473239 | F13: 21 | G13: 65514 | H13: 700 | I13: 6875 | J13: 62777 | K13: 1256 | L13: 285 | M13: 220 | N13: 588 | O13: 248 | P13: 140 | Q13: 3565 | R13: 36
A14: 44202 | B14: 130256 | C14: 0.062 | D14: 7856 | E14: 465607 | F14: 22 | G14: 64180 | H14: 737 | I14: 7086 | J14: 58877 | K14: 1214 | L14: 273 | M14: 226 | N14: 617 | O14: 240 | P14: 104 | Q14: 3529 | R14: 33
A15: 44201 | B15: 129711 | C15: 0.045 | D15: 8196 | E15: 457729 | F15: 27 | G15: 58932 | H15: 4313 | I15: 3832 | J15: 56538 | K15: 983 | L15: 272 | M15: 211 | N15: 571 | O15: 260 | P15: 97 | Q15: 3496 | R15: 51
A16: 44200 | B16: 114814 | C16: 0.074 | D16: 8371 | E16: 449506 | F16: 23 | G16: 53912 | H16: 4264 | I16: 4082 | J16: 51764 | K16: 803 | L16: 259 | M16: 179 | N16: 513 | O16: 221 | P16: 173 | Q16: 3445 | R16: 25
A17: 44199 | B17: 79907 | C17: 0.066 | D17: 5205 | E17: 441112 | F17: 71 | G17: 48372 | H17: 1476 | I17: 3701 | J17: 47078 | K17: 0 | L17: 258 | M17: 207 | N17: 508 | O17: 225 | P17: 96 | Q17: 3420 | R17: 28
