Workbook

Sheet גליון הזנת נתונים אישיים
B2: הזנת נתונים | G2: מחשבון | K2: דמי פרישה חודשיים
C3: פנסיה א | D3: פנסיה ב | G3: פנסיה א | H3: פנסיה ב' | K3: פנסיה א | L3: פנסיה ב'
B4: דמי ניהול מההפקדה | C4: 1.5 | D4: 0.9 | F4: הפקדות עד הפרישה | G4: =SUM('גיליון חישובים פנסיה א'!AO:AO) -> 291040 | H4: =SUM('גליון חישובים פנסיה ב'!AO:AO) -> 145520 | J4: גיל | K4: דמי פרישה חודשיים | L4: דמי פרישה חודשיים
B5: דמי ניהול מהצבירה | C5: 0.05 | D5: 0.15 | F5: תשואה בפרישה | G5: =SUM('גיליון חישובים פנסיה א'!AP:AP) -> 19048.581 | H5: =SUM('גליון חישובים פנסיה ב'!AP:AP) -> 18958.019 | I5: דמי פרישה חודשיים צפויים בגיל: | J5: =D11 -> 30 | K5: =VLOOKUP(J5,'גיליון חישובים פנסיה א'!$AA$4:$AM$84,12,FALSE) -> 822.84291 | L5: =VLOOKUP(J5,'גליון חישובים פנסיה ב'!$AA$4:$AL$84,12,FALSE) -> 822.39009
B6: אחוזי תשואה | C6: 7 | D6: 7 | E6: =D8*'גיליון חישובים פנסיה א'!X7 -> 1480 | F6: צבירה בפרישה | G6: =SUM('גיליון חישובים פנסיה א'!AN:AN) -> 329046.6 | H6: =SUM('גליון חישובים פנסיה ב'!AN:AN) -> 164478.02 | J6: =J5+1 -> 31 | K6: =VLOOKUP(J6,'גיליון חישובים פנסיה א'!$AA$4:$AM$84,12,FALSE) -> 825.86959 | L6: =VLOOKUP(J6,'גליון חישובים פנסיה ב'!$AA$4:$AL$84,12,FALSE) -> 825.12002
F7: הפרש בתשואה נטו | G7: =G5-H5 -> 90.562284 | J7: =J6+1 -> 32 | K7: =VLOOKUP(J7,'גיליון חישובים פנסיה א'!$AA$4:$AM$84,12,FALSE) -> 828.9123 | L7: =VLOOKUP(J7,'גליון חישובים פנסיה ב'!$AA$4:$AL$84,12,FALSE) -> 827.86165
B8: שכר קובע לפנסיה | D8: 8000 | F8: אתר Rהון כאן | J8: =J7+1 -> 33 | K8: =VLOOKUP(J8,'גיליון חישובים פנסיה א'!$AA$4:$AM$84,12,FALSE) -> 831.97113 | L8: =VLOOKUP(J8,'גליון חישובים פנסיה ב'!$AA$4:$AL$84,12,FALSE) -> 830.61506
B9: צבירה כעת בפנסיה | D9: 110000 | J9: =J8+1 -> 34 | K9: =VLOOKUP(J9,'גיליון חישובים פנסיה א'!$AA$4:$AM$84,12,FALSE) -> 835.04617 | L9: =VLOOKUP(J9,'גליון חישובים פנסיה ב'!$AA$4:$AL$84,12,FALSE) -> 833.38028
B10: גיל | D10: 28 | J10: =J9+1 -> 35 | K10: =VLOOKUP(J10,'גיליון חישובים פנסיה א'!$AA$4:$AM$84,12,FALSE) -> 838.13749 | L10: =VLOOKUP(J10,'גליון חישובים פנסיה ב'!$AA$4:$AL$84,12,FALSE) -> 836.15736
B11: גיל פרישה | D11: 30 | J11: =J10+1 -> 36 | K11: =VLOOKUP(J11,'גיליון חישובים פנסיה א'!$AA$4:$AM$84,12,FALSE) -> 841.24519 | L11: =VLOOKUP(J11,'גליון חישובים פנסיה ב'!$AA$4:$AL$84,12,FALSE) -> 838.94636
B12: משיכה שנתית בפרישה | D12: 0.06 | E12: לפרישה בגיל 67 יש למלאות כ6% | J12: =J11+1 -> 37 | K12: =VLOOKUP(J12,'גיליון חישובים פנסיה א'!$AA$4:$AM$84,12,FALSE) -> 844.36935 | L12: =VLOOKUP(J12,'גליון חישובים פנסיה ב'!$AA$4:$AL$84,12,FALSE) -> 841.74733
B13: אחוזי הפרשה לפנסיה | D13: 0.185 | E13: בדרך כלל מעסיק מפריש 12.5% מה'שכר קובע לפנסיה'. ולעובד מורידים 6% מה'שכר קובע לפנסיה'. סה"כ 18.5%. אך יש מעסיקים שמפרישים יותר. הכל כתוב בתלוש שכר. | J13: =J12+1 -> 38 | K13: =VLOOKUP(J13,'גיליון חישובים פנסיה א'!$AA$4:$AM$84,12,FALSE) -> 847.51006 | L13: =VLOOKUP(J13,'גליון חישובים פנסיה ב'!$AA$4:$AL$84,12,FALSE) -> 844.56032
D14: הזנת נתונים אישיים | J14: =J13+1 -> 39 | K14: =VLOOKUP(J14,'גיליון חישובים פנסיה א'!$AA$4:$AM$84,12,FALSE) -> 850.6674 | L14: =VLOOKUP(J14,'גליון חישובים פנסיה ב'!$AA$4:$AL$84,12,FALSE) -> 847.38538
J15: =J14+1 -> 40 | K15: =VLOOKUP(J15,'גיליון חישובים פנסיה א'!$AA$4:$AM$84,12,FALSE) -> 853.84147 | L15: =VLOOKUP(J15,'גליון חישובים פנסיה ב'!$AA$4:$AL$84,12,FALSE) -> 850.22257
K16: בניכוי אינפלציה שנתית 2.5%
B17: © | K17: =K5/1.025^(D$11-D$10) -> 783.19372 | L17: =L5/1.025^(D$11-D$10) -> 782.76273
B18: R הון
B19: rhon@rhon.co.il
B20: לטבלאות מידע וחשבנאות כאן
B21: הטבלה מיועדת רק כדי לתת מבט כללי כמה תשואה ודמי ניהול קרטיים לגובה החיסכון לפרישה.
B22: הטבלה אינה יכולה להיות מדויקת מכמה סיבות:
B23: א. כי לא נוכל לדעת מראש כמה תשואה תעניק לנו הפנסיה.
B24: ב. כי לא נוכל לדעת מראש בכמה יעלה מדד המחירים לצרכן.
B25: ג. לא נוכל לדעת כמה הפרשות נפריש לפנסיה. כי המשכורות עולות בהתאם לוותק, למדד וכדומה. (וממילא ההפרשות לפנסיה עולות)
B26: ד. הטבלה לא מחשבת את עלות ביטוח שארים ואובדן כושר עבודה. (עלות הביטוח משתנה ואין אפשרות לחזות מראש)
B27: ה. הטבלה לא מחשבת הוצאות ניהול השקעה.
B28: שימו לב ! ישנם קרנות פנסיה נבחרות ברירת מחדל, בחברות הביטוח:
B29: מיטב דש
... B37: יש לי אפשרות לדמי ניהול שיותר טובים וזולים עבורכם פרטים במייל שלי aribakramim@gmail.com
A54: (ל | B54: )
B55: 46
B59: 253332
D120: 4
D144: וןפ8(פו
D149: פךוו446ןחל444ל4

Sheet גיליון חישובים פנסיה א
AS1: ='גליון הזנת נתונים אישיים'!D11 -> 30
AB2: ='גליון חישובים פנסיה ב'!AB6 -> 0 | AC2: ='גליון חישובים פנסיה ב'!AC6 -> 17760 | AD2: ='גליון חישובים פנסיה ב'!AD6 -> 164478.02 | AE2: ='גליון חישובים פנסיה ב'!AE6 -> 154609.34 | AF2: ='גליון חישובים פנסיה ב'!AF6 -> 10822.654 | AG2: ='גליון חישובים פנסיה ב'!AG6 -> 165431.99 | AH2: ='גליון חישובים פנסיה ב'!AH6 -> 159.84 | AI2: ='גליון חישובים פנסיה ב'!AI6 -> 248.14799 | ... AO2: ='גליון חישובים פנסיה ב'!AO6 -> 145520 | AP2: פרישה לפנסיה | AS2: פרישה לפנסיה
W3: דמי ניהול מההפקדה | X3: =IF('גליון הזנת נתונים אישיים'!C4>10%,'גליון הזנת נתונים אישיים'!C4/100,'גליון הזנת נתונים אישיים'!C4) -> 0.015 | AA3: גיל | AB3: הפקדה שנתית בלי הפקדות בפרישה | AC3: הפקדה שנתית | AD3: צבירה | AE3: צבירה - משיכה | AF3: תשואה | AG3: צבירה - משיכה + תשואה | AH3: דמי ניהול מההפקדה | AI3: דמי ניהול מהצבירה | AJ3: סה"כ דמי ניהול | AK3: צבירה - משיכה + תשואה - דמי ניהול | AL3: דמי פרישה חודשיים | AM3: דמי פרישה שנתיים | AN3: צבירה | AO3: הפקדה | AP3: תשואה
W4: דמי ניהול מהצבירה | X4: =IF('גליון הזנת נתונים אישיים'!C5>=1%,'גליון הזנת נתונים אישיים'!C5/100,'גליון הזנת נתונים אישיים'!C5) -> 0.0005 | Z4: =IF(AA4>='גליון הזנת נתונים אישיים'!$D$11,AP$2,"") | AA4: ='גליון הזנת נתונים אישיים'!D10 -> 28 | AB4: =IF(Z4=$AP$2,0,AC4) -> 127760 | AC4: ='גליון הזנת נתונים אישיים'!E$6*12+'גליון הזנת נתונים אישיים'!D9 -> 127760 | AD4: =AB4 -> 127760 | AE4: =AD4-SUM(AM4) -> 127760 | AF4: =AE4*X$5 -> 8943.2 | AG4: =AF4+AE4 -> 136703.2 | AH4: =AC5*X$3 -> 266.4 | AI4: =AG4*X$4 -> 68.3516 | AJ4: =AH4+AI4 -> 334.7516 | AK4: =AG4-AJ4 -> 136368.45 | AL4: =AM4/12 -> #VALUE! | AM4: =IF(Z4=AP$2,AK3*X$6,"") | AN4: =IF(AA4=AS$1,AK3,"") | AO4: =IF(AN4=AK4,SUM(AC3:AC$4),"") | AP4: =IF(AN4=AK4,AN4-AO4,"") | AS4: =IF($AA4='גליון הזנת נתונים אישיים'!$D$11,AQ4-AR4,"")
W5: אחוזי תשואה | X5: =IF('גליון הזנת נתונים אישיים'!C6>30%,'גליון הזנת נתונים אישיים'!C6/100,'גליון הזנת נתונים אישיים'!C6) -> 0.07 | Z5: =IF(AA5>='גליון הזנת נתונים אישיים'!$D$11,AP$2,"") | AA5: =AA4+1 -> 29 | AB5: =IF(Z5=$AP$2,0,AC5) -> 17760 | AC5: ='גליון הזנת נתונים אישיים'!E$6*12 -> 17760 | AD5: =AB5+AK4 -> 154128.45 | AE5: =AD5-SUM(AM5) -> 154128.45 | AF5: =AE5*X$5 -> 10788.991 | AG5: =AF5+AE5 -> 164917.44 | AH5: =AC5*X$3 -> 266.4 | AI5: =AG5*X$4 -> 82.45872 | AJ5: =AH5+AI5 -> 348.85872 | AK5: =AG5-AJ5 -> 164568.58 | AL5: =AM5/12 -> #VALUE! | AM5: =IF(Z5=AP$2,AK4*X$6,"") | AN5: =IF(AA5=AS$1,AK4,"") | AO5: =IF(AN5=AK4,SUM(AC4:AC$4),"") | AP5: =IF(AN5=AK4,AN5-AO5,"") | AS5: =IF($AA5='גליון הזנת נתונים אישיים'!$D$11,AQ5-AR5,"")
W6: משיכה שנתית בפרישה | X6: =IF('גליון הזנת נתונים אישיים'!D12>10%,'גליון הזנת נתונים אישיים'!D12/100,'גליון הזנת נתונים אישיים'!D12) -> 0.06 | Z6: =IF(AA6>='גליון הזנת נתונים אישיים'!$D$11,AP$2,"") -> פרישה לפנסיה | AA6: =AA5+1 -> 30 | AB6: =IF(Z6=$AP$2,0,AC6) -> 0 | AC6: ='גליון הזנת נתונים אישיים'!E$6*12 -> 17760 | AD6: =AB6+AK5 -> 164568.58 | AE6: =AD6-SUM(AM6) -> 154694.47 | AF6: =AE6*X$5 -> 10828.613 | AG6: =AF6+AE6 -> 165523.08 | AH6: =AC6*X$3 -> 266.4 | AI6: =AG6*X$4 -> 82.761539 | AJ6: =AH6+AI6 -> 349.16154 | AK6: =AG6-AJ6 -> 165173.92 | AL6: =AM6/12 -> 822.84291 | AM6: =IF(Z6=AP$2,AK5*X$6,"") -> 9874.1149 | AN6: =IF(AA6=AS$1,AK5,"") -> 164568.58 | AO6: =IF(AN6=AK5,SUM(AC5:AC$4),"") -> 145520 | AP6: =IF(AN6=AK5,AN6-AO6,"") -> 19048.581 | AS6: =IF($AA6='גליון הזנת נתונים אישיים'!$D$11,AQ6-AR6,"") -> 0
W7: אחוזי הפרשה לפנסיה | X7: =IF('גליון הזנת נתונים אישיים'!D13>30%,'גליון הזנת נתונים אישיים'!D13/100,'גליון הזנת נתונים אישיים'!D13) -> 0.185 | Z7: =IF(AA7>='גליון הזנת נתונים אישיים'!$D$11,AP$2,"") -> פרישה לפנסיה | AA7: =AA6+1 -> 31 | AB7: =IF(Z7=$AP$2,0,AC7) -> 0 | AC7: ='גליון הזנת נתונים אישיים'!E$6*12 -> 17760 | AD7: =AB7+AK6 -> 165173.92 | AE7: =AD7-SUM(AM7) -> 155263.48 | AF7: =AE7*X$5 -> 10868.444 | AG7: =AF7+AE7 -> 166131.93 | AH7: =AC7*X$3 -> 266.4 | AI7: =AG7*X$4 -> 83.065963 | AJ7: =AH7+AI7 -> 349.46596 | AK7: =AG7-AJ7 -> 165782.46 | AL7: =AM7/12 -> 825.86959 | AM7: =IF(Z7=AP$2,AK6*X$6,"") -> 9910.435 | AN7: =IF(AA7=AS$1,AK6,"") | AO7: =IF(AN7=AK6,SUM(AC6:AC$4),"") | AP7: =IF(AN7=AK6,AN7-AO7,"") | AS7: =IF($AA7='גליון הזנת נתונים אישיים'!$D$11,AQ7-AR7,"")
Z8: =IF(AA8>='גליון הזנת נתונים אישיים'!$D$11,AP$2,"") -> פרישה לפנסיה | AA8: =AA7+1 -> 32 | AB8: =IF(Z8=$AP$2,0,AC8) -> 0 | AC8: ='גליון הזנת נתונים אישיים'!E$6*12 -> 17760 | AD8: =AB8+AK7 -> 165782.46 | AE8: =AD8-SUM(AM8) -> 155835.51 | AF8: =AE8*X$5 -> 10908.486 | AG8: =AF8+AE8 -> 166744 | AH8: =AC8*X$3 -> 266.4 | AI8: =AG8*X$4 -> 83.371999 | AJ8: =AH8+AI8 -> 349.772 | AK8: =AG8-AJ8 -> 166394.23 | AL8: =AM8/12 -> 828.9123 | AM8: =IF(Z8=AP$2,AK7*X$6,"") -> 9946.9476 | AN8: =IF(AA8=AS$1,AK7,"") | AO8: =IF(AN8=AK7,SUM(AC7:AC$4),"") | AP8: =IF(AN8=AK7,AN8-AO8,"") | AS8: =IF($AA8='גליון הזנת נתונים אישיים'!$D$11,AQ8-AR8,"")
Z9: =IF(AA9>='גליון הזנת נתונים אישיים'!$D$11,AP$2,"") -> פרישה לפנסיה | AA9: =AA8+1 -> 33 | AB9: =IF(Z9=$AP$2,0,AC9) -> 0 | AC9: ='גליון הזנת נתונים אישיים'!E$6*12 -> 17760 | AD9: =AB9+AK8 -> 166394.23 | AE9: =AD9-SUM(AM9) -> 156410.57 | AF9: =AE9*X$5 -> 10948.74 | AG9: =AF9+AE9 -> 167359.31 | AH9: =AC9*X$3 -> 266.4 | AI9: =AG9*X$4 -> 83.679656 | AJ9: =AH9+AI9 -> 350.07966 | AK9: =AG9-AJ9 -> 167009.23 | AL9: =AM9/12 -> 831.97113 | AM9: =IF(Z9=AP$2,AK8*X$6,"") -> 9983.6536 | AN9: =IF(AA9=AS$1,AK8,"") | AO9: =IF(AN9=AK8,SUM(AC8:AC$4),"") | AP9: =IF(AN9=AK8,AN9-AO9,"") | AS9: =IF($AA9='גליון הזנת נתונים אישיים'!$D$11,AQ9-AR9,"")
Z10: =IF(AA10>='גליון הזנת נתונים אישיים'!$D$11,AP$2,"") -> פרישה לפנסיה | AA10: =AA9+1 -> 34 | AB10: =IF(Z10=$AP$2,0,AC10) -> 0 | AC10: ='גליון הזנת נתונים אישיים'!E$6*12 -> 17760 | AD10: =AB10+AK9 -> 167009.23 | AE10: =AD10-SUM(AM10) -> 156988.68 | AF10: =AE10*X$5 -> 10989.208 | AG10: =AF10+AE10 -> 167977.89 | AH10: =AC10*X$3 -> 266.4 | AI10: =AG10*X$4 -> 83.988943 | AJ10: =AH10+AI10 -> 350.38894 | AK10: =AG10-AJ10 -> 167627.5 | AL10: =AM10/12 -> 835.04617 | AM10: =IF(Z10=AP$2,AK9*X$6,"") -> 10020.554 | AN10: =IF(AA10=AS$1,AK9,"") | AO10: =IF(AN10=AK9,SUM(AC9:AC$4),"") | AP10: =IF(AN10=AK9,AN10-AO10,"") | AS10: =IF($AA10='גליון הזנת נתונים אישיים'!$D$11,AQ10-AR10,"")
Z11: =IF(AA11>='גליון הזנת נתונים אישיים'!$D$11,AP$2,"") -> פרישה לפנסיה | AA11: =AA10+1 -> 35 | AB11: =IF(Z11=$AP$2,0,AC11) -> 0 | AC11: ='גליון הזנת נתונים אישיים'!E$6*12 -> 17760 | AD11: =AB11+AK10 -> 167627.5 | AE11: =AD11-SUM(AM11) -> 157569.85 | AF11: =AE11*X$5 -> 11029.889 | AG11: =AF11+AE11 -> 168599.74 | AH11: =AC11*X$3 -> 266.4 | AI11: =AG11*X$4 -> 84.299869 | AJ11: =AH11+AI11 -> 350.69987 | AK11: =AG11-AJ11 -> 168249.04 | AL11: =AM11/12 -> 838.13749 | AM11: =IF(Z11=AP$2,AK10*X$6,"") -> 10057.65 | AN11: =IF(AA11=AS$1,AK10,"") | AO11: =IF(AN11=AK10,SUM(AC10:AC$4),"") | AP11: =IF(AN11=AK10,AN11-AO11,"") | AS11: =IF($AA11='גליון הזנת נתונים אישיים'!$D$11,AQ11-AR11,"")
Z12: =IF(AA12>='גליון הזנת נתונים אישיים'!$D$11,AP$2,"") -> פרישה לפנסיה | AA12: =AA11+1 -> 36 | AB12: =IF(Z12=$AP$2,0,AC12) -> 0 | AC12: ='גליון הזנת נתונים אישיים'!E$6*12 -> 17760 | AD12: =AB12+AK11 -> 168249.04 | AE12: =AD12-SUM(AM12) -> 158154.1 | AF12: =AE12*X$5 -> 11070.787 | AG12: =AF12+AE12 -> 169224.88 | AH12: =AC12*X$3 -> 266.4 | AI12: =AG12*X$4 -> 84.612441 | AJ12: =AH12+AI12 -> 351.01244 | AK12: =AG12-AJ12 -> 168873.87 | AL12: =AM12/12 -> 841.24519 | AM12: =IF(Z12=AP$2,AK11*X$6,"") -> 10094.942 | AN12: =IF(AA12=AS$1,AK11,"") | AO12: =IF(AN12=AK11,SUM(AC11:AC$4),"") | AP12: =IF(AN12=AK11,AN12-AO12,"") | AS12: =IF($AA12='גליון הזנת נתונים אישיים'!$D$11,AQ12-AR12,"")
Z13: =IF(AA13>='גליון הזנת נתונים אישיים'!$D$11,AP$2,"") -> פרישה לפנסיה | AA13: =AA12+1 -> 37 | AB13: =IF(Z13=$AP$2,0,AC13) -> 0 | AC13: ='גליון הזנת נתונים אישיים'!E$6*12 -> 17760 | AD13: =AB13+AK12 -> 168873.87 | AE13: =AD13-SUM(AM13) -> 158741.44 | AF13: =AE13*X$5 -> 11111.901 | AG13: =AF13+AE13 -> 169853.34 | AH13: =AC13*X$3 -> 266.4 | AI13: =AG13*X$4 -> 84.926669 | AJ13: =AH13+AI13 -> 351.32667 | AK13: =AG13-AJ13 -> 169502.01 | AL13: =AM13/12 -> 844.36935 | AM13: =IF(Z13=AP$2,AK12*X$6,"") -> 10132.432 | AN13: =IF(AA13=AS$1,AK12,"") | AO13: =IF(AN13=AK12,SUM(AC12:AC$4),"") | AP13: =IF(AN13=AK12,AN13-AO13,"") | AS13: =IF($AA13='גליון הזנת נתונים אישיים'!$D$11,AQ13-AR13,"")
Z14: =IF(AA14>='גליון הזנת נתונים אישיים'!$D$11,AP$2,"") -> פרישה לפנסיה | AA14: =AA13+1 -> 38 | AB14: =IF(Z14=$AP$2,0,AC14) -> 0 | AC14: ='גליון הזנת נתונים אישיים'!E$6*12 -> 17760 | AD14: =AB14+AK13 -> 169502.01 | AE14: =AD14-SUM(AM14) -> 159331.89 | AF14: =AE14*X$5 -> 11153.232 | AG14: =AF14+AE14 -> 170485.12 | AH14: =AC14*X$3 -> 266.4 | AI14: =AG14*X$4 -> 85.242561 | AJ14: =AH14+AI14 -> 351.64256 | AK14: =AG14-AJ14 -> 170133.48 | AL14: =AM14/12 -> 847.51006 | AM14: =IF(Z14=AP$2,AK13*X$6,"") -> 10170.121 | AN14: =IF(AA14='גליון הזנת נתונים אישיים'!D$11,AK13,"") | AO14: =IF(AN14=AK13,SUM(AC13:AC$4),"") | AP14: =IF(AN14=AK13,AN14-AO14,"") | AS14: =IF($AA14='גליון הזנת נתונים אישיים'!$D$11,AQ14-AR14,"")
Z15: =IF(AA15>='גליון הזנת נתונים אישיים'!$D$11,AP$2,"") -> פרישה לפנסיה | AA15: =AA14+1 -> 39 | AB15: =IF(Z15=$AP$2,0,AC15) -> 0 | AC15: ='גליון הזנת נתונים אישיים'!E$6*12 -> 17760 | AD15: =AB15+AK14 -> 170133.48 | AE15: =AD15-SUM(AM15) -> 159925.47 | AF15: =AE15*X$5 -> 11194.783 | AG15: =AF15+AE15 -> 171120.25 | AH15: =AC15*X$3 -> 266.4 | AI15: =AG15*X$4 -> 85.560127 | AJ15: =AH15+AI15 -> 351.96013 | AK15: =AG15-AJ15 -> 170768.29 | AL15: =AM15/12 -> 850.6674 | AM15: =IF(Z15=AP$2,AK14*X$6,"") -> 10208.009 | AN15: =IF(AA15='גליון הזנת נתונים אישיים'!D$11,AK14,"") | AO15: =IF(AN15=AK14,SUM(AC14:AC$4),"") | AP15: =IF(AN15=AK14,AN15-AO15,"") | AS15: =IF($AA15='גליון הזנת נתונים אישיים'!$D$11,AQ15-AR15,"")
Z16: =IF(AA16>='גליון הזנת נתונים אישיים'!$D$11,AP$2,"") -> פרישה לפנסיה | AA16: =AA15+1 -> 40 | AB16: =IF(Z16=$AP$2,0,AC16) -> 0 | AC16: ='גליון הזנת נתונים אישיים'!E$6*12 -> 17760 | AD16: =AB16+AK15 -> 170768.29 | AE16: =AD16-SUM(AM16) -> 160522.2 | AF16: =AE16*X$5 -> 11236.554 | AG16: =AF16+AE16 -> 171758.75 | AH16: =AC16*X$3 -> 266.4 | AI16: =AG16*X$4 -> 85.879375 | AJ16: =AH16+AI16 -> 352.27938 | AK16: =AG16-AJ16 -> 171406.47 | AL16: =AM16/12 -> 853.84147 | AM16: =IF(Z16=AP$2,AK15*X$6,"") -> 10246.098 | AN16: =IF(AA16='גליון הזנת נתונים אישיים'!D$11,AK15,"") | AO16: =IF(AN16=AK15,SUM(AC15:AC$4),"") | AP16: =IF(AN16=AK15,AN16-AO16,"") | AS16: =IF($AA16='גליון הזנת נתונים אישיים'!$D$11,AQ16-AR16,"")
Z17: =IF(AA17>='גליון הזנת נתונים אישיים'!$D$11,AP$2,"") -> פרישה לפנסיה | AA17: =AA16+1 -> 41 | AB17: =IF(Z17=$AP$2,0,AC17) -> 0 | AC17: ='גליון הזנת נתונים אישיים'!E$6*12 -> 17760 | AD17: =AB17+AK16 -> 171406.47 | AE17: =AD17-SUM(AM17) -> 161122.08 | AF17: =AE17*X$5 -> 11278.546 | AG17: =AF17+AE17 -> 172400.63 | AH17: =AC17*X$3 -> 266.4 | AI17: =AG17*X$4 -> 86.200314 | AJ17: =AH17+AI17 -> 352.60031 | AK17: =AG17-AJ17 -> 172048.03 | AL17: =AM17/12 -> 857.03236 | AM17: =IF(Z17=AP$2,AK16*X$6,"") -> 10284.388 | AN17: =IF(AA17='גליון הזנת נתונים אישיים'!D$11,AK16,"") | AO17: =IF(AN17=AK16,SUM(AC16:AC$4),"") | AP17: =IF(AN17=AK16,AN17-AO17,"") | AS17: =IF($AA17='גליון הזנת נתונים אישיים'!$D$11,AQ17-AR17,"")
Z18: =IF(AA18>='גליון הזנת נתונים אישיים'!$D$11,AP$2,"") -> פרישה לפנסיה | AA18: =AA17+1 -> 42 | AB18: =IF(Z18=$AP$2,0,AC18) -> 0 | AC18: ='גליון הזנת נתונים אישיים'!E$6*12 -> 17760 | AD18: =AB18+AK17 -> 172048.03 | AE18: =AD18-SUM(AM18) -> 161725.15 | AF18: =AE18*X$5 -> 11320.76 | AG18: =AF18+AE18 -> 173045.91 | AH18: =AC18*X$3 -> 266.4 | AI18: =AG18*X$4 -> 86.522953 | AJ18: =AH18+AI18 -> 352.92295 | AK18: =AG18-AJ18 -> 172692.98 | AL18: =AM18/12 -> 860.24014 | AM18: =IF(Z18=AP$2,AK17*X$6,"") -> 10322.882 | AN18: =IF(AA18='גליון הזנת נתונים אישיים'!D$11,AK17,"") | AO18: =IF(AN18=AK17,SUM(AC17:AC$4),"") | AP18: =IF(AN18=AK17,AN18-AO18,"") | AS18: =IF($AA18='גליון הזנת נתונים אישיים'!$D$11,AQ18-AR18,"")
Z19: =IF(AA19>='גליון הזנת נתונים אישיים'!$D$11,AP$2,"") -> פרישה לפנסיה | AA19: =AA18+1 -> 43 | AB19: =IF(Z19=$AP$2,0,AC19) -> 0 | AC19: ='גליון הזנת נתונים אישיים'!E$6*12 -> 17760 | AD19: =AB19+AK18 -> 172692.98 | AE19: =AD19-SUM(AM19) -> 162331.4 | AF19: =AE19*X$5 -> 11363.198 | AG19: =AF19+AE19 -> 173694.6 | AH19: =AC19*X$3 -> 266.4 | AI19: =AG19*X$4 -> 86.847302 | AJ19: =AH19+AI19 -> 353.2473 | AK19: =AG19-AJ19 -> 173341.36 | AL19: =AM19/12 -> 863.46492 | AM19: =IF(Z19=AP$2,AK18*X$6,"") -> 10361.579 | AN19: =IF(AA19='גליון הזנת נתונים אישיים'!D$11,AK18,"") | AO19: =IF(AN19=AK18,SUM(AC18:AC$4),"") | AP19: =IF(AN19=AK18,AN19-AO19,"") | AS19: =IF($AA19='גליון הזנת נתונים אישיים'!$D$11,AQ19-AR19,"")
Z20: =IF(AA20>='גליון הזנת נתונים אישיים'!$D$11,AP$2,"") -> פרישה לפנסיה | AA20: =AA19+1 -> 44 | AB20: =IF(Z20=$AP$2,0,AC20) -> 0 | AC20: ='גליון הזנת נתונים אישיים'!E$6*12 -> 17760 | AD20: =AB20+AK19 -> 173341.36 | AE20: =AD20-SUM(AM20) -> 162940.87 | AF20: =AE20*X$5 -> 11405.861 | AG20: =AF20+AE20 -> 174346.74 | AH20: =AC20*X$3 -> 266.4 | AI20: =AG20*X$4 -> 87.173368 | AJ20: =AH20+AI20 -> 353.57337 | AK20: =AG20-AJ20 -> 173993.16 | AL20: =AM20/12 -> 866.70678 | AM20: =IF(Z20=AP$2,AK19*X$6,"") -> 10400.481 | AN20: =IF(AA20='גליון הזנת נתונים אישיים'!D$11,AK19,"") | AO20: =IF(AN20=AK19,SUM(AC19:AC$4),"") | AP20: =IF(AN20=AK19,AN20-AO20,"") | AS20: =IF($AA20='גליון הזנת נתונים אישיים'!$D$11,AQ20-AR20,"")
Z21: =IF(AA21>='גליון הזנת נתונים אישיים'!$D$11,AP$2,"") -> פרישה לפנסיה | AA21: =AA20+1 -> 45 | AB21: =IF(Z21=$AP$2,0,AC21) -> 0 | AC21: ='גליון הזנת נתונים אישיים'!E$6*12 -> 17760 | AD21: =AB21+AK20 -> 173993.16 | AE21: =AD21-SUM(AM21) -> 163553.57 | AF21: =AE21*X$5 -> 11448.75 | AG21: =AF21+AE21 -> 175002.32 | AH21: =AC21*X$3 -> 266.4 | AI21: =AG21*X$4 -> 87.501161 | AJ21: =AH21+AI21 -> 353.90116 | AK21: =AG21-AJ21 -> 174648.42 | AL21: =AM21/12 -> 869.96581 | AM21: =IF(Z21=AP$2,AK20*X$6,"") -> 10439.59 | AN21: =IF(AA21='גליון הזנת נתונים אישיים'!D$11,AK20,"") | AO21: =IF(AN21=AK20,SUM(AC20:AC$4),"") | AP21: =IF(AN21=AK20,AN21-AO21,"") | AS21: =IF($AA21='גליון הזנת נתונים אישיים'!$D$11,AQ21-AR21,"")
Z22: =IF(AA22>='גליון הזנת נתונים אישיים'!$D$11,AP$2,"") -> פרישה לפנסיה | AA22: =AA21+1 -> 46 | AB22: =IF(Z22=$AP$2,0,AC22) -> 0 | AC22: ='גליון הזנת נתונים אישיים'!E$6*12 -> 17760 | AD22: =AB22+AK21 -> 174648.42 | AE22: =AD22-SUM(AM22) -> 164169.52 | AF22: =AE22*X$5 -> 11491.866 | AG22: =AF22+AE22 -> 175661.38 | AH22: =AC22*X$3 -> 266.4 | AI22: =AG22*X$4 -> 87.830691 | AJ22: =AH22+AI22 -> 354.23069 | AK22: =AG22-AJ22 -> 175307.15 | AL22: =AM22/12 -> 873.24211 | AM22: =IF(Z22=AP$2,AK21*X$6,"") -> 10478.905 | AN22: =IF(AA22='גליון הזנת נתונים אישיים'!D$11,AK21,"") | AO22: =IF(AN22=AK21,SUM(AC21:AC$4),"") | AP22: =IF(AN22=AK21,AN22-AO22,"") | AS22: =IF($AA22='גליון הזנת נתונים אישיים'!$D$11,AQ22-AR22,"")
Z23: =IF(AA23>='גליון הזנת נתונים אישיים'!$D$11,AP$2,"") -> פרישה לפנסיה | AA23: =AA22+1 -> 47 | AB23: =IF(Z23=$AP$2,0,AC23) -> 0 | AC23: ='גליון הזנת נתונים אישיים'!E$6*12 -> 17760 | AD23: =AB23+AK22 -> 175307.15 | AE23: =AD23-SUM(AM23) -> 164788.72 | AF23: =AE23*X$5 -> 11535.211 | AG23: =AF23+AE23 -> 176323.93 | AH23: =AC23*X$3 -> 266.4 | AI23: =AG23*X$4 -> 88.161967 | AJ23: =AH23+AI23 -> 354.56197 | AK23: =AG23-AJ23 -> 175969.37 | AL23: =AM23/12 -> 876.53576 | AM23: =IF(Z23=AP$2,AK22*X$6,"") -> 10518.429 | AN23: =IF(AA23='גליון הזנת נתונים אישיים'!D$11,AK22,"") | AO23: =IF(AN23=AK22,SUM(AC22:AC$4),"") | AP23: =IF(AN23=AK22,AN23-AO23,"") | AS23: =IF($AA23='גליון הזנת נתונים אישיים'!$D$11,AQ23-AR23,"")
Z24: =IF(AA24>='גליון הזנת נתונים אישיים'!$D$11,AP$2,"") -> פרישה לפנסיה | AA24: =AA23+1 -> 48 | AB24: =IF(Z24=$AP$2,0,AC24) -> 0 | AC24: ='גליון הזנת נתונים אישיים'!E$6*12 -> 17760 | AD24: =AB24+AK23 -> 175969.37 | AE24: =AD24-SUM(AM24) -> 165411.21 | AF24: =AE24*X$5 -> 11578.785 | AG24: =AF24+AE24 -> 176989.99 | AH24: =AC24*X$3 -> 266.4 | AI24: =AG24*X$4 -> 88.494997 | AJ24: =AH24+AI24 -> 354.895 | AK24: =AG24-AJ24 -> 176635.1 | AL24: =AM24/12 -> 879.84686 | AM24: =IF(Z24=AP$2,AK23*X$6,"") -> 10558.162 | AN24: =IF(AA24='גליון הזנת נתונים אישיים'!D$11,AK23,"") | AO24: =IF(AN24=AK23,SUM(AC23:AC$4),"") | AP24: =IF(AN24=AK23,AN24-AO24,"") | AS24: =IF($AA24='גליון הזנת נתונים אישיים'!$D$11,AQ24-AR24,"")
Z25: =IF(AA25>='גליון הזנת נתונים אישיים'!$D$11,AP$2,"") -> פרישה לפנסיה | AA25: =AA24+1 -> 49 | AB25: =IF(Z25=$AP$2,0,AC25) -> 0 | AC25: ='גליון הזנת נתונים אישיים'!E$6*12 -> 17760 | AD25: =AB25+AK24 -> 176635.1 | AE25: =AD25-SUM(AM25) -> 166036.99 | AF25: =AE25*X$5 -> 11622.589 | AG25: =AF25+AE25 -> 177659.58 | AH25: =AC25*X$3 -> 266.4 | AI25: =AG25*X$4 -> 88.829791 | AJ25: =AH25+AI25 -> 355.22979 | AK25: =AG25-AJ25 -> 177304.35 | AL25: =AM25/12 -> 883.17549 | AM25: =IF(Z25=AP$2,AK24*X$6,"") -> 10598.106 | AN25: =IF(AA25='גליון הזנת נתונים אישיים'!D$11,AK24,"") | AO25: =IF(AN25=AK24,SUM(AC24:AC$4),"") | AP25: =IF(AN25=AK24,AN25-AO25,"") | AS25: =IF($AA25='גליון הזנת נתונים אישיים'!$D$11,AQ25-AR25,"")
... Z40: =IF(AA40>='גליון הזנת נתונים אישיים'!$D$11,AP$2,"") -> פרישה לפנסיה | AA40: =AA39+1 -> 64 | AB40: =IF(Z40=$AP$2,0,AC40) -> 0 | AC40: ='גליון הזנת נתונים אישיים'!E$6*12 -> 17760 | AD40: =AB40+AK39 -> 187054.82 | AE40: =AD40-SUM(AM40) -> 175831.53 | AF40: =AE40*X$5 -> 12308.207 | AG40: =AF40+AE40 -> 188139.74 | AH40: =AC40*X$3 -> 266.4 | AI40: =AG40*X$4 -> 94.06987 | AJ40: =AH40+AI40 -> 360.46987 | AK40: =AG40-AJ40 -> 187779.27 | AL40: =AM40/12 -> 935.27411 | AM40: =IF(Z40=AP$2,AK39*X$6,"") -> 11223.289 | AN40: =IF(AA40='גליון הזנת נתונים אישיים'!D$11,AK39,"") | AO40: =IF(AN40=AK39,SUM(AC39:AC$4),"") | AP40: =IF(AN40=AK39,AN40-AO40,"") | AS40: =IF($AA40='גליון הזנת נתונים אישיים'!$D$11,AQ40-AR40,"")
Z41: =IF(AA41>='גליון הזנת נתונים אישיים'!$D$11,AP$2,"") -> פרישה לפנסיה | AA41: =AA40+1 -> 65 | AB41: =IF(Z41=$AP$2,0,AC41) -> 0 | AC41: ='גליון הזנת נתונים אישיים'!E$6*12 -> 17760 | AD41: =AB41+AK40 -> 187779.27 | AE41: =AD41-SUM(AM41) -> 176512.51 | AF41: =AE41*X$5 -> 12355.876 | AG41: =AF41+AE41 -> 188868.39 | AH41: =AC41*X$3 -> 266.4 | AI41: =AG41*X$4 -> 94.434195 | AJ41: =AH41+AI41 -> 360.8342 | AK41: =AG41-AJ41 -> 188507.56 | AL41: =AM41/12 -> 938.89636 | AM41: =IF(Z41=AP$2,AK40*X$6,"") -> 11266.756 | AN41: =IF(AA41='גליון הזנת נתונים אישיים'!D$11,AK40,"") | AO41: =IF(AN41=AK40,SUM(AC40:AC$4),"") | AP41: =IF(AN41=AK40,AN41-AO41,"")
Z42: =IF(AA42>='גליון הזנת נתונים אישיים'!$D$11,AP$2,"") -> פרישה לפנסיה | AA42: =AA41+1 -> 66 | AB42: =IF(Z42=$AP$2,0,AC42) -> 0 | AC42: ='גליון הזנת נתונים אישיים'!E$6*12 -> 17760 | AD42: =AB42+AK41 -> 188507.56 | AE42: =AD42-SUM(AM42) -> 177197.1 | AF42: =AE42*X$5 -> 12403.797 | AG42: =AF42+AE42 -> 189600.9 | AH42: =AC42*X$3 -> 266.4 | AI42: =AG42*X$4 -> 94.80045 | AJ42: =AH42+AI42 -> 361.20045 | AK42: =AG42-AJ42 -> 189239.7 | AL42: =AM42/12 -> 942.53778 | AM42: =IF(Z42=AP$2,AK41*X$6,"") -> 11310.453 | AN42: =IF(AA42='גליון הזנת נתונים אישיים'!D$11,AK41,"") | AO42: =IF(AN42=AK41,SUM(AC41:AC$4),"") | AP42: =IF(AN42=AK41,AN42-AO42,"") | AS42: =IF($AA42='גליון הזנת נתונים אישיים'!$D$11,AQ42-AR42,"")
Z43: =IF(AA43>='גליון הזנת נתונים אישיים'!$D$11,AP$2,"") -> פרישה לפנסיה | AA43: =AA42+1 -> 67 | AB43: =IF(Z43=$AP$2,0,AC43) -> 0 | AC43: ='גליון הזנת נתונים אישיים'!E$6*12 -> 17760 | AD43: =AB43+AK42 -> 189239.7 | AE43: =AD43-SUM(AM43) -> 177885.32 | AF43: =AE43*X$5 -> 12451.972 | AG43: =AF43+AE43 -> 190337.29 | AH43: =AC43*X$3 -> 266.4 | AI43: =AG43*X$4 -> 95.168645 | AJ43: =AH43+AI43 -> 361.56865 | AK43: =AG43-AJ43 -> 189975.72 | AL43: =AM43/12 -> 946.1985 | AM43: =IF(Z43=AP$2,AK42*X$6,"") -> 11354.382 | AN43: =IF(AA43='גליון הזנת נתונים אישיים'!D$11,AK42,"") | AO43: =IF(AN43=AK42,SUM(AC42:AC$4),"") | AP43: =IF(AN43=AK42,AN43-AO43,"") | AS43: =IF($AA43='גליון הזנת נתונים אישיים'!$D$11,AQ43-AR43,"")
Z44: =IF(AA44>='גליון הזנת נתונים אישיים'!$D$11,AP$2,"") -> פרישה לפנסיה | AA44: =AA43+1 -> 68 | AB44: =IF(Z44=$AP$2,0,AC44) -> 0 | AC44: ='גליון הזנת נתונים אישיים'!E$6*12 -> 17760 | AD44: =AB44+AK43 -> 189975.72 | AE44: =AD44-SUM(AM44) -> 178577.18 | AF44: =AE44*X$5 -> 12500.402 | AG44: =AF44+AE44 -> 191077.58 | AH44: =AC44*X$3 -> 266.4 | AI44: =AG44*X$4 -> 95.53879 | AJ44: =AH44+AI44 -> 361.93879 | AK44: =AG44-AJ44 -> 190715.64 | AL44: =AM44/12 -> 949.87861 | AM44: =IF(Z44=AP$2,AK43*X$6,"") -> 11398.543 | AN44: =IF(AA44='גליון הזנת נתונים אישיים'!D$11,AK43,"") | AO44: =IF(AN44=AK43,SUM(AC43:AC$4),"") | AP44: =IF(AN44=AK43,AN44-AO44,"") | AS44: =IF($AA44='גליון הזנת נתונים אישיים'!$D$11,AQ44-AR44,"")
Z45: =IF(AA45>='גליון הזנת נתונים אישיים'!$D$11,AP$2,"") -> פרישה לפנסיה | AA45: =AA44+1 -> 69 | AB45: =IF(Z45=$AP$2,0,AC45) -> 0 | AC45: ='גליון הזנת נתונים אישיים'!E$6*12 -> 17760 | AD45: =AB45+AK44 -> 190715.64 | AE45: =AD45-SUM(AM45) -> 179272.7 | AF45: =AE45*X$5 -> 12549.089 | AG45: =AF45+AE45 -> 191821.79 | AH45: =AC45*X$3 -> 266.4 | AI45: =AG45*X$4 -> 95.910896 | AJ45: =AH45+AI45 -> 362.3109 | AK45: =AG45-AJ45 -> 191459.48 | AL45: =AM45/12 -> 953.57821 | AM45: =IF(Z45=AP$2,AK44*X$6,"") -> 11442.939 | AN45: =IF(AA45='גליון הזנת נתונים אישיים'!D$11,AK44,"") | AO45: =IF(AN45=AK44,SUM(AC44:AC$4),"") | AP45: =IF(AN45=AK44,AN45-AO45,"") | AS45: =IF($AA45='גליון הזנת נתונים אישיים'!$D$11,AQ45-AR45,"")
Z46: =IF(AA46>='גליון הזנת נתונים אישיים'!$D$11,AP$2,"") -> פרישה לפנסיה | AA46: =AA45+1 -> 70 | AB46: =IF(Z46=$AP$2,0,AC46) -> 0 | AC46: ='גליון הזנת נתונים אישיים'!E$6*12 -> 17760 | AD46: =AB46+AK45 -> 191459.48 | AE46: =AD46-SUM(AM46) -> 179971.91 | AF46: =AE46*X$5 -> 12598.034 | AG46: =AF46+AE46 -> 192569.95 | AH46: =AC46*X$3 -> 266.4 | AI46: =AG46*X$4 -> 96.284973 | AJ46: =AH46+AI46 -> 362.68497 | AK46: =AG46-AJ46 -> 192207.26 | AL46: =AM46/12 -> 957.29741 | AM46: =IF(Z46=AP$2,AK45*X$6,"") -> 11487.569 | AN46: =IF(AA46='גליון הזנת נתונים אישיים'!D$11,AK45,"") | AO46: =IF(AN46=AK45,SUM(AC45:AC$4),"") | AP46: =IF(AN46=AK45,AN46-AO46,"") | AS46: =IF($AA46='גליון הזנת נתונים אישיים'!$D$11,AQ46-AR46,"")
Z47: =IF(AA47>='גליון הזנת נתונים אישיים'!$D$11,AP$2,"") -> פרישה לפנסיה | AA47: =AA46+1 -> 71 | AB47: =IF(Z47=$AP$2,0,AC47) -> 0 | AC47: ='גליון הזנת נתונים אישיים'!E$6*12 -> 17760 | AD47: =AB47+AK46 -> 192207.26 | AE47: =AD47-SUM(AM47) -> 180674.83 | AF47: =AE47*X$5 -> 12647.238 | AG47: =AF47+AE47 -> 193322.06 | AH47: =AC47*X$3 -> 266.4 | AI47: =AG47*X$4 -> 96.661032 | AJ47: =AH47+AI47 -> 363.06103 | AK47: =AG47-AJ47 -> 192959 | AL47: =AM47/12 -> 961.03631 | AM47: =IF(Z47=AP$2,AK46*X$6,"") -> 11532.436 | AN47: =IF(AA47='גליון הזנת נתונים אישיים'!D$11,AK46,"") | AO47: =IF(AN47=AK46,SUM(AC46:AC$4),"") | AP47: =IF(AN47=AK46,AN47-AO47,"") | AS47: =IF($AA47='גליון הזנת נתונים אישיים'!$D$11,AQ47-AR47,"")
Z48: =IF(AA48>='גליון הזנת נתונים אישיים'!$D$11,AP$2,"") -> פרישה לפנסיה | AA48: =AA47+1 -> 72 | AB48: =IF(Z48=$AP$2,0,AC48) -> 0 | AC48: ='גליון הזנת נתונים אישיים'!E$6*12 -> 17760 | AD48: =AB48+AK47 -> 192959 | AE48: =AD48-SUM(AM48) -> 181381.46 | AF48: =AE48*X$5 -> 12696.702 | AG48: =AF48+AE48 -> 194078.17 | AH48: =AC48*X$3 -> 266.4 | AI48: =AG48*X$4 -> 97.039083 | AJ48: =AH48+AI48 -> 363.43908 | AK48: =AG48-AJ48 -> 193714.73 | AL48: =AM48/12 -> 964.79501 | AM48: =IF(Z48=AP$2,AK47*X$6,"") -> 11577.54 | AN48: =IF(AA48='גליון הזנת נתונים אישיים'!D$11,AK47,"") | AO48: =IF(AN48=AK47,SUM(AC47:AC$4),"") | AP48: =IF(AN48=AK47,AN48-AO48,"") | AS48: =IF($AA48='גליון הזנת נתונים אישיים'!$D$11,AQ48-AR48,"")
Z49: =IF(AA49>='גליון הזנת נתונים אישיים'!$D$11,AP$2,"") -> פרישה לפנסיה | AA49: =AA48+1 -> 73 | AB49: =IF(Z49=$AP$2,0,AC49) -> 0 | AC49: ='גליון הזנת נתונים אישיים'!E$6*12 -> 17760 | AD49: =AB49+AK48 -> 193714.73 | AE49: =AD49-SUM(AM49) -> 182091.84 | AF49: =AE49*X$5 -> 12746.429 | AG49: =AF49+AE49 -> 194838.27 | AH49: =AC49*X$3 -> 266.4 | AI49: =AG49*X$4 -> 97.419136 | AJ49: =AH49+AI49 -> 363.81914 | AK49: =AG49-AJ49 -> 194474.45 | AL49: =AM49/12 -> 968.57363 | AM49: =IF(Z49=AP$2,AK48*X$6,"") -> 11622.884 | AN49: =IF(AA49='גליון הזנת נתונים אישיים'!D$11,AK48,"") | AO49: =IF(AN49=AK48,SUM(AC48:AC$4),"") | AP49: =IF(AN49=AK48,AN49-AO49,"") | AS49: =IF($AA49='גליון הזנת נתונים אישיים'!$D$11,AQ49-AR49,"")
Z50: =IF(AA50>='גליון הזנת נתונים אישיים'!$D$11,AP$2,"") -> פרישה לפנסיה | AA50: =AA49+1 -> 74 | AB50: =IF(Z50=$AP$2,0,AC50) -> 0 | AC50: ='גליון הזנת נתונים אישיים'!E$6*12 -> 17760 | AD50: =AB50+AK49 -> 194474.45 | AE50: =AD50-SUM(AM50) -> 182805.99 | AF50: =AE50*X$5 -> 12796.419 | AG50: =AF50+AE50 -> 195602.4 | AH50: =AC50*X$3 -> 266.4 | AI50: =AG50*X$4 -> 97.801202 | AJ50: =AH50+AI50 -> 364.2012 | AK50: =AG50-AJ50 -> 195238.2 | AL50: =AM50/12 -> 972.37226 | AM50: =IF(Z50=AP$2,AK49*X$6,"") -> 11668.467 | AN50: =IF(AA50='גליון הזנת נתונים אישיים'!D$11,AK49,"") | AO50: =IF(AN50=AK49,SUM(AC49:AC$4),"") | AP50: =IF(AN50=AK49,AN50-AO50,"") | AS50: =IF($AA50='גליון הזנת נתונים אישיים'!$D$11,AQ50-AR50,"")
Z51: =IF(AA51>='גליון הזנת נתונים אישיים'!$D$11,AP$2,"") -> פרישה לפנסיה | AA51: =AA50+1 -> 75 | AB51: =IF(Z51=$AP$2,0,AC51) -> 0 | AC51: ='גליון הזנת נתונים אישיים'!E$6*12 -> 17760 | AD51: =AB51+AK50 -> 195238.2 | AE51: =AD51-SUM(AM51) -> 183523.91 | AF51: =AE51*X$5 -> 12846.674 | AG51: =AF51+AE51 -> 196370.58 | AH51: =AC51*X$3 -> 266.4 | AI51: =AG51*X$4 -> 98.185292 | AJ51: =AH51+AI51 -> 364.58529 | AK51: =AG51-AJ51 -> 196006 | AL51: =AM51/12 -> 976.19101 | AM51: =IF(Z51=AP$2,AK50*X$6,"") -> 11714.292 | AN51: =IF(AA51='גליון הזנת נתונים אישיים'!D$11,AK50,"") | AO51: =IF(AN51=AK50,SUM(AC50:AC$4),"") | AP51: =IF(AN51=AK50,AN51-AO51,"") | AS51: =IF($AA51='גליון הזנת נתונים אישיים'!$D$11,AQ51-AR51,"")
Z52: =IF(AA52>='גליון הזנת נתונים אישיים'!$D$11,AP$2,"") -> פרישה לפנסיה | AA52: =AA51+1 -> 76 | AB52: =IF(Z52=$AP$2,0,AC52) -> 0 | AC52: ='גליון הזנת נתונים אישיים'!E$6*12 -> 17760 | AD52: =AB52+AK51 -> 196006 | AE52: =AD52-SUM(AM52) -> 184245.64 | AF52: =AE52*X$5 -> 12897.195 | AG52: =AF52+AE52 -> 197142.83 | AH52: =AC52*X$3 -> 266.4 | AI52: =AG52*X$4 -> 98.571417 | AJ52: =AH52+AI52 -> 364.97142 | AK52: =AG52-AJ52 -> 196777.86 | AL52: =AM52/12 -> 980.03 | AM52: =IF(Z52=AP$2,AK51*X$6,"") -> 11760.36 | AN52: =IF(AA52='גליון הזנת נתונים אישיים'!D$11,AK51,"") | AO52: =IF(AN52=AK51,SUM(AC51:AC$4),"") | AP52: =IF(AN52=AK51,AN52-AO52,"") | AS52: =IF($AA52='גליון הזנת נתונים אישיים'!$D$11,AQ52-AR52,"")
Z53: =IF(AA53>='גליון הזנת נתונים אישיים'!$D$11,AP$2,"") -> פרישה לפנסיה | AA53: =AA52+1 -> 77 | AB53: =IF(Z53=$AP$2,0,AC53) -> 0 | AC53: ='גליון הזנת נתונים אישיים'!E$6*12 -> 17760 | AD53: =AB53+AK52 -> 196777.86 | AE53: =AD53-SUM(AM53) -> 184971.19 | AF53: =AE53*X$5 -> 12947.983 | AG53: =AF53+AE53 -> 197919.17 | AH53: =AC53*X$3 -> 266.4 | AI53: =AG53*X$4 -> 98.959587 | AJ53: =AH53+AI53 -> 365.35959 | AK53: =AG53-AJ53 -> 197553.81 | AL53: =AM53/12 -> 983.88931 | AM53: =IF(Z53=AP$2,AK52*X$6,"") -> 11806.672 | AN53: =IF(AA53='גליון הזנת נתונים אישיים'!D$11,AK52,"") | AO53: =IF(AN53=AK52,SUM(AC52:AC$4),"") | AP53: =IF(AN53=AK52,AN53-AO53,"") | AS53: =IF($AA53='גליון הזנת נתונים אישיים'!$D$11,AQ53-AR53,"")
... Z84: =IF(AA84>='גליון הזנת נתונים אישיים'!$D$11,AP$2,"") -> פרישה לפנסיה | AA84: =AA83+1 -> 108 | AB84: =IF(Z84=$AP$2,0,AC84) -> 0 | AC84: ='גליון הזנת נתונים אישיים'!E$6*12 -> 17760 | AD84: =AB84+AK83 -> 222845.27 | AE84: =AD84-SUM(AM84) -> 209474.55 | AF84: =AE84*X$5 -> 14663.218 | AG84: =AF84+AE84 -> 224137.77 | AH84: =AC84*X$3 -> 266.4 | AI84: =AG84*X$4 -> 112.06888 | AJ84: =AH84+AI84 -> 378.46888 | AK84: =AG84-AJ84 -> 223759.3 | AL84: =AM84/12 -> 1114.2263 | AM84: =IF(Z84=AP$2,AK83*X$6,"") -> 13370.716 | AN84: =IF(AA84='גליון הזנת נתונים אישיים'!D$11,AK83,"") | AO84: =IF(AN84=AK83,SUM(AC83:AC$4),"") | AP84: =IF(AN84=AK83,AN84-AO84,"") | AS84: =IF($AA84='גליון הזנת נתונים אישיים'!$D$11,AQ84-AR84,"")

Sheet גליון חישובים פנסיה ב
AP2: פרישה לפנסיה
X3: דמי ניהול מההפקדה | Y3: =IF('גליון הזנת נתונים אישיים'!D4>10%,'גליון הזנת נתונים אישיים'!D4/100,'גליון הזנת נתונים אישיים'!D4) -> 0.009 | AA3: גיל | AB3: הפקדה שנתית בלי הפקדות בפרישה | AC3: הפקדה שנתית | AD3: צבירה | AE3: צבירה - משיכה | AF3: תשואה | AG3: צבירה - משיכה + תשואה | AH3: דמי ניהול מההפקדה | AI3: דמי ניהול מהצבירה | AJ3: סה"כ דמי ניהול | AK3: צבירה - משיכה + תשואה - דמי ניהול | AL3: דמי פרישה חודשיים | AM3: דמי פרישה שנתיים | AN3: צבירה | AO3: הפקדה | AP3: תשואה
X4: דמי ניהול מהצבירה | Y4: =IF('גליון הזנת נתונים אישיים'!D5>=1%,'גליון הזנת נתונים אישיים'!D5/100,'גליון הזנת נתונים אישיים'!D5) -> 0.0015 | Z4: =IF(AA4>='גליון הזנת נתונים אישיים'!$D$11,AP$2,"") | AA4: ='גליון הזנת נתונים אישיים'!D10 -> 28 | AB4: =IF(Z4=$AP$2,0,AC4) -> 127760 | AC4: ='גליון הזנת נתונים אישיים'!E$6*12+'גליון הזנת נתונים אישיים'!D9 -> 127760 | AD4: =AB4 -> 127760 | AE4: =AD4-SUM(AM4) -> 127760 | AF4: =AE4*Y$5 -> 8943.2 | AG4: =AF4+AE4 -> 136703.2 | AH4: =AC5*Y$3 -> 159.84 | AI4: =AG4*Y$4 -> 205.0548 | AJ4: =AI4+AH4 -> 364.8948 | AK4: =AG4-AJ4 -> 136338.31 | AL4: =AM4/12 -> #VALUE! | AM4: =IF(Z4=AP$2,AK3*'גיליון חישובים פנסיה א'!X$6,"") | AN4: =IF(AA4='גליון הזנת נתונים אישיים'!D$11,AK3,"") | AO4: =IF(AN4=AK3,SUM(AC3:AC$4),"") | AP4: =IF(AN4=AK3,AN4-AO4,"") | AS4: =IF($AA4='גליון הזנת נתונים אישיים'!$D$11,AQ4-AR4,"")
X5: אחוזי תשואה | Y5: =IF('גליון הזנת נתונים אישיים'!D6>30%,'גליון הזנת נתונים אישיים'!D6/100,'גליון הזנת נתונים אישיים'!D6) -> 0.07 | Z5: =IF(AA5>='גליון הזנת נתונים אישיים'!$D$11,AP$2,"") | AA5: =AA4+1 -> 29 | AB5: =IF(Z5=$AP$2,0,AC5) -> 17760 | AC5: ='גליון הזנת נתונים אישיים'!E$6*12 -> 17760 | AD5: =AB5+AK4 -> 154098.31 | AE5: =AD5-SUM(AM5) -> 154098.31 | AF5: =AE5*Y$5 -> 10786.881 | AG5: =AF5+AE5 -> 164885.19 | AH5: =AC5*Y$3 -> 159.84 | AI5: =AG5*Y$4 -> 247.32778 | AJ5: =AI5+AH5 -> 407.16778 | AK5: =AG5-AJ5 -> 164478.02 | AL5: =AM5/12 -> #VALUE! | AM5: =IF(Z5=AP$2,AK4*'גיליון חישובים פנסיה א'!X$6,"") | AN5: =IF(AA5='גליון הזנת נתונים אישיים'!D$11,AK4,"") | AO5: =IF(AN5=AK4,SUM(AC4:AC$4),"") | AP5: =IF(AN5=AK4,AN5-AO5,"") | AS5: =IF($AA5='גליון הזנת נתונים אישיים'!$D$11,AQ5-AR5,"")
X6: =IF(Y6>='גליון הזנת נתונים אישיים'!$D$11,AN$2,"") | Y6: =IF(Z6>='גליון הזנת נתונים אישיים'!$D$11,AO$2,"") -> 0 | Z6: =IF(AA6>='גליון הזנת נתונים אישיים'!$D$11,AP$2,"") -> פרישה לפנסיה | AA6: =AA5+1 -> 30 | AB6: =IF(Z6=$AP$2,0,AC6) -> 0 | AC6: ='גליון הזנת נתונים אישיים'!E$6*12 -> 17760 | AD6: =AB6+AK5 -> 164478.02 | AE6: =AD6-SUM(AM6) -> 154609.34 | AF6: =AE6*Y$5 -> 10822.654 | AG6: =AF6+AE6 -> 165431.99 | AH6: =AC6*Y$3 -> 159.84 | AI6: =AG6*Y$4 -> 248.14799 | AJ6: =AI6+AH6 -> 407.98799 | AK6: =AG6-AJ6 -> 165024 | AL6: =AM6/12 -> 822.39009 | AM6: =IF(Z6=AP$2,AK5*'גיליון חישובים פנסיה א'!X$6,"") -> 9868.6811 | AN6: =IF(AA6='גליון הזנת נתונים אישיים'!D$11,AK5,"") -> 164478.02 | AO6: =IF(AN6=AK5,SUM(AC5:AC$4),"") -> 145520 | AP6: =IF(AN6=AK5,AN6-AO6,"") -> 18958.019 | AS6: =IF($AA6='גליון הזנת נתונים אישיים'!$D$11,AQ6-AR6,"") -> 0
X7: =IF(Y7>='גליון הזנת נתונים אישיים'!$D$11,AN$2,"") | Y7: =IF(Z7>='גליון הזנת נתונים אישיים'!$D$11,AO$2,"") -> 0 | Z7: =IF(AA7>='גליון הזנת נתונים אישיים'!$D$11,AP$2,"") -> פרישה לפנסיה | AA7: =AA6+1 -> 31 | AB7: =IF(Z7=$AP$2,0,AC7) -> 0 | AC7: ='גליון הזנת נתונים אישיים'!E$6*12 -> 17760 | AD7: =AB7+AK6 -> 165024 | AE7: =AD7-SUM(AM7) -> 155122.56 | AF7: =AE7*Y$5 -> 10858.579 | AG7: =AF7+AE7 -> 165981.14 | AH7: =AC7*Y$3 -> 159.84 | AI7: =AG7*Y$4 -> 248.97171 | AJ7: =AI7+AH7 -> 408.81171 | AK7: =AG7-AJ7 -> 165572.33 | AL7: =AM7/12 -> 825.12002 | AM7: =IF(Z7=AP$2,AK6*'גיליון חישובים פנסיה א'!X$6,"") -> 9901.4402 | AN7: =IF(AA7='גליון הזנת נתונים אישיים'!D$11,AK6,"") | AO7: =IF(AN7=AK6,SUM(AC6:AC$4),"") | AP7: =IF(AN7=AK6,AN7-AO7,"") | AS7: =IF($AA7='גליון הזנת נתונים אישיים'!$D$11,AQ7-AR7,"")
Z8: =IF(AA8>='גליון הזנת נתונים אישיים'!$D$11,AP$2,"") -> פרישה לפנסיה | AA8: =AA7+1 -> 32 | AB8: =IF(Z8=$AP$2,0,AC8) -> 0 | AC8: ='גליון הזנת נתונים אישיים'!E$6*12 -> 17760 | AD8: =AB8+AK7 -> 165572.33 | AE8: =AD8-SUM(AM8) -> 155637.99 | AF8: =AE8*Y$5 -> 10894.659 | AG8: =AF8+AE8 -> 166532.65 | AH8: =AC8*Y$3 -> 159.84 | AI8: =AG8*Y$4 -> 249.79898 | AJ8: =AI8+AH8 -> 409.63898 | AK8: =AG8-AJ8 -> 166123.01 | AL8: =AM8/12 -> 827.86165 | AM8: =IF(Z8=AP$2,AK7*'גיליון חישובים פנסיה א'!X$6,"") -> 9934.3398 | AN8: =IF(AA8='גליון הזנת נתונים אישיים'!D$11,AK7,"") | AO8: =IF(AN8=AK7,SUM(AC7:AC$4),"") | AP8: =IF(AN8=AK7,AN8-AO8,"") | AS8: =IF($AA8='גליון הזנת נתונים אישיים'!$D$11,AQ8-AR8,"")
Z9: =IF(AA9>='גליון הזנת נתונים אישיים'!$D$11,AP$2,"") -> פרישה לפנסיה | AA9: =AA8+1 -> 33 | AB9: =IF(Z9=$AP$2,0,AC9) -> 0 | AC9: ='גליון הזנת נתונים אישיים'!E$6*12 -> 17760 | AD9: =AB9+AK8 -> 166123.01 | AE9: =AD9-SUM(AM9) -> 156155.63 | AF9: =AE9*Y$5 -> 10930.894 | AG9: =AF9+AE9 -> 167086.52 | AH9: =AC9*Y$3 -> 159.84 | AI9: =AG9*Y$4 -> 250.62979 | AJ9: =AI9+AH9 -> 410.46979 | AK9: =AG9-AJ9 -> 166676.06 | AL9: =AM9/12 -> 830.61506 | AM9: =IF(Z9=AP$2,AK8*'גיליון חישובים פנסיה א'!X$6,"") -> 9967.3807 | AN9: =IF(AA9='גליון הזנת נתונים אישיים'!D$11,AK8,"") | AO9: =IF(AN9=AK8,SUM(AC8:AC$4),"") | AP9: =IF(AN9=AK8,AN9-AO9,"") | AS9: =IF($AA9='גליון הזנת נתונים אישיים'!$D$11,AQ9-AR9,"")
Z10: =IF(AA10>='גליון הזנת נתונים אישיים'!$D$11,AP$2,"") -> פרישה לפנסיה | AA10: =AA9+1 -> 34 | AB10: =IF(Z10=$AP$2,0,AC10) -> 0 | AC10: ='גליון הזנת נתונים אישיים'!E$6*12 -> 17760 | AD10: =AB10+AK9 -> 166676.06 | AE10: =AD10-SUM(AM10) -> 156675.49 | AF10: =AE10*Y$5 -> 10967.284 | AG10: =AF10+AE10 -> 167642.78 | AH10: =AC10*Y$3 -> 159.84 | AI10: =AG10*Y$4 -> 251.46416 | AJ10: =AI10+AH10 -> 411.30416 | AK10: =AG10-AJ10 -> 167231.47 | AL10: =AM10/12 -> 833.38028 | AM10: =IF(Z10=AP$2,AK9*'גיליון חישובים פנסיה א'!X$6,"") -> 10000.563 | AN10: =IF(AA10='גליון הזנת נתונים אישיים'!D$11,AK9,"") | AO10: =IF(AN10=AK9,SUM(AC9:AC$4),"") | AP10: =IF(AN10=AK9,AN10-AO10,"") | AS10: =IF($AA10='גליון הזנת נתונים אישיים'!$D$11,AQ10-AR10,"")
Z11: =IF(AA11>='גליון הזנת נתונים אישיים'!$D$11,AP$2,"") -> פרישה לפנסיה | AA11: =AA10+1 -> 35 | AB11: =IF(Z11=$AP$2,0,AC11) -> 0 | AC11: ='גליון הזנת נתונים אישיים'!E$6*12 -> 17760 | AD11: =AB11+AK10 -> 167231.47 | AE11: =AD11-SUM(AM11) -> 157197.58 | AF11: =AE11*Y$5 -> 11003.831 | AG11: =AF11+AE11 -> 168201.41 | AH11: =AC11*Y$3 -> 159.84 | AI11: =AG11*Y$4 -> 252.30212 | AJ11: =AI11+AH11 -> 412.14212 | AK11: =AG11-AJ11 -> 167789.27 | AL11: =AM11/12 -> 836.15736 | AM11: =IF(Z11=AP$2,AK10*'גיליון חישובים פנסיה א'!X$6,"") -> 10033.888 | AN11: =IF(AA11='גליון הזנת נתונים אישיים'!D$11,AK10,"") | AO11: =IF(AN11=AK10,SUM(AC10:AC$4),"") | AP11: =IF(AN11=AK10,AN11-AO11,"") | AS11: =IF($AA11='גליון הזנת נתונים אישיים'!$D$11,AQ11-AR11,"")
Z12: =IF(AA12>='גליון הזנת נתונים אישיים'!$D$11,AP$2,"") -> פרישה לפנסיה | AA12: =AA11+1 -> 36 | AB12: =IF(Z12=$AP$2,0,AC12) -> 0 | AC12: ='גליון הזנת נתונים אישיים'!E$6*12 -> 17760 | AD12: =AB12+AK11 -> 167789.27 | AE12: =AD12-SUM(AM12) -> 157721.92 | AF12: =AE12*Y$5 -> 11040.534 | AG12: =AF12+AE12 -> 168762.45 | AH12: =AC12*Y$3 -> 159.84 | AI12: =AG12*Y$4 -> 253.14368 | AJ12: =AI12+AH12 -> 412.98368 | AK12: =AG12-AJ12 -> 168349.47 | AL12: =AM12/12 -> 838.94636 | AM12: =IF(Z12=AP$2,AK11*'גיליון חישובים פנסיה א'!X$6,"") -> 10067.356 | AN12: =IF(AA12='גליון הזנת נתונים אישיים'!D$11,AK11,"") | AO12: =IF(AN12=AK11,SUM(AC11:AC$4),"") | AP12: =IF(AN12=AK11,AN12-AO12,"") | AS12: =IF($AA12='גליון הזנת נתונים אישיים'!$D$11,AQ12-AR12,"")
Z13: =IF(AA13>='גליון הזנת נתונים אישיים'!$D$11,AP$2,"") -> פרישה לפנסיה | AA13: =AA12+1 -> 37 | AB13: =IF(Z13=$AP$2,0,AC13) -> 0 | AC13: ='גליון הזנת נתונים אישיים'!E$6*12 -> 17760 | AD13: =AB13+AK12 -> 168349.47 | AE13: =AD13-SUM(AM13) -> 158248.5 | AF13: =AE13*Y$5 -> 11077.395 | AG13: =AF13+AE13 -> 169325.89 | AH13: =AC13*Y$3 -> 159.84 | AI13: =AG13*Y$4 -> 253.98884 | AJ13: =AI13+AH13 -> 413.82884 | AK13: =AG13-AJ13 -> 168912.06 | AL13: =AM13/12 -> 841.74733 | AM13: =IF(Z13=AP$2,AK12*'גיליון חישובים פנסיה א'!X$6,"") -> 10100.968 | AN13: =IF(AA13='גליון הזנת נתונים אישיים'!D$11,AK12,"") | AO13: =IF(AN13=AK12,SUM(AC12:AC$4),"") | AP13: =IF(AN13=AK12,AN13-AO13,"") | AS13: =IF($AA13='גליון הזנת נתונים אישיים'!$D$11,AQ13-AR13,"")
Z14: =IF(AA14>='גליון הזנת נתונים אישיים'!$D$11,AP$2,"") -> פרישה לפנסיה | AA14: =AA13+1 -> 38 | AB14: =IF(Z14=$AP$2,0,AC14) -> 0 | AC14: ='גליון הזנת נתונים אישיים'!E$6*12 -> 17760 | AD14: =AB14+AK13 -> 168912.06 | AE14: =AD14-SUM(AM14) -> 158777.34 | AF14: =AE14*Y$5 -> 11114.414 | AG14: =AF14+AE14 -> 169891.75 | AH14: =AC14*Y$3 -> 159.84 | AI14: =AG14*Y$4 -> 254.83763 | AJ14: =AI14+AH14 -> 414.67763 | AK14: =AG14-AJ14 -> 169477.08 | AL14: =AM14/12 -> 844.56032 | AM14: =IF(Z14=AP$2,AK13*'גיליון חישובים פנסיה א'!X$6,"") -> 10134.724 | AN14: =IF(AA14='גליון הזנת נתונים אישיים'!D$11,AK13,"") | AO14: =IF(AN14=AK13,SUM(AC13:AC$4),"") | AP14: =IF(AN14=AK13,AN14-AO14,"") | AS14: =IF($AA14='גליון הזנת נתונים אישיים'!$D$11,AQ14-AR14,"")
Z15: =IF(AA15>='גליון הזנת נתונים אישיים'!$D$11,AP$2,"") -> פרישה לפנסיה | AA15: =AA14+1 -> 39 | AB15: =IF(Z15=$AP$2,0,AC15) -> 0 | AC15: ='גליון הזנת נתונים אישיים'!E$6*12 -> 17760 | AD15: =AB15+AK14 -> 169477.08 | AE15: =AD15-SUM(AM15) -> 159308.45 | AF15: =AE15*Y$5 -> 11151.592 | AG15: =AF15+AE15 -> 170460.04 | AH15: =AC15*Y$3 -> 159.84 | AI15: =AG15*Y$4 -> 255.69007 | AJ15: =AI15+AH15 -> 415.53007 | AK15: =AG15-AJ15 -> 170044.51 | AL15: =AM15/12 -> 847.38538 | AM15: =IF(Z15=AP$2,AK14*'גיליון חישובים פנסיה א'!X$6,"") -> 10168.625 | AN15: =IF(AA15='גליון הזנת נתונים אישיים'!D$11,AK14,"") | AO15: =IF(AN15=AK14,SUM(AC14:AC$4),"") | AP15: =IF(AN15=AK14,AN15-AO15,"") | AS15: =IF($AA15='גליון הזנת נתונים אישיים'!$D$11,AQ15-AR15,"")
Z16: =IF(AA16>='גליון הזנת נתונים אישיים'!$D$11,AP$2,"") -> פרישה לפנסיה | AA16: =AA15+1 -> 40 | AB16: =IF(Z16=$AP$2,0,AC16) -> 0 | AC16: ='גליון הזנת נתונים אישיים'!E$6*12 -> 17760 | AD16: =AB16+AK15 -> 170044.51 | AE16: =AD16-SUM(AM16) -> 159841.84 | AF16: =AE16*Y$5 -> 11188.929 | AG16: =AF16+AE16 -> 171030.77 | AH16: =AC16*Y$3 -> 159.84 | AI16: =AG16*Y$4 -> 256.54616 | AJ16: =AI16+AH16 -> 416.38616 | AK16: =AG16-AJ16 -> 170614.39 | AL16: =AM16/12 -> 850.22257 | AM16: =IF(Z16=AP$2,AK15*'גיליון חישובים פנסיה א'!X$6,"") -> 10202.671 | AN16: =IF(AA16='גליון הזנת נתונים אישיים'!D$11,AK15,"") | AO16: =IF(AN16=AK15,SUM(AC15:AC$4),"") | AP16: =IF(AN16=AK15,AN16-AO16,"") | AS16: =IF($AA16='גליון הזנת נתונים אישיים'!$D$11,AQ16-AR16,"")
Z17: =IF(AA17>='גליון הזנת נתונים אישיים'!$D$11,AP$2,"") -> פרישה לפנסיה | AA17: =AA16+1 -> 41 | AB17: =IF(Z17=$AP$2,0,AC17) -> 0 | AC17: ='גליון הזנת נתונים אישיים'!E$6*12 -> 17760 | AD17: =AB17+AK16 -> 170614.39 | AE17: =AD17-SUM(AM17) -> 160377.52 | AF17: =AE17*Y$5 -> 11226.427 | AG17: =AF17+AE17 -> 171603.95 | AH17: =AC17*Y$3 -> 159.84 | AI17: =AG17*Y$4 -> 257.40592 | AJ17: =AI17+AH17 -> 417.24592 | AK17: =AG17-AJ17 -> 171186.7 | AL17: =AM17/12 -> 853.07193 | AM17: =IF(Z17=AP$2,AK16*'גיליון חישובים פנסיה א'!X$6,"") -> 10236.863 | AN17: =IF(AA17='גליון הזנת נתונים אישיים'!D$11,AK16,"") | AO17: =IF(AN17=AK16,SUM(AC16:AC$4),"") | AP17: =IF(AN17=AK16,AN17-AO17,"") | AS17: =IF($AA17='גליון הזנת נתונים אישיים'!$D$11,AQ17-AR17,"")
Z18: =IF(AA18>='גליון הזנת נתונים אישיים'!$D$11,AP$2,"") -> פרישה לפנסיה | AA18: =AA17+1 -> 42 | AB18: =IF(Z18=$AP$2,0,AC18) -> 0 | AC18: ='גליון הזנת נתונים אישיים'!E$6*12 -> 17760 | AD18: =AB18+AK17 -> 171186.7 | AE18: =AD18-SUM(AM18) -> 160915.5 | AF18: =AE18*Y$5 -> 11264.085 | AG18: =AF18+AE18 -> 172179.59 | AH18: =AC18*Y$3 -> 159.84 | AI18: =AG18*Y$4 -> 258.26938 | AJ18: =AI18+AH18 -> 418.10938 | AK18: =AG18-AJ18 -> 171761.48 | AL18: =AM18/12 -> 855.93352 | AM18: =IF(Z18=AP$2,AK17*'גיליון חישובים פנסיה א'!X$6,"") -> 10271.202 | AN18: =IF(AA18='גליון הזנת נתונים אישיים'!D$11,AK17,"") | AO18: =IF(AN18=AK17,SUM(AC17:AC$4),"") | AP18: =IF(AN18=AK17,AN18-AO18,"") | AS18: =IF($AA18='גליון הזנת נתונים אישיים'!$D$11,AQ18-AR18,"")
Z19: =IF(AA19>='גליון הזנת נתונים אישיים'!$D$11,AP$2,"") -> פרישה לפנסיה | AA19: =AA18+1 -> 43 | AB19: =IF(Z19=$AP$2,0,AC19) -> 0 | AC19: ='גליון הזנת נתונים אישיים'!E$6*12 -> 17760 | AD19: =AB19+AK18 -> 171761.48 | AE19: =AD19-SUM(AM19) -> 161455.79 | AF19: =AE19*Y$5 -> 11301.905 | AG19: =AF19+AE19 -> 172757.69 | AH19: =AC19*Y$3 -> 159.84 | AI19: =AG19*Y$4 -> 259.13654 | AJ19: =AI19+AH19 -> 418.97654 | AK19: =AG19-AJ19 -> 172338.72 | AL19: =AM19/12 -> 858.80738 | AM19: =IF(Z19=AP$2,AK18*'גיליון חישובים פנסיה א'!X$6,"") -> 10305.689 | AN19: =IF(AA19='גליון הזנת נתונים אישיים'!D$11,AK18,"") | AO19: =IF(AN19=AK18,SUM(AC18:AC$4),"") | AP19: =IF(AN19=AK18,AN19-AO19,"") | AS19: =IF($AA19='גליון הזנת נתונים אישיים'!$D$11,AQ19-AR19,"")
... Z84: =IF(AA84>='גליון הזנת נתונים אישיים'!$D$11,AP$2,"") -> פרישה לפנסיה | AA84: =AA83+1 -> 108 | AB84: =IF(Z84=$AP$2,0,AC84) -> 0 | AC84: ='גליון הזנת נתונים אישיים'!E$6*12 -> 17760 | AD84: =AB84+AK83 -> 214931.36 | AE84: =AD84-SUM(AM84) -> 202035.48 | AF84: =AE84*Y$5 -> 14142.484 | AG84: =AF84+AE84 -> 216177.96 | AH84: =AC84*Y$3 -> 159.84 | AI84: =AG84*Y$4 -> 324.26694 | AJ84: =AI84+AH84 -> 484.10694 | AK84: =AG84-AJ84 -> 215693.86 | AL84: =AM84/12 -> 1074.6568 | AM84: =IF(Z84=AP$2,AK83*'גיליון חישובים פנסיה א'!X$6,"") -> 12895.882 | AN84: =IF(AA84='גליון הזנת נתונים אישיים'!D$11,AK83,"") | AO84: =IF(AN84=AK83,SUM(AC83:AC$4),"") | AP84: =IF(AN84=AK83,AN84-AO84,"") | AS84: =IF($AA84='גליון הזנת נתונים אישיים'!$D$11,AQ84-AR84,"")

Sheet השוואה לפי שנים
A1: ='גליון חישובים פנסיה ב'!AA3 -> גיל | B1: פנסיה א | C1: פנסיה ב | D1: הבדל
A2: ='גליון חישובים פנסיה ב'!AA4 -> 28 | B2: ='גיליון חישובים פנסיה א'!AJ4 -> 334.7516 | C2: ='גליון חישובים פנסיה ב'!AJ4 -> 364.8948 | D2: =B2-C2 -> -30.1432
A3: ='גליון חישובים פנסיה ב'!AA5 -> 29 | B3: ='גיליון חישובים פנסיה א'!AJ5 -> 348.85872 | C3: ='גליון חישובים פנסיה ב'!AJ5 -> 407.16778 | D3: =B3-C3 -> -58.30906
A4: ='גליון חישובים פנסיה ב'!AA6 -> 30 | B4: ='גיליון חישובים פנסיה א'!AJ6 -> 349.16154 | C4: ='גליון חישובים פנסיה ב'!AJ6 -> 407.98799 | D4: =B4-C4 -> -58.826448
A5: ='גליון חישובים פנסיה ב'!AA7 -> 31 | B5: ='גיליון חישובים פנסיה א'!AJ7 -> 349.46596 | C5: ='גליון חישובים פנסיה ב'!AJ7 -> 408.81171 | D5: =B5-C5 -> -59.345751
A6: ='גליון חישובים פנסיה ב'!AA8 -> 32 | B6: ='גיליון חישובים פנסיה א'!AJ8 -> 349.772 | C6: ='גליון חישובים פנסיה ב'!AJ8 -> 409.63898 | D6: =B6-C6 -> -59.866976
A7: ='גליון חישובים פנסיה ב'!AA9 -> 33 | B7: ='גיליון חישובים פנסיה א'!AJ9 -> 350.07966 | C7: ='גליון חישובים פנסיה ב'!AJ9 -> 410.46979 | D7: =B7-C7 -> -60.390131
A8: ='גליון חישובים פנסיה ב'!AA10 -> 34 | B8: ='גיליון חישובים פנסיה א'!AJ10 -> 350.38894 | C8: ='גליון חישובים פנסיה ב'!AJ10 -> 411.30416 | D8: =B8-C8 -> -60.915221
A9: ='גליון חישובים פנסיה ב'!AA11 -> 35 | B9: ='גיליון חישובים פנסיה א'!AJ11 -> 350.69987 | C9: ='גליון חישובים פנסיה ב'!AJ11 -> 412.14212 | D9: =B9-C9 -> -61.442253
A10: ='גליון חישובים פנסיה ב'!AA12 -> 36 | B10: ='גיליון חישובים פנסיה א'!AJ12 -> 351.01244 | C10: ='גליון חישובים פנסיה ב'!AJ12 -> 412.98368 | D10: =B10-C10 -> -61.971234
A11: ='גליון חישובים פנסיה ב'!AA13 -> 37 | B11: ='גיליון חישובים פנסיה א'!AJ13 -> 351.32667 | C11: ='גליון חישובים פנסיה ב'!AJ13 -> 413.82884 | D11: =B11-C11 -> -62.502171
A12: ='גליון חישובים פנסיה ב'!AA14 -> 38 | B12: ='גיליון חישובים פנסיה א'!AJ14 -> 351.64256 | C12: ='גליון חישובים פנסיה ב'!AJ14 -> 414.67763 | D12: =B12-C12 -> -63.03507
A13: ='גליון חישובים פנסיה ב'!AA15 -> 39 | B13: ='גיליון חישובים פנסיה א'!AJ15 -> 351.96013 | C13: ='גליון חישובים פנסיה ב'!AJ15 -> 415.53007 | D13: =B13-C13 -> -63.569939
... A52: ='גליון חישובים פנסיה ב'!AA54 -> 78 | B52: ='גיליון חישובים פנסיה א'!AJ54 -> 365.74981 | C52: ='גליון חישובים פנסיה ב'!AJ54 -> 451.78972 | D52: =B52-C52 -> -86.039908
