Workbook
Name ימים: 'טבלת מקור'!$T$1:$U$7

Sheet מעוצב
A1: תשרי | D1: חשון | G1: כסלו | J1: טבת | M1: שבט | P1: אדר | S1: ניסן | V1: אייר | Y1: סיון | AB1: תמוז | AE1: אב | AH1: אלול
A2: י ו ם | B2: יום לועזי | C2: תיאור היום | D2: י ו ם | E2: יום לועזי | F2: תיאור היום | G2: י ו ם | H2: יום לועזי | I2: תיאור היום | J2: י ו ם | K2: יום לועזי | L2: תיאור היום | M2: י ו ם | N2: יום לועזי | O2: תיאור היום | P2: י ו ם | Q2: יום לועזי | R2: תיאור היום | S2: י ו ם | T2: יום לועזי | U2: תיאור היום | V2: י ו ם | W2: יום לועזי | X2: תיאור היום | Y2: י ו ם | Z2: יום לועזי | AA2: תיאור היום | AB2: י ו ם | AC2: יום לועזי | AD2: תיאור היום | AE2: י ו ם | AF2: יום לועזי | AG2: תיאור היום | AH2: י ו ם | AI2: יום לועזי | AJ2: תיאור היום
A3: א | B3: 19 | C3: א׳ דראש השנה | D3: א | E3: 19 | F3: ב׳ דראש חודש | G3: א | H3: 17 | I3: ראש חודש | J3: א | K3: 16 | L3: ו׳ דחנוכה ראש חודש | M3: א | N3: 14 | O3: ראש חודש | P3: א | Q3: 13 | R3: שבת ראש חודש | S3: א | T3: 14 | U3: ראש חודש | V3: א | W3: 13 | X3: ב׳ דראש חודש | Y3: א | Z3: 12 | AA3: ראש חודש | AB3: א | AC3: 11 | AD3: ב׳ דראש חודש | AE3: א | AF3: 10 | AG3: שבת ראש חודש | AH3: א | AI3: 9 | AJ3: ב׳ דראש חודש
A4: ב | B4: 20 | C4: ב׳ דראש השנה | D4: ב | E4: 20 | G4: ב | H4: 18 | J4: ב | K4: 17 | L4: ז׳ דחנוכה | M4: ב | N4: 15 | P4: ב | Q4: 14 | S4: ב | T4: 15 | V4: ב | W4: 14 | X4: יום הזכרון לחללי מערכות ישראל (מוקדם) | Y4: ב | Z4: 13 | AB4: ב | AC4: 12 | AE4: ב | AF4: 11 | AH4: ב | AI4: 10
A5: ג | B5: 21 | C5: צום גדליה | D5: ג | E5: 21 | G5: ג | H5: 19 | J5: ג | K5: 18 | L5: זאת חנוכה | M5: ג | N5: 16 | P5: ג | Q5: 15 | S5: ג | T5: 16 | V5: ג | W5: 15 | X5: יום העצמאות (מוקדם) | Y5: ג | Z5: 14 | AB5: ג | AC5: 13 | AE5: ג | AF5: 12 | AH5: ג | AI5: 11
A6: ד | B6: 22 | D6: ד | E6: 22 | G6: ד | H6: 20 | J6: ד | K6: 19 | M6: ד | N6: 17 | P6: ד | Q6: 16 | S6: ד | T6: 17 | V6: ד | W6: 16 | Y6: ד | Z6: 15 | AB6: ד | AC6: 14 | AE6: ד | AF6: 13 | AH6: ד | AI6: 12
A7: ה | B7: 23 | D7: ה | E7: 23 | G7: ה | H7: 21 | J7: ה | K7: 20 | M7: ה | N7: 18 | P7: ה | Q7: 17 | S7: ה | T7: 18 | V7: ה | W7: 17 | Y7: ה | Z7: 16 | AA7: ערב שבועות | AB7: ה | AC7: 15 | AE7: ה | AF7: 14 | AH7: ה | AI7: 13
A8: ו | B8: 24 | D8: ו | E8: 24 | G8: ו | H8: 22 | J8: ו | K8: 21 | M8: ו | N8: 19 | P8: ו | Q8: 18 | S8: ו | T8: 19 | V8: ו | W8: 18 | Y8: ו | Z8: 17 | AA8: שבועות | AB8: ו | AC8: 16 | AE8: ו | AF8: 15 | AH8: ו | AI8: 14
A9: ז | B9: 25 | D9: ז | E9: 25 | F9: ותן טל ומטר תחילת שעון חורף | G9: ז | H9: 23 | J9: ז | K9: 22 | M9: ז | N9: 20 | P9: ז | Q9: 19 | S9: ז | T9: 20 | V9: ז | W9: 19 | Y9: ז | Z9: 18 | AA9: אסרו חג | AB9: ז | AC9: 17 | AE9: ז | AF9: 16 | AH9: ז | AI9: 15
A10: ח | B10: 26 | D10: ח | E10: 26 | G10: ח | H10: 24 | J10: ח | K10: 23 | M10: ח | N10: 21 | P10: ח | Q10: 20 | S10: ח | T10: 21 | V10: ח | W10: 20 | Y10: ח | Z10: 19 | AB10: ח | AC10: 18 | AE10: ח | AF10: 17 | AH10: ח | AI10: 16
A11: ט | B11: 27 | C11: ערב יום כיפור | D11: ט | E11: 27 | G11: ט | H11: 25 | J11: ט | K11: 24 | M11: ט | N11: 22 | P11: ט | Q11: 21 | S11: ט | T11: 22 | V11: ט | W11: 21 | Y11: ט | Z11: 20 | AB11: ט | AC11: 19 | AE11: ט | AF11: 18 | AG11: צום תשעה באב | AH11: ט | AI11: 17
A12: י | B12: 28 | C12: יום כיפור | D12: י | E12: 28 | G12: י | H12: 26 | J12: י | K12: 25 | L12: צום עשרה בטבת יום הקדיש הכללי | M12: י | N12: 23 | P12: י | Q12: 22 | S12: י | T12: 23 | V12: י | W12: 22 | Y12: י | Z12: 21 | AB12: י | AC12: 20 | AE12: י | AF12: 19 | AH12: י | AI12: 18
A13: י״א | B13: 29 | D13: י״א | E13: 29 | G13: י״א | H13: 27 | J13: י״א | K13: 26 | M13: י״א | N13: 24 | P13: י״א | Q13: 23 | S13: י״א | T13: 24 | V13: י״א | W13: 23 | Y13: י״א | Z13: 22 | AB13: י״א | AC13: 21 | AE13: י״א | AF13: 20 | AH13: י״א | AI13: 19
A14: י״ב | B14: 30 | D14: י״ב | E14: 30 | G14: י״ב | H14: 28 | J14: י״ב | K14: 27 | M14: י״ב | N14: 25 | P14: י״ב | Q14: 24 | S14: י״ב | T14: 25 | V14: י״ב | W14: 24 | Y14: י״ב | Z14: 23 | AB14: י״ב | AC14: 22 | AE14: י״ב | AF14: 21 | AH14: י״ב | AI14: 20
A15: י״ג | B15: 1 | D15: י״ג | E15: 31 | G15: י״ג | H15: 29 | J15: י״ג | K15: 28 | M15: י״ג | N15: 26 | P15: י״ג | Q15: 25 | R15: תענית אסתר | S15: י״ג | T15: 26 | U15: תחילת שעון קיץ | V15: י״ג | W15: 25 | Y15: י״ג | Z15: 24 | AB15: י״ג | AC15: 23 | AE15: י״ג | AF15: 22 | AH15: י״ג | AI15: 21
A16: י״ד | B16: 2 | C16: ערב סוכות | D16: י״ד | E16: 1 | G16: י״ד | H16: 30 | J16: י״ד | K16: 29 | M16: י״ד | N16: 27 | P16: י״ד | Q16: 26 | R16: פורים | S16: י״ד | T16: 27 | U16: ערב פסח שחל בשבת | V16: י״ד | W16: 26 | X16: פסח שני | Y16: י״ד | Z16: 25 | AB16: י״ד | AC16: 24 | AE16: י״ד | AF16: 23 | AH16: י״ד | AI16: 22
A17: ט״ו | B17: 3 | C17: סוכות | D17: ט״ו | E17: 2 | G17: ט״ו | H17: 1 | J17: ט״ו | K17: 30 | M17: ט״ו | N17: 28 | O17: ראש השנה לאילנות | P17: ט״ו | Q17: 27 | R17: שושן פורים | S17: ט״ו | T17: 28 | U17: א׳ דפסח | V17: ט״ו | W17: 27 | Y17: ט״ו | Z17: 26 | AB17: ט״ו | AC17: 25 | AE17: ט״ו | AF17: 24 | AG17: ט״ו באב | AH17: ט״ו | AI17: 23
A18: ט״ז | B18: 4 | C18: חוה״מ סוכות | D18: ט״ז | E18: 3 | G18: ט״ז | H18: 2 | J18: ט״ז | K18: 31 | M18: ט״ז | N18: 29 | P18: ט״ז | Q18: 28 | S18: ט״ז | T18: 29 | U18: חוה״מ פסח | V18: ט״ז | W18: 28 | Y18: ט״ז | Z18: 27 | AB18: ט״ז | AC18: 26 | AE18: ט״ז | AF18: 25 | AH18: ט״ז | AI18: 24
A19: י״ז | B19: 5 | C19: חוה״מ סוכות | D19: י״ז | E19: 4 | G19: י״ז | H19: 3 | J19: י״ז | K19: 1 | M19: י״ז | N19: 30 | P19: י״ז | Q19: 1 | S19: י״ז | T19: 30 | U19: חוה״מ פסח | V19: י״ז | W19: 29 | Y19: י״ז | Z19: 28 | AB19: י״ז | AC19: 27 | AD19: צום י״ז בתמוז | AE19: י״ז | AF19: 26 | AH19: י״ז | AI19: 25
A20: י״ח | B20: 6 | C20: חוה״מ סוכות | D20: י״ח | E20: 5 | G20: י״ח | H20: 4 | J20: י״ח | K20: 2 | M20: י״ח | N20: 31 | P20: י״ח | Q20: 2 | S20: י״ח | T20: 31 | U20: חוה״מ פסח | V20: י״ח | W20: 30 | X20: ל״ג בעומר | Y20: י״ח | Z20: 29 | AB20: י״ח | AC20: 28 | AE20: י״ח | AF20: 27 | AH20: י״ח | AI20: 26
A21: י״ט | B21: 7 | C21: חוה״מ סוכות | D21: י״ט | E21: 6 | G21: י״ט | H21: 5 | I21: שאילת גשמים בחו״ל | J21: י״ט | K21: 3 | M21: י״ט | N21: 1 | P21: י״ט | Q21: 3 | S21: י״ט | T21: 1 | U21: חוה״מ פסח | V21: י״ט | W21: 1 | Y21: י״ט | Z21: 30 | AB21: י״ט | AC21: 29 | AE21: י״ט | AF21: 28 | AH21: י״ט | AI21: 27
A22: כ | B22: 8 | C22: חוה״מ סוכות | D22: כ | E22: 7 | G22: כ | H22: 6 | J22: כ | K22: 4 | M22: כ | N22: 2 | P22: כ | Q22: 4 | S22: כ | T22: 2 | U22: חוה״מ פסח | V22: כ | W22: 2 | Y22: כ | Z22: 31 | AB22: כ | AC22: 30 | AE22: כ | AF22: 29 | AH22: כ | AI22: 28
A23: כ״א | B23: 9 | C23: הושענא רבה | D23: כ״א | E23: 8 | G23: כ״א | H23: 7 | J23: כ״א | K23: 5 | M23: כ״א | N23: 3 | P23: כ״א | Q23: 5 | S23: כ״א | T23: 3 | U23: שביעי של פסח | V23: כ״א | W23: 3 | Y23: כ״א | Z23: 1 | AB23: כ״א | AC23: 1 | AE23: כ״א | AF23: 30 | AH23: כ״א | AI23: 29 | AJ23: א׳ דסליחות
A24: כ״ב | B24: 10 | C24: שמחת תורה | D24: כ״ב | E24: 9 | G24: כ״ב | H24: 8 | J24: כ״ב | K24: 6 | M24: כ״ב | N24: 4 | P24: כ״ב | Q24: 6 | S24: כ״ב | T24: 4 | U24: אסרו חג | V24: כ״ב | W24: 4 | Y24: כ״ב | Z24: 2 | AB24: כ״ב | AC24: 2 | AE24: כ״ב | AF24: 31 | AH24: כ״ב | AI24: 30
A25: כ״ג | B25: 11 | C25: אסרו חג | D25: כ״ג | E25: 10 | G25: כ״ג | H25: 9 | J25: כ״ג | K25: 7 | M25: כ״ג | N25: 5 | P25: כ״ג | Q25: 7 | S25: כ״ג | T25: 5 | V25: כ״ג | W25: 5 | Y25: כ״ג | Z25: 3 | AB25: כ״ג | AC25: 3 | AE25: כ״ג | AF25: 1 | AH25: כ״ג | AI25: 31
A26: כ״ד | B26: 12 | D26: כ״ד | E26: 11 | G26: כ״ד | H26: 10 | J26: כ״ד | K26: 8 | M26: כ״ד | N26: 6 | P26: כ״ד | Q26: 8 | S26: כ״ד | T26: 6 | V26: כ״ד | W26: 6 | Y26: כ״ד | Z26: 4 | AB26: כ״ד | AC26: 4 | AE26: כ״ד | AF26: 2 | AH26: כ״ד | AI26: 1
A27: כ״ה | B27: 13 | D27: כ״ה | E27: 12 | G27: כ״ה | H27: 11 | I27: א׳ דחנוכה | J27: כ״ה | K27: 9 | M27: כ״ה | N27: 7 | P27: כ״ה | Q27: 9 | S27: כ״ה | T27: 7 | V27: כ״ה | W27: 7 | Y27: כ״ה | Z27: 5 | AB27: כ״ה | AC27: 5 | AE27: כ״ה | AF27: 3 | AH27: כ״ה | AI27: 2
A28: כ״ו | B28: 14 | D28: כ״ו | E28: 13 | G28: כ״ו | H28: 12 | I28: ב׳ דחנוכה | J28: כ״ו | K28: 10 | M28: כ״ו | N28: 8 | P28: כ״ו | Q28: 10 | S28: כ״ו | T28: 8 | V28: כ״ו | W28: 8 | Y28: כ״ו | Z28: 6 | AB28: כ״ו | AC28: 6 | AE28: כ״ו | AF28: 4 | AH28: כ״ו | AI28: 3
A29: כ״ז | B29: 15 | D29: כ״ז | E29: 14 | G29: כ״ז | H29: 13 | I29: ג׳ דחנוכה | J29: כ״ז | K29: 11 | M29: כ״ז | N29: 9 | P29: כ״ז | Q29: 11 | S29: כ״ז | T29: 9 | U29: יום הזכרון לשואה ולגבורה | V29: כ״ז | W29: 9 | Y29: כ״ז | Z29: 7 | AB29: כ״ז | AC29: 7 | AE29: כ״ז | AF29: 5 | AH29: כ״ז | AI29: 4
A30: כ״ח | B30: 16 | D30: כ״ח | E30: 15 | G30: כ״ח | H30: 14 | I30: ד׳ דחנוכה | J30: כ״ח | K30: 12 | M30: כ״ח | N30: 10 | P30: כ״ח | Q30: 12 | S30: כ״ח | T30: 10 | V30: כ״ח | W30: 10 | X30: יום ירושלים | Y30: כ״ח | Z30: 8 | AB30: כ״ח | AC30: 8 | AE30: כ״ח | AF30: 6 | AH30: כ״ח | AI30: 5
A31: כ״ט | B31: 17 | C31: ערב ראש חודש | D31: כ״ט | E31: 16 | F31: ערב ראש חודש | G31: כ״ט | H31: 15 | I31: ה׳ דחנוכה ערב ראש חודש | J31: כ״ט | K31: 13 | L31: ערב ראש חודש | M31: כ״ט | N31: 11 | O31: ערב ראש חודש | P31: כ״ט | Q31: 13 | R31: ערב ראש חודש | S31: כ״ט | T31: 11 | U31: ערב ראש חודש | V31: כ״ט | W31: 11 | X31: ערב ראש חודש | Y31: כ״ט | Z31: 9 | AA31: ערב ראש חודש | AB31: כ״ט | AC31: 9 | AD31: ערב ראש חודש | AE31: כ״ט | AF31: 7 | AG31: ערב ראש חודש | AH31: כ״ט | AI31: 6 | AJ31: ערב ראש השנה
A32: ל | B32: 18 | C32: א׳ דראש חודש | M32: ל | N32: 12 | O32: א׳ דראש חודש | S32: ל | T32: 12 | U32: א׳ דראש חודש | Y32: ל | Z32: 10 | AA32: א׳ דראש חודש | AE32: ל | AF32: 8 | AG32: א׳ דראש חודש
C47: =INT((COLUMN()-COLUMN($C47))/7)+1 & "-" & MOD(COLUMN()-COLUMN($C47),7)+1 -> 1-1 | D47: =INT((COLUMN()-COLUMN($C47))/7)+1 & "-" & MOD(COLUMN()-COLUMN($C47),7)+1 -> 1-2 | E47: =INT((COLUMN()-COLUMN($C47))/7)+1 & "-" & MOD(COLUMN()-COLUMN($C47),7)+1 -> 1-3 | F47: =INT((COLUMN()-COLUMN($C47))/7)+1 & "-" & MOD(COLUMN()-COLUMN($C47),7)+1 -> 1-4 | G47: =INT((COLUMN()-COLUMN($C47))/7)+1 & "-" & MOD(COLUMN()-COLUMN($C47),7)+1 -> 1-5 | H47: =INT((COLUMN()-COLUMN($C47))/7)+1 & "-" & MOD(COLUMN()-COLUMN($C47),7)+1 -> 1-6 | I47: =INT((COLUMN()-COLUMN($C47))/7)+1 & "-" & MOD(COLUMN()-COLUMN($C47),7)+1 -> 1-7 | J47: =INT((COLUMN()-COLUMN($C47))/7)+1 & "-" & MOD(COLUMN()-COLUMN($C47),7)+1 -> 2-1 | ... AK47: =INT((COLUMN()-COLUMN($C47))/7)+1 & "-" & MOD(COLUMN()-COLUMN($C47),7)+1 -> 5-7
C48: שבת | D48: ראשון | E48: שני | F48: שלישי | G48: רביעי | H48: חמישי | I48: שישי | J48: שבת | K48: ראשון | L48: שני | M48: שלישי | N48: רביעי | O48: חמישי | P48: שישי | Q48: שבת | R48: ראשון | S48: שני | T48: שלישי | U48: רביעי | V48: חמישי | W48: שישי | X48: שבת | Y48: ראשון | Z48: שני | AA48: שלישי | AB48: רביעי | AC48: חמישי | AD48: שישי | AE48: שבת | AF48: ראשון | AG48: שני | AH48: שלישי | AI48: רביעי | AJ48: חמישי | AK48: שישי
A49: =INT((ROW()-ROW(A$49))/3)+1 -> 1 | B49: תשרי | C49: =_xlfn.IFNA(VLOOKUP($A49&"-"&C$47,'טבלת מקור'!$D:$H,3,FALSE),"") | D49: =_xlfn.IFNA(VLOOKUP($A49&"-"&D$47,'טבלת מקור'!$D:$H,3,FALSE),"") | E49: =_xlfn.IFNA(VLOOKUP($A49&"-"&E$47,'טבלת מקור'!$D:$H,3,FALSE),"") -> א׳ | F49: =_xlfn.IFNA(VLOOKUP($A49&"-"&F$47,'טבלת מקור'!$D:$H,3,FALSE),"") -> ב׳ | G49: =_xlfn.IFNA(VLOOKUP($A49&"-"&G$47,'טבלת מקור'!$D:$H,3,FALSE),"") -> ג׳ | H49: =_xlfn.IFNA(VLOOKUP($A49&"-"&H$47,'טבלת מקור'!$D:$H,3,FALSE),"") -> ד׳ | I49: =_xlfn.IFNA(VLOOKUP($A49&"-"&I$47,'טבלת מקור'!$D:$H,3,FALSE),"") -> ה׳ | J49: =_xlfn.IFNA(VLOOKUP($A49&"-"&J$47,'טבלת מקור'!$D:$H,3,FALSE),"") -> ו׳ | ... AK49: =_xlfn.IFNA(VLOOKUP($A49&"-"&AK$47,'טבלת מקור'!$D:$H,3,FALSE),"")
A50: =INT((ROW()-ROW(A$49))/3)+1 -> 1 | B50: ספט-אוק | C50: =_xlfn.IFNA(VLOOKUP($A50&"-"&C$47,'טבלת מקור'!$D:$H,4,FALSE),"") | D50: =_xlfn.IFNA(VLOOKUP($A50&"-"&D$47,'טבלת מקור'!$D:$H,4,FALSE),"") | E50: =_xlfn.IFNA(VLOOKUP($A50&"-"&E$47,'טבלת מקור'!$D:$H,4,FALSE),"") -> 7 | F50: =_xlfn.IFNA(VLOOKUP($A50&"-"&F$47,'טבלת מקור'!$D:$H,4,FALSE),"") -> 8 | G50: =_xlfn.IFNA(VLOOKUP($A50&"-"&G$47,'טבלת מקור'!$D:$H,4,FALSE),"") -> 9 | H50: =_xlfn.IFNA(VLOOKUP($A50&"-"&H$47,'טבלת מקור'!$D:$H,4,FALSE),"") -> 10 | I50: =_xlfn.IFNA(VLOOKUP($A50&"-"&I$47,'טבלת מקור'!$D:$H,4,FALSE),"") -> 11 | J50: =_xlfn.IFNA(VLOOKUP($A50&"-"&J$47,'טבלת מקור'!$D:$H,4,FALSE),"") -> 12 | ... AK50: =_xlfn.IFNA(VLOOKUP($A50&"-"&AK$47,'טבלת מקור'!$D:$H,4,FALSE),"")
A51: =INT((ROW()-ROW(A$49))/3)+1 -> 1 | C51: =_xlfn.IFNA(VLOOKUP($A51&"-"&C$47,'טבלת מקור'!$D:$H,5,FALSE),"") | D51: =_xlfn.IFNA(VLOOKUP($A51&"-"&D$47,'טבלת מקור'!$D:$H,5,FALSE),"") | E51: =_xlfn.IFNA(VLOOKUP($A51&"-"&E$47,'טבלת מקור'!$D:$H,5,FALSE),"") -> א׳ דראש השנה | F51: =_xlfn.IFNA(VLOOKUP($A51&"-"&F$47,'טבלת מקור'!$D:$H,5,FALSE),"") -> ב׳ דראש השנה | G51: =_xlfn.IFNA(VLOOKUP($A51&"-"&G$47,'טבלת מקור'!$D:$H,5,FALSE),"") -> צום גדליה | H51: =_xlfn.IFNA(VLOOKUP($A51&"-"&H$47,'טבלת מקור'!$D:$H,5,FALSE),"") -> 0 | I51: =_xlfn.IFNA(VLOOKUP($A51&"-"&I$47,'טבלת מקור'!$D:$H,5,FALSE),"") -> 0 | J51: =_xlfn.IFNA(VLOOKUP($A51&"-"&J$47,'טבלת מקור'!$D:$H,5,FALSE),"") -> 0 | ... AK51: =_xlfn.IFNA(VLOOKUP($A51&"-"&AK$47,'טבלת מקור'!$D:$H,5,FALSE),"")
A52: =INT((ROW()-ROW(A$49))/3)+1 -> 2 | B52: חשון | C52: =_xlfn.IFNA(VLOOKUP($A52&"-"&C$47,'טבלת מקור'!$D:$H,3,FALSE),"") | D52: =_xlfn.IFNA(VLOOKUP($A52&"-"&D$47,'טבלת מקור'!$D:$H,3,FALSE),"") | E52: =_xlfn.IFNA(VLOOKUP($A52&"-"&E$47,'טבלת מקור'!$D:$H,3,FALSE),"") | F52: =_xlfn.IFNA(VLOOKUP($A52&"-"&F$47,'טבלת מקור'!$D:$H,3,FALSE),"") | G52: =_xlfn.IFNA(VLOOKUP($A52&"-"&G$47,'טבלת מקור'!$D:$H,3,FALSE),"") -> א׳ | H52: =_xlfn.IFNA(VLOOKUP($A52&"-"&H$47,'טבלת מקור'!$D:$H,3,FALSE),"") -> ב׳ | I52: =_xlfn.IFNA(VLOOKUP($A52&"-"&I$47,'טבלת מקור'!$D:$H,3,FALSE),"") -> ג׳ | J52: =_xlfn.IFNA(VLOOKUP($A52&"-"&J$47,'טבלת מקור'!$D:$H,3,FALSE),"") -> ד׳ | ... AK52: =_xlfn.IFNA(VLOOKUP($A52&"-"&AK$47,'טבלת מקור'!$D:$H,3,FALSE),"")
A53: =INT((ROW()-ROW(A$49))/3)+1 -> 2 | B53: אוק-נוב | C53: =_xlfn.IFNA(VLOOKUP($A53&"-"&C$47,'טבלת מקור'!$D:$H,4,FALSE),"") | D53: =_xlfn.IFNA(VLOOKUP($A53&"-"&D$47,'טבלת מקור'!$D:$H,4,FALSE),"") | E53: =_xlfn.IFNA(VLOOKUP($A53&"-"&E$47,'טבלת מקור'!$D:$H,4,FALSE),"") | F53: =_xlfn.IFNA(VLOOKUP($A53&"-"&F$47,'טבלת מקור'!$D:$H,4,FALSE),"") | G53: =_xlfn.IFNA(VLOOKUP($A53&"-"&G$47,'טבלת מקור'!$D:$H,4,FALSE),"") -> 7 | H53: =_xlfn.IFNA(VLOOKUP($A53&"-"&H$47,'טבלת מקור'!$D:$H,4,FALSE),"") -> 8 | I53: =_xlfn.IFNA(VLOOKUP($A53&"-"&I$47,'טבלת מקור'!$D:$H,4,FALSE),"") -> 9 | J53: =_xlfn.IFNA(VLOOKUP($A53&"-"&J$47,'טבלת מקור'!$D:$H,4,FALSE),"") -> 10 | ... AK53: =_xlfn.IFNA(VLOOKUP($A53&"-"&AK$47,'טבלת מקור'!$D:$H,4,FALSE),"")
A54: =INT((ROW()-ROW(A$49))/3)+1 -> 2 | C54: =_xlfn.IFNA(VLOOKUP($A54&"-"&C$47,'טבלת מקור'!$D:$H,5,FALSE),"") | D54: =_xlfn.IFNA(VLOOKUP($A54&"-"&D$47,'טבלת מקור'!$D:$H,5,FALSE),"") | E54: =_xlfn.IFNA(VLOOKUP($A54&"-"&E$47,'טבלת מקור'!$D:$H,5,FALSE),"") | F54: =_xlfn.IFNA(VLOOKUP($A54&"-"&F$47,'טבלת מקור'!$D:$H,5,FALSE),"") | G54: =_xlfn.IFNA(VLOOKUP($A54&"-"&G$47,'טבלת מקור'!$D:$H,5,FALSE),"") -> ב׳ דראש חודש | H54: =_xlfn.IFNA(VLOOKUP($A54&"-"&H$47,'טבלת מקור'!$D:$H,5,FALSE),"") -> 0 | I54: =_xlfn.IFNA(VLOOKUP($A54&"-"&I$47,'טבלת מקור'!$D:$H,5,FALSE),"") -> 0 | J54: =_xlfn.IFNA(VLOOKUP($A54&"-"&J$47,'טבלת מקור'!$D:$H,5,FALSE),"") -> 0 | ... AK54: =_xlfn.IFNA(VLOOKUP($A54&"-"&AK$47,'טבלת מקור'!$D:$H,5,FALSE),"")
A55: =INT((ROW()-ROW(A$49))/3)+1 -> 3 | B55: כסלו | C55: =_xlfn.IFNA(VLOOKUP($A55&"-"&C$47,'טבלת מקור'!$D:$H,3,FALSE),"") | D55: =_xlfn.IFNA(VLOOKUP($A55&"-"&D$47,'טבלת מקור'!$D:$H,3,FALSE),"") | E55: =_xlfn.IFNA(VLOOKUP($A55&"-"&E$47,'טבלת מקור'!$D:$H,3,FALSE),"") | F55: =_xlfn.IFNA(VLOOKUP($A55&"-"&F$47,'טבלת מקור'!$D:$H,3,FALSE),"") | G55: =_xlfn.IFNA(VLOOKUP($A55&"-"&G$47,'טבלת מקור'!$D:$H,3,FALSE),"") | H55: =_xlfn.IFNA(VLOOKUP($A55&"-"&H$47,'טבלת מקור'!$D:$H,3,FALSE),"") -> א׳ | I55: =_xlfn.IFNA(VLOOKUP($A55&"-"&I$47,'טבלת מקור'!$D:$H,3,FALSE),"") -> ב׳ | J55: =_xlfn.IFNA(VLOOKUP($A55&"-"&J$47,'טבלת מקור'!$D:$H,3,FALSE),"") -> ג׳ | ... AK55: =_xlfn.IFNA(VLOOKUP($A55&"-"&AK$47,'טבלת מקור'!$D:$H,3,FALSE),"") -> ל׳
A56: =INT((ROW()-ROW(A$49))/3)+1 -> 3 | B56: נוב-דצמ | C56: =_xlfn.IFNA(VLOOKUP($A56&"-"&C$47,'טבלת מקור'!$D:$H,4,FALSE),"") | D56: =_xlfn.IFNA(VLOOKUP($A56&"-"&D$47,'טבלת מקור'!$D:$H,4,FALSE),"") | E56: =_xlfn.IFNA(VLOOKUP($A56&"-"&E$47,'טבלת מקור'!$D:$H,4,FALSE),"") | F56: =_xlfn.IFNA(VLOOKUP($A56&"-"&F$47,'טבלת מקור'!$D:$H,4,FALSE),"") | G56: =_xlfn.IFNA(VLOOKUP($A56&"-"&G$47,'טבלת מקור'!$D:$H,4,FALSE),"") | H56: =_xlfn.IFNA(VLOOKUP($A56&"-"&H$47,'טבלת מקור'!$D:$H,4,FALSE),"") -> 5 | I56: =_xlfn.IFNA(VLOOKUP($A56&"-"&I$47,'טבלת מקור'!$D:$H,4,FALSE),"") -> 6 | J56: =_xlfn.IFNA(VLOOKUP($A56&"-"&J$47,'טבלת מקור'!$D:$H,4,FALSE),"") -> 7 | ... AK56: =_xlfn.IFNA(VLOOKUP($A56&"-"&AK$47,'טבלת מקור'!$D:$H,4,FALSE),"") -> 4
A57: =INT((ROW()-ROW(A$49))/3)+1 -> 3 | C57: =_xlfn.IFNA(VLOOKUP($A57&"-"&C$47,'טבלת מקור'!$D:$H,5,FALSE),"") | D57: =_xlfn.IFNA(VLOOKUP($A57&"-"&D$47,'טבלת מקור'!$D:$H,5,FALSE),"") | E57: =_xlfn.IFNA(VLOOKUP($A57&"-"&E$47,'טבלת מקור'!$D:$H,5,FALSE),"") | F57: =_xlfn.IFNA(VLOOKUP($A57&"-"&F$47,'טבלת מקור'!$D:$H,5,FALSE),"") | G57: =_xlfn.IFNA(VLOOKUP($A57&"-"&G$47,'טבלת מקור'!$D:$H,5,FALSE),"") | H57: =_xlfn.IFNA(VLOOKUP($A57&"-"&H$47,'טבלת מקור'!$D:$H,5,FALSE),"") -> ראש חודש | I57: =_xlfn.IFNA(VLOOKUP($A57&"-"&I$47,'טבלת מקור'!$D:$H,5,FALSE),"") -> 0 | J57: =_xlfn.IFNA(VLOOKUP($A57&"-"&J$47,'טבלת מקור'!$D:$H,5,FALSE),"") -> 0 | ... AK57: =_xlfn.IFNA(VLOOKUP($A57&"-"&AK$47,'טבלת מקור'!$D:$H,5,FALSE),"") -> ו׳ דחנוכה ראש חודש
A58: =INT((ROW()-ROW(A$49))/3)+1 -> 4 | B58: טבת | C58: =_xlfn.IFNA(VLOOKUP($A58&"-"&C$47,'טבלת מקור'!$D:$H,3,FALSE),"") -> א׳ | D58: =_xlfn.IFNA(VLOOKUP($A58&"-"&D$47,'טבלת מקור'!$D:$H,3,FALSE),"") -> ב׳ | E58: =_xlfn.IFNA(VLOOKUP($A58&"-"&E$47,'טבלת מקור'!$D:$H,3,FALSE),"") -> ג׳ | F58: =_xlfn.IFNA(VLOOKUP($A58&"-"&F$47,'טבלת מקור'!$D:$H,3,FALSE),"") -> ד׳ | G58: =_xlfn.IFNA(VLOOKUP($A58&"-"&G$47,'טבלת מקור'!$D:$H,3,FALSE),"") -> ה׳ | H58: =_xlfn.IFNA(VLOOKUP($A58&"-"&H$47,'טבלת מקור'!$D:$H,3,FALSE),"") -> ו׳ | I58: =_xlfn.IFNA(VLOOKUP($A58&"-"&I$47,'טבלת מקור'!$D:$H,3,FALSE),"") -> ז׳ | J58: =_xlfn.IFNA(VLOOKUP($A58&"-"&J$47,'טבלת מקור'!$D:$H,3,FALSE),"") -> ח׳ | ... AK58: =_xlfn.IFNA(VLOOKUP($A58&"-"&AK$47,'טבלת מקור'!$D:$H,3,FALSE),"")
A59: =INT((ROW()-ROW(A$49))/3)+1 -> 4 | B59: דצמ-ינו | C59: =_xlfn.IFNA(VLOOKUP($A59&"-"&C$47,'טבלת מקור'!$D:$H,4,FALSE),"") -> 5 | D59: =_xlfn.IFNA(VLOOKUP($A59&"-"&D$47,'טבלת מקור'!$D:$H,4,FALSE),"") -> 6 | E59: =_xlfn.IFNA(VLOOKUP($A59&"-"&E$47,'טבלת מקור'!$D:$H,4,FALSE),"") -> 7 | F59: =_xlfn.IFNA(VLOOKUP($A59&"-"&F$47,'טבלת מקור'!$D:$H,4,FALSE),"") -> 8 | G59: =_xlfn.IFNA(VLOOKUP($A59&"-"&G$47,'טבלת מקור'!$D:$H,4,FALSE),"") -> 9 | H59: =_xlfn.IFNA(VLOOKUP($A59&"-"&H$47,'טבלת מקור'!$D:$H,4,FALSE),"") -> 10 | I59: =_xlfn.IFNA(VLOOKUP($A59&"-"&I$47,'טבלת מקור'!$D:$H,4,FALSE),"") -> 11 | J59: =_xlfn.IFNA(VLOOKUP($A59&"-"&J$47,'טבלת מקור'!$D:$H,4,FALSE),"") -> 12 | ... AK59: =_xlfn.IFNA(VLOOKUP($A59&"-"&AK$47,'טבלת מקור'!$D:$H,4,FALSE),"")
A60: =INT((ROW()-ROW(A$49))/3)+1 -> 4 | C60: =_xlfn.IFNA(VLOOKUP($A60&"-"&C$47,'טבלת מקור'!$D:$H,5,FALSE),"") -> ז׳ דחנוכה ראש חודש, שאילת גשמים בחו״ל | D60: =_xlfn.IFNA(VLOOKUP($A60&"-"&D$47,'טבלת מקור'!$D:$H,5,FALSE),"") -> זאת חנוכה | E60: =_xlfn.IFNA(VLOOKUP($A60&"-"&E$47,'טבלת מקור'!$D:$H,5,FALSE),"") -> 0 | F60: =_xlfn.IFNA(VLOOKUP($A60&"-"&F$47,'טבלת מקור'!$D:$H,5,FALSE),"") -> 0 | G60: =_xlfn.IFNA(VLOOKUP($A60&"-"&G$47,'טבלת מקור'!$D:$H,5,FALSE),"") -> 0 | H60: =_xlfn.IFNA(VLOOKUP($A60&"-"&H$47,'טבלת מקור'!$D:$H,5,FALSE),"") -> 0 | I60: =_xlfn.IFNA(VLOOKUP($A60&"-"&I$47,'טבלת מקור'!$D:$H,5,FALSE),"") -> 0 | J60: =_xlfn.IFNA(VLOOKUP($A60&"-"&J$47,'טבלת מקור'!$D:$H,5,FALSE),"") -> 0 | ... AK60: =_xlfn.IFNA(VLOOKUP($A60&"-"&AK$47,'טבלת מקור'!$D:$H,5,FALSE),"")
A61: =INT((ROW()-ROW(A$49))/3)+1 -> 5 | B61: שבט | C61: =_xlfn.IFNA(VLOOKUP($A61&"-"&C$47,'טבלת מקור'!$D:$H,3,FALSE),"") | D61: =_xlfn.IFNA(VLOOKUP($A61&"-"&D$47,'טבלת מקור'!$D:$H,3,FALSE),"") -> א׳ | E61: =_xlfn.IFNA(VLOOKUP($A61&"-"&E$47,'טבלת מקור'!$D:$H,3,FALSE),"") -> ב׳ | F61: =_xlfn.IFNA(VLOOKUP($A61&"-"&F$47,'טבלת מקור'!$D:$H,3,FALSE),"") -> ג׳ | G61: =_xlfn.IFNA(VLOOKUP($A61&"-"&G$47,'טבלת מקור'!$D:$H,3,FALSE),"") -> ד׳ | H61: =_xlfn.IFNA(VLOOKUP($A61&"-"&H$47,'טבלת מקור'!$D:$H,3,FALSE),"") -> ה׳ | I61: =_xlfn.IFNA(VLOOKUP($A61&"-"&I$47,'טבלת מקור'!$D:$H,3,FALSE),"") -> ו׳ | J61: =_xlfn.IFNA(VLOOKUP($A61&"-"&J$47,'טבלת מקור'!$D:$H,3,FALSE),"") -> ז׳ | ... AK61: =_xlfn.IFNA(VLOOKUP($A61&"-"&AK$47,'טבלת מקור'!$D:$H,3,FALSE),"")
A62: =INT((ROW()-ROW(A$49))/3)+1 -> 5 | B62: ינו-פבר | C62: =_xlfn.IFNA(VLOOKUP($A62&"-"&C$47,'טבלת מקור'!$D:$H,4,FALSE),"") | D62: =_xlfn.IFNA(VLOOKUP($A62&"-"&D$47,'טבלת מקור'!$D:$H,4,FALSE),"") -> 3 | E62: =_xlfn.IFNA(VLOOKUP($A62&"-"&E$47,'טבלת מקור'!$D:$H,4,FALSE),"") -> 4 | F62: =_xlfn.IFNA(VLOOKUP($A62&"-"&F$47,'טבלת מקור'!$D:$H,4,FALSE),"") -> 5 | G62: =_xlfn.IFNA(VLOOKUP($A62&"-"&G$47,'טבלת מקור'!$D:$H,4,FALSE),"") -> 6 | H62: =_xlfn.IFNA(VLOOKUP($A62&"-"&H$47,'טבלת מקור'!$D:$H,4,FALSE),"") -> 7 | I62: =_xlfn.IFNA(VLOOKUP($A62&"-"&I$47,'טבלת מקור'!$D:$H,4,FALSE),"") -> 8 | J62: =_xlfn.IFNA(VLOOKUP($A62&"-"&J$47,'טבלת מקור'!$D:$H,4,FALSE),"") -> 9 | ... AK62: =_xlfn.IFNA(VLOOKUP($A62&"-"&AK$47,'טבלת מקור'!$D:$H,4,FALSE),"")
A63: =INT((ROW()-ROW(A$49))/3)+1 -> 5 | C63: =_xlfn.IFNA(VLOOKUP($A63&"-"&C$47,'טבלת מקור'!$D:$H,5,FALSE),"") | D63: =_xlfn.IFNA(VLOOKUP($A63&"-"&D$47,'טבלת מקור'!$D:$H,5,FALSE),"") -> ראש חודש | E63: =_xlfn.IFNA(VLOOKUP($A63&"-"&E$47,'טבלת מקור'!$D:$H,5,FALSE),"") -> 0 | F63: =_xlfn.IFNA(VLOOKUP($A63&"-"&F$47,'טבלת מקור'!$D:$H,5,FALSE),"") -> 0 | G63: =_xlfn.IFNA(VLOOKUP($A63&"-"&G$47,'טבלת מקור'!$D:$H,5,FALSE),"") -> 0 | H63: =_xlfn.IFNA(VLOOKUP($A63&"-"&H$47,'טבלת מקור'!$D:$H,5,FALSE),"") -> 0 | I63: =_xlfn.IFNA(VLOOKUP($A63&"-"&I$47,'טבלת מקור'!$D:$H,5,FALSE),"") -> 0 | J63: =_xlfn.IFNA(VLOOKUP($A63&"-"&J$47,'טבלת מקור'!$D:$H,5,FALSE),"") -> 0 | ... AK63: =_xlfn.IFNA(VLOOKUP($A63&"-"&AK$47,'טבלת מקור'!$D:$H,5,FALSE),"")
A64: =INT((ROW()-ROW(A$49))/3)+1 -> 6 | B64: אדר | C64: =_xlfn.IFNA(VLOOKUP($A64&"-"&C$47,'טבלת מקור'!$D:$H,3,FALSE),"") | D64: =_xlfn.IFNA(VLOOKUP($A64&"-"&D$47,'טבלת מקור'!$D:$H,3,FALSE),"") | E64: =_xlfn.IFNA(VLOOKUP($A64&"-"&E$47,'טבלת מקור'!$D:$H,3,FALSE),"") | F64: =_xlfn.IFNA(VLOOKUP($A64&"-"&F$47,'טבלת מקור'!$D:$H,3,FALSE),"") -> א׳ | G64: =_xlfn.IFNA(VLOOKUP($A64&"-"&G$47,'טבלת מקור'!$D:$H,3,FALSE),"") -> ב׳ | H64: =_xlfn.IFNA(VLOOKUP($A64&"-"&H$47,'טבלת מקור'!$D:$H,3,FALSE),"") -> ג׳ | I64: =_xlfn.IFNA(VLOOKUP($A64&"-"&I$47,'טבלת מקור'!$D:$H,3,FALSE),"") -> ד׳ | J64: =_xlfn.IFNA(VLOOKUP($A64&"-"&J$47,'טבלת מקור'!$D:$H,3,FALSE),"") -> ה׳ | ... AK64: =_xlfn.IFNA(VLOOKUP($A64&"-"&AK$47,'טבלת מקור'!$D:$H,3,FALSE),"")
A65: =INT((ROW()-ROW(A$49))/3)+1 -> 6 | B65: פבר-מרץ | C65: =_xlfn.IFNA(VLOOKUP($A65&"-"&C$47,'טבלת מקור'!$D:$H,4,FALSE),"") | D65: =_xlfn.IFNA(VLOOKUP($A65&"-"&D$47,'טבלת מקור'!$D:$H,4,FALSE),"") | E65: =_xlfn.IFNA(VLOOKUP($A65&"-"&E$47,'טבלת מקור'!$D:$H,4,FALSE),"") | F65: =_xlfn.IFNA(VLOOKUP($A65&"-"&F$47,'טבלת מקור'!$D:$H,4,FALSE),"") -> 2 | G65: =_xlfn.IFNA(VLOOKUP($A65&"-"&G$47,'טבלת מקור'!$D:$H,4,FALSE),"") -> 3 | H65: =_xlfn.IFNA(VLOOKUP($A65&"-"&H$47,'טבלת מקור'!$D:$H,4,FALSE),"") -> 4 | I65: =_xlfn.IFNA(VLOOKUP($A65&"-"&I$47,'טבלת מקור'!$D:$H,4,FALSE),"") -> 5 | J65: =_xlfn.IFNA(VLOOKUP($A65&"-"&J$47,'טבלת מקור'!$D:$H,4,FALSE),"") -> 6 | ... AK65: =_xlfn.IFNA(VLOOKUP($A65&"-"&AK$47,'טבלת מקור'!$D:$H,4,FALSE),"")
A66: =INT((ROW()-ROW(A$49))/3)+1 -> 6 | C66: =_xlfn.IFNA(VLOOKUP($A66&"-"&C$47,'טבלת מקור'!$D:$H,5,FALSE),"") | D66: =_xlfn.IFNA(VLOOKUP($A66&"-"&D$47,'טבלת מקור'!$D:$H,5,FALSE),"") | E66: =_xlfn.IFNA(VLOOKUP($A66&"-"&E$47,'טבלת מקור'!$D:$H,5,FALSE),"") | F66: =_xlfn.IFNA(VLOOKUP($A66&"-"&F$47,'טבלת מקור'!$D:$H,5,FALSE),"") -> ב׳ דראש חודש | G66: =_xlfn.IFNA(VLOOKUP($A66&"-"&G$47,'טבלת מקור'!$D:$H,5,FALSE),"") -> 0 | H66: =_xlfn.IFNA(VLOOKUP($A66&"-"&H$47,'טבלת מקור'!$D:$H,5,FALSE),"") -> 0 | I66: =_xlfn.IFNA(VLOOKUP($A66&"-"&I$47,'טבלת מקור'!$D:$H,5,FALSE),"") -> 0 | J66: =_xlfn.IFNA(VLOOKUP($A66&"-"&J$47,'טבלת מקור'!$D:$H,5,FALSE),"") -> 0 | ... AK66: =_xlfn.IFNA(VLOOKUP($A66&"-"&AK$47,'טבלת מקור'!$D:$H,5,FALSE),"")
A67: =INT((ROW()-ROW(A$49))/3)+1 -> 7 | B67: ניסן | C67: =_xlfn.IFNA(VLOOKUP($A67&"-"&C$47,'טבלת מקור'!$D:$H,3,FALSE),"") | D67: =_xlfn.IFNA(VLOOKUP($A67&"-"&D$47,'טבלת מקור'!$D:$H,3,FALSE),"") | E67: =_xlfn.IFNA(VLOOKUP($A67&"-"&E$47,'טבלת מקור'!$D:$H,3,FALSE),"") | F67: =_xlfn.IFNA(VLOOKUP($A67&"-"&F$47,'טבלת מקור'!$D:$H,3,FALSE),"") | G67: =_xlfn.IFNA(VLOOKUP($A67&"-"&G$47,'טבלת מקור'!$D:$H,3,FALSE),"") | H67: =_xlfn.IFNA(VLOOKUP($A67&"-"&H$47,'טבלת מקור'!$D:$H,3,FALSE),"") -> א׳ | I67: =_xlfn.IFNA(VLOOKUP($A67&"-"&I$47,'טבלת מקור'!$D:$H,3,FALSE),"") -> ב׳ | J67: =_xlfn.IFNA(VLOOKUP($A67&"-"&J$47,'טבלת מקור'!$D:$H,3,FALSE),"") -> ג׳ | ... AK67: =_xlfn.IFNA(VLOOKUP($A67&"-"&AK$47,'טבלת מקור'!$D:$H,3,FALSE),"")
A68: =INT((ROW()-ROW(A$49))/3)+1 -> 7 | B68: מרץ-אפריל | C68: =_xlfn.IFNA(VLOOKUP($A68&"-"&C$47,'טבלת מקור'!$D:$H,4,FALSE),"") | D68: =_xlfn.IFNA(VLOOKUP($A68&"-"&D$47,'טבלת מקור'!$D:$H,4,FALSE),"") | E68: =_xlfn.IFNA(VLOOKUP($A68&"-"&E$47,'טבלת מקור'!$D:$H,4,FALSE),"") | F68: =_xlfn.IFNA(VLOOKUP($A68&"-"&F$47,'טבלת מקור'!$D:$H,4,FALSE),"") | G68: =_xlfn.IFNA(VLOOKUP($A68&"-"&G$47,'טבלת מקור'!$D:$H,4,FALSE),"") | H68: =_xlfn.IFNA(VLOOKUP($A68&"-"&H$47,'טבלת מקור'!$D:$H,4,FALSE),"") -> 4 | I68: =_xlfn.IFNA(VLOOKUP($A68&"-"&I$47,'טבלת מקור'!$D:$H,4,FALSE),"") -> 5 | J68: =_xlfn.IFNA(VLOOKUP($A68&"-"&J$47,'טבלת מקור'!$D:$H,4,FALSE),"") -> 6 | ... AK68: =_xlfn.IFNA(VLOOKUP($A68&"-"&AK$47,'טבלת מקור'!$D:$H,4,FALSE),"")
A69: =INT((ROW()-ROW(A$49))/3)+1 -> 7 | C69: =_xlfn.IFNA(VLOOKUP($A69&"-"&C$47,'טבלת מקור'!$D:$H,5,FALSE),"") | D69: =_xlfn.IFNA(VLOOKUP($A69&"-"&D$47,'טבלת מקור'!$D:$H,5,FALSE),"") | E69: =_xlfn.IFNA(VLOOKUP($A69&"-"&E$47,'טבלת מקור'!$D:$H,5,FALSE),"") | F69: =_xlfn.IFNA(VLOOKUP($A69&"-"&F$47,'טבלת מקור'!$D:$H,5,FALSE),"") | G69: =_xlfn.IFNA(VLOOKUP($A69&"-"&G$47,'טבלת מקור'!$D:$H,5,FALSE),"") | H69: =_xlfn.IFNA(VLOOKUP($A69&"-"&H$47,'טבלת מקור'!$D:$H,5,FALSE),"") -> ב׳ דראש חודש | I69: =_xlfn.IFNA(VLOOKUP($A69&"-"&I$47,'טבלת מקור'!$D:$H,5,FALSE),"") -> 0 | J69: =_xlfn.IFNA(VLOOKUP($A69&"-"&J$47,'טבלת מקור'!$D:$H,5,FALSE),"") -> 0 | ... AK69: =_xlfn.IFNA(VLOOKUP($A69&"-"&AK$47,'טבלת מקור'!$D:$H,5,FALSE),"")
A70: =INT((ROW()-ROW(A$49))/3)+1 -> 8 | B70: אייר | C70: =_xlfn.IFNA(VLOOKUP($A70&"-"&C$47,'טבלת מקור'!$D:$H,3,FALSE),"") | D70: =_xlfn.IFNA(VLOOKUP($A70&"-"&D$47,'טבלת מקור'!$D:$H,3,FALSE),"") | E70: =_xlfn.IFNA(VLOOKUP($A70&"-"&E$47,'טבלת מקור'!$D:$H,3,FALSE),"") | F70: =_xlfn.IFNA(VLOOKUP($A70&"-"&F$47,'טבלת מקור'!$D:$H,3,FALSE),"") | G70: =_xlfn.IFNA(VLOOKUP($A70&"-"&G$47,'טבלת מקור'!$D:$H,3,FALSE),"") | H70: =_xlfn.IFNA(VLOOKUP($A70&"-"&H$47,'טבלת מקור'!$D:$H,3,FALSE),"") | I70: =_xlfn.IFNA(VLOOKUP($A70&"-"&I$47,'טבלת מקור'!$D:$H,3,FALSE),"") -> א׳ | J70: =_xlfn.IFNA(VLOOKUP($A70&"-"&J$47,'טבלת מקור'!$D:$H,3,FALSE),"") -> ב׳ | ... AK70: =_xlfn.IFNA(VLOOKUP($A70&"-"&AK$47,'טבלת מקור'!$D:$H,3,FALSE),"") -> כ״ט
A71: =INT((ROW()-ROW(A$49))/3)+1 -> 8 | B71: אפריל-מאי | C71: =_xlfn.IFNA(VLOOKUP($A71&"-"&C$47,'טבלת מקור'!$D:$H,4,FALSE),"") | D71: =_xlfn.IFNA(VLOOKUP($A71&"-"&D$47,'טבלת מקור'!$D:$H,4,FALSE),"") | E71: =_xlfn.IFNA(VLOOKUP($A71&"-"&E$47,'טבלת מקור'!$D:$H,4,FALSE),"") | F71: =_xlfn.IFNA(VLOOKUP($A71&"-"&F$47,'טבלת מקור'!$D:$H,4,FALSE),"") | G71: =_xlfn.IFNA(VLOOKUP($A71&"-"&G$47,'טבלת מקור'!$D:$H,4,FALSE),"") | H71: =_xlfn.IFNA(VLOOKUP($A71&"-"&H$47,'טבלת מקור'!$D:$H,4,FALSE),"") | I71: =_xlfn.IFNA(VLOOKUP($A71&"-"&I$47,'טבלת מקור'!$D:$H,4,FALSE),"") -> 2 | J71: =_xlfn.IFNA(VLOOKUP($A71&"-"&J$47,'טבלת מקור'!$D:$H,4,FALSE),"") -> 3 | ... AK71: =_xlfn.IFNA(VLOOKUP($A71&"-"&AK$47,'טבלת מקור'!$D:$H,4,FALSE),"") -> 30
A72: =INT((ROW()-ROW(A$49))/3)+1 -> 8 | C72: =_xlfn.IFNA(VLOOKUP($A72&"-"&C$47,'טבלת מקור'!$D:$H,5,FALSE),"") | D72: =_xlfn.IFNA(VLOOKUP($A72&"-"&D$47,'טבלת מקור'!$D:$H,5,FALSE),"") | E72: =_xlfn.IFNA(VLOOKUP($A72&"-"&E$47,'טבלת מקור'!$D:$H,5,FALSE),"") | F72: =_xlfn.IFNA(VLOOKUP($A72&"-"&F$47,'טבלת מקור'!$D:$H,5,FALSE),"") | G72: =_xlfn.IFNA(VLOOKUP($A72&"-"&G$47,'טבלת מקור'!$D:$H,5,FALSE),"") | H72: =_xlfn.IFNA(VLOOKUP($A72&"-"&H$47,'טבלת מקור'!$D:$H,5,FALSE),"") | I72: =_xlfn.IFNA(VLOOKUP($A72&"-"&I$47,'טבלת מקור'!$D:$H,5,FALSE),"") -> שבת ראש חודש | J72: =_xlfn.IFNA(VLOOKUP($A72&"-"&J$47,'טבלת מקור'!$D:$H,5,FALSE),"") -> 0 | ... AK72: =_xlfn.IFNA(VLOOKUP($A72&"-"&AK$47,'טבלת מקור'!$D:$H,5,FALSE),"") -> ערב ראש חודש
A73: =INT((ROW()-ROW(A$49))/3)+1 -> 9 | B73: סיון | C73: =_xlfn.IFNA(VLOOKUP($A73&"-"&C$47,'טבלת מקור'!$D:$H,3,FALSE),"") | D73: =_xlfn.IFNA(VLOOKUP($A73&"-"&D$47,'טבלת מקור'!$D:$H,3,FALSE),"") -> א׳ | E73: =_xlfn.IFNA(VLOOKUP($A73&"-"&E$47,'טבלת מקור'!$D:$H,3,FALSE),"") -> ב׳ | F73: =_xlfn.IFNA(VLOOKUP($A73&"-"&F$47,'טבלת מקור'!$D:$H,3,FALSE),"") -> ג׳ | G73: =_xlfn.IFNA(VLOOKUP($A73&"-"&G$47,'טבלת מקור'!$D:$H,3,FALSE),"") -> ד׳ | H73: =_xlfn.IFNA(VLOOKUP($A73&"-"&H$47,'טבלת מקור'!$D:$H,3,FALSE),"") -> ה׳ | I73: =_xlfn.IFNA(VLOOKUP($A73&"-"&I$47,'טבלת מקור'!$D:$H,3,FALSE),"") -> ו׳ | J73: =_xlfn.IFNA(VLOOKUP($A73&"-"&J$47,'טבלת מקור'!$D:$H,3,FALSE),"") -> ז׳ | ... AK73: =_xlfn.IFNA(VLOOKUP($A73&"-"&AK$47,'טבלת מקור'!$D:$H,3,FALSE),"")
A74: =INT((ROW()-ROW(A$49))/3)+1 -> 9 | B74: מאי-יוני | C74: =_xlfn.IFNA(VLOOKUP($A74&"-"&C$47,'טבלת מקור'!$D:$H,4,FALSE),"") | D74: =_xlfn.IFNA(VLOOKUP($A74&"-"&D$47,'טבלת מקור'!$D:$H,4,FALSE),"") -> 2 | E74: =_xlfn.IFNA(VLOOKUP($A74&"-"&E$47,'טבלת מקור'!$D:$H,4,FALSE),"") -> 3 | F74: =_xlfn.IFNA(VLOOKUP($A74&"-"&F$47,'טבלת מקור'!$D:$H,4,FALSE),"") -> 4 | G74: =_xlfn.IFNA(VLOOKUP($A74&"-"&G$47,'טבלת מקור'!$D:$H,4,FALSE),"") -> 5 | H74: =_xlfn.IFNA(VLOOKUP($A74&"-"&H$47,'טבלת מקור'!$D:$H,4,FALSE),"") -> 6 | I74: =_xlfn.IFNA(VLOOKUP($A74&"-"&I$47,'טבלת מקור'!$D:$H,4,FALSE),"") -> 7 | J74: =_xlfn.IFNA(VLOOKUP($A74&"-"&J$47,'טבלת מקור'!$D:$H,4,FALSE),"") -> 8 | ... AK74: =_xlfn.IFNA(VLOOKUP($A74&"-"&AK$47,'טבלת מקור'!$D:$H,4,FALSE),"")
A75: =INT((ROW()-ROW(A$49))/3)+1 -> 9 | C75: =_xlfn.IFNA(VLOOKUP($A75&"-"&C$47,'טבלת מקור'!$D:$H,5,FALSE),"") | D75: =_xlfn.IFNA(VLOOKUP($A75&"-"&D$47,'טבלת מקור'!$D:$H,5,FALSE),"") -> ב׳ דראש חודש | E75: =_xlfn.IFNA(VLOOKUP($A75&"-"&E$47,'טבלת מקור'!$D:$H,5,FALSE),"") -> 0 | F75: =_xlfn.IFNA(VLOOKUP($A75&"-"&F$47,'טבלת מקור'!$D:$H,5,FALSE),"") -> יום הזכרון לחללי מערכות ישראל(מוקדם) | G75: =_xlfn.IFNA(VLOOKUP($A75&"-"&G$47,'טבלת מקור'!$D:$H,5,FALSE),"") -> יום העצמאות (מוקדם) | H75: =_xlfn.IFNA(VLOOKUP($A75&"-"&H$47,'טבלת מקור'!$D:$H,5,FALSE),"") -> 0 | I75: =_xlfn.IFNA(VLOOKUP($A75&"-"&I$47,'טבלת מקור'!$D:$H,5,FALSE),"") -> 0 | J75: =_xlfn.IFNA(VLOOKUP($A75&"-"&J$47,'טבלת מקור'!$D:$H,5,FALSE),"") -> 0 | ... AK75: =_xlfn.IFNA(VLOOKUP($A75&"-"&AK$47,'טבלת מקור'!$D:$H,5,FALSE),"")
A76: =INT((ROW()-ROW(A$49))/3)+1 -> 10 | B76: תמוז | C76: =_xlfn.IFNA(VLOOKUP($A76&"-"&C$47,'טבלת מקור'!$D:$H,3,FALSE),"") | D76: =_xlfn.IFNA(VLOOKUP($A76&"-"&D$47,'טבלת מקור'!$D:$H,3,FALSE),"") | E76: =_xlfn.IFNA(VLOOKUP($A76&"-"&E$47,'טבלת מקור'!$D:$H,3,FALSE),"") -> א׳ | F76: =_xlfn.IFNA(VLOOKUP($A76&"-"&F$47,'טבלת מקור'!$D:$H,3,FALSE),"") -> ב׳ | G76: =_xlfn.IFNA(VLOOKUP($A76&"-"&G$47,'טבלת מקור'!$D:$H,3,FALSE),"") -> ג׳ | H76: =_xlfn.IFNA(VLOOKUP($A76&"-"&H$47,'טבלת מקור'!$D:$H,3,FALSE),"") -> ד׳ | I76: =_xlfn.IFNA(VLOOKUP($A76&"-"&I$47,'טבלת מקור'!$D:$H,3,FALSE),"") -> ה׳ | J76: =_xlfn.IFNA(VLOOKUP($A76&"-"&J$47,'טבלת מקור'!$D:$H,3,FALSE),"") -> ו׳ | ... AK76: =_xlfn.IFNA(VLOOKUP($A76&"-"&AK$47,'טבלת מקור'!$D:$H,3,FALSE),"")
A77: =INT((ROW()-ROW(A$49))/3)+1 -> 10 | B77: יוני-יולי | C77: =_xlfn.IFNA(VLOOKUP($A77&"-"&C$47,'טבלת מקור'!$D:$H,4,FALSE),"") | D77: =_xlfn.IFNA(VLOOKUP($A77&"-"&D$47,'טבלת מקור'!$D:$H,4,FALSE),"") | E77: =_xlfn.IFNA(VLOOKUP($A77&"-"&E$47,'טבלת מקור'!$D:$H,4,FALSE),"") -> 31 | F77: =_xlfn.IFNA(VLOOKUP($A77&"-"&F$47,'טבלת מקור'!$D:$H,4,FALSE),"") -> 1 | G77: =_xlfn.IFNA(VLOOKUP($A77&"-"&G$47,'טבלת מקור'!$D:$H,4,FALSE),"") -> 2 | H77: =_xlfn.IFNA(VLOOKUP($A77&"-"&H$47,'טבלת מקור'!$D:$H,4,FALSE),"") -> 3 | I77: =_xlfn.IFNA(VLOOKUP($A77&"-"&I$47,'טבלת מקור'!$D:$H,4,FALSE),"") -> 4 | J77: =_xlfn.IFNA(VLOOKUP($A77&"-"&J$47,'טבלת מקור'!$D:$H,4,FALSE),"") -> 5 | ... AK77: =_xlfn.IFNA(VLOOKUP($A77&"-"&AK$47,'טבלת מקור'!$D:$H,4,FALSE),"")
A78: =INT((ROW()-ROW(A$49))/3)+1 -> 10 | C78: =_xlfn.IFNA(VLOOKUP($A78&"-"&C$47,'טבלת מקור'!$D:$H,5,FALSE),"") | D78: =_xlfn.IFNA(VLOOKUP($A78&"-"&D$47,'טבלת מקור'!$D:$H,5,FALSE),"") | E78: =_xlfn.IFNA(VLOOKUP($A78&"-"&E$47,'טבלת מקור'!$D:$H,5,FALSE),"") -> ראש חודש | F78: =_xlfn.IFNA(VLOOKUP($A78&"-"&F$47,'טבלת מקור'!$D:$H,5,FALSE),"") -> 0 | G78: =_xlfn.IFNA(VLOOKUP($A78&"-"&G$47,'טבלת מקור'!$D:$H,5,FALSE),"") -> 0 | H78: =_xlfn.IFNA(VLOOKUP($A78&"-"&H$47,'טבלת מקור'!$D:$H,5,FALSE),"") -> 0 | I78: =_xlfn.IFNA(VLOOKUP($A78&"-"&I$47,'טבלת מקור'!$D:$H,5,FALSE),"") -> ערב שבועות | J78: =_xlfn.IFNA(VLOOKUP($A78&"-"&J$47,'טבלת מקור'!$D:$H,5,FALSE),"") -> שבועות | ... AK78: =_xlfn.IFNA(VLOOKUP($A78&"-"&AK$47,'טבלת מקור'!$D:$H,5,FALSE),"")
A79: =INT((ROW()-ROW(A$49))/3)+1 -> 11 | B79: אב | C79: =_xlfn.IFNA(VLOOKUP($A79&"-"&C$47,'טבלת מקור'!$D:$H,3,FALSE),"") | D79: =_xlfn.IFNA(VLOOKUP($A79&"-"&D$47,'טבלת מקור'!$D:$H,3,FALSE),"") | E79: =_xlfn.IFNA(VLOOKUP($A79&"-"&E$47,'טבלת מקור'!$D:$H,3,FALSE),"") | F79: =_xlfn.IFNA(VLOOKUP($A79&"-"&F$47,'טבלת מקור'!$D:$H,3,FALSE),"") | G79: =_xlfn.IFNA(VLOOKUP($A79&"-"&G$47,'טבלת מקור'!$D:$H,3,FALSE),"") -> א׳ | H79: =_xlfn.IFNA(VLOOKUP($A79&"-"&H$47,'טבלת מקור'!$D:$H,3,FALSE),"") -> ב׳ | I79: =_xlfn.IFNA(VLOOKUP($A79&"-"&I$47,'טבלת מקור'!$D:$H,3,FALSE),"") -> ג׳ | J79: =_xlfn.IFNA(VLOOKUP($A79&"-"&J$47,'טבלת מקור'!$D:$H,3,FALSE),"") -> ד׳ | ... AK79: =_xlfn.IFNA(VLOOKUP($A79&"-"&AK$47,'טבלת מקור'!$D:$H,3,FALSE),"")
A80: =INT((ROW()-ROW(A$49))/3)+1 -> 11 | B80: יולי-אוגוסט | C80: =_xlfn.IFNA(VLOOKUP($A80&"-"&C$47,'טבלת מקור'!$D:$H,4,FALSE),"") | D80: =_xlfn.IFNA(VLOOKUP($A80&"-"&D$47,'טבלת מקור'!$D:$H,4,FALSE),"") | E80: =_xlfn.IFNA(VLOOKUP($A80&"-"&E$47,'טבלת מקור'!$D:$H,4,FALSE),"") | F80: =_xlfn.IFNA(VLOOKUP($A80&"-"&F$47,'טבלת מקור'!$D:$H,4,FALSE),"") | G80: =_xlfn.IFNA(VLOOKUP($A80&"-"&G$47,'טבלת מקור'!$D:$H,4,FALSE),"") -> 30 | H80: =_xlfn.IFNA(VLOOKUP($A80&"-"&H$47,'טבלת מקור'!$D:$H,4,FALSE),"") -> 1 | I80: =_xlfn.IFNA(VLOOKUP($A80&"-"&I$47,'טבלת מקור'!$D:$H,4,FALSE),"") -> 2 | J80: =_xlfn.IFNA(VLOOKUP($A80&"-"&J$47,'טבלת מקור'!$D:$H,4,FALSE),"") -> 3 | ... AK80: =_xlfn.IFNA(VLOOKUP($A80&"-"&AK$47,'טבלת מקור'!$D:$H,4,FALSE),"")
A81: =INT((ROW()-ROW(A$49))/3)+1 -> 11 | C81: =_xlfn.IFNA(VLOOKUP($A81&"-"&C$47,'טבלת מקור'!$D:$H,5,FALSE),"") | D81: =_xlfn.IFNA(VLOOKUP($A81&"-"&D$47,'טבלת מקור'!$D:$H,5,FALSE),"") | E81: =_xlfn.IFNA(VLOOKUP($A81&"-"&E$47,'טבלת מקור'!$D:$H,5,FALSE),"") | F81: =_xlfn.IFNA(VLOOKUP($A81&"-"&F$47,'טבלת מקור'!$D:$H,5,FALSE),"") | G81: =_xlfn.IFNA(VLOOKUP($A81&"-"&G$47,'טבלת מקור'!$D:$H,5,FALSE),"") -> ב׳ דראש חודש | H81: =_xlfn.IFNA(VLOOKUP($A81&"-"&H$47,'טבלת מקור'!$D:$H,5,FALSE),"") -> 0 | I81: =_xlfn.IFNA(VLOOKUP($A81&"-"&I$47,'טבלת מקור'!$D:$H,5,FALSE),"") -> 0 | J81: =_xlfn.IFNA(VLOOKUP($A81&"-"&J$47,'טבלת מקור'!$D:$H,5,FALSE),"") -> 0 | ... AK81: =_xlfn.IFNA(VLOOKUP($A81&"-"&AK$47,'טבלת מקור'!$D:$H,5,FALSE),"")
A82: =INT((ROW()-ROW(A$49))/3)+1 -> 12 | B82: אלול | C82: =_xlfn.IFNA(VLOOKUP($A82&"-"&C$47,'טבלת מקור'!$D:$H,3,FALSE),"") | D82: =_xlfn.IFNA(VLOOKUP($A82&"-"&D$47,'טבלת מקור'!$D:$H,3,FALSE),"") | E82: =_xlfn.IFNA(VLOOKUP($A82&"-"&E$47,'טבלת מקור'!$D:$H,3,FALSE),"") | F82: =_xlfn.IFNA(VLOOKUP($A82&"-"&F$47,'טבלת מקור'!$D:$H,3,FALSE),"") | G82: =_xlfn.IFNA(VLOOKUP($A82&"-"&G$47,'טבלת מקור'!$D:$H,3,FALSE),"") | H82: =_xlfn.IFNA(VLOOKUP($A82&"-"&H$47,'טבלת מקור'!$D:$H,3,FALSE),"") -> א׳ | I82: =_xlfn.IFNA(VLOOKUP($A82&"-"&I$47,'טבלת מקור'!$D:$H,3,FALSE),"") -> ב׳ | J82: =_xlfn.IFNA(VLOOKUP($A82&"-"&J$47,'טבלת מקור'!$D:$H,3,FALSE),"") -> ג׳ | ... AK82: =_xlfn.IFNA(VLOOKUP($A82&"-"&AK$47,'טבלת מקור'!$D:$H,3,FALSE),"") -> ל׳
A83: =INT((ROW()-ROW(A$49))/3)+1 -> 12 | B83: אוג-ספט | C83: =_xlfn.IFNA(VLOOKUP($A83&"-"&C$47,'טבלת מקור'!$D:$H,4,FALSE),"") | D83: =_xlfn.IFNA(VLOOKUP($A83&"-"&D$47,'טבלת מקור'!$D:$H,4,FALSE),"") | E83: =_xlfn.IFNA(VLOOKUP($A83&"-"&E$47,'טבלת מקור'!$D:$H,4,FALSE),"") | F83: =_xlfn.IFNA(VLOOKUP($A83&"-"&F$47,'טבלת מקור'!$D:$H,4,FALSE),"") | G83: =_xlfn.IFNA(VLOOKUP($A83&"-"&G$47,'טבלת מקור'!$D:$H,4,FALSE),"") | H83: =_xlfn.IFNA(VLOOKUP($A83&"-"&H$47,'טבלת מקור'!$D:$H,4,FALSE),"") -> 29 | I83: =_xlfn.IFNA(VLOOKUP($A83&"-"&I$47,'טבלת מקור'!$D:$H,4,FALSE),"") -> 30 | J83: =_xlfn.IFNA(VLOOKUP($A83&"-"&J$47,'טבלת מקור'!$D:$H,4,FALSE),"") -> 31 | ... AK83: =_xlfn.IFNA(VLOOKUP($A83&"-"&AK$47,'טבלת מקור'!$D:$H,4,FALSE),"") -> 27
A84: =INT((ROW()-ROW(A$49))/3)+1 -> 12 | C84: =_xlfn.IFNA(VLOOKUP($A84&"-"&C$47,'טבלת מקור'!$D:$H,5,FALSE),"") | D84: =_xlfn.IFNA(VLOOKUP($A84&"-"&D$47,'טבלת מקור'!$D:$H,5,FALSE),"") | E84: =_xlfn.IFNA(VLOOKUP($A84&"-"&E$47,'טבלת מקור'!$D:$H,5,FALSE),"") | F84: =_xlfn.IFNA(VLOOKUP($A84&"-"&F$47,'טבלת מקור'!$D:$H,5,FALSE),"") | G84: =_xlfn.IFNA(VLOOKUP($A84&"-"&G$47,'טבלת מקור'!$D:$H,5,FALSE),"") | H84: =_xlfn.IFNA(VLOOKUP($A84&"-"&H$47,'טבלת מקור'!$D:$H,5,FALSE),"") -> ראש חודש | I84: =_xlfn.IFNA(VLOOKUP($A84&"-"&I$47,'טבלת מקור'!$D:$H,5,FALSE),"") -> 0 | J84: =_xlfn.IFNA(VLOOKUP($A84&"-"&J$47,'טבלת מקור'!$D:$H,5,FALSE),"") -> 0 | ... AK84: =_xlfn.IFNA(VLOOKUP($A84&"-"&AK$47,'טבלת מקור'!$D:$H,5,FALSE),"") -> שבת ראש חודש

Sheet טבלת מקור
A1: חודש | B1: יום בשבוע | C1: שבוע בחודש | D1: מפתח | E1: יום ראשון | F1: יום עברי | G1: יום לועזי | H1: תיאור היום | T1: יום ראשון | U1: 2
A2: =IF(AND(F2<F1,LEFT(F2,1)<>"ט"),N(A1)+1,N(A1)) -> 1 | B2: =VLOOKUP(E2,ימים,2,FALSE) -> 3 | C2: {=_xlfn.IFS(A2<>A1,1,B1=7,N(C1)+1,TRUE(),N(C1))} -> 1 | D2: =A2&"-"&C2&"-"&B2 -> 1-1-3 | E2: יום שני | F2: א׳ | G2: 7 | H2: א׳ דראש השנה | T2: יום שני | U2: 3
A3: =IF(AND(F3<F2,LEFT(F3,1)<>"ט"),N(A2)+1,N(A2)) -> 1 | B3: =VLOOKUP(E3,ימים,2,FALSE) -> 4 | C3: {=_xlfn.IFS(A3<>A2,1,B2=7,N(C2)+1,TRUE(),N(C2))} -> 1 | D3: =A3&"-"&C3&"-"&B3 -> 1-1-4 | E3: יום שלישי | F3: ב׳ | G3: 8 | H3: ב׳ דראש השנה | T3: יום שלישי | U3: 4
A4: =IF(AND(F4<F3,LEFT(F4,1)<>"ט"),N(A3)+1,N(A3)) -> 1 | B4: =VLOOKUP(E4,ימים,2,FALSE) -> 5 | C4: {=_xlfn.IFS(A4<>A3,1,B3=7,N(C3)+1,TRUE(),N(C3))} -> 1 | D4: =A4&"-"&C4&"-"&B4 -> 1-1-5 | E4: יום רביעי | F4: ג׳ | G4: 9 | H4: צום גדליה | T4: יום רביעי | U4: 5
A5: =IF(AND(F5<F4,LEFT(F5,1)<>"ט"),N(A4)+1,N(A4)) -> 1 | B5: =VLOOKUP(E5,ימים,2,FALSE) -> 6 | C5: {=_xlfn.IFS(A5<>A4,1,B4=7,N(C4)+1,TRUE(),N(C4))} -> 1 | D5: =A5&"-"&C5&"-"&B5 -> 1-1-6 | E5: יום חמישי | F5: ד׳ | G5: 10 | T5: יום חמישי | U5: 6
A6: =IF(AND(F6<F5,LEFT(F6,1)<>"ט"),N(A5)+1,N(A5)) -> 1 | B6: =VLOOKUP(E6,ימים,2,FALSE) -> 7 | C6: {=_xlfn.IFS(A6<>A5,1,B5=7,N(C5)+1,TRUE(),N(C5))} -> 1 | D6: =A6&"-"&C6&"-"&B6 -> 1-1-7 | E6: יום שישי | F6: ה׳ | G6: 11 | T6: יום שישי | U6: 7
A7: =IF(AND(F7<F6,LEFT(F7,1)<>"ט"),N(A6)+1,N(A6)) -> 1 | B7: =VLOOKUP(E7,ימים,2,FALSE) -> 1 | C7: {=_xlfn.IFS(A7<>A6,1,B6=7,N(C6)+1,TRUE(),N(C6))} -> 2 | D7: =A7&"-"&C7&"-"&B7 -> 1-2-1 | E7: שבת | F7: ו׳ | G7: 12 | T7: שבת | U7: 1
A8: =IF(AND(F8<F7,LEFT(F8,1)<>"ט"),N(A7)+1,N(A7)) -> 1 | B8: =VLOOKUP(E8,ימים,2,FALSE) -> 2 | C8: {=_xlfn.IFS(A8<>A7,1,B7=7,N(C7)+1,TRUE(),N(C7))} -> 2 | D8: =A8&"-"&C8&"-"&B8 -> 1-2-2 | E8: יום ראשון | F8: ז׳ | G8: 13
A9: =IF(AND(F9<F8,LEFT(F9,1)<>"ט"),N(A8)+1,N(A8)) -> 1 | B9: =VLOOKUP(E9,ימים,2,FALSE) -> 3 | C9: {=_xlfn.IFS(A9<>A8,1,B8=7,N(C8)+1,TRUE(),N(C8))} -> 2 | D9: =A9&"-"&C9&"-"&B9 -> 1-2-3 | E9: יום שני | F9: ח׳ | G9: 14
A10: =IF(AND(F10<F9,LEFT(F10,1)<>"ט"),N(A9)+1,N(A9)) -> 1 | B10: =VLOOKUP(E10,ימים,2,FALSE) -> 4 | C10: {=_xlfn.IFS(A10<>A9,1,B9=7,N(C9)+1,TRUE(),N(C9))} -> 2 | D10: =A10&"-"&C10&"-"&B10 -> 1-2-4 | E10: יום שלישי | F10: ט׳ | G10: 15 | H10: ערב יום כיפור
A11: =IF(AND(F11<F10,LEFT(F11,1)<>"ט"),N(A10)+1,N(A10)) -> 1 | B11: =VLOOKUP(E11,ימים,2,FALSE) -> 5 | C11: {=_xlfn.IFS(A11<>A10,1,B10=7,N(C10)+1,TRUE(),N(C10))} -> 2 | D11: =A11&"-"&C11&"-"&B11 -> 1-2-5 | E11: יום רביעי | F11: י׳ | G11: 16 | H11: יום כיפור
A12: =IF(AND(F12<F11,LEFT(F12,1)<>"ט"),N(A11)+1,N(A11)) -> 1 | B12: =VLOOKUP(E12,ימים,2,FALSE) -> 6 | C12: {=_xlfn.IFS(A12<>A11,1,B11=7,N(C11)+1,TRUE(),N(C11))} -> 2 | D12: =A12&"-"&C12&"-"&B12 -> 1-2-6 | E12: יום חמישי | F12: י״א | G12: 17
A13: =IF(AND(F13<F12,LEFT(F13,1)<>"ט"),N(A12)+1,N(A12)) -> 1 | B13: =VLOOKUP(E13,ימים,2,FALSE) -> 7 | C13: {=_xlfn.IFS(A13<>A12,1,B12=7,N(C12)+1,TRUE(),N(C12))} -> 2 | D13: =A13&"-"&C13&"-"&B13 -> 1-2-7 | E13: יום שישי | F13: י״ב | G13: 18
A14: =IF(AND(F14<F13,LEFT(F14,1)<>"ט"),N(A13)+1,N(A13)) -> 1 | B14: =VLOOKUP(E14,ימים,2,FALSE) -> 1 | C14: {=_xlfn.IFS(A14<>A13,1,B13=7,N(C13)+1,TRUE(),N(C13))} -> 3 | D14: =A14&"-"&C14&"-"&B14 -> 1-3-1 | E14: שבת | F14: י״ג | G14: 19
A15: =IF(AND(F15<F14,LEFT(F15,1)<>"ט"),N(A14)+1,N(A14)) -> 1 | B15: =VLOOKUP(E15,ימים,2,FALSE) -> 2 | C15: {=_xlfn.IFS(A15<>A14,1,B14=7,N(C14)+1,TRUE(),N(C14))} -> 3 | D15: =A15&"-"&C15&"-"&B15 -> 1-3-2 | E15: יום ראשון | F15: י״ד | G15: 20 | H15: ערב סוכות
A16: =IF(AND(F16<F15,LEFT(F16,1)<>"ט"),N(A15)+1,N(A15)) -> 1 | B16: =VLOOKUP(E16,ימים,2,FALSE) -> 3 | C16: {=_xlfn.IFS(A16<>A15,1,B15=7,N(C15)+1,TRUE(),N(C15))} -> 3 | D16: =A16&"-"&C16&"-"&B16 -> 1-3-3 | E16: יום שני | F16: ט״ו | G16: 21 | H16: סוכות
A17: =IF(AND(F17<F16,LEFT(F17,1)<>"ט"),N(A16)+1,N(A16)) -> 1 | B17: =VLOOKUP(E17,ימים,2,FALSE) -> 4 | C17: {=_xlfn.IFS(A17<>A16,1,B16=7,N(C16)+1,TRUE(),N(C16))} -> 3 | D17: =A17&"-"&C17&"-"&B17 -> 1-3-4 | E17: יום שלישי | F17: ט״ז | G17: 22 | H17: א׳ דחוה״מ סוכות
A18: =IF(AND(F18<F17,LEFT(F18,1)<>"ט"),N(A17)+1,N(A17)) -> 1 | B18: =VLOOKUP(E18,ימים,2,FALSE) -> 5 | C18: {=_xlfn.IFS(A18<>A17,1,B17=7,N(C17)+1,TRUE(),N(C17))} -> 3 | D18: =A18&"-"&C18&"-"&B18 -> 1-3-5 | E18: יום רביעי | F18: י״ז | G18: 23 | H18: ב׳ דחוה״מ סוכות
A19: =IF(AND(F19<F18,LEFT(F19,1)<>"ט"),N(A18)+1,N(A18)) -> 1 | B19: =VLOOKUP(E19,ימים,2,FALSE) -> 6 | C19: {=_xlfn.IFS(A19<>A18,1,B18=7,N(C18)+1,TRUE(),N(C18))} -> 3 | D19: =A19&"-"&C19&"-"&B19 -> 1-3-6 | E19: יום חמישי | F19: י״ח | G19: 24 | H19: ג׳ דחוה״מ סוכות
A20: =IF(AND(F20<F19,LEFT(F20,1)<>"ט"),N(A19)+1,N(A19)) -> 1 | B20: =VLOOKUP(E20,ימים,2,FALSE) -> 7 | C20: {=_xlfn.IFS(A20<>A19,1,B19=7,N(C19)+1,TRUE(),N(C19))} -> 3 | D20: =A20&"-"&C20&"-"&B20 -> 1-3-7 | E20: יום שישי | F20: י״ט | G20: 25 | H20: שבת חוה״מ סוכות
A21: =IF(AND(F21<F20,LEFT(F21,1)<>"ט"),N(A20)+1,N(A20)) -> 1 | B21: =VLOOKUP(E21,ימים,2,FALSE) -> 1 | C21: {=_xlfn.IFS(A21<>A20,1,B20=7,N(C20)+1,TRUE(),N(C20))} -> 4 | D21: =A21&"-"&C21&"-"&B21 -> 1-4-1 | E21: שבת | F21: כ׳ | G21: 26 | H21: ה׳ דחוה״מ סוכות
A22: =IF(AND(F22<F21,LEFT(F22,1)<>"ט"),N(A21)+1,N(A21)) -> 1 | B22: =VLOOKUP(E22,ימים,2,FALSE) -> 2 | C22: {=_xlfn.IFS(A22<>A21,1,B21=7,N(C21)+1,TRUE(),N(C21))} -> 4 | D22: =A22&"-"&C22&"-"&B22 -> 1-4-2 | E22: יום ראשון | F22: כ״א | G22: 27 | H22: הושענא רבה
A23: =IF(AND(F23<F22,LEFT(F23,1)<>"ט"),N(A22)+1,N(A22)) -> 1 | B23: =VLOOKUP(E23,ימים,2,FALSE) -> 3 | C23: {=_xlfn.IFS(A23<>A22,1,B22=7,N(C22)+1,TRUE(),N(C22))} -> 4 | D23: =A23&"-"&C23&"-"&B23 -> 1-4-3 | E23: יום שני | F23: כ״ב | G23: 28 | H23: שמחת תורה
A24: =IF(AND(F24<F23,LEFT(F24,1)<>"ט"),N(A23)+1,N(A23)) -> 1 | B24: =VLOOKUP(E24,ימים,2,FALSE) -> 4 | C24: {=_xlfn.IFS(A24<>A23,1,B23=7,N(C23)+1,TRUE(),N(C23))} -> 4 | D24: =A24&"-"&C24&"-"&B24 -> 1-4-4 | E24: יום שלישי | F24: כ״ג | G24: 29 | H24: אסרו חג
A25: =IF(AND(F25<F24,LEFT(F25,1)<>"ט"),N(A24)+1,N(A24)) -> 1 | B25: =VLOOKUP(E25,ימים,2,FALSE) -> 5 | C25: {=_xlfn.IFS(A25<>A24,1,B24=7,N(C24)+1,TRUE(),N(C24))} -> 4 | D25: =A25&"-"&C25&"-"&B25 -> 1-4-5 | E25: יום רביעי | F25: כ״ד | G25: 30
A26: =IF(AND(F26<F25,LEFT(F26,1)<>"ט"),N(A25)+1,N(A25)) -> 1 | B26: =VLOOKUP(E26,ימים,2,FALSE) -> 6 | C26: {=_xlfn.IFS(A26<>A25,1,B25=7,N(C25)+1,TRUE(),N(C25))} -> 4 | D26: =A26&"-"&C26&"-"&B26 -> 1-4-6 | E26: יום חמישי | F26: כ״ה | G26: 1
A27: =IF(AND(F27<F26,LEFT(F27,1)<>"ט"),N(A26)+1,N(A26)) -> 1 | B27: =VLOOKUP(E27,ימים,2,FALSE) -> 7 | C27: {=_xlfn.IFS(A27<>A26,1,B26=7,N(C26)+1,TRUE(),N(C26))} -> 4 | D27: =A27&"-"&C27&"-"&B27 -> 1-4-7 | E27: יום שישי | F27: כ״ו | G27: 2
A28: =IF(AND(F28<F27,LEFT(F28,1)<>"ט"),N(A27)+1,N(A27)) -> 1 | B28: =VLOOKUP(E28,ימים,2,FALSE) -> 1 | C28: {=_xlfn.IFS(A28<>A27,1,B27=7,N(C27)+1,TRUE(),N(C27))} -> 5 | D28: =A28&"-"&C28&"-"&B28 -> 1-5-1 | E28: שבת | F28: כ״ז | G28: 3
A29: =IF(AND(F29<F28,LEFT(F29,1)<>"ט"),N(A28)+1,N(A28)) -> 1 | B29: =VLOOKUP(E29,ימים,2,FALSE) -> 2 | C29: {=_xlfn.IFS(A29<>A28,1,B28=7,N(C28)+1,TRUE(),N(C28))} -> 5 | D29: =A29&"-"&C29&"-"&B29 -> 1-5-2 | E29: יום ראשון | F29: כ״ח | G29: 4
A30: =IF(AND(F30<F29,LEFT(F30,1)<>"ט"),N(A29)+1,N(A29)) -> 1 | B30: =VLOOKUP(E30,ימים,2,FALSE) -> 3 | C30: {=_xlfn.IFS(A30<>A29,1,B29=7,N(C29)+1,TRUE(),N(C29))} -> 5 | D30: =A30&"-"&C30&"-"&B30 -> 1-5-3 | E30: יום שני | F30: כ״ט | G30: 5 | H30: ערב ראש חודש
A31: =IF(AND(F31<F30,LEFT(F31,1)<>"ט"),N(A30)+1,N(A30)) -> 1 | B31: =VLOOKUP(E31,ימים,2,FALSE) -> 4 | C31: {=_xlfn.IFS(A31<>A30,1,B30=7,N(C30)+1,TRUE(),N(C30))} -> 5 | D31: =A31&"-"&C31&"-"&B31 -> 1-5-4 | E31: יום שלישי | F31: ל׳ | G31: 6 | H31: א׳ דראש חודש
A32: =IF(AND(F32<F31,LEFT(F32,1)<>"ט"),N(A31)+1,N(A31)) -> 2 | B32: =VLOOKUP(E32,ימים,2,FALSE) -> 5 | C32: {=_xlfn.IFS(A32<>A31,1,B31=7,N(C31)+1,TRUE(),N(C31))} -> 1 | D32: =A32&"-"&C32&"-"&B32 -> 2-1-5 | E32: יום רביעי | F32: א׳ | G32: 7 | H32: ב׳ דראש חודש
A33: =IF(AND(F33<F32,LEFT(F33,1)<>"ט"),N(A32)+1,N(A32)) -> 2 | B33: =VLOOKUP(E33,ימים,2,FALSE) -> 6 | C33: {=_xlfn.IFS(A33<>A32,1,B32=7,N(C32)+1,TRUE(),N(C32))} -> 1 | D33: =A33&"-"&C33&"-"&B33 -> 2-1-6 | E33: יום חמישי | F33: ב׳ | G33: 8
A34: =IF(AND(F34<F33,LEFT(F34,1)<>"ט"),N(A33)+1,N(A33)) -> 2 | B34: =VLOOKUP(E34,ימים,2,FALSE) -> 7 | C34: {=_xlfn.IFS(A34<>A33,1,B33=7,N(C33)+1,TRUE(),N(C33))} -> 1 | D34: =A34&"-"&C34&"-"&B34 -> 2-1-7 | E34: יום שישי | F34: ג׳ | G34: 9
A35: =IF(AND(F35<F34,LEFT(F35,1)<>"ט"),N(A34)+1,N(A34)) -> 2 | B35: =VLOOKUP(E35,ימים,2,FALSE) -> 1 | C35: {=_xlfn.IFS(A35<>A34,1,B34=7,N(C34)+1,TRUE(),N(C34))} -> 2 | D35: =A35&"-"&C35&"-"&B35 -> 2-2-1 | E35: שבת | F35: ד׳ | G35: 10
A36: =IF(AND(F36<F35,LEFT(F36,1)<>"ט"),N(A35)+1,N(A35)) -> 2 | B36: =VLOOKUP(E36,ימים,2,FALSE) -> 2 | C36: {=_xlfn.IFS(A36<>A35,1,B35=7,N(C35)+1,TRUE(),N(C35))} -> 2 | D36: =A36&"-"&C36&"-"&B36 -> 2-2-2 | E36: יום ראשון | F36: ה׳ | G36: 11
A37: =IF(AND(F37<F36,LEFT(F37,1)<>"ט"),N(A36)+1,N(A36)) -> 2 | B37: =VLOOKUP(E37,ימים,2,FALSE) -> 3 | C37: {=_xlfn.IFS(A37<>A36,1,B36=7,N(C36)+1,TRUE(),N(C36))} -> 2 | D37: =A37&"-"&C37&"-"&B37 -> 2-2-3 | E37: יום שני | F37: ו׳ | G37: 12
A38: =IF(AND(F38<F37,LEFT(F38,1)<>"ט"),N(A37)+1,N(A37)) -> 2 | B38: =VLOOKUP(E38,ימים,2,FALSE) -> 4 | C38: {=_xlfn.IFS(A38<>A37,1,B37=7,N(C37)+1,TRUE(),N(C37))} -> 2 | D38: =A38&"-"&C38&"-"&B38 -> 2-2-4 | E38: יום שלישי | F38: ז׳ | G38: 13 | H38: ותן טל ומטר
A39: =IF(AND(F39<F38,LEFT(F39,1)<>"ט"),N(A38)+1,N(A38)) -> 2 | B39: =VLOOKUP(E39,ימים,2,FALSE) -> 5 | C39: {=_xlfn.IFS(A39<>A38,1,B38=7,N(C38)+1,TRUE(),N(C38))} -> 2 | D39: =A39&"-"&C39&"-"&B39 -> 2-2-5 | E39: יום רביעי | F39: ח׳ | G39: 14
A40: =IF(AND(F40<F39,LEFT(F40,1)<>"ט"),N(A39)+1,N(A39)) -> 2 | B40: =VLOOKUP(E40,ימים,2,FALSE) -> 6 | C40: {=_xlfn.IFS(A40<>A39,1,B39=7,N(C39)+1,TRUE(),N(C39))} -> 2 | D40: =A40&"-"&C40&"-"&B40 -> 2-2-6 | E40: יום חמישי | F40: ט׳ | G40: 15
A41: =IF(AND(F41<F40,LEFT(F41,1)<>"ט"),N(A40)+1,N(A40)) -> 2 | B41: =VLOOKUP(E41,ימים,2,FALSE) -> 7 | C41: {=_xlfn.IFS(A41<>A40,1,B40=7,N(C40)+1,TRUE(),N(C40))} -> 2 | D41: =A41&"-"&C41&"-"&B41 -> 2-2-7 | E41: יום שישי | F41: י׳ | G41: 16
A42: =IF(AND(F42<F41,LEFT(F42,1)<>"ט"),N(A41)+1,N(A41)) -> 2 | B42: =VLOOKUP(E42,ימים,2,FALSE) -> 1 | C42: {=_xlfn.IFS(A42<>A41,1,B41=7,N(C41)+1,TRUE(),N(C41))} -> 3 | D42: =A42&"-"&C42&"-"&B42 -> 2-3-1 | E42: שבת | F42: י״א | G42: 17
A43: =IF(AND(F43<F42,LEFT(F43,1)<>"ט"),N(A42)+1,N(A42)) -> 2 | B43: =VLOOKUP(E43,ימים,2,FALSE) -> 2 | C43: {=_xlfn.IFS(A43<>A42,1,B42=7,N(C42)+1,TRUE(),N(C42))} -> 3 | D43: =A43&"-"&C43&"-"&B43 -> 2-3-2 | E43: יום ראשון | F43: י״ב | G43: 18
A44: =IF(AND(F44<F43,LEFT(F44,1)<>"ט"),N(A43)+1,N(A43)) -> 2 | B44: =VLOOKUP(E44,ימים,2,FALSE) -> 3 | C44: {=_xlfn.IFS(A44<>A43,1,B43=7,N(C43)+1,TRUE(),N(C43))} -> 3 | D44: =A44&"-"&C44&"-"&B44 -> 2-3-3 | E44: יום שני | F44: י״ג | G44: 19
A45: =IF(AND(F45<F44,LEFT(F45,1)<>"ט"),N(A44)+1,N(A44)) -> 2 | B45: =VLOOKUP(E45,ימים,2,FALSE) -> 4 | C45: {=_xlfn.IFS(A45<>A44,1,B44=7,N(C44)+1,TRUE(),N(C44))} -> 3 | D45: =A45&"-"&C45&"-"&B45 -> 2-3-4 | E45: יום שלישי | F45: י״ד | G45: 20
A46: =IF(AND(F46<F45,LEFT(F46,1)<>"ט"),N(A45)+1,N(A45)) -> 2 | B46: =VLOOKUP(E46,ימים,2,FALSE) -> 5 | C46: {=_xlfn.IFS(A46<>A45,1,B45=7,N(C45)+1,TRUE(),N(C45))} -> 3 | D46: =A46&"-"&C46&"-"&B46 -> 2-3-5 | E46: יום רביעי | F46: ט״ו | G46: 21
A47: =IF(AND(F47<F46,LEFT(F47,1)<>"ט"),N(A46)+1,N(A46)) -> 2 | B47: =VLOOKUP(E47,ימים,2,FALSE) -> 6 | C47: {=_xlfn.IFS(A47<>A46,1,B46=7,N(C46)+1,TRUE(),N(C46))} -> 3 | D47: =A47&"-"&C47&"-"&B47 -> 2-3-6 | E47: יום חמישי | F47: ט״ז | G47: 22
A48: =IF(AND(F48<F47,LEFT(F48,1)<>"ט"),N(A47)+1,N(A47)) -> 2 | B48: =VLOOKUP(E48,ימים,2,FALSE) -> 7 | C48: {=_xlfn.IFS(A48<>A47,1,B47=7,N(C47)+1,TRUE(),N(C47))} -> 3 | D48: =A48&"-"&C48&"-"&B48 -> 2-3-7 | E48: יום שישי | F48: י״ז | G48: 23
A49: =IF(AND(F49<F48,LEFT(F49,1)<>"ט"),N(A48)+1,N(A48)) -> 2 | B49: =VLOOKUP(E49,ימים,2,FALSE) -> 1 | C49: {=_xlfn.IFS(A49<>A48,1,B48=7,N(C48)+1,TRUE(),N(C48))} -> 4 | D49: =A49&"-"&C49&"-"&B49 -> 2-4-1 | E49: שבת | F49: י״ח | G49: 24
A50: =IF(AND(F50<F49,LEFT(F50,1)<>"ט"),N(A49)+1,N(A49)) -> 2 | B50: =VLOOKUP(E50,ימים,2,FALSE) -> 2 | C50: {=_xlfn.IFS(A50<>A49,1,B49=7,N(C49)+1,TRUE(),N(C49))} -> 4 | D50: =A50&"-"&C50&"-"&B50 -> 2-4-2 | E50: יום ראשון | F50: י״ט | G50: 25
... A55: =IF(AND(F55<F54,LEFT(F55,1)<>"ט"),N(A54)+1,N(A54)) -> 2 | B55: =VLOOKUP(E55,ימים,2,FALSE) -> 7 | C55: {=_xlfn.IFS(A55<>A54,1,B54=7,N(C54)+1,TRUE(),N(C54))} -> 4 | D55: =A55&"-"&C55&"-"&B55 -> 2-4-7 | E55: יום שישי | F55: כ״ד | G55: 30
A56: =IF(AND(F56<F55,LEFT(F56,1)<>"ט"),N(A55)+1,N(A55)) -> 2 | B56: =VLOOKUP(E56,ימים,2,FALSE) -> 1 | C56: {=_xlfn.IFS(A56<>A55,1,B55=7,N(C55)+1,TRUE(),N(C55))} -> 5 | D56: =A56&"-"&C56&"-"&B56 -> 2-5-1 | E56: שבת | F56: כ״ה | G56: 31 | H56: תחילת שעון חורף
A57: =IF(AND(F57<F56,LEFT(F57,1)<>"ט"),N(A56)+1,N(A56)) -> 2 | B57: =VLOOKUP(E57,ימים,2,FALSE) -> 2 | C57: {=_xlfn.IFS(A57<>A56,1,B56=7,N(C56)+1,TRUE(),N(C56))} -> 5 | D57: =A57&"-"&C57&"-"&B57 -> 2-5-2 | E57: יום ראשון | F57: כ״ו | G57: 1
A58: =IF(AND(F58<F57,LEFT(F58,1)<>"ט"),N(A57)+1,N(A57)) -> 2 | B58: =VLOOKUP(E58,ימים,2,FALSE) -> 3 | C58: {=_xlfn.IFS(A58<>A57,1,B57=7,N(C57)+1,TRUE(),N(C57))} -> 5 | D58: =A58&"-"&C58&"-"&B58 -> 2-5-3 | E58: יום שני | F58: כ״ז | G58: 2
A59: =IF(AND(F59<F58,LEFT(F59,1)<>"ט"),N(A58)+1,N(A58)) -> 2 | B59: =VLOOKUP(E59,ימים,2,FALSE) -> 4 | C59: {=_xlfn.IFS(A59<>A58,1,B58=7,N(C58)+1,TRUE(),N(C58))} -> 5 | D59: =A59&"-"&C59&"-"&B59 -> 2-5-4 | E59: יום שלישי | F59: כ״ח | G59: 3
A60: =IF(AND(F60<F59,LEFT(F60,1)<>"ט"),N(A59)+1,N(A59)) -> 2 | B60: =VLOOKUP(E60,ימים,2,FALSE) -> 5 | C60: {=_xlfn.IFS(A60<>A59,1,B59=7,N(C59)+1,TRUE(),N(C59))} -> 5 | D60: =A60&"-"&C60&"-"&B60 -> 2-5-5 | E60: יום רביעי | F60: כ״ט | G60: 4 | H60: ערב ראש חודש
A61: =IF(AND(F61<F60,LEFT(F61,1)<>"ט"),N(A60)+1,N(A60)) -> 3 | B61: =VLOOKUP(E61,ימים,2,FALSE) -> 6 | C61: {=_xlfn.IFS(A61<>A60,1,B60=7,N(C60)+1,TRUE(),N(C60))} -> 1 | D61: =A61&"-"&C61&"-"&B61 -> 3-1-6 | E61: יום חמישי | F61: א׳ | G61: 5 | H61: ראש חודש
A62: =IF(AND(F62<F61,LEFT(F62,1)<>"ט"),N(A61)+1,N(A61)) -> 3 | B62: =VLOOKUP(E62,ימים,2,FALSE) -> 7 | C62: {=_xlfn.IFS(A62<>A61,1,B61=7,N(C61)+1,TRUE(),N(C61))} -> 1 | D62: =A62&"-"&C62&"-"&B62 -> 3-1-7 | E62: יום שישי | F62: ב׳ | G62: 6
A63: =IF(AND(F63<F62,LEFT(F63,1)<>"ט"),N(A62)+1,N(A62)) -> 3 | B63: =VLOOKUP(E63,ימים,2,FALSE) -> 1 | C63: {=_xlfn.IFS(A63<>A62,1,B62=7,N(C62)+1,TRUE(),N(C62))} -> 2 | D63: =A63&"-"&C63&"-"&B63 -> 3-2-1 | E63: שבת | F63: ג׳ | G63: 7
A64: =IF(AND(F64<F63,LEFT(F64,1)<>"ט"),N(A63)+1,N(A63)) -> 3 | B64: =VLOOKUP(E64,ימים,2,FALSE) -> 2 | C64: {=_xlfn.IFS(A64<>A63,1,B63=7,N(C63)+1,TRUE(),N(C63))} -> 2 | D64: =A64&"-"&C64&"-"&B64 -> 3-2-2 | E64: יום ראשון | F64: ד׳ | G64: 8
A65: =IF(AND(F65<F64,LEFT(F65,1)<>"ט"),N(A64)+1,N(A64)) -> 3 | B65: =VLOOKUP(E65,ימים,2,FALSE) -> 3 | C65: {=_xlfn.IFS(A65<>A64,1,B64=7,N(C64)+1,TRUE(),N(C64))} -> 2 | D65: =A65&"-"&C65&"-"&B65 -> 3-2-3 | E65: יום שני | F65: ה׳ | G65: 9
A66: =IF(AND(F66<F65,LEFT(F66,1)<>"ט"),N(A65)+1,N(A65)) -> 3 | B66: =VLOOKUP(E66,ימים,2,FALSE) -> 4 | C66: {=_xlfn.IFS(A66<>A65,1,B65=7,N(C65)+1,TRUE(),N(C65))} -> 2 | D66: =A66&"-"&C66&"-"&B66 -> 3-2-4 | E66: יום שלישי | F66: ו׳ | G66: 10
A67: =IF(AND(F67<F66,LEFT(F67,1)<>"ט"),N(A66)+1,N(A66)) -> 3 | B67: =VLOOKUP(E67,ימים,2,FALSE) -> 5 | C67: {=_xlfn.IFS(A67<>A66,1,B66=7,N(C66)+1,TRUE(),N(C66))} -> 2 | D67: =A67&"-"&C67&"-"&B67 -> 3-2-5 | E67: יום רביעי | F67: ז׳ | G67: 11
A68: =IF(AND(F68<F67,LEFT(F68,1)<>"ט"),N(A67)+1,N(A67)) -> 3 | B68: =VLOOKUP(E68,ימים,2,FALSE) -> 6 | C68: {=_xlfn.IFS(A68<>A67,1,B67=7,N(C67)+1,TRUE(),N(C67))} -> 2 | D68: =A68&"-"&C68&"-"&B68 -> 3-2-6 | E68: יום חמישי | F68: ח׳ | G68: 12
A69: =IF(AND(F69<F68,LEFT(F69,1)<>"ט"),N(A68)+1,N(A68)) -> 3 | B69: =VLOOKUP(E69,ימים,2,FALSE) -> 7 | C69: {=_xlfn.IFS(A69<>A68,1,B68=7,N(C68)+1,TRUE(),N(C68))} -> 2 | D69: =A69&"-"&C69&"-"&B69 -> 3-2-7 | E69: יום שישי | F69: ט׳ | G69: 13
A70: =IF(AND(F70<F69,LEFT(F70,1)<>"ט"),N(A69)+1,N(A69)) -> 3 | B70: =VLOOKUP(E70,ימים,2,FALSE) -> 1 | C70: {=_xlfn.IFS(A70<>A69,1,B69=7,N(C69)+1,TRUE(),N(C69))} -> 3 | D70: =A70&"-"&C70&"-"&B70 -> 3-3-1 | E70: שבת | F70: י׳ | G70: 14
A71: =IF(AND(F71<F70,LEFT(F71,1)<>"ט"),N(A70)+1,N(A70)) -> 3 | B71: =VLOOKUP(E71,ימים,2,FALSE) -> 2 | C71: {=_xlfn.IFS(A71<>A70,1,B70=7,N(C70)+1,TRUE(),N(C70))} -> 3 | D71: =A71&"-"&C71&"-"&B71 -> 3-3-2 | E71: יום ראשון | F71: י״א | G71: 15
A72: =IF(AND(F72<F71,LEFT(F72,1)<>"ט"),N(A71)+1,N(A71)) -> 3 | B72: =VLOOKUP(E72,ימים,2,FALSE) -> 3 | C72: {=_xlfn.IFS(A72<>A71,1,B71=7,N(C71)+1,TRUE(),N(C71))} -> 3 | D72: =A72&"-"&C72&"-"&B72 -> 3-3-3 | E72: יום שני | F72: י״ב | G72: 16
A73: =IF(AND(F73<F72,LEFT(F73,1)<>"ט"),N(A72)+1,N(A72)) -> 3 | B73: =VLOOKUP(E73,ימים,2,FALSE) -> 4 | C73: {=_xlfn.IFS(A73<>A72,1,B72=7,N(C72)+1,TRUE(),N(C72))} -> 3 | D73: =A73&"-"&C73&"-"&B73 -> 3-3-4 | E73: יום שלישי | F73: י״ג | G73: 17
... A84: =IF(AND(F84<F83,LEFT(F84,1)<>"ט"),N(A83)+1,N(A83)) -> 3 | B84: =VLOOKUP(E84,ימים,2,FALSE) -> 1 | C84: {=_xlfn.IFS(A84<>A83,1,B83=7,N(C83)+1,TRUE(),N(C83))} -> 5 | D84: =A84&"-"&C84&"-"&B84 -> 3-5-1 | E84: שבת | F84: כ״ד | G84: 28
A85: =IF(AND(F85<F84,LEFT(F85,1)<>"ט"),N(A84)+1,N(A84)) -> 3 | B85: =VLOOKUP(E85,ימים,2,FALSE) -> 2 | C85: {=_xlfn.IFS(A85<>A84,1,B84=7,N(C84)+1,TRUE(),N(C84))} -> 5 | D85: =A85&"-"&C85&"-"&B85 -> 3-5-2 | E85: יום ראשון | F85: כ״ה | G85: 29 | H85: א׳ דחנוכה
A86: =IF(AND(F86<F85,LEFT(F86,1)<>"ט"),N(A85)+1,N(A85)) -> 3 | B86: =VLOOKUP(E86,ימים,2,FALSE) -> 3 | C86: {=_xlfn.IFS(A86<>A85,1,B85=7,N(C85)+1,TRUE(),N(C85))} -> 5 | D86: =A86&"-"&C86&"-"&B86 -> 3-5-3 | E86: יום שני | F86: כ״ו | G86: 30 | H86: ב׳ דחנוכה
A87: =IF(AND(F87<F86,LEFT(F87,1)<>"ט"),N(A86)+1,N(A86)) -> 3 | B87: =VLOOKUP(E87,ימים,2,FALSE) -> 4 | C87: {=_xlfn.IFS(A87<>A86,1,B86=7,N(C86)+1,TRUE(),N(C86))} -> 5 | D87: =A87&"-"&C87&"-"&B87 -> 3-5-4 | E87: יום שלישי | F87: כ״ז | G87: 1 | H87: ג׳ דחנוכה
A88: =IF(AND(F88<F87,LEFT(F88,1)<>"ט"),N(A87)+1,N(A87)) -> 3 | B88: =VLOOKUP(E88,ימים,2,FALSE) -> 5 | C88: {=_xlfn.IFS(A88<>A87,1,B87=7,N(C87)+1,TRUE(),N(C87))} -> 5 | D88: =A88&"-"&C88&"-"&B88 -> 3-5-5 | E88: יום רביעי | F88: כ״ח | G88: 2 | H88: ד׳ דחנוכה
A89: =IF(AND(F89<F88,LEFT(F89,1)<>"ט"),N(A88)+1,N(A88)) -> 3 | B89: =VLOOKUP(E89,ימים,2,FALSE) -> 6 | C89: {=_xlfn.IFS(A89<>A88,1,B88=7,N(C88)+1,TRUE(),N(C88))} -> 5 | D89: =A89&"-"&C89&"-"&B89 -> 3-5-6 | E89: יום חמישי | F89: כ״ט | G89: 3 | H89: ה׳ דחנוכה ערב ראש חודש
A90: =IF(AND(F90<F89,LEFT(F90,1)<>"ט"),N(A89)+1,N(A89)) -> 3 | B90: =VLOOKUP(E90,ימים,2,FALSE) -> 7 | C90: {=_xlfn.IFS(A90<>A89,1,B89=7,N(C89)+1,TRUE(),N(C89))} -> 5 | D90: =A90&"-"&C90&"-"&B90 -> 3-5-7 | E90: יום שישי | F90: ל׳ | G90: 4 | H90: ו׳ דחנוכה ראש חודש
A91: =IF(AND(F91<F90,LEFT(F91,1)<>"ט"),N(A90)+1,N(A90)) -> 4 | B91: =VLOOKUP(E91,ימים,2,FALSE) -> 1 | C91: {=_xlfn.IFS(A91<>A90,1,B90=7,N(C90)+1,TRUE(),N(C90))} -> 1 | D91: =A91&"-"&C91&"-"&B91 -> 4-1-1 | E91: שבת | F91: א׳ | G91: 5 | H91: ז׳ דחנוכה ראש חודש, שאילת גשמים בחו״ל
A92: =IF(AND(F92<F91,LEFT(F92,1)<>"ט"),N(A91)+1,N(A91)) -> 4 | B92: =VLOOKUP(E92,ימים,2,FALSE) -> 2 | C92: {=_xlfn.IFS(A92<>A91,1,B91=7,N(C91)+1,TRUE(),N(C91))} -> 1 | D92: =A92&"-"&C92&"-"&B92 -> 4-1-2 | E92: יום ראשון | F92: ב׳ | G92: 6 | H92: זאת חנוכה
A93: =IF(AND(F93<F92,LEFT(F93,1)<>"ט"),N(A92)+1,N(A92)) -> 4 | B93: =VLOOKUP(E93,ימים,2,FALSE) -> 3 | C93: {=_xlfn.IFS(A93<>A92,1,B92=7,N(C92)+1,TRUE(),N(C92))} -> 1 | D93: =A93&"-"&C93&"-"&B93 -> 4-1-3 | E93: יום שני | F93: ג׳ | G93: 7
A94: =IF(AND(F94<F93,LEFT(F94,1)<>"ט"),N(A93)+1,N(A93)) -> 4 | B94: =VLOOKUP(E94,ימים,2,FALSE) -> 4 | C94: {=_xlfn.IFS(A94<>A93,1,B93=7,N(C93)+1,TRUE(),N(C93))} -> 1 | D94: =A94&"-"&C94&"-"&B94 -> 4-1-4 | E94: יום שלישי | F94: ד׳ | G94: 8
A95: =IF(AND(F95<F94,LEFT(F95,1)<>"ט"),N(A94)+1,N(A94)) -> 4 | B95: =VLOOKUP(E95,ימים,2,FALSE) -> 5 | C95: {=_xlfn.IFS(A95<>A94,1,B94=7,N(C94)+1,TRUE(),N(C94))} -> 1 | D95: =A95&"-"&C95&"-"&B95 -> 4-1-5 | E95: יום רביעי | F95: ה׳ | G95: 9
A96: =IF(AND(F96<F95,LEFT(F96,1)<>"ט"),N(A95)+1,N(A95)) -> 4 | B96: =VLOOKUP(E96,ימים,2,FALSE) -> 6 | C96: {=_xlfn.IFS(A96<>A95,1,B95=7,N(C95)+1,TRUE(),N(C95))} -> 1 | D96: =A96&"-"&C96&"-"&B96 -> 4-1-6 | E96: יום חמישי | F96: ו׳ | G96: 10
A97: =IF(AND(F97<F96,LEFT(F97,1)<>"ט"),N(A96)+1,N(A96)) -> 4 | B97: =VLOOKUP(E97,ימים,2,FALSE) -> 7 | C97: {=_xlfn.IFS(A97<>A96,1,B96=7,N(C96)+1,TRUE(),N(C96))} -> 1 | D97: =A97&"-"&C97&"-"&B97 -> 4-1-7 | E97: יום שישי | F97: ז׳ | G97: 11
A98: =IF(AND(F98<F97,LEFT(F98,1)<>"ט"),N(A97)+1,N(A97)) -> 4 | B98: =VLOOKUP(E98,ימים,2,FALSE) -> 1 | C98: {=_xlfn.IFS(A98<>A97,1,B97=7,N(C97)+1,TRUE(),N(C97))} -> 2 | D98: =A98&"-"&C98&"-"&B98 -> 4-2-1 | E98: שבת | F98: ח׳ | G98: 12
A99: =IF(AND(F99<F98,LEFT(F99,1)<>"ט"),N(A98)+1,N(A98)) -> 4 | B99: =VLOOKUP(E99,ימים,2,FALSE) -> 2 | C99: {=_xlfn.IFS(A99<>A98,1,B98=7,N(C98)+1,TRUE(),N(C98))} -> 2 | D99: =A99&"-"&C99&"-"&B99 -> 4-2-2 | E99: יום ראשון | F99: ט׳ | G99: 13
A100: =IF(AND(F100<F99,LEFT(F100,1)<>"ט"),N(A99)+1,N(A99)) -> 4 | B100: =VLOOKUP(E100,ימים,2,FALSE) -> 3 | C100: {=_xlfn.IFS(A100<>A99,1,B99=7,N(C99)+1,TRUE(),N(C99))} -> 2 | D100: =A100&"-"&C100&"-"&B100 -> 4-2-3 | E100: יום שני | F100: י׳ | G100: 14 | H100: צום עשרה בטבת יום הקדיש הכללי
A101: =IF(AND(F101<F100,LEFT(F101,1)<>"ט"),N(A100)+1,N(A100)) -> 4 | B101: =VLOOKUP(E101,ימים,2,FALSE) -> 4 | C101: {=_xlfn.IFS(A101<>A100,1,B100=7,N(C100)+1,TRUE(),N(C100))} -> 2 | D101: =A101&"-"&C101&"-"&B101 -> 4-2-4 | E101: יום שלישי | F101: י״א | G101: 15
A102: =IF(AND(F102<F101,LEFT(F102,1)<>"ט"),N(A101)+1,N(A101)) -> 4 | B102: =VLOOKUP(E102,ימים,2,FALSE) -> 5 | C102: {=_xlfn.IFS(A102<>A101,1,B101=7,N(C101)+1,TRUE(),N(C101))} -> 2 | D102: =A102&"-"&C102&"-"&B102 -> 4-2-5 | E102: יום רביעי | F102: י״ב | G102: 16
A103: =IF(AND(F103<F102,LEFT(F103,1)<>"ט"),N(A102)+1,N(A102)) -> 4 | B103: =VLOOKUP(E103,ימים,2,FALSE) -> 6 | C103: {=_xlfn.IFS(A103<>A102,1,B102=7,N(C102)+1,TRUE(),N(C102))} -> 2 | D103: =A103&"-"&C103&"-"&B103 -> 4-2-6 | E103: יום חמישי | F103: י״ג | G103: 17
A104: =IF(AND(F104<F103,LEFT(F104,1)<>"ט"),N(A103)+1,N(A103)) -> 4 | B104: =VLOOKUP(E104,ימים,2,FALSE) -> 7 | C104: {=_xlfn.IFS(A104<>A103,1,B103=7,N(C103)+1,TRUE(),N(C103))} -> 2 | D104: =A104&"-"&C104&"-"&B104 -> 4-2-7 | E104: יום שישי | F104: י״ד | G104: 18
A105: =IF(AND(F105<F104,LEFT(F105,1)<>"ט"),N(A104)+1,N(A104)) -> 4 | B105: =VLOOKUP(E105,ימים,2,FALSE) -> 1 | C105: {=_xlfn.IFS(A105<>A104,1,B104=7,N(C104)+1,TRUE(),N(C104))} -> 3 | D105: =A105&"-"&C105&"-"&B105 -> 4-3-1 | E105: שבת | F105: ט״ו | G105: 19
A106: =IF(AND(F106<F105,LEFT(F106,1)<>"ט"),N(A105)+1,N(A105)) -> 4 | B106: =VLOOKUP(E106,ימים,2,FALSE) -> 2 | C106: {=_xlfn.IFS(A106<>A105,1,B105=7,N(C105)+1,TRUE(),N(C105))} -> 3 | D106: =A106&"-"&C106&"-"&B106 -> 4-3-2 | E106: יום ראשון | F106: ט״ז | G106: 20
A107: =IF(AND(F107<F106,LEFT(F107,1)<>"ט"),N(A106)+1,N(A106)) -> 4 | B107: =VLOOKUP(E107,ימים,2,FALSE) -> 3 | C107: {=_xlfn.IFS(A107<>A106,1,B106=7,N(C106)+1,TRUE(),N(C106))} -> 3 | D107: =A107&"-"&C107&"-"&B107 -> 4-3-3 | E107: יום שני | F107: י״ז | G107: 21
A108: =IF(AND(F108<F107,LEFT(F108,1)<>"ט"),N(A107)+1,N(A107)) -> 4 | B108: =VLOOKUP(E108,ימים,2,FALSE) -> 4 | C108: {=_xlfn.IFS(A108<>A107,1,B107=7,N(C107)+1,TRUE(),N(C107))} -> 3 | D108: =A108&"-"&C108&"-"&B108 -> 4-3-4 | E108: יום שלישי | F108: י״ח | G108: 22
A109: =IF(AND(F109<F108,LEFT(F109,1)<>"ט"),N(A108)+1,N(A108)) -> 4 | B109: =VLOOKUP(E109,ימים,2,FALSE) -> 5 | C109: {=_xlfn.IFS(A109<>A108,1,B108=7,N(C108)+1,TRUE(),N(C108))} -> 3 | D109: =A109&"-"&C109&"-"&B109 -> 4-3-5 | E109: יום רביעי | F109: י״ט | G109: 23
A110: =IF(AND(F110<F109,LEFT(F110,1)<>"ט"),N(A109)+1,N(A109)) -> 4 | B110: =VLOOKUP(E110,ימים,2,FALSE) -> 6 | C110: {=_xlfn.IFS(A110<>A109,1,B109=7,N(C109)+1,TRUE(),N(C109))} -> 3 | D110: =A110&"-"&C110&"-"&B110 -> 4-3-6 | E110: יום חמישי | F110: כ׳ | G110: 24
A111: =IF(AND(F111<F110,LEFT(F111,1)<>"ט"),N(A110)+1,N(A110)) -> 4 | B111: =VLOOKUP(E111,ימים,2,FALSE) -> 7 | C111: {=_xlfn.IFS(A111<>A110,1,B110=7,N(C110)+1,TRUE(),N(C110))} -> 3 | D111: =A111&"-"&C111&"-"&B111 -> 4-3-7 | E111: יום שישי | F111: כ״א | G111: 25
A112: =IF(AND(F112<F111,LEFT(F112,1)<>"ט"),N(A111)+1,N(A111)) -> 4 | B112: =VLOOKUP(E112,ימים,2,FALSE) -> 1 | C112: {=_xlfn.IFS(A112<>A111,1,B111=7,N(C111)+1,TRUE(),N(C111))} -> 4 | D112: =A112&"-"&C112&"-"&B112 -> 4-4-1 | E112: שבת | F112: כ״ב | G112: 26
... A118: =IF(AND(F118<F117,LEFT(F118,1)<>"ט"),N(A117)+1,N(A117)) -> 4 | B118: =VLOOKUP(E118,ימים,2,FALSE) -> 7 | C118: {=_xlfn.IFS(A118<>A117,1,B117=7,N(C117)+1,TRUE(),N(C117))} -> 4 | D118: =A118&"-"&C118&"-"&B118 -> 4-4-7 | E118: יום שישי | F118: כ״ח | G118: 1
A119: =IF(AND(F119<F118,LEFT(F119,1)<>"ט"),N(A118)+1,N(A118)) -> 4 | B119: =VLOOKUP(E119,ימים,2,FALSE) -> 1 | C119: {=_xlfn.IFS(A119<>A118,1,B118=7,N(C118)+1,TRUE(),N(C118))} -> 5 | D119: =A119&"-"&C119&"-"&B119 -> 4-5-1 | E119: שבת | F119: כ״ט | G119: 2 | H119: ערב ראש חודש
...
