Workbook
Name ימים: 'טבלת מקור'!$T$1:$U$7

Sheet מעוצב
A1: תשרי | D1: חשון | G1: כסלו | J1: טבת | M1: שבט | P1: אדר | S1: ניסן | V1: אייר | Y1: סיון | AB1: תמוז | AE1: אב | AH1: אלול
A2: י ו ם | B2: יום לועזי | C2: תיאור היום | D2: י ו ם | E2: יום לועזי | F2: תיאור היום | G2: י ו ם | H2: יום לועזי | I2: תיאור היום | J2: י ו ם | K2: יום לועזי | L2: תיאור היום | M2: י ו ם | N2: יום לועזי | O2: תיאור היום | P2: י ו ם | Q2: יום לועזי | R2: תיאור היום | S2: י ו ם | T2: יום לועזי | U2: תיאור היום | V2: י ו ם | W2: יום לועזי | X2: תיאור היום | Y2: י ו ם | Z2: יום לועזי | AA2: תיאור היום | AB2: י ו ם | AC2: יום לועזי | AD2: תיאור היום | AE2: י ו ם | AF2: יום לועזי | AG2: תיאור היום | AH2: י ו ם | AI2: יום לועזי | AJ2: תיאור היום
A3: א | B3: 19 | C3: א׳ דראש השנה | D3: א | E3: 19 | F3: ב׳ דראש חודש | G3: א | H3: 17 | I3: ראש חודש | J3: א | K3: 16 | L3: ו׳ דחנוכה ראש חודש | M3: א | N3: 14 | O3: ראש חודש | P3: א | Q3: 13 | R3: שבת ראש חודש | S3: א | T3: 14 | U3: ראש חודש | V3: א | W3: 13 | X3: ב׳ דראש חודש | Y3: א | Z3: 12 | AA3: ראש חודש | AB3: א | AC3: 11 | AD3: ב׳ דראש חודש | AE3: א | AF3: 10 | AG3: שבת ראש חודש | AH3: א | AI3: 9 | AJ3: ב׳ דראש חודש
A4: ב | B4: 20 | C4: ב׳ דראש השנה | D4: ב | E4: 20 | G4: ב | H4: 18 | J4: ב | K4: 17 | L4: ז׳ דחנוכה | M4: ב | N4: 15 | P4: ב | Q4: 14 | S4: ב | T4: 15 | V4: ב | W4: 14 | X4: יום הזכרון לחללי מערכות ישראל (מוקדם) | Y4: ב | Z4: 13 | AB4: ב | AC4: 12 | AE4: ב | AF4: 11 | AH4: ב | AI4: 10
A5: ג | B5: 21 | C5: צום גדליה | D5: ג | E5: 21 | G5: ג | H5: 19 | J5: ג | K5: 18 | L5: זאת חנוכה | M5: ג | N5: 16 | P5: ג | Q5: 15 | S5: ג | T5: 16 | V5: ג | W5: 15 | X5: יום העצמאות (מוקדם) | Y5: ג | Z5: 14 | AB5: ג | AC5: 13 | AE5: ג | AF5: 12 | AH5: ג | AI5: 11
A6: ד | B6: 22 | D6: ד | E6: 22 | G6: ד | H6: 20 | J6: ד | K6: 19 | M6: ד | N6: 17 | P6: ד | Q6: 16 | S6: ד | T6: 17 | V6: ד | W6: 16 | Y6: ד | Z6: 15 | AB6: ד | AC6: 14 | AE6: ד | AF6: 13 | AH6: ד | AI6: 12
A7: ה | B7: 23 | D7: ה | E7: 23 | G7: ה | H7: 21 | J7: ה | K7: 20 | M7: ה | N7: 18 | P7: ה | Q7: 17 | S7: ה | T7: 18 | V7: ה | W7: 17 | Y7: ה | Z7: 16 | AA7: ערב שבועות | AB7: ה | AC7: 15 | AE7: ה | AF7: 14 | AH7: ה | AI7: 13
A8: ו | B8: 24 | D8: ו | E8: 24 | G8: ו | H8: 22 | J8: ו | K8: 21 | M8: ו | N8: 19 | P8: ו | Q8: 18 | S8: ו | T8: 19 | V8: ו | W8: 18 | Y8: ו | Z8: 17 | AA8: שבועות | AB8: ו | AC8: 16 | AE8: ו | AF8: 15 | AH8: ו | AI8: 14
A9: ז | B9: 25 | D9: ז | E9: 25 | F9: ותן טל ומטר תחילת שעון חורף | G9: ז | H9: 23 | J9: ז | K9: 22 | M9: ז | N9: 20 | P9: ז | Q9: 19 | S9: ז | T9: 20 | V9: ז | W9: 19 | Y9: ז | Z9: 18 | AA9: אסרו חג | AB9: ז | AC9: 17 | AE9: ז | AF9: 16 | AH9: ז | AI9: 15
A10: ח | B10: 26 | D10: ח | E10: 26 | G10: ח | H10: 24 | J10: ח | K10: 23 | M10: ח | N10: 21 | P10: ח | Q10: 20 | S10: ח | T10: 21 | V10: ח | W10: 20 | Y10: ח | Z10: 19 | AB10: ח | AC10: 18 | AE10: ח | AF10: 17 | AH10: ח | AI10: 16
A11: ט | B11: 27 | C11: ערב יום כיפור | D11: ט | E11: 27 | G11: ט | H11: 25 | J11: ט | K11: 24 | M11: ט | N11: 22 | P11: ט | Q11: 21 | S11: ט | T11: 22 | V11: ט | W11: 21 | Y11: ט | Z11: 20 | AB11: ט | AC11: 19 | AE11: ט | AF11: 18 | AG11: צום תשעה באב | AH11: ט | AI11: 17
A12: י | B12: 28 | C12: יום כיפור | D12: י | E12: 28 | G12: י | H12: 26 | J12: י | K12: 25 | L12: צום עשרה בטבת יום הקדיש הכללי | M12: י | N12: 23 | P12: י | Q12: 22 | S12: י | T12: 23 | V12: י | W12: 22 | Y12: י | Z12: 21 | AB12: י | AC12: 20 | AE12: י | AF12: 19 | AH12: י | AI12: 18
A13: י״א | B13: 29 | D13: י״א | E13: 29 | G13: י״א | H13: 27 | J13: י״א | K13: 26 | M13: י״א | N13: 24 | P13: י״א | Q13: 23 | S13: י״א | T13: 24 | V13: י״א | W13: 23 | Y13: י״א | Z13: 22 | AB13: י״א | AC13: 21 | AE13: י״א | AF13: 20 | AH13: י״א | AI13: 19
A14: י״ב | B14: 30 | D14: י״ב | E14: 30 | G14: י״ב | H14: 28 | J14: י״ב | K14: 27 | M14: י״ב | N14: 25 | P14: י״ב | Q14: 24 | S14: י״ב | T14: 25 | V14: י״ב | W14: 24 | Y14: י״ב | Z14: 23 | AB14: י״ב | AC14: 22 | AE14: י״ב | AF14: 21 | AH14: י״ב | AI14: 20
A15: י״ג | B15: 1 | D15: י״ג | E15: 31 | G15: י״ג | H15: 29 | J15: י״ג | K15: 28 | M15: י״ג | N15: 26 | P15: י״ג | Q15: 25 | R15: תענית אסתר | S15: י״ג | T15: 26 | U15: תחילת שעון קיץ | V15: י״ג | W15: 25 | Y15: י״ג | Z15: 24 | AB15: י״ג | AC15: 23 | AE15: י״ג | AF15: 22 | AH15: י״ג | AI15: 21
A16: י״ד | B16: 2 | C16: ערב סוכות | D16: י״ד | E16: 1 | G16: י״ד | H16: 30 | J16: י״ד | K16: 29 | M16: י״ד | N16: 27 | P16: י״ד | Q16: 26 | R16: פורים | S16: י״ד | T16: 27 | U16: ערב פסח שחל בשבת | V16: י״ד | W16: 26 | X16: פסח שני | Y16: י״ד | Z16: 25 | AB16: י״ד | AC16: 24 | AE16: י״ד | AF16: 23 | AH16: י״ד | AI16: 22
A17: ט״ו | B17: 3 | C17: סוכות | D17: ט״ו | E17: 2 | G17: ט״ו | H17: 1 | J17: ט״ו | K17: 30 | M17: ט״ו | N17: 28 | O17: ראש השנה לאילנות | P17: ט״ו | Q17: 27 | R17: שושן פורים | S17: ט״ו | T17: 28 | U17: א׳ דפסח | V17: ט״ו | W17: 27 | Y17: ט״ו | Z17: 26 | AB17: ט״ו | AC17: 25 | AE17: ט״ו | AF17: 24 | AG17: ט״ו באב | AH17: ט״ו | AI17: 23
A18: ט״ז | B18: 4 | C18: חוה״מ סוכות | D18: ט״ז | E18: 3 | G18: ט״ז | H18: 2 | J18: ט״ז | K18: 31 | M18: ט״ז | N18: 29 | P18: ט״ז | Q18: 28 | S18: ט״ז | T18: 29 | U18: חוה״מ פסח | V18: ט״ז | W18: 28 | Y18: ט״ז | Z18: 27 | AB18: ט״ז | AC18: 26 | AE18: ט״ז | AF18: 25 | AH18: ט״ז | AI18: 24
A19: י״ז | B19: 5 | C19: חוה״מ סוכות | D19: י״ז | E19: 4 | G19: י״ז | H19: 3 | J19: י״ז | K19: 1 | M19: י״ז | N19: 30 | P19: י״ז | Q19: 1 | S19: י״ז | T19: 30 | U19: חוה״מ פסח | V19: י״ז | W19: 29 | Y19: י״ז | Z19: 28 | AB19: י״ז | AC19: 27 | AD19: צום י״ז בתמוז | AE19: י״ז | AF19: 26 | AH19: י״ז | AI19: 25
A20: י״ח | B20: 6 | C20: חוה״מ סוכות | D20: י״ח | E20: 5 | G20: י״ח | H20: 4 | J20: י״ח | K20: 2 | M20: י״ח | N20: 31 | P20: י״ח | Q20: 2 | S20: י״ח | T20: 31 | U20: חוה״מ פסח | V20: י״ח | W20: 30 | X20: ל״ג בעומר | Y20: י״ח | Z20: 29 | AB20: י״ח | AC20: 28 | AE20: י״ח | AF20: 27 | AH20: י״ח | AI20: 26
A21: י״ט | B21: 7 | C21: חוה״מ סוכות | D21: י״ט | E21: 6 | G21: י״ט | H21: 5 | I21: שאילת גשמים בחו״ל | J21: י״ט | K21: 3 | M21: י״ט | N21: 1 | P21: י״ט | Q21: 3 | S21: י״ט | T21: 1 | U21: חוה״מ פסח | V21: י״ט | W21: 1 | Y21: י״ט | Z21: 30 | AB21: י״ט | AC21: 29 | AE21: י״ט | AF21: 28 | AH21: י״ט | AI21: 27
A22: כ | B22: 8 | C22: חוה״מ סוכות | D22: כ | E22: 7 | G22: כ | H22: 6 | J22: כ | K22: 4 | M22: כ | N22: 2 | P22: כ | Q22: 4 | S22: כ | T22: 2 | U22: חוה״מ פסח | V22: כ | W22: 2 | Y22: כ | Z22: 31 | AB22: כ | AC22: 30 | AE22: כ | AF22: 29 | AH22: כ | AI22: 28
A23: כ״א | B23: 9 | C23: הושענא רבה | D23: כ״א | E23: 8 | G23: כ״א | H23: 7 | J23: כ״א | K23: 5 | M23: כ״א | N23: 3 | P23: כ״א | Q23: 5 | S23: כ״א | T23: 3 | U23: שביעי של פסח | V23: כ״א | W23: 3 | Y23: כ״א | Z23: 1 | AB23: כ״א | AC23: 1 | AE23: כ״א | AF23: 30 | AH23: כ״א | AI23: 29 | AJ23: א׳ דסליחות
A24: כ״ב | B24: 10 | C24: שמחת תורה | D24: כ״ב | E24: 9 | G24: כ״ב | H24: 8 | J24: כ״ב | K24: 6 | M24: כ״ב | N24: 4 | P24: כ״ב | Q24: 6 | S24: כ״ב | T24: 4 | U24: אסרו חג | V24: כ״ב | W24: 4 | Y24: כ״ב | Z24: 2 | AB24: כ״ב | AC24: 2 | AE24: כ״ב | AF24: 31 | AH24: כ״ב | AI24: 30
A25: כ״ג | B25: 11 | C25: אסרו חג | D25: כ״ג | E25: 10 | G25: כ״ג | H25: 9 | J25: כ״ג | K25: 7 | M25: כ״ג | N25: 5 | P25: כ״ג | Q25: 7 | S25: כ״ג | T25: 5 | V25: כ״ג | W25: 5 | Y25: כ״ג | Z25: 3 | AB25: כ״ג | AC25: 3 | AE25: כ״ג | AF25: 1 | AH25: כ״ג | AI25: 31
A26: כ״ד | B26: 12 | D26: כ״ד | E26: 11 | G26: כ״ד | H26: 10 | J26: כ״ד | K26: 8 | M26: כ״ד | N26: 6 | P26: כ״ד | Q26: 8 | S26: כ״ד | T26: 6 | V26: כ״ד | W26: 6 | Y26: כ״ד | Z26: 4 | AB26: כ״ד | AC26: 4 | AE26: כ״ד | AF26: 2 | AH26: כ״ד | AI26: 1
A27: כ״ה | B27: 13 | D27: כ״ה | E27: 12 | G27: כ״ה | H27: 11 | I27: א׳ דחנוכה | J27: כ״ה | K27: 9 | M27: כ״ה | N27: 7 | P27: כ״ה | Q27: 9 | S27: כ״ה | T27: 7 | V27: כ״ה | W27: 7 | Y27: כ״ה | Z27: 5 | AB27: כ״ה | AC27: 5 | AE27: כ״ה | AF27: 3 | AH27: כ״ה | AI27: 2
A28: כ״ו | B28: 14 | D28: כ״ו | E28: 13 | G28: כ״ו | H28: 12 | I28: ב׳ דחנוכה | J28: כ״ו | K28: 10 | M28: כ״ו | N28: 8 | P28: כ״ו | Q28: 10 | S28: כ״ו | T28: 8 | V28: כ״ו | W28: 8 | Y28: כ״ו | Z28: 6 | AB28: כ״ו | AC28: 6 | AE28: כ״ו | AF28: 4 | AH28: כ״ו | AI28: 3
A29: כ״ז | B29: 15 | D29: כ״ז | E29: 14 | G29: כ״ז | H29: 13 | I29: ג׳ דחנוכה | J29: כ״ז | K29: 11 | M29: כ״ז | N29: 9 | P29: כ״ז | Q29: 11 | S29: כ״ז | T29: 9 | U29: יום הזכרון לשואה ולגבורה | V29: כ״ז | W29: 9 | Y29: כ״ז | Z29: 7 | AB29: כ״ז | AC29: 7 | AE29: כ״ז | AF29: 5 | AH29: כ״ז | AI29: 4
A30: כ״ח | B30: 16 | D30: כ״ח | E30: 15 | G30: כ״ח | H30: 14 | I30: ד׳ דחנוכה | J30: כ״ח | K30: 12 | M30: כ״ח | N30: 10 | P30: כ״ח | Q30: 12 | S30: כ״ח | T30: 10 | V30: כ״ח | W30: 10 | X30: יום ירושלים | Y30: כ״ח | Z30: 8 | AB30: כ״ח | AC30: 8 | AE30: כ״ח | AF30: 6 | AH30: כ״ח | AI30: 5
A31: כ״ט | B31: 17 | C31: ערב ראש חודש | D31: כ״ט | E31: 16 | F31: ערב ראש חודש | G31: כ״ט | H31: 15 | I31: ה׳ דחנוכה ערב ראש חודש | J31: כ״ט | K31: 13 | L31: ערב ראש חודש | M31: כ״ט | N31: 11 | O31: ערב ראש חודש | P31: כ״ט | Q31: 13 | R31: ערב ראש חודש | S31: כ״ט | T31: 11 | U31: ערב ראש חודש | V31: כ״ט | W31: 11 | X31: ערב ראש חודש | Y31: כ״ט | Z31: 9 | AA31: ערב ראש חודש | AB31: כ״ט | AC31: 9 | AD31: ערב ראש חודש | AE31: כ״ט | AF31: 7 | AG31: ערב ראש חודש | AH31: כ״ט | AI31: 6 | AJ31: ערב ראש השנה
A32: ל | B32: 18 | C32: א׳ דראש חודש | M32: ל | N32: 12 | O32: א׳ דראש חודש | S32: ל | T32: 12 | U32: א׳ דראש חודש | Y32: ל | Z32: 10 | AA32: א׳ דראש חודש | AE32: ל | AF32: 8 | AG32: א׳ דראש חודש
C47: =INT((COLUMN()-COLUMN($C47))/7)+1 & "-" & MOD(COLUMN()-COLUMN($C47),7)+1 -> 1-1 | D47: =INT((COLUMN()-COLUMN($C47))/7)+1 & "-" & MOD(COLUMN()-COLUMN($C47),7)+1 -> 1-2 | E47: =INT((COLUMN()-COLUMN($C47))/7)+1 & "-" & MOD(COLUMN()-COLUMN($C47),7)+1 -> 1-3 | F47: =INT((COLUMN()-COLUMN($C47))/7)+1 & "-" & MOD(COLUMN()-COLUMN($C47),7)+1 -> 1-4 | G47: =INT((COLUMN()-COLUMN($C47))/7)+1 & "-" & MOD(COLUMN()-COLUMN($C47),7)+1 -> 1-5 | H47: =INT((COLUMN()-COLUMN($C47))/7)+1 & "-" & MOD(COLUMN()-COLUMN($C47),7)+1 -> 1-6 | I47: =INT((COLUMN()-COLUMN($C47))/7)+1 & "-" & MOD(COLUMN()-COLUMN($C47),7)+1 -> 1-7 | J47: =INT((COLUMN()-COLUMN($C47))/7)+1 & "-" & MOD(COLUMN()-COLUMN($C47),7)+1 -> 2-1 | ... AK47: =INT((COLUMN()-COLUMN($C47))/7)+1 & "-" & MOD(COLUMN()-COLUMN($C47),7)+1 -> 5-7
C48: שבת | D48: ראשון | E48: שני | F48: שלישי | G48: רביעי | H48: חמישי | I48: שישי | J48: שבת | K48: ראשון | L48: שני | M48: שלישי | N48: רביעי | O48: חמישי | P48: שישי | Q48: שבת | R48: ראשון | S48: שני | T48: שלישי | U48: רביעי | V48: חמישי | W48: שישי | X48: שבת | Y48: ראשון | Z48: שני | AA48: שלישי | AB48: רביעי | AC48: חמישי | AD48: שישי | AE48: שבת | AF48: ראשון | AG48: שני | AH48: שלישי | AI48: רביעי | AJ48: חמישי | AK48: שישי
A49: =INT((ROW()-ROW(A$49))/3)+1 -> 1 | B49: תשרי | C49: =_xlfn.IFNA(VLOOKUP($A49&"-"&C$47,'טבלת מקור'!$D:$H,3,FALSE),"") | D49: =_xlfn.IFNA(VLOOKUP($A49&"-"&D$47,'טבלת מקור'!$D:$H,3,FALSE),"") | E49: =_xlfn.IFNA(VLOOKUP($A49&"-"&E$47,'טבלת מקור'!$D:$H,3,FALSE),"") -> א׳ | F49: =_xlfn.IFNA(VLOOKUP($A49&"-"&F$47,'טבלת מקור'!$D:$H,3,FALSE),"") -> ב׳ | G49: =_xlfn.IFNA(VLOOKUP($A49&"-"&G$47,'טבלת מקור'!$D:$H,3,FALSE),"") -> ג׳ | H49: =_xlfn.IFNA(VLOOKUP($A49&"-"&H$47,'טבלת מקור'!$D:$H,3,FALSE),"") -> ד׳ | I49: =_xlfn.IFNA(VLOOKUP($A49&"-"&I$47,'טבלת מקור'!$D:$H,3,FALSE),"") -> ה׳ | J49: =_xlfn.IFNA(VLOOKUP($A49&"-"&J$47,'טבלת מקור'!$D:$H,3,FALSE),"") -> ו׳ | ... AK49: =_xlfn.IFNA(VLOOKUP($A49&"-"&AK$47,'טבלת מקור'!$D:$H,3,FALSE),"")
A50: =INT((ROW()-ROW(A$49))/3)+1 -> 1 | B50: ספט-אוק | C50: =_xlfn.IFNA(VLOOKUP($A50&"-"&C$47,'טבלת מקור'!$D:$H,4,FALSE),"") | D50: =_xlfn.IFNA(VLOOKUP($A50&"-"&D$47,'טבלת מקור'!$D:$H,4,FALSE),"") | E50: =_xlfn.IFNA(VLOOKUP($A50&"-"&E$47,'טבלת מקור'!$D:$H,4,FALSE),"") -> 7 | F50: =_xlfn.IFNA(VLOOKUP($A50&"-"&F$47,'טבלת מקור'!$D:$H,4,FALSE),"") -> 8 | G50: =_xlfn.IFNA(VLOOKUP($A50&"-"&G$47,'טבלת מקור'!$D:$H,4,FALSE),"") -> 9 | H50: =_xlfn.IFNA(VLOOKUP($A50&"-"&H$47,'טבלת מקור'!$D:$H,4,FALSE),"") -> 10 | I50: =_xlfn.IFNA(VLOOKUP($A50&"-"&I$47,'טבלת מקור'!$D:$H,4,FALSE),"") -> 11 | J50: =_xlfn.IFNA(VLOOKUP($A50&"-"&J$47,'טבלת מקור'!$D:$H,4,FALSE),"") -> 12 | ... AK50: =_xlfn.IFNA(VLOOKUP($A50&"-"&AK$47,'טבלת מקור'!$D:$H,4,FALSE),"")
A51: =INT((ROW()-ROW(A$49))/3)+1 -> 1 | C51: =_xlfn.IFNA(VLOOKUP($A51&"-"&C$47,'טבלת מקור'!$D:$H,5,FALSE),"") | D51: =_xlfn.IFNA(VLOOKUP($A51&"-"&D$47,'טבלת מקור'!$D:$H,5,FALSE),"") | E51: =_xlfn.IFNA(VLOOKUP($A51&"-"&E$47,'טבלת מקור'!$D:$H,5,FALSE),"") -> א׳ דראש השנה | F51: =_xlfn.IFNA(VLOOKUP($A51&"-"&F$47,'טבלת מקור'!$D:$H,5,FALSE),"") -> ב׳ דראש השנה | G51: =_xlfn.IFNA(VLOOKUP($A51&"-"&G$47,'טבלת מקור'!$D:$H,5,FALSE),"") -> צום גדליה | H51: =_xlfn.IFNA(VLOOKUP($A51&"-"&H$47,'טבלת מקור'!$D:$H,5,FALSE),"") -> 0 | I51: =_xlfn.IFNA(VLOOKUP($A51&"-"&I$47,'טבלת מקור'!$D:$H,5,FALSE),"") -> 0 | J51: =_xlfn.IFNA(VLOOKUP($A51&"-"&J$47,'טבלת מקור'!$D:$H,5,FALSE),"") -> 0 | ... AK51: =_xlfn.IFNA(VLOOKUP($A51&"-"&AK$47,'טבלת מקור'!$D:$H,5,FALSE),"")
A52: =INT((ROW()-ROW(A$49))/3)+1 -> 2 | B52: חשון | C52: =_xlfn.IFNA(VLOOKUP($A52&"-"&C$47,'טבלת מקור'!$D:$H,3,FALSE),"") | D52: =_xlfn.IFNA(VLOOKUP($A52&"-"&D$47,'טבלת מקור'!$D:$H,3,FALSE),"") | E52: =_xlfn.IFNA(VLOOKUP($A52&"-"&E$47,'טבלת מקור'!$D:$H,3,FALSE),"") | F52: =_xlfn.IFNA(VLOOKUP($A52&"-"&F$47,'טבלת מקור'!$D:$H,3,FALSE),"") | G52: =_xlfn.IFNA(VLOOKUP($A52&"-"&G$47,'טבלת מקור'!$D:$H,3,FALSE),"") -> א׳ | H52: =_xlfn.IFNA(VLOOKUP($A52&"-"&H$47,'טבלת מקור'!$D:$H,3,FALSE),"") -> ב׳ | I52: =_xlfn.IFNA(VLOOKUP($A52&"-"&I$47,'טבלת מקור'!$D:$H,3,FALSE),"") -> ג׳ | J52: =_xlfn.IFNA(VLOOKUP($A52&"-"&J$47,'טבלת מקור'!$D:$H,3,FALSE),"") -> ד׳ | ... AK52: =_xlfn.IFNA(VLOOKUP($A52&"-"&AK$47,'טבלת מקור'!$D:$H,3,FALSE),"")
A53: =INT((ROW()-ROW(A$49))/3)+1 -> 2 | B53: אוק-נוב | C53: =_xlfn.IFNA(VLOOKUP($A53&"-"&C$47,'טבלת מקור'!$D:$H,4,FALSE),"") | D53: =_xlfn.IFNA(VLOOKUP($A53&"-"&D$47,'טבלת מקור'!$D:$H,4,FALSE),"") | E53: =_xlfn.IFNA(VLOOKUP($A53&"-"&E$47,'טבלת מקור'!$D:$H,4,FALSE),"") | F53: =_xlfn.IFNA(VLOOKUP($A53&"-"&F$47,'טבלת מקור'!$D:$H,4,FALSE),"") | G53: =_xlfn.IFNA(VLOOKUP($A53&"-"&G$47,'טבלת מקור'!$D:$H,4,FALSE),"") -> 7 | H53: =_xlfn.IFNA(VLOOKUP($A53&"-"&H$47,'טבלת מקור'!$D:$H,4,FALSE),"") -> 8 | I53: =_xlfn.IFNA(VLOOKUP($A53&"-"&I$47,'טבלת מקור'!$D:$H,4,FALSE),"") -> 9 | J53: =_xlfn.IFNA(VLOOKUP($A53&"-"&J$47,'טבלת מקור'!$D:$H,4,FALSE),"") -> 10 | ... AK53: =_xlfn.IFNA(VLOOKUP($A53&"-"&AK$47,'טבלת מקור'!$D:$H,4,FALSE),"")
A54: =INT((ROW()-ROW(A$49))/3)+1 -> 2 | C54: =_xlfn.IFNA(VLOOKUP($A54&"-"&C$47,'טבלת מקור'!$D:$H,5,FALSE),"") | D54: =_xlfn.IFNA(VLOOKUP($A54&"-"&D$47,'טבלת מקור'!$D:$H,5,FALSE),"") | E54: =_xlfn.IFNA(VLOOKUP($A54&"-"&E$47,'טבלת מקור'!$D:$H,5,FALSE),"") | F54: =_xlfn.IFNA(VLOOKUP($A54&"-"&F$47,'טבלת מקור'!$D:$H,5,FALSE),"") | G54: =_xlfn.IFNA(VLOOKUP($A54&"-"&G$47,'טבלת מקור'!$D:$H,5,FALSE),"") -> ב׳ דראש חודש | H54: =_xlfn.IFNA(VLOOKUP($A54&"-"&H$47,'טבלת מקור'!$D:$H,5,FALSE),"") -> 0 | I54: =_xlfn.IFNA(VLOOKUP($A54&"-"&I$47,'טבלת מקור'!$D:$H,5,FALSE),"") -> 0 | J54: =_xlfn.IFNA(VLOOKUP($A54&"-"&J$47,'טבלת מקור'!$D:$H,5,FALSE),"") -> 0 | ... AK54: =_xlfn.IFNA(VLOOKUP($A54&"-"&AK$47,'טבלת מקור'!$D:$H,5,FALSE),"")
...

Sheet טבלת מקור
A1: חודש | B1: יום בשבוע | C1: שבוע בחודש | D1: מפתח | E1: יום ראשון | F1: יום עברי | G1: יום לועזי | H1: תיאור היום | T1: יום ראשון | U1: 2
A2: =IF(AND(F2<F1,LEFT(F2,1)<>"ט"),N(A1)+1,N(A1)) -> 1 | B2: =VLOOKUP(E2,ימים,2,FALSE) -> 3 | C2: {=_xlfn.IFS(A2<>A1,1,B1=7,N(C1)+1,TRUE(),N(C1))} -> 1 | D2: =A2&"-"&C2&"-"&B2 -> 1-1-3 | E2: יום שני | F2: א׳ | G2: 7 | H2: א׳ דראש השנה | T2: יום שני | U2: 3
A3: =IF(AND(F3<F2,LEFT(F3,1)<>"ט"),N(A2)+1,N(A2)) -> 1 | B3: =VLOOKUP(E3,ימים,2,FALSE) -> 4 | C3: {=_xlfn.IFS(A3<>A2,1,B2=7,N(C2)+1,TRUE(),N(C2))} -> 1 | D3: =A3&"-"&C3&"-"&B3 -> 1-1-4 | E3: יום שלישי | F3: ב׳ | G3: 8 | H3: ב׳ דראש השנה | T3: יום שלישי | U3: 4
A4: =IF(AND(F4<F3,LEFT(F4,1)<>"ט"),N(A3)+1,N(A3)) -> 1 | B4: =VLOOKUP(E4,ימים,2,FALSE) -> 5 | C4: {=_xlfn.IFS(A4<>A3,1,B3=7,N(C3)+1,TRUE(),N(C3))} -> 1 | D4: =A4&"-"&C4&"-"&B4 -> 1-1-5 | E4: יום רביעי | F4: ג׳ | G4: 9 | H4: צום גדליה | T4: יום רביעי | U4: 5
A5: =IF(AND(F5<F4,LEFT(F5,1)<>"ט"),N(A4)+1,N(A4)) -> 1 | B5: =VLOOKUP(E5,ימים,2,FALSE) -> 6 | C5: {=_xlfn.IFS(A5<>A4,1,B4=7,N(C4)+1,TRUE(),N(C4))} -> 1 | D5: =A5&"-"&C5&"-"&B5 -> 1-1-6 | E5: יום חמישי | F5: ד׳ | G5: 10 | T5: יום חמישי | U5: 6
A6: =IF(AND(F6<F5,LEFT(F6,1)<>"ט"),N(A5)+1,N(A5)) -> 1 | B6: =VLOOKUP(E6,ימים,2,FALSE) -> 7 | C6: {=_xlfn.IFS(A6<>A5,1,B5=7,N(C5)+1,TRUE(),N(C5))} -> 1 | D6: =A6&"-"&C6&"-"&B6 -> 1-1-7 | E6: יום שישי | F6: ה׳ | G6: 11 | T6: יום שישי | U6: 7
A7: =IF(AND(F7<F6,LEFT(F7,1)<>"ט"),N(A6)+1,N(A6)) -> 1 | B7: =VLOOKUP(E7,ימים,2,FALSE) -> 1 | C7: {=_xlfn.IFS(A7<>A6,1,B6=7,N(C6)+1,TRUE(),N(C6))} -> 2 | D7: =A7&"-"&C7&"-"&B7 -> 1-2-1 | E7: שבת | F7: ו׳ | G7: 12 | T7: שבת | U7: 1
A8: =IF(AND(F8<F7,LEFT(F8,1)<>"ט"),N(A7)+1,N(A7)) -> 1 | B8: =VLOOKUP(E8,ימים,2,FALSE) -> 2 | C8: {=_xlfn.IFS(A8<>A7,1,B7=7,N(C7)+1,TRUE(),N(C7))} -> 2 | D8: =A8&"-"&C8&"-"&B8 -> 1-2-2 | E8: יום ראשון | F8: ז׳ | G8: 13
A9: =IF(AND(F9<F8,LEFT(F9,1)<>"ט"),N(A8)+1,N(A8)) -> 1 | B9: =VLOOKUP(E9,ימים,2,FALSE) -> 3 | C9: {=_xlfn.IFS(A9<>A8,1,B8=7,N(C8)+1,TRUE(),N(C8))} -> 2 | D9: =A9&"-"&C9&"-"&B9 -> 1-2-3 | E9: יום שני | F9: ח׳ | G9: 14
A10: =IF(AND(F10<F9,LEFT(F10,1)<>"ט"),N(A9)+1,N(A9)) -> 1 | B10: =VLOOKUP(E10,ימים,2,FALSE) -> 4 | C10: {=_xlfn.IFS(A10<>A9,1,B9=7,N(C9)+1,TRUE(),N(C9))} -> 2 | D10: =A10&"-"&C10&"-"&B10 -> 1-2-4 | E10: יום שלישי | F10: ט׳ | G10: 15 | H10: ערב יום כיפור
A11: =IF(AND(F11<F10,LEFT(F11,1)<>"ט"),N(A10)+1,N(A10)) -> 1 | B11: =VLOOKUP(E11,ימים,2,FALSE) -> 5 | C11: {=_xlfn.IFS(A11<>A10,1,B10=7,N(C10)+1,TRUE(),N(C10))} -> 2 | D11: =A11&"-"&C11&"-"&B11 -> 1-2-5 | E11: יום רביעי | F11: י׳ | G11: 16 | H11: יום כיפור
A12: =IF(AND(F12<F11,LEFT(F12,1)<>"ט"),N(A11)+1,N(A11)) -> 1 | B12: =VLOOKUP(E12,ימים,2,FALSE) -> 6 | C12: {=_xlfn.IFS(A12<>A11,1,B11=7,N(C11)+1,TRUE(),N(C11))} -> 2 | D12: =A12&"-"&C12&"-"&B12 -> 1-2-6 | E12: יום חמישי | F12: י״א | G12: 17
A13: =IF(AND(F13<F12,LEFT(F13,1)<>"ט"),N(A12)+1,N(A12)) -> 1 | B13: =VLOOKUP(E13,ימים,2,FALSE) -> 7 | C13: {=_xlfn.IFS(A13<>A12,1,B12=7,N(C12)+1,TRUE(),N(C12))} -> 2 | D13: =A13&"-"&C13&"-"&B13 -> 1-2-7 | E13: יום שישי | F13: י״ב | G13: 18
A14: =IF(AND(F14<F13,LEFT(F14,1)<>"ט"),N(A13)+1,N(A13)) -> 1 | B14: =VLOOKUP(E14,ימים,2,FALSE) -> 1 | C14: {=_xlfn.IFS(A14<>A13,1,B13=7,N(C13)+1,TRUE(),N(C13))} -> 3 | D14: =A14&"-"&C14&"-"&B14 -> 1-3-1 | E14: שבת | F14: י״ג | G14: 19
A15: =IF(AND(F15<F14,LEFT(F15,1)<>"ט"),N(A14)+1,N(A14)) -> 1 | B15: =VLOOKUP(E15,ימים,2,FALSE) -> 2 | C15: {=_xlfn.IFS(A15<>A14,1,B14=7,N(C14)+1,TRUE(),N(C14))} -> 3 | D15: =A15&"-"&C15&"-"&B15 -> 1-3-2 | E15: יום ראשון | F15: י״ד | G15: 20 | H15: ערב סוכות
A16: =IF(AND(F16<F15,LEFT(F16,1)<>"ט"),N(A15)+1,N(A15)) -> 1 | B16: =VLOOKUP(E16,ימים,2,FALSE) -> 3 | C16: {=_xlfn.IFS(A16<>A15,1,B15=7,N(C15)+1,TRUE(),N(C15))} -> 3 | D16: =A16&"-"&C16&"-"&B16 -> 1-3-3 | E16: יום שני | F16: ט״ו | G16: 21 | H16: סוכות
A17: =IF(AND(F17<F16,LEFT(F17,1)<>"ט"),N(A16)+1,N(A16)) -> 1 | B17: =VLOOKUP(E17,ימים,2,FALSE) -> 4 | C17: {=_xlfn.IFS(A17<>A16,1,B16=7,N(C16)+1,TRUE(),N(C16))} -> 3 | D17: =A17&"-"&C17&"-"&B17 -> 1-3-4 | E17: יום שלישי | F17: ט״ז | G17: 22 | H17: א׳ דחוה״מ סוכות
A18: =IF(AND(F18<F17,LEFT(F18,1)<>"ט"),N(A17)+1,N(A17)) -> 1 | B18: =VLOOKUP(E18,ימים,2,FALSE) -> 5 | C18: {=_xlfn.IFS(A18<>A17,1,B17=7,N(C17)+1,TRUE(),N(C17))} -> 3 | D18: =A18&"-"&C18&"-"&B18 -> 1-3-5 | E18: יום רביעי | F18: י״ז | G18: 23 | H18: ב׳ דחוה״מ סוכות
A19: =IF(AND(F19<F18,LEFT(F19,1)<>"ט"),N(A18)+1,N(A18)) -> 1 | B19: =VLOOKUP(E19,ימים,2,FALSE) -> 6 | C19: {=_xlfn.IFS(A19<>A18,1,B18=7,N(C18)+1,TRUE(),N(C18))} -> 3 | D19: =A19&"-"&C19&"-"&B19 -> 1-3-6 | E19: יום חמישי | F19: י״ח | G19: 24 | H19: ג׳ דחוה״מ סוכות
A20: =IF(AND(F20<F19,LEFT(F20,1)<>"ט"),N(A19)+1,N(A19)) -> 1 | B20: =VLOOKUP(E20,ימים,2,FALSE) -> 7 | C20: {=_xlfn.IFS(A20<>A19,1,B19=7,N(C19)+1,TRUE(),N(C19))} -> 3 | D20: =A20&"-"&C20&"-"&B20 -> 1-3-7 | E20: יום שישי | F20: י״ט | G20: 25 | H20: שבת חוה״מ סוכות
A21: =IF(AND(F21<F20,LEFT(F21,1)<>"ט"),N(A20)+1,N(A20)) -> 1 | B21: =VLOOKUP(E21,ימים,2,FALSE) -> 1 | C21: {=_xlfn.IFS(A21<>A20,1,B20=7,N(C20)+1,TRUE(),N(C20))} -> 4 | D21: =A21&"-"&C21&"-"&B21 -> 1-4-1 | E21: שבת | F21: כ׳ | G21: 26 | H21: ה׳ דחוה״מ סוכות
A22: =IF(AND(F22<F21,LEFT(F22,1)<>"ט"),N(A21)+1,N(A21)) -> 1 | B22: =VLOOKUP(E22,ימים,2,FALSE) -> 2 | C22: {=_xlfn.IFS(A22<>A21,1,B21=7,N(C21)+1,TRUE(),N(C21))} -> 4 | D22: =A22&"-"&C22&"-"&B22 -> 1-4-2 | E22: יום ראשון | F22: כ״א | G22: 27 | H22: הושענא רבה
A23: =IF(AND(F23<F22,LEFT(F23,1)<>"ט"),N(A22)+1,N(A22)) -> 1 | B23: =VLOOKUP(E23,ימים,2,FALSE) -> 3 | C23: {=_xlfn.IFS(A23<>A22,1,B22=7,N(C22)+1,TRUE(),N(C22))} -> 4 | D23: =A23&"-"&C23&"-"&B23 -> 1-4-3 | E23: יום שני | F23: כ״ב | G23: 28 | H23: שמחת תורה
A24: =IF(AND(F24<F23,LEFT(F24,1)<>"ט"),N(A23)+1,N(A23)) -> 1 | B24: =VLOOKUP(E24,ימים,2,FALSE) -> 4 | C24: {=_xlfn.IFS(A24<>A23,1,B23=7,N(C23)+1,TRUE(),N(C23))} -> 4 | D24: =A24&"-"&C24&"-"&B24 -> 1-4-4 | E24: יום שלישי | F24: כ״ג | G24: 29 | H24: אסרו חג
A25: =IF(AND(F25<F24,LEFT(F25,1)<>"ט"),N(A24)+1,N(A24)) -> 1 | B25: =VLOOKUP(E25,ימים,2,FALSE) -> 5 | C25: {=_xlfn.IFS(A25<>A24,1,B24=7,N(C24)+1,TRUE(),N(C24))} -> 4 | D25: =A25&"-"&C25&"-"&B25 -> 1-4-5 | E25: יום רביעי | F25: כ״ד | G25: 30
A26: =IF(AND(F26<F25,LEFT(F26,1)<>"ט"),N(A25)+1,N(A25)) -> 1 | B26: =VLOOKUP(E26,ימים,2,FALSE) -> 6 | C26: {=_xlfn.IFS(A26<>A25,1,B25=7,N(C25)+1,TRUE(),N(C25))} -> 4 | D26: =A26&"-"&C26&"-"&B26 -> 1-4-6 | E26: יום חמישי | F26: כ״ה | G26: 1
A27: =IF(AND(F27<F26,LEFT(F27,1)<>"ט"),N(A26)+1,N(A26)) -> 1 | B27: =VLOOKUP(E27,ימים,2,FALSE) -> 7 | C27: {=_xlfn.IFS(A27<>A26,1,B26=7,N(C26)+1,TRUE(),N(C26))} -> 4 | D27: =A27&"-"&C27&"-"&B27 -> 1-4-7 | E27: יום שישי | F27: כ״ו | G27: 2
A28: =IF(AND(F28<F27,LEFT(F28,1)<>"ט"),N(A27)+1,N(A27)) -> 1 | B28: =VLOOKUP(E28,ימים,2,FALSE) -> 1 | C28: {=_xlfn.IFS(A28<>A27,1,B27=7,N(C27)+1,TRUE(),N(C27))} -> 5 | D28: =A28&"-"&C28&"-"&B28 -> 1-5-1 | E28: שבת | F28: כ״ז | G28: 3
A29: =IF(AND(F29<F28,LEFT(F29,1)<>"ט"),N(A28)+1,N(A28)) -> 1 | B29: =VLOOKUP(E29,ימים,2,FALSE) -> 2 | C29: {=_xlfn.IFS(A29<>A28,1,B28=7,N(C28)+1,TRUE(),N(C28))} -> 5 | D29: =A29&"-"&C29&"-"&B29 -> 1-5-2 | E29: יום ראשון | F29: כ״ח | G29: 4
A30: =IF(AND(F30<F29,LEFT(F30,1)<>"ט"),N(A29)+1,N(A29)) -> 1 | B30: =VLOOKUP(E30,ימים,2,FALSE) -> 3 | C30: {=_xlfn.IFS(A30<>A29,1,B29=7,N(C29)+1,TRUE(),N(C29))} -> 5 | D30: =A30&"-"&C30&"-"&B30 -> 1-5-3 | E30: יום שני | F30: כ״ט | G30: 5 | H30: ערב ראש חודש
A31: =IF(AND(F31<F30,LEFT(F31,1)<>"ט"),N(A30)+1,N(A30)) -> 1 | B31: =VLOOKUP(E31,ימים,2,FALSE) -> 4 | C31: {=_xlfn.IFS(A31<>A30,1,B30=7,N(C30)+1,TRUE(),N(C30))} -> 5 | D31: =A31&"-"&C31&"-"&B31 -> 1-5-4 | E31: יום שלישי | F31: ל׳ | G31: 6 | H31: א׳ דראש חודש
A32: =IF(AND(F32<F31,LEFT(F32,1)<>"ט"),N(A31)+1,N(A31)) -> 2 | B32: =VLOOKUP(E32,ימים,2,FALSE) -> 5 | C32: {=_xlfn.IFS(A32<>A31,1,B31=7,N(C31)+1,TRUE(),N(C31))} -> 1 | D32: =A32&"-"&C32&"-"&B32 -> 2-1-5 | E32: יום רביעי | F32: א׳ | G32: 7 | H32: ב׳ דראש חודש
A33: =IF(AND(F33<F32,LEFT(F33,1)<>"ט"),N(A32)+1,N(A32)) -> 2 | B33: =VLOOKUP(E33,ימים,2,FALSE) -> 6 | C33: {=_xlfn.IFS(A33<>A32,1,B32=7,N(C32)+1,TRUE(),N(C32))} -> 1 | D33: =A33&"-"&C33&"-"&B33 -> 2-1-6 | E33: יום חמישי | F33: ב׳ | G33: 8
A34: =IF(AND(F34<F33,LEFT(F34,1)<>"ט"),N(A33)+1,N(A33)) -> 2 | B34: =VLOOKUP(E34,ימים,2,FALSE) -> 7 | C34: {=_xlfn.IFS(A34<>A33,1,B33=7,N(C33)+1,TRUE(),N(C33))} -> 1 | D34: =A34&"-"&C34&"-"&B34 -> 2-1-7 | E34: יום שישי | F34: ג׳ | G34: 9
A35: =IF(AND(F35<F34,LEFT(F35,1)<>"ט"),N(A34)+1,N(A34)) -> 2 | B35: =VLOOKUP(E35,ימים,2,FALSE) -> 1 | C35: {=_xlfn.IFS(A35<>A34,1,B34=7,N(C34)+1,TRUE(),N(C34))} -> 2 | D35: =A35&"-"&C35&"-"&B35 -> 2-2-1 | E35: שבת | F35: ד׳ | G35: 10
A36: =IF(AND(F36<F35,LEFT(F36,1)<>"ט"),N(A35)+1,N(A35)) -> 2 | B36: =VLOOKUP(E36,ימים,2,FALSE) -> 2 | C36: {=_xlfn.IFS(A36<>A35,1,B35=7,N(C35)+1,TRUE(),N(C35))} -> 2 | D36: =A36&"-"&C36&"-"&B36 -> 2-2-2 | E36: יום ראשון | F36: ה׳ | G36: 11
A37: =IF(AND(F37<F36,LEFT(F37,1)<>"ט"),N(A36)+1,N(A36)) -> 2 | B37: =VLOOKUP(E37,ימים,2,FALSE) -> 3 | C37: {=_xlfn.IFS(A37<>A36,1,B36=7,N(C36)+1,TRUE(),N(C36))} -> 2 | D37: =A37&"-"&C37&"-"&B37 -> 2-2-3 | E37: יום שני | F37: ו׳ | G37: 12
A38: =IF(AND(F38<F37,LEFT(F38,1)<>"ט"),N(A37)+1,N(A37)) -> 2 | B38: =VLOOKUP(E38,ימים,2,FALSE) -> 4 | C38: {=_xlfn.IFS(A38<>A37,1,B37=7,N(C37)+1,TRUE(),N(C37))} -> 2 | D38: =A38&"-"&C38&"-"&B38 -> 2-2-4 | E38: יום שלישי | F38: ז׳ | G38: 13 | H38: ותן טל ומטר
A39: =IF(AND(F39<F38,LEFT(F39,1)<>"ט"),N(A38)+1,N(A38)) -> 2 | B39: =VLOOKUP(E39,ימים,2,FALSE) -> 5 | C39: {=_xlfn.IFS(A39<>A38,1,B38=7,N(C38)+1,TRUE(),N(C38))} -> 2 | D39: =A39&"-"&C39&"-"&B39 -> 2-2-5 | E39: יום רביעי | F39: ח׳ | G39: 14
A40: =IF(AND(F40<F39,LEFT(F40,1)<>"ט"),N(A39)+1,N(A39)) -> 2 | B40: =VLOOKUP(E40,ימים,2,FALSE) -> 6 | C40: {=_xlfn.IFS(A40<>A39,1,B39=7,N(C39)+1,TRUE(),N(C39))} -> 2 | D40: =A40&"-"&C40&"-"&B40 -> 2-2-6 | E40: יום חמישי | F40: ט׳ | G40: 15
...
