Workbook
Name AllLines: תבניות!$A$2:$J$59,'סכו''''ם'!$A$2:$J$70,'מפות ומפיות וחבקים'!$A$2:$J$53
Name Prices: תבניות!$J$2:$J$59,שונות!XFA1048571:XFA45
Name shon: שונות!XEY1048570:XEY44
Name tav: תבניות!$J$2:$J$59

Sheet תבניות
A1: קוד מוצר | C1: תיאור | D1: תיאור וגודל | E1: מספר יחידות בחבילה | F1: צבעים לבחירה | G1: מחיר | H1: הערות | I1: מס' יחידות להזמנה | J1: לתשלום
A2: ת | B2: 1 | C2: תבניות אלומיניום | D2: אינגליש ארוך | E2: 1 | G2: 0.6 | J2: =IF(I2*G2>0,I2*G2,"")
A3: =IF(G3>0,$A$2,"") -> ת | B3: =IF(B2<>"",IF(G3>0,B2+1,""),B1+1) -> 2 | C3: תבניות אלומיניום | D3: אינגליש ארוך | E3: 25 | G3: 10 | J3: =IF(I3*G3>0,I3*G3,"")
A4: =IF(G4>0,$A$2,"") -> ת | B4: =IF(B3<>"",IF(G4>0,B3+1,""),B2+1) -> 3 | C4: תבניות אלומיניום | D4: אינגליש קצר | E4: 1 | G4: 0.6 | J4: =IF(I4*G4>0,I4*G4,"")
A5: =IF(G5>0,$A$2,"") -> ת | B5: =IF(B4<>"",IF(G5>0,B4+1,""),B3+1) -> 4 | C5: תבניות אלומיניום | D5: חלה מלבן בינוני | E5: 1 | G5: 2 | J5: =IF(I5*G5>0,I5*G5,"")
A6: =IF(G6>0,$A$2,"") -> ת | B6: =IF(B5<>"",IF(G6>0,B5+1,""),B4+1) -> 5 | C6: תבניות אלומיניום | D6: חלה מלבן גדול | E6: 4 | G6: 9.9 | J6: =IF(I6*G6>0,I6*G6,"")
A7: =IF(G7>0,$A$2,"") -> ת | B7: =IF(B6<>"",IF(G7>0,B6+1,""),B5+1) -> 6 | C7: תבניות אלומיניום | D7: חלה אובל גדול | E7: 5 | G7: 14.5 | J7: =IF(I7*G7>0,I7*G7,"")
A8: =IF(G8>0,$A$2,"") -> ת | B8: =IF(B7<>"",IF(G8>0,B7+1,""),B6+1) -> 7 | C8: תבניות אלומיניום | D8: חלה אובל בינוני | E8: 5 | G8: 11.5 | J8: =IF(I8*G8>0,I8*G8,"")
A9: =IF(G9>0,$A$2,"") -> ת | B9: =IF(B8<>"",IF(G9>0,B8+1,""),B7+1) -> 8 | C9: תבניות אלומיניום | D9: חלה אובל קטן | E9: 12 | G9: 10.9 | J9: =IF(I9*G9>0,I9*G9,"")
A10: =IF(G10>0,$A$2,"") -> ת | B10: =IF(B9<>"",IF(G10>0,B9+1,""),B8+1) -> 9 | C10: תבניות אלומיניום | D10: מלבן 90 (A4) נמוך | E10: 1 | G10: 1.2 | J10: =IF(I10*G10>0,I10*G10,"")
A11: =IF(G11>0,$A$2,"") -> ת | B11: =IF(B10<>"",IF(G11>0,B10+1,""),B9+1) -> 10 | C11: תבניות אלומיניום | D11: מלבן 90 (A4) נמוך | E11: 12 | G11: 10 | J11: =IF(I11*G11>0,I11*G11,"")
A12: =IF(G12>0,$A$2,"") -> ת | B12: =IF(B11<>"",IF(G12>0,B11+1,""),B10+1) -> 11 | C12: תבניות אלומיניום | D12: בינוני - 105 | E12: 1 | G12: 1.2 | J12: =IF(I12*G12>0,I12*G12,"")
A13: =IF(G13>0,$A$2,"") -> ת | B13: =IF(B12<>"",IF(G13>0,B12+1,""),B11+1) -> 12 | C13: תבניות אלומיניום | D13: בינוני - 105 | E13: 12 | G13: 10 | J13: =IF(I13*G13>0,I13*G13,"")
A14: =IF(G14>0,$A$2,"") -> ת | B14: =IF(B13<>"",IF(G14>0,B13+1,""),B12+1) -> 13 | C14: תבניות אלומיניום | D14: גדול - 210 | E14: 1 | G14: 2.5 | J14: =IF(I14*G14>0,I14*G14,"")
... A32: =IF(G32>0,$A$2,"") -> ת | B32: =IF(B31<>"",IF(G32>0,B31+1,""),B30+1) -> 31 | C32: תבניות אלומיניום | D32: קוקי שיט | E32: 1 | G32: 4 | J32: =IF(I32*G32>0,I32*G32,"")
A33: =IF(G33>0,$A$2,"") | B33: =IF(B32<>"",IF(G33>0,B32+1,""),B31+1) | J33: =IF(I33*G33>0,I33*G33,"")
A34: =IF(G34>0,$A$2,"") -> ת | B34: =IF(B33<>"",IF(G34>0,B33+1,""),B32+1) -> 32 | C34: תבניות אלומיניום | D34: מכסי קרטון לתבנית מלבן קטן | E34: 1 | G34: 0.3 | J34: =IF(I34*G34>0,I34*G34,"")
A35: =IF(G35>0,$A$2,"") -> ת | B35: =IF(B34<>"",IF(G35>0,B34+1,""),B33+1) -> 33 | C35: תבניות אלומיניום | D35: מכסי קרטון לתבנית מלבן בינוני | E35: 1 | G35: 0.4 | J35: =IF(I35*G35>0,I35*G35,"")
A36: =IF(G36>0,$A$2,"") -> ת | B36: =IF(B35<>"",IF(G36>0,B35+1,""),B34+1) -> 34 | C36: תבניות אלומיניום | D36: מכסי קרטון לתבנית מלבן גדול | E36: 1 | G36: 0.5 | J36: =IF(I36*G36>0,I36*G36,"")
A37: =IF(G37>0,$A$2,"") -> ת | B37: =IF(B36<>"",IF(G37>0,B36+1,""),B35+1) -> 35 | C37: תבניות אלומיניום | D37: מכסי אלומיניום לתבנית מלבן לגסטרונום | E37: 1 | G37: 3.5 | J37: =IF(I37*G37>0,I37*G37,"")
A38: =IF(G38>0,$A$2,"") -> ת | B38: =IF(B37<>"",IF(G38>0,B37+1,""),B36+1) -> 36 | C38: תבניות אלומיניום | D38: מכסי אלומיניום לתבנית 100 מלבן | E38: 1 | G38: 2 | J38: =IF(I38*G38>0,I38*G38,"")
A39: =IF(G39>0,$A$2,"") -> ת | B39: =IF(B38<>"",IF(G39>0,B38+1,""),B37+1) -> 37 | C39: תבניות אלומיניום | D39: מכסי PVC לתבנית עגולה קטן | E39: 1 | G39: 0.8 | J39: =IF(I39*G39>0,I39*G39,"")
A40: =IF(G40>0,$A$2,"") -> ת | B40: =IF(B39<>"",IF(G40>0,B39+1,""),B38+1) -> 38 | C40: תבניות אלומיניום | D40: מכסי PVC לתבנית עגולה גדול | E40: 1 | G40: 1.5 | J40: =IF(I40*G40>0,I40*G40,"")
A41: =IF(G41>0,$A$2,"") -> ת | B41: =IF(B40<>"",IF(G41>0,B40+1,""),B39+1) -> 39 | C41: תבניות אלומיניום | D41: מכסי PVC לתבנית 100 מלבן | E41: 1 | G41: 3.5 | J41: =IF(I41*G41>0,I41*G41,"")
A42: =IF(G42>0,$A$2,"") -> ת | B42: =IF(B41<>"",IF(G42>0,B41+1,""),B40+1) -> 40 | C42: תבניות אלומיניום | D42: מכסי PVC לתבנית מלבן קטן | E42: 1 | G42: 0.7 | J42: =IF(I42*G42>0,I42*G42,"")
A43: =IF(G43>0,$A$2,"") | B43: =IF(B42<>"",IF(G43>0,B42+1,""),B41+1) | J43: =IF(I43*G43>0,I43*G43,"")
A44: =IF(G44>0,$A$2,"") -> ת | B44: =IF(B43<>"",IF(G44>0,B43+1,""),B42+1) -> 41 | C44: תבניות אלומיניום | D44: סיר ח"פ קטן כ-2.5 ליטר | E44: 1 | G44: 4.9 | J44: =IF(I44*G44>0,I44*G44,"")
A45: =IF(G45>0,$A$2,"") -> ת | B45: =IF(B44<>"",IF(G45>0,B44+1,""),B43+1) -> 42 | C45: תבניות אלומיניום | D45: סיר ח"פ בינוני כ-4 ליטר | E45: 1 | G45: 7.9 | J45: =IF(I45*G45>0,I45*G45,"")
A46: =IF(G46>0,$A$2,"") -> ת | B46: =IF(B45<>"",IF(G46>0,B45+1,""),B44+1) -> 43 | C46: תבניות אלומיניום | D46: סיר ח"פ גדול כ-6 ליטר | E46: 1 | G46: 13.9 | J46: =IF(I46*G46>0,I46*G46,"")
A47: =IF(G47>0,$A$2,"") -> ת | B47: =IF(B46<>"",IF(G47>0,B46+1,""),B45+1) -> 44 | C47: תבניות אלומיניום | D47: סיר ח"פ ענק כ-7.4 ליטר | E47: 1 | G47: 16.9 | J47: =IF(I47*G47>0,I47*G47,"")
A48: =IF(G48>0,$A$2,"") -> ת | B48: =IF(B47<>"",IF(G48>0,B47+1,""),B46+1) -> 45 | C48: תבניות אלומיניום | D48: סיר ח"פ ענק 4 ליטר | E48: 1 | G48: 7.9 | J48: =IF(I48*G48>0,I48*G48,"")
A49: =IF(G49>0,$A$2,"") | B49: =IF(B48<>"",IF(G49>0,B48+1,""),B47+1) | J49: =IF(I49*G49>0,I49*G49,"")
A50: =IF(G50>0,$A$2,"") -> ת | B50: =IF(B49<>"",IF(G50>0,B49+1,""),B48+1) -> 46 | C50: תבניות קרטון | D50: מלבן 90 (A4) נמוך | E50: 1 | G50: 2.9 | J50: =IF(I50*G50>0,I50*G50,"")
A51: =IF(G51>0,$A$2,"") -> ת | B51: =IF(B50<>"",IF(G51>0,B50+1,""),B49+1) -> 47 | C51: תבניות קרטון | D51: עגול גדול | E51: 1 | G51: 2.9 | J51: =IF(I51*G51>0,I51*G51,"")
A52: =IF(G52>0,$A$2,"") -> ת | B52: =IF(B51<>"",IF(G52>0,B51+1,""),B50+1) -> 48 | C52: תבניות קרטון | D52: עגול בינוני | E52: 1 | G52: 2.9 | J52: =IF(I52*G52>0,I52*G52,"")
A53: =IF(G53>0,$A$2,"") -> ת | B53: =IF(B52<>"",IF(G53>0,B52+1,""),B51+1) -> 49 | C53: תבניות קרטון | D53: עגול קטן | E53: 1 | G53: 2.9 | J53: =IF(I53*G53>0,I53*G53,"")
A54: =IF(G54>0,$A$2,"") -> ת | B54: =IF(B53<>"",IF(G54>0,B53+1,""),B52+1) -> 50 | C54: תבניות קרטון | D54: עגול סבתא | E54: 1 | G54: 2.9 | J54: =IF(I54*G54>0,I54*G54,"")
A55: =IF(G55>0,$A$2,"") -> ת | B55: =IF(B54<>"",IF(G55>0,B54+1,""),B53+1) -> 51 | C55: תבניות קרטון | D55: אינגליש ארוך | E55: 4 | G55: 5.9 | J55: =IF(I55*G55>0,I55*G55,"")
A56: =IF(G56>0,$A$2,"") -> ת | B56: =IF(B55<>"",IF(G56>0,B55+1,""),B54+1) -> 52 | C56: תבניות קרטון | D56: אינגליש ארוך + מכסה שקוף | E56: 5 | G56: 13.9 | J56: =IF(I56*G56>0,I56*G56,"")
A57: =IF(G57>0,$A$2,"") -> ת | B57: =IF(B56<>"",IF(G57>0,B56+1,""),B55+1) -> 53 | C57: תבניות קרטון | D57: אינגליש בינוני רחב | E57: 3 | G57: 5.9 | J57: =IF(I57*G57>0,I57*G57,"")
...

Sheet סכו''ם
A1: קוד מוצר | C1: תיאור | E1: מספר יח' בחבילה | F1: צבעים לבחירה | G1: מחיר | H1: הערות | I1: מס' יחידות להזמנה | J1: לתשלום
A2: ס | B2: 1 | C2: סכו"ם פשוט | D2: מזלג | E2: 100 | F2: לבן | G2: 4.9 | J2: =IF(I2*G2>0,I2*G2,"")
A3: =IF(G3>0,$A$2,"") -> ס | B3: =IF(B2<>"",IF(G3>0,B2+1,""),B1+1) -> 2 | C3: סכו"ם פשוט | D3: כף | E3: 100 | F3: לבן | G3: 4.9 | J3: =IF(I3*G3>0,I3*G3,"")
A4: =IF(G4>0,$A$2,"") -> ס | B4: =IF(B3<>"",IF(G4>0,B3+1,""),B2+1) -> 3 | C4: סכו"ם פשוט | D4: כפית | E4: 100 | F4: לבן | G4: 4.9 | J4: =IF(I4*G4>0,I4*G4,"")
A5: =IF(G5>0,$A$2,"") -> ס | B5: =IF(B4<>"",IF(G5>0,B4+1,""),B3+1) -> 4 | C5: סכו"ם פשוט | D5: סכין | E5: 100 | F5: לבן | G5: 4.9 | J5: =IF(I5*G5>0,I5*G5,"")
A6: =IF(G6>0,$A$2,"") -> ס | B6: =IF(B5<>"",IF(G6>0,B5+1,""),B4+1) -> 5 | C6: סכו"ם פשוט | D6: כל הכלים | E6: 5 חבילות | F6: לבן | G6: 22 | J6: =IF(I6*G6>0,I6*G6,"")
A7: =IF(G7>0,$A$2,"") | B7: =IF(B6<>"",IF(G7>0,B6+1,""),B5+1) | J7: =IF(I7*G7>0,I7*G7,"")
A8: =IF(G8>0,$A$2,"") -> ס | B8: =IF(B7<>"",IF(G8>0,B7+1,""),B6+1) -> 6 | C8: סכו"ם נצנץ | D8: מזלג | E8: 40 | F8: כסף,זהב | G8: 5.9 | J8: =IF(I8*G8>0,I8*G8,"")
A9: =IF(G9>0,$A$2,"") -> ס | B9: =IF(B8<>"",IF(G9>0,B8+1,""),B7+1) -> 7 | C9: סכו"ם נצנץ | D9: כף | E9: 40 | F9: כסף,זהב | G9: 5.9 | J9: =IF(I9*G9>0,I9*G9,"")
A10: =IF(G10>0,$A$2,"") -> ס | B10: =IF(B9<>"",IF(G10>0,B9+1,""),B8+1) -> 8 | C10: סכו"ם נצנץ | D10: כפית | E10: 40 | F10: כסף,זהב | G10: 5.9 | J10: =IF(I10*G10>0,I10*G10,"")
A11: =IF(G11>0,$A$2,"") -> ס | B11: =IF(B10<>"",IF(G11>0,B10+1,""),B9+1) -> 9 | C11: סכו"ם נצנץ | D11: סכין | E11: 40 | F11: כסף,זהב | G11: 5.9 | J11: =IF(I11*G11>0,I11*G11,"")
A12: =IF(G12>0,$A$2,"") | B12: =IF(B11<>"",IF(G12>0,B11+1,""),B10+1) | J12: =IF(I12*G12>0,I12*G12,"")
A13: =IF(G13>0,$A$2,"") -> ס | B13: =IF(B12<>"",IF(G13>0,B12+1,""),B11+1) -> 10 | C13: סכו"ם קשיח | D13: מזלג | E13: 100 | F13: שקוף,לבן,כסף,זהב,קרם | G13: 10.9 | J13: =IF(I13*G13>0,I13*G13,"")
A14: =IF(G14>0,$A$2,"") -> ס | B14: =IF(B13<>"",IF(G14>0,B13+1,""),B12+1) -> 11 | C14: סכו"ם קשיח | D14: כף | E14: 100 | F14: שקוף,לבן,כסף,זהב,קרם | G14: 10.9 | J14: =IF(I14*G14>0,I14*G14,"")
A15: =IF(G15>0,$A$2,"") -> ס | B15: =IF(B14<>"",IF(G15>0,B14+1,""),B13+1) -> 12 | C15: סכו"ם קשיח | D15: כפית | E15: 100 | F15: שקוף,לבן,כסף,זהב,קרם | G15: 10.9 | J15: =IF(I15*G15>0,I15*G15,"")
A16: =IF(G16>0,$A$2,"") -> ס | B16: =IF(B15<>"",IF(G16>0,B15+1,""),B14+1) -> 13 | C16: סכו"ם קשיח | D16: סכין | E16: 100 | F16: שקוף,לבן,כסף,זהב,קרם | G16: 10.9 | J16: =IF(I16*G16>0,I16*G16,"")
A17: =IF(G17>0,$A$2,"") | B17: =IF(B16<>"",IF(G17>0,B16+1,""),B15+1) | J17: =IF(I17*G17>0,I17*G17,"")
A18: =IF(G18>0,$A$2,"") -> ס | B18: =IF(B17<>"",IF(G18>0,B17+1,""),B16+1) -> 14 | C18: סכו"ם שיק | D18: מזלג | E18: 50 | F18: שקוף,זהב,כסף,קרם | G18: 8.9 | J18: =IF(I18*G18>0,I18*G18,"")
A19: =IF(G19>0,$A$2,"") -> ס | B19: =IF(B18<>"",IF(G19>0,B18+1,""),B17+1) -> 15 | C19: סכו"ם שיק | D19: כף | E19: 50 | F19: שקוף,זהב,כסף,קרם | G19: 8.9 | J19: =IF(I19*G19>0,I19*G19,"")
A20: =IF(G20>0,$A$2,"") -> ס | B20: =IF(B19<>"",IF(G20>0,B19+1,""),B18+1) -> 16 | C20: סכו"ם שיק | D20: כפית | E20: 50 | F20: שקוף,זהב,כסף,קרם | G20: 6 | J20: =IF(I20*G20>0,I20*G20,"")
A21: =IF(G21>0,$A$2,"") -> ס | B21: =IF(B20<>"",IF(G21>0,B20+1,""),B19+1) -> 17 | C21: סכו"ם שיק | D21: סכין | E21: 50 | F21: שקוף,זהב,כסף,קרם | G21: 8.9 | J21: =IF(I21*G21>0,I21*G21,"")
A22: =IF(G22>0,$A$2,"") | B22: =IF(B21<>"",IF(G22>0,B21+1,""),B20+1) | J22: =IF(I22*G22>0,I22*G22,"")
A23: =IF(G23>0,$A$2,"") -> ס | B23: =IF(B22<>"",IF(G23>0,B22+1,""),B21+1) -> 18 | C23: סכו"ם תבניכל | D23: מזלג | E23: 50 | F23: שקוף,זהב,כסף,קרם,לבן | G23: 5.9 | J23: =IF(I23*G23>0,I23*G23,"")
A24: =IF(G24>0,$A$2,"") -> ס | B24: =IF(B23<>"",IF(G24>0,B23+1,""),B22+1) -> 19 | C24: סכו"ם תבניכל | D24: כף | E24: 50 | F24: שקוף,זהב,כסף,קרם,לבן | G24: 5.9 | J24: =IF(I24*G24>0,I24*G24,"")
A25: =IF(G25>0,$A$2,"") -> ס | B25: =IF(B24<>"",IF(G25>0,B24+1,""),B23+1) -> 20 | C25: סכו"ם תבניכל | D25: כפית | E25: 50 | F25: שקוף,זהב,כסף,קרם,לבן | G25: 3.9 | J25: =IF(I25*G25>0,I25*G25,"")
A26: =IF(G26>0,$A$2,"") -> ס | B26: =IF(B25<>"",IF(G26>0,B25+1,""),B24+1) -> 21 | C26: סכו"ם תבניכל | D26: סכין | E26: 50 | F26: שקוף,זהב,כסף,קרם,לבן | G26: 5.9 | J26: =IF(I26*G26>0,I26*G26,"")
A27: =IF(G27>0,$A$2,"") | B27: =IF(B26<>"",IF(G27>0,B26+1,""),B25+1) | J27: =IF(I27*G27>0,I27*G27,"")
A28: =IF(G28>0,$A$2,"") -> ס | B28: =IF(B27<>"",IF(G28>0,B27+1,""),B26+1) -> 22 | C28: סכו"ם מוזהב ענתיק | D28: מזלג | E28: 12 | F28: זהב | G28: 6.9 | J28: =IF(I28*G28>0,I28*G28,"")
A29: =IF(G29>0,$A$2,"") -> ס | B29: =IF(B28<>"",IF(G29>0,B28+1,""),B27+1) -> 23 | C29: סכו"ם מוזהב ענתיק | D29: כף | E29: 12 | F29: זהב | G29: 6.9 | J29: =IF(I29*G29>0,I29*G29,"")
A30: =IF(G30>0,$A$2,"") -> ס | B30: =IF(B29<>"",IF(G30>0,B29+1,""),B28+1) -> 24 | C30: סכו"ם מוזהב ענתיק | D30: כפית | E30: 12 | F30: זהב | G30: 6.9 | J30: =IF(I30*G30>0,I30*G30,"")
A31: =IF(G31>0,$A$2,"") -> ס | B31: =IF(B30<>"",IF(G31>0,B30+1,""),B29+1) -> 25 | C31: סכו"ם מוזהב ענתיק | D31: סכין | E31: 12 | F31: זהב | G31: 6.9 | J31: =IF(I31*G31>0,I31*G31,"")
A32: =IF(G32>0,$A$2,"") | B32: =IF(B31<>"",IF(G32>0,B31+1,""),B30+1) | J32: =IF(I32*G32>0,I32*G32,"")
A33: =IF(G33>0,$A$2,"") -> ס | B33: =IF(B32<>"",IF(G33>0,B32+1,""),B31+1) -> 26 | C33: סכו"ם מוכסף | D33: מזלג | E33: 20 | F33: כסף | G33: 6.5 | J33: =IF(I33*G33>0,I33*G33,"")
A34: =IF(G34>0,$A$2,"") -> ס | B34: =IF(B33<>"",IF(G34>0,B33+1,""),B32+1) -> 27 | C34: סכו"ם מוכסף | D34: כף | E34: 20 | F34: כסף | G34: 6.5 | J34: =IF(I34*G34>0,I34*G34,"")
A35: =IF(G35>0,$A$2,"") -> ס | B35: =IF(B34<>"",IF(G35>0,B34+1,""),B33+1) -> 28 | C35: סכו"ם מוכסף | D35: כפית | E35: 20 | F35: כסף | G35: 6.5 | J35: =IF(I35*G35>0,I35*G35,"")
A36: =IF(G36>0,$A$2,"") -> ס | B36: =IF(B35<>"",IF(G36>0,B35+1,""),B34+1) -> 29 | C36: סכו"ם מוכסף | D36: סכין | E36: 20 | F36: כסף | G36: 6.5 | J36: =IF(I36*G36>0,I36*G36,"")
A37: =IF(G37>0,$A$2,"") -> ס | B37: =IF(B36<>"",IF(G37>0,B36+1,""),B35+1) -> 30 | C37: סכו"ם מוכסף | D37: כל הכלים | E37: 2 חבילות | F37: כסף | G37: 10 | J37: =IF(I37*G37>0,I37*G37,"")
A38: =IF(G38>0,$A$2,"") | B38: =IF(B37<>"",IF(G38>0,B37+1,""),B36+1) | J38: =IF(I38*G38>0,I38*G38,"")
A39: =IF(G39>0,$A$2,"") -> ס | B39: =IF(B38<>"",IF(G39>0,B38+1,""),B37+1) -> 31 | C39: סכו"ם וינטאג' | D39: מזלג | E39: 10 | F39: קרם,לבן,אפור | G39: 5.9 | J39: =IF(I39*G39>0,I39*G39,"")
A40: =IF(G40>0,$A$2,"") -> ס | B40: =IF(B39<>"",IF(G40>0,B39+1,""),B38+1) -> 32 | C40: סכו"ם וינטאג' | D40: כף | E40: 10 | F40: קרם,לבן,אפור | G40: 5.9 | J40: =IF(I40*G40>0,I40*G40,"")
...

Sheet מפות ומפיות וחבקים
A1: קוד מוצר | C1: תיאור | E1: מספר יח' בחבילה | F1: צבעים לבחירה | G1: מחיר | H1: הערות | I1: מס' יחידות להזמנה | J1: לתשלום
A2: מ | B2: 1 | C2: מפות | D2: אלבד מקופל 1.2/2.7 | E2: 1 | F2: מגוון צבעים | G2: 7.9 | J2: =IF(I2*G2>0,I2*G2,"")
A3: =IF(G3>0,$A$2,"") -> מ | B3: =IF(B2<>"",IF(G3>0,B2+1,""),B1+1) -> 2 | C3: מפות | D3: אלבד עגול 1.80 | E3: 1 | F3: מגוון צבעים | G3: 7.9 | J3: =IF(I3*G3>0,I3*G3,"")
A4: =IF(G4>0,$A$2,"") -> מ | B4: =IF(B3<>"",IF(G4>0,B3+1,""),B2+1) -> 3 | C4: מפות | D4: מובלט מקופל 1.37/2.74 | E4: 1 | F4: כסף,לבן,קרם | G4: 12.9 | J4: =IF(I4*G4>0,I4*G4,"")
A5: =IF(G5>0,$A$2,"") -> מ | B5: =IF(B4<>"",IF(G5>0,B4+1,""),B3+1) -> 4 | C5: מפות | D5: מפה + רנר מקופלת | E5: 1 | F5: כסף וזהב | G5: 8.9 | J5: =IF(I5*G5>0,I5*G5,"")
A6: =IF(G6>0,$A$2,"") -> מ | B6: =IF(B5<>"",IF(G6>0,B5+1,""),B4+1) -> 5 | C6: מפות | D6: מפה + רנר מקופלת | E6: 1 | F6: מגוון צבעים | G6: 7.5 | J6: =IF(I6*G6>0,I6*G6,"")
A7: =IF(G7>0,$A$2,"") -> מ | B7: =IF(B6<>"",IF(G7>0,B6+1,""),B5+1) -> 6 | C7: מפות | D7: אלבד לשולחן אבירים 2.40/1.90 | E7: 1 | F7: שחור,זהב | G7: 12.9 | J7: =IF(I7*G7>0,I7*G7,"")
A8: =IF(G8>0,$A$2,"") -> מ | B8: =IF(B7<>"",IF(G8>0,B7+1,""),B6+1) -> 7 | C8: מפות | D8: גליל אלבד 25 מטר | E8: 1 | F8: מגוון צבעים | G8: 28.9 | J8: =IF(I8*G8>0,I8*G8,"")
A9: =IF(G9>0,$A$2,"") -> מ | B9: =IF(B8<>"",IF(G9>0,B8+1,""),B7+1) -> 8 | C9: מפות | D9: גליל אלבד 100 מטר | E9: 1 | F9: מגוון צבעים | G9: 110 | J9: =IF(I9*G9>0,I9*G9,"")
A10: =IF(G10>0,$A$2,"") -> מ | B10: =IF(B9<>"",IF(G10>0,B9+1,""),B8+1) -> 9 | C10: מפות | D10: גליל אלבד מוטבע | E10: 1 | F10: מגוון צבעים | G10: 33.9 | J10: =IF(I10*G10>0,I10*G10,"")
A11: =IF(G11>0,$A$2,"") -> מ | B11: =IF(B10<>"",IF(G11>0,B10+1,""),B9+1) -> 10 | C11: מפות | D11: גליל מודפס עם רנר | E11: 1 | F11: מגוון צבעים | G11: 45 | J11: =IF(I11*G11>0,I11*G11,"")
A12: =IF(G12>0,$A$2,"") | B12: =IF(B11<>"",IF(G12>0,B11+1,""),B10+1) | J12: =IF(I12*G12>0,I12*G12,"")
A13: =IF(G13>0,$A$2,"") -> מ | B13: =IF(B12<>"",IF(G13>0,B12+1,""),B11+1) -> 11 | C13: מפות נילון | D13: 1/6 דק | E13: 1 | G13: 4.5 | J13: =IF(I13*G13>0,I13*G13,"")
A14: =IF(G14>0,$A$2,"") -> מ | B14: =IF(B13<>"",IF(G14>0,B13+1,""),B12+1) -> 12 | C14: מפות נילון | D14: 1/8 דק | E14: 1 | G14: 4.5 | J14: =IF(I14*G14>0,I14*G14,"")
A15: =IF(G15>0,$A$2,"") -> מ | B15: =IF(B14<>"",IF(G15>0,B14+1,""),B13+1) -> 13 | C15: מפות נילון | D15: 1/6 עבה | E15: 1 | G15: 12.9 | J15: =IF(I15*G15>0,I15*G15,"")
A16: =IF(G16>0,$A$2,"") -> מ | B16: =IF(B15<>"",IF(G16>0,B15+1,""),B14+1) -> 14 | C16: מפות נילון | D16: 1/8 עבה | E16: 1 | G16: 12.9 | J16: =IF(I16*G16>0,I16*G16,"")
A17: =IF(G17>0,$A$2,"") -> מ | B17: =IF(B16<>"",IF(G17>0,B16+1,""),B15+1) -> 15 | C17: מפות נילון | D17: גליל דק לבן 15 מטר | E17: 1 | G17: 5.5 | J17: =IF(I17*G17>0,I17*G17,"")
A18: =IF(G18>0,$A$2,"") -> מ | B18: =IF(B17<>"",IF(G18>0,B17+1,""),B16+1) -> 16 | C18: מפות נילון | D18: גליל עבה - 45 מטר | E18: 1 | G18: 20.9 | J18: =IF(I18*G18>0,I18*G18,"")
A19: =IF(G19>0,$A$2,"") -> מ | B19: =IF(B18<>"",IF(G19>0,B18+1,""),B17+1) -> 17 | C19: מפות נילון | D19: גליל עבה - 45 מטר | E19: 2 חבילות | G19: 30 | J19: =IF(I19*G19>0,I19*G19,"")
A20: =IF(G20>0,$A$2,"") -> מ | B20: =IF(B19<>"",IF(G20>0,B19+1,""),B18+1) -> 18 | C20: מפות נילון | D20: גליל עבה במיוחד - 45 מטר | E20: 1 | G20: 38.9 | J20: =IF(I20*G20>0,I20*G20,"")
A21: =IF(G21>0,$A$2,"") -> מ | B21: =IF(B20<>"",IF(G21>0,B20+1,""),B19+1) -> 19 | C21: מפות נילון | D21: גליל עבה במיוחד 50/1.6 | E21: 1 | G21: 83.9 | J21: =IF(I21*G21>0,I21*G21,"")
A22: =IF(G22>0,$A$2,"") -> מ | B22: =IF(B21<>"",IF(G22>0,B21+1,""),B20+1) -> 20 | C22: מפות נילון | D22: גליל עבה במיוחד 10ק"ג/1.6 רוחב | E22: 1 | G22: 172 | J22: =IF(I22*G22>0,I22*G22,"")
A23: =IF(G23>0,$A$2,"") | B23: =IF(B22<>"",IF(G23>0,B22+1,""),B21+1) | J23: =IF(I23*G23>0,I23*G23,"")
A24: =IF(G24>0,$A$2,"") -> מ | B24: =IF(B23<>"",IF(G24>0,B23+1,""),B22+1) -> 21 | C24: מפיות | D24: מדוגם נפקינג | E24: 1 | G24: 6.5 | J24: =IF(I24*G24>0,I24*G24,"")
A25: =IF(G25>0,$A$2,"") -> מ | B25: =IF(B24<>"",IF(G25>0,B24+1,""),B23+1) -> 22 | C25: מפיות | D25: מדוגם נפקינג | E25: 2 חבילות | G25: 10 | J25: =IF(I25*G25>0,I25*G25,"")
A26: =IF(G26>0,$A$2,"") -> מ | B26: =IF(B25<>"",IF(G26>0,B25+1,""),B24+1) -> 23 | C26: מפיות | D26: צבע אחיד חד שכבתי 1/100 | E26: 1 | F26: צבעים בהירים | G26: 5.9 | J26: =IF(I26*G26>0,I26*G26,"")
A27: =IF(G27>0,$A$2,"") -> מ | B27: =IF(B26<>"",IF(G27>0,B26+1,""),B25+1) -> 24 | C27: מפיות | D27: צבע אחיד חד שכבתי 1/100 | E27: 1 | F27: צבעים כהים | G27: 7.9 | J27: =IF(I27*G27>0,I27*G27,"")
A28: =IF(G28>0,$A$2,"") -> מ | B28: =IF(B27<>"",IF(G28>0,B27+1,""),B26+1) -> 25 | C28: מפיות | D28: צבע אחיד דו שכבתי 1/50 | E28: 1 | G28: 7.9 | J28: =IF(I28*G28>0,I28*G28,"")
A29: =IF(G29>0,$A$2,"") -> מ | B29: =IF(B28<>"",IF(G29>0,B28+1,""),B27+1) -> 26 | C29: מפיות | D29: חגים | G29: 6.5 | J29: =IF(I29*G29>0,I29*G29,"")
A30: =IF(G30>0,$A$2,"") | B30: =IF(B29<>"",IF(G30>0,B29+1,""),B28+1) | J30: =IF(I30*G30>0,I30*G30,"")
A31: =IF(G31>0,$A$2,"") -> מ | B31: =IF(B30<>"",IF(G31>0,B30+1,""),B29+1) -> 27 | C31: חבקים | D31: חבק פנינים | E31: 6 | F31: זהב,כסף, פנינה | G31: 24.5 | J31: =IF(I31*G31>0,I31*G31,"")
A32: =IF(G32>0,$A$2,"") -> מ | B32: =IF(B31<>"",IF(G32>0,B31+1,""),B30+1) -> 28 | C32: חבקים | D32: חבק פרח פנינה | E32: 6 | F32: זהב,כסף | G32: 13.9 | J32: =IF(I32*G32>0,I32*G32,"")
A33: =IF(G33>0,$A$2,"") -> מ | B33: =IF(B32<>"",IF(G33>0,B32+1,""),B31+1) -> 29 | C33: חבקים | D33: חבק כתר עלה | E33: 6 | F33: זהב,כסף | G33: 11.9 | J33: =IF(I33*G33>0,I33*G33,"")
A34: =IF(G34>0,$A$2,"") -> מ | B34: =IF(B33<>"",IF(G34>0,B33+1,""),B32+1) -> 30 | C34: חבקים | D34: חבק עלה | E34: 6 | F34: זהב,כסף, ברונזה | G34: 11.9 | J34: =IF(I34*G34>0,I34*G34,"")
A35: =IF(G35>0,$A$2,"") -> מ | B35: =IF(B34<>"",IF(G35>0,B34+1,""),B33+1) -> 31 | C35: חבקים | D35: חבק טבעת יהלום | E35: 6 | F35: זהב,כסף,ברונזה | G35: 19.9 | J35: =IF(I35*G35>0,I35*G35,"")
A36: =IF(G36>0,$A$2,"") -> מ | B36: =IF(B35<>"",IF(G36>0,B35+1,""),B34+1) -> 32 | C36: חבקים | D36: חבק פרח | E36: 9 | F36: זהב,כסף | G36: 9.9 | J36: =IF(I36*G36>0,I36*G36,"")
A37: =IF(G37>0,$A$2,"") -> מ | B37: =IF(B36<>"",IF(G37>0,B36+1,""),B35+1) -> 33 | C37: חבקים | D37: חבק פרח צבעוני | E37: 6 | F37: כחול,אפור,ורוד | G37: 9.9 | J37: =IF(I37*G37>0,I37*G37,"")
A38: =IF(G38>0,$A$2,"") -> מ | B38: =IF(B37<>"",IF(G38>0,B37+1,""),B36+1) -> 34 | C38: חבקים | D38: חבק סיכה פרח | E38: 6 | F38: זהב,כסף | G38: 15.9 | J38: =IF(I38*G38>0,I38*G38,"")
A39: =IF(G39>0,$A$2,"") -> מ | B39: =IF(B38<>"",IF(G39>0,B38+1,""),B37+1) -> 35 | C39: חבקים | D39: חבק פרח פישתן | E39: 6 | F39: ורוד, בורדו | G39: 13.9 | J39: =IF(I39*G39>0,I39*G39,"")
A40: =IF(G40>0,$A$2,"") | B40: =IF(B39<>"",IF(G40>0,B39+1,""),B38+1) | J40: =IF(I40*G40>0,I40*G40,"")
...

Sheet שונות
A1: קוד מוצר | C1: תיאור | E1: מספר יח' בחבילה | F1: צבעים לבחירה | G1: מחיר | H1: הערות | I1: מס' יחידות להזמנה | J1: לתשלום
A2: ש | B2: 1 | C2: תחתית לצלחת | D2: דמוי נחש | E2: 1 | F2: כסף, זהב | G2: 16.9 | J2: =IF(I2*G2>0,I2*G2,"")
A3: =IF(G3>0,$A$2,"") -> ש | B3: =IF(B2<>"",IF(G3>0,B2+1,""),B1+1) -> 2 | C3: תחתית לצלחת | D3: שרשרת פנינים זהב | E3: 1 | F3: שקוף | G3: 20.9 | J3: =IF(I3*G3>0,I3*G3,"")
A4: =IF(G4>0,$A$2,"") -> ש | B4: =IF(B3<>"",IF(G4>0,B3+1,""),B2+1) -> 3 | C4: תחתית לצחלת | D4: פרח מחוספס | E4: 1 | F4: כסף, זהב, רוזגולד | G4: 19.9 | J4: =IF(I4*G4>0,I4*G4,"")
A5: =IF(G5>0,$A$2,"") -> ש | B5: =IF(B4<>"",IF(G5>0,B4+1,""),B3+1) -> 4 | C5: תחתית לצלחת | D5: פסיפס מרובע | E5: 1 | F5: כסף, זהב | G5: 19.9 | J5: =IF(I5*G5>0,I5*G5,"")
A6: =IF(G6>0,$A$2,"") -> ש | B6: =IF(B5<>"",IF(G6>0,B5+1,""),B4+1) -> 5 | C6: תחתית לצלחת | D6: פרח עגול | E6: 1 | F6: כסף, זהב | G6: 16.9 | J6: =IF(I6*G6>0,I6*G6,"")
A7: =IF(G7>0,$A$2,"") -> ש | B7: =IF(B6<>"",IF(G7>0,B6+1,""),B5+1) -> 6 | C7: פלייסמנט | D7: פסים | E7: 1 | F7: כסף,זהב, נחושת | G7: 9.9 | J7: =IF(I7*G7>0,I7*G7,"")
A8: =IF(G8>0,$A$2,"") -> ש | B8: =IF(B7<>"",IF(G8>0,B7+1,""),B6+1) -> 7 | C8: פלייסמנט | D8: פרחים/חמניה | E8: 1 | F8: כסף, זהב | G8: 9.9 | J8: =IF(I8*G8>0,I8*G8,"")
A9: =IF(G9>0,$A$2,"") | B9: =IF(B8<>"",IF(G9>0,B8+1,""),B7+1) | J9: =IF(I9*G9>0,I9*G9,"")
A10: =IF(G10>0,$A$2,"") -> ש | B10: =IF(B9<>"",IF(G10>0,B9+1,""),B8+1) -> 8 | C10: מוצרי נייר | D10: משי טישיו | E10: 5 | G10: 11 | J10: =IF(I10*G10>0,I10*G10,"")
A11: =IF(G11>0,$A$2,"") -> ש | B11: =IF(B10<>"",IF(G11>0,B10+1,""),B9+1) -> 9 | C11: מוצרי נייר | D11: נייר חתוך לשבת | E11: 10 | G11: 20 | J11: =IF(I11*G11>0,I11*G11,"")
A12: =IF(G12>0,$A$2,"") -> ש | B12: =IF(B11<>"",IF(G12>0,B11+1,""),B10+1) -> 10 | C12: מוצרי נייר | D12: צץ רץ | G12: 8.5 | J12: =IF(I12*G12>0,I12*G12,"")
A13: =IF(G13>0,$A$2,"") | B13: =IF(B12<>"",IF(G13>0,B12+1,""),B11+1) | J13: =IF(I13*G13>0,I13*G13,"")
A14: =IF(G14>0,$A$2,"") -> ש | B14: =IF(B13<>"",IF(G14>0,B13+1,""),B12+1) -> 11 | C14: מנג'טים | D14: קטן | F14: חום | G14: 6.9 | J14: =IF(I14*G14>0,I14*G14,"")
A15: =IF(G15>0,$A$2,"") -> ש | B15: =IF(B14<>"",IF(G15>0,B14+1,""),B13+1) -> 12 | C15: מנג'טים | D15: "2 | F15: חום | G15: 7.9 | J15: =IF(I15*G15>0,I15*G15,"")
A16: =IF(G16>0,$A$2,"") -> ש | B16: =IF(B15<>"",IF(G16>0,B15+1,""),B14+1) -> 13 | C16: מנג'טים | D16: "3 | F16: חום | G16: 8.9 | J16: =IF(I16*G16>0,I16*G16,"")
A17: =IF(G17>0,$A$2,"") -> ש | B17: =IF(B16<>"",IF(G17>0,B16+1,""),B15+1) -> 14 | C17: מנג'טים | D17: "4 | F17: חום | G17: 8.9 | J17: =IF(I17*G17>0,I17*G17,"")
A18: =IF(G18>0,$A$2,"") -> ש | B18: =IF(B17<>"",IF(G18>0,B17+1,""),B16+1) -> 15 | C18: מנג'טים | D18: "5 | F18: חום | G18: 10.9 | J18: =IF(I18*G18>0,I18*G18,"")
A19: =IF(G19>0,$A$2,"") | B19: =IF(B18<>"",IF(G19>0,B18+1,""),B17+1) | J19: =IF(I19*G19>0,I19*G19,"")
A20: =IF(G20>0,$A$2,"") -> ש | B20: =IF(B19<>"",IF(G20>0,B19+1,""),B18+1) -> 16 | C20: נרות | D20: נרות צפים | F20: מגוון צבעים | G20: 16.9 | J20: =IF(I20*G20>0,I20*G20,"")
A21: =IF(G21>0,$A$2,"") -> ש | B21: =IF(B20<>"",IF(G21>0,B20+1,""),B19+1) -> 17 | C21: נרות | D21: נרונים | G21: 9.9 | J21: =IF(I21*G21>0,I21*G21,"")
A22: =IF(G22>0,$A$2,"") -> ש | B22: =IF(B21<>"",IF(G22>0,B21+1,""),B20+1) -> 18 | C22: נרות | D22: נר נשמה 24 שעות | G22: 1.6 | J22: =IF(I22*G22>0,I22*G22,"")
A23: =IF(G23>0,$A$2,"") -> ש | B23: =IF(B22<>"",IF(G23>0,B22+1,""),B21+1) -> 19 | C23: נרות | D23: נר נשמה 48 שעות | G23: 4.9 | J23: =IF(I23*G23>0,I23*G23,"")
A24: =IF(G24>0,$A$2,"") -> ש | B24: =IF(B23<>"",IF(G24>0,B23+1,""),B22+1) -> 20 | C24: נרות | D24: פתיל צף | G24: 2.9 | J24: =IF(I24*G24>0,I24*G24,"")
A25: =IF(G25>0,$A$2,"") -> ש | B25: =IF(B24<>"",IF(G25>0,B24+1,""),B23+1) -> 21 | C25: נרות | D25: נר ארוך צבעוני | F25: מגוון צבעים | G25: 3.9 | J25: =IF(I25*G25>0,I25*G25,"")
A26: =IF(G26>0,$A$2,"") -> ש | B26: =IF(B25<>"",IF(G26>0,B25+1,""),B24+1) -> 22 | C26: נרות | D26: נר ארוך לבן | G26: 2.9 | J26: =IF(I26*G26>0,I26*G26,"")
A27: =IF(G27>0,$A$2,"") -> ש | B27: =IF(B26<>"",IF(G27>0,B26+1,""),B25+1) -> 23 | C27: נרות | D27: נר ארוך מטאלי | G27: 5.9 | J27: =IF(I27*G27>0,I27*G27,"")
A28: =IF(G28>0,$A$2,"") | B28: =IF(B27<>"",IF(G28>0,B27+1,""),B26+1) | J28: =IF(I28*G28>0,I28*G28,"")
A29: =IF(G29>0,$A$2,"") -> ש | B29: =IF(B28<>"",IF(G29>0,B28+1,""),B27+1) -> 24 | C29: צלופן | D29: גלילי צלופן | G29: 12.9 | J29: =IF(I29*G29>0,I29*G29,"")
A30: =IF(G30>0,$A$2,"") -> ש | B30: =IF(B29<>"",IF(G30>0,B29+1,""),B28+1) -> 25 | C30: צלופן | D30: שקיות צלופן 25יחי' 8*6 | G30: 2 | J30: =IF(I30*G30>0,I30*G30,"")
A31: =IF(G31>0,$A$2,"") -> ש | B31: =IF(B30<>"",IF(G31>0,B30+1,""),B29+1) -> 26 | C31: צלופן | D31: שקיות צלופן 25יחי' 20*10 | G31: 3.5 | J31: =IF(I31*G31>0,I31*G31,"")
A32: =IF(G32>0,$A$2,"") -> ש | B32: =IF(B31<>"",IF(G32>0,B31+1,""),B30+1) -> 27 | C32: צלופן | D32: שקיות צלופן 25יח' 30*20 | G32: 7.9 | J32: =IF(I32*G32>0,I32*G32,"")
A33: =IF(G33>0,$A$2,"") -> ש | B33: =IF(B32<>"",IF(G33>0,B32+1,""),B31+1) -> 28 | C33: צלופן | D33: שקיות צלופן 25יחי' 40*30 | G33: 12.5 | J33: =IF(I33*G33>0,I33*G33,"")
A34: =IF(G34>0,$A$2,"") -> ש | B34: =IF(B33<>"",IF(G34>0,B33+1,""),B32+1) -> 29 | C34: צלופן | D34: שקיות צלופן 25יחי' 50*40 | G34: 18.5 | J34: =IF(I34*G34>0,I34*G34,"")
A35: =IF(G35>0,$A$2,"") | B35: =IF(B34<>"",IF(G35>0,B34+1,""),B33+1) | J35: =IF(I35*G35>0,I35*G35,"")
A36: =IF(G36>0,$A$2,"") -> ש | B36: =IF(B35<>"",IF(G36>0,B35+1,""),B34+1) -> 30 | C36: רדידי אלומיניום | D36: נייר כסף חתוך | G36: 34.9 | J36: =IF(I36*G36>0,I36*G36,"")
A37: =IF(G37>0,$A$2,"") -> ש | B37: =IF(B36<>"",IF(G37>0,B36+1,""),B35+1) -> 31 | C37: רדידי אלומיניום | D37: רדיד אלומיניום עבה צר | G37: 33 | J37: =IF(I37*G37>0,I37*G37,"")
A38: =IF(G38>0,$A$2,"") -> ש | B38: =IF(B37<>"",IF(G38>0,B37+1,""),B36+1) -> 32 | C38: רדידי אלומיניום | D38: רדיד אלומיניום עבה רחב | G38: 13.9 | J38: =IF(I38*G38>0,I38*G38,"")
A39: =IF(G39>0,$A$2,"") -> ש | B39: =IF(B38<>"",IF(G39>0,B38+1,""),B37+1) -> 33 | C39: רדידי אלומיניום | D39: רדיד אלומיניום דק צר | G39: 4.9 | J39: =IF(I39*G39>0,I39*G39,"")
A40: =IF(G40>0,$A$2,"") -> ש | B40: =IF(B39<>"",IF(G40>0,B39+1,""),B38+1) -> 34 | C40: רדידי אלומיניום | D40: רדיד אלומיניום דק רחב | E40: 2 | G40: 10.5 | J40: =IF(I40*G40>0,I40*G40,"")
...

Sheet צלחות
A1: קוד מוצר | C1: תיאור | E1: מספר יח' בחבילה | F1: צבעים לבחירה | G1: מחיר | H1: הערות | I1: מס' יחידות להזמנה | J1: לתשלום
A2: צ | B2: 1 | C2: פשוט | D2: 7 | E2: 50 | F2: לבן | G2: 4 | J2: =IF(I2*G2>0,I2*G2,"")
A3: =IF(G3>0,$A$2,"") -> צ | B3: =IF(B2<>"",IF(G3>0,B2+1,""),B1+1) -> 2 | C3: פשוט | D3: 7 | E3: 3 חב' | F3: לבן | G3: 10 | J3: =IF(I3*G3>0,I3*G3,"")
A4: =IF(G4>0,$A$2,"") -> צ | B4: =IF(B3<>"",IF(G4>0,B3+1,""),B2+1) -> 3 | C4: פשוט | D4: 9 | E4: 50 | F4: לבן | G4: 6.5 | J4: =IF(I4*G4>0,I4*G4,"")
A5: =IF(G5>0,$A$2,"") -> צ | B5: =IF(B4<>"",IF(G5>0,B4+1,""),B3+1) -> 4 | C5: פשוט | D5: 9 | E5: 2 חב' | F5: לבן | G5: 10 | J5: =IF(I5*G5>0,I5*G5,"")
A6: =IF(G6>0,$A$2,"") -> צ | B6: =IF(B5<>"",IF(G6>0,B5+1,""),B4+1) -> 5 | C6: פשוט | D6: מרקיות | E6: 25 | F6: לבן | G6: 4 | J6: =IF(I6*G6>0,I6*G6,"")
A7: =IF(G7>0,$A$2,"") -> צ | B7: =IF(B6<>"",IF(G7>0,B6+1,""),B5+1) -> 6 | C7: פשוט | D7: מרקיות | E7: 3 חב' | F7: לבן | G7: 10 | J7: =IF(I7*G7>0,I7*G7,"")
A8: =IF(G8>0,$A$2,"") -> צ | B8: =IF(B7<>"",IF(G8>0,B7+1,""),B6+1) -> 7 | C8: פשוט | D8: לפתניות | E8: 25 | F8: לבן | G8: 3 | J8: =IF(I8*G8>0,I8*G8,"")
A9: =IF(G9>0,$A$2,"") -> צ | B9: =IF(B8<>"",IF(G9>0,B8+1,""),B7+1) -> 8 | C9: פשוט | D9: לפתניות | E9: 5 חב' | F9: לבן | G9: 10 | J9: =IF(I9*G9>0,I9*G9,"")
A10: =IF(G10>0,$A$2,"") -> צ | B10: =IF(B9<>"",IF(G10>0,B9+1,""),B8+1) -> 9 | C10: פשוט | D10: קסרול אובלי | E10: 25 | F10: לבן | G10: 3.5 | J10: =IF(I10*G10>0,I10*G10,"")
A11: =IF(G11>0,$A$2,"") -> צ | B11: =IF(B10<>"",IF(G11>0,B10+1,""),B9+1) -> 10 | C11: פשוט | D11: קסרול אובלי | E11: 4 חב' | F11: לבן | G11: 10 | J11: =IF(I11*G11>0,I11*G11,"")
A12: =IF(G12>0,$A$2,"") | B12: =IF(B11<>"",IF(G12>0,B11+1,""),B10+1) | J12: =IF(I12*G12>0,I12*G12,"")
A13: =IF(G13>0,$A$2,"") -> צ | B13: =IF(B12<>"",IF(G13>0,B12+1,""),B11+1) -> 11 | C13: פאלאס | D13: 7 | F13: לבן | G13: 4.9 | J13: =IF(I13*G13>0,I13*G13,"")
A14: =IF(G14>0,$A$2,"") -> צ | B14: =IF(B13<>"",IF(G14>0,B13+1,""),B12+1) -> 12 | C14: פאלאס | D14: 7 | E14: 3 חב' | F14: לבן | G14: 13.9 | J14: =IF(I14*G14>0,I14*G14,"")
A15: =IF(G15>0,$A$2,"") -> צ | B15: =IF(B14<>"",IF(G15>0,B14+1,""),B13+1) -> 13 | C15: פאלאס | D15: 8 | F15: לבן | G15: 6.9 | J15: =IF(I15*G15>0,I15*G15,"")
A16: =IF(G16>0,$A$2,"") -> צ | B16: =IF(B15<>"",IF(G16>0,B15+1,""),B14+1) -> 14 | C16: פאלאס | D16: מרק | F16: לבן | G16: 4.9 | J16: =IF(I16*G16>0,I16*G16,"")
A17: =IF(G17>0,$A$2,"") -> צ | B17: =IF(B16<>"",IF(G17>0,B16+1,""),B15+1) -> 15 | C17: פאלאס | D17: מרק | E17: 3 חב' | F17: לבן | G17: 13.9 | J17: =IF(I17*G17>0,I17*G17,"")
A18: =IF(G18>0,$A$2,"") -> צ | B18: =IF(B17<>"",IF(G18>0,B17+1,""),B16+1) -> 16 | C18: פאלאס | D18: ליפתן | F18: לבן | G18: 3.5 | J18: =IF(I18*G18>0,I18*G18,"")
A19: =IF(G19>0,$A$2,"") -> צ | B19: =IF(B18<>"",IF(G19>0,B18+1,""),B17+1) -> 17 | C19: פאלאס | D19: ליפתן | E19: 4 חב' | F19: לבן | G19: 10 | J19: =IF(I19*G19>0,I19*G19,"")
A20: =IF(G20>0,$A$2,"") -> צ | B20: =IF(B19<>"",IF(G20>0,B19+1,""),B18+1) -> 18 | C20: פאלאס | D20: קסרול אובלי | F20: לבן | G20: 4.5 | J20: =IF(I20*G20>0,I20*G20,"")
A21: =IF(G21>0,$A$2,"") -> צ | B21: =IF(B20<>"",IF(G21>0,B20+1,""),B19+1) -> 19 | C21: פאלאס | D21: קסרול אובלי | E21: 3 חב' | F21: לבן | G21: 11.9 | J21: =IF(I21*G21>0,I21*G21,"")
A22: =IF(G22>0,$A$2,"") -> צ | B22: =IF(B21<>"",IF(G22>0,B21+1,""),B20+1) -> 20 | C22: פאלאס | D22: מרכזי | F22: לבן | G22: 9.5 | J22: =IF(I22*G22>0,I22*G22,"")
A23: =IF(G23>0,$A$2,"") | B23: =IF(B22<>"",IF(G23>0,B22+1,""),B21+1) | J23: =IF(I23*G23>0,I23*G23,"")
A24: =IF(G24>0,$A$2,"") -> צ | B24: =IF(B23<>"",IF(G24>0,B23+1,""),B22+1) -> 21 | C24: קלקר | D24: 6 | E24: 125 | F24: קרם | G24: 25.5 | H24: בסט קלקר קיים גם מגש קטן/גדול | J24: =IF(I24*G24>0,I24*G24,"")
A25: =IF(G25>0,$A$2,"") -> צ | B25: =IF(B24<>"",IF(G25>0,B24+1,""),B23+1) -> 22 | C25: קלקר | D25: 6 | E25: 10 | F25: קרם | G25: 2.5 | J25: =IF(I25*G25>0,I25*G25,"")
A26: =IF(G26>0,$A$2,"") -> צ | B26: =IF(B25<>"",IF(G26>0,B25+1,""),B24+1) -> 23 | C26: קלקר | D26: 7 | E26: 125 | F26: קרם | G26: 25.5 | J26: =IF(I26*G26>0,I26*G26,"")
A27: =IF(G27>0,$A$2,"") -> צ | B27: =IF(B26<>"",IF(G27>0,B26+1,""),B25+1) -> 24 | C27: קלקר | D27: 7 | E27: 10 | F27: קרם | G27: 2.9 | J27: =IF(I27*G27>0,I27*G27,"")
A28: =IF(G28>0,$A$2,"") -> צ | B28: =IF(B27<>"",IF(G28>0,B27+1,""),B26+1) -> 25 | C28: קלקר | D28: 9 | E28: 125 | F28: קרם | G28: 25.5 | J28: =IF(I28*G28>0,I28*G28,"")
A29: =IF(G29>0,$A$2,"") -> צ | B29: =IF(B28<>"",IF(G29>0,B28+1,""),B27+1) -> 26 | C29: קלקר | D29: 9 | E29: 10 | F29: קרם | G29: 3.9 | J29: =IF(I29*G29>0,I29*G29,"")
A30: =IF(G30>0,$A$2,"") -> צ | B30: =IF(B29<>"",IF(G30>0,B29+1,""),B28+1) -> 27 | C30: קלקר | D30: מרק קטן | E30: 125 | F30: קרם | G30: 27 | J30: =IF(I30*G30>0,I30*G30,"")
A31: =IF(G31>0,$A$2,"") -> צ | B31: =IF(B30<>"",IF(G31>0,B30+1,""),B29+1) -> 28 | C31: קלקר | D31: מרק קטן | E31: 10 | F31: קרם | G31: 2.9 | J31: =IF(I31*G31>0,I31*G31,"")
A32: =IF(G32>0,$A$2,"") -> צ | B32: =IF(B31<>"",IF(G32>0,B31+1,""),B30+1) -> 29 | C32: קלקר | D32: מרק גדול | E32: 150 | F32: קרם | G32: 115 | J32: =IF(I32*G32>0,I32*G32,"")
A33: =IF(G33>0,$A$2,"") -> צ | B33: =IF(B32<>"",IF(G33>0,B32+1,""),B31+1) -> 30 | C33: קלקר | D33: מרק גדול | E33: 10 | F33: קרם | G33: 8.9 | J33: =IF(I33*G33>0,I33*G33,"")
A34: =IF(G34>0,$A$2,"") -> צ | B34: =IF(B33<>"",IF(G34>0,B33+1,""),B32+1) -> 31 | C34: קלקר | D34: ליפתן | E34: 125 | F34: קרם | G34: 18.5 | J34: =IF(I34*G34>0,I34*G34,"")
A35: =IF(G35>0,$A$2,"") -> צ | B35: =IF(B34<>"",IF(G35>0,B34+1,""),B33+1) -> 32 | C35: קלקר | D35: קסרול אובלי | E35: 84 | F35: קרם | G35: 31.5 | J35: =IF(I35*G35>0,I35*G35,"")
A36: =IF(G36>0,$A$2,"") -> צ | B36: =IF(B35<>"",IF(G36>0,B35+1,""),B34+1) -> 33 | C36: קלקר | D36: קסרול אובלי | E36: 10 | F36: קרם | G36: 4.5 | J36: =IF(I36*G36>0,I36*G36,"")
A37: =IF(G37>0,$A$2,"") | B37: =IF(B36<>"",IF(G37>0,B36+1,""),B35+1) | J37: =IF(I37*G37>0,I37*G37,"")
A38: =IF(G38>0,$A$2,"") -> צ | B38: =IF(B37<>"",IF(G38>0,B37+1,""),B36+1) -> 34 | C38: שקוף מזל"ט | D38: 6 | E38: 25 | F38: שקוף | G38: 2.9 | J38: =IF(I38*G38>0,I38*G38,"")
A39: =IF(G39>0,$A$2,"") -> צ | B39: =IF(B38<>"",IF(G39>0,B38+1,""),B37+1) -> 35 | C39: שקוף מזל"ט | D39: 7 | E39: 25 | F39: שקוף | G39: 4.9 | J39: =IF(I39*G39>0,I39*G39,"")
A40: =IF(G40>0,$A$2,"") -> צ | B40: =IF(B39<>"",IF(G40>0,B39+1,""),B38+1) -> 36 | C40: שקוף מזל"ט | D40: 7 | E40: 75 | F40: שקוף | G40: 13.9 | J40: =IF(I40*G40>0,I40*G40,"")
...

Sheet קערות ומגשים
A1: קוד מוצר | C1: תיאור | E1: מספר יח' בחבילה | F1: צבעים לבחירה | G1: מחיר | H1: הערות | I1: מס' יחידות להזמנה | J1: לתשלום
A2: ק | B2: 1 | C2: קערות קשיחות | D2: עגול קטן | F2: שקוף | G2: 3.9 | J2: =IF(I2*G2>0,I2*G2,"")
A3: =IF(G3>0,$A$2,"") -> ק | B3: =IF(B2<>"",IF(G3>0,B2+1,""),B1+1) -> 2 | C3: קערות קשיחות | D3: עגול בינוני | F3: שקוף | G3: 5.9 | J3: =IF(I3*G3>0,I3*G3,"")
A4: =IF(G4>0,$A$2,"") -> ק | B4: =IF(B3<>"",IF(G4>0,B3+1,""),B2+1) -> 3 | C4: קערות קשיחות | D4: עגול גדול | F4: שקוף | G4: 7.9 | J4: =IF(I4*G4>0,I4*G4,"")
A5: =IF(G5>0,$A$2,"") -> ק | B5: =IF(B4<>"",IF(G5>0,B4+1,""),B3+1) -> 4 | C5: קערות קשיחות | D5: מכסה קטן | F5: שקוף | G5: 3 | J5: =IF(I5*G5>0,I5*G5,"")
A6: =IF(G6>0,$A$2,"") -> ק | B6: =IF(B5<>"",IF(G6>0,B5+1,""),B4+1) -> 5 | C6: קערות קשיחות | D6: מכסה בינוני | F6: שקוף | G6: 4 | J6: =IF(I6*G6>0,I6*G6,"")
A7: =IF(G7>0,$A$2,"") -> ק | B7: =IF(B6<>"",IF(G7>0,B6+1,""),B5+1) -> 6 | C7: קערות קשיחות | D7: מכסה גדול | F7: שקוף | G7: 6.5 | J7: =IF(I7*G7>0,I7*G7,"")
A8: =IF(G8>0,$A$2,"") -> ק | B8: =IF(B7<>"",IF(G8>0,B7+1,""),B6+1) -> 7 | C8: קערות קשיחות | D8: מרובע קטן | F8: שקוף | G8: 3.9 | J8: =IF(I8*G8>0,I8*G8,"")
A9: =IF(G9>0,$A$2,"") -> ק | B9: =IF(B8<>"",IF(G9>0,B8+1,""),B7+1) -> 8 | C9: קערות קשיחות | D9: מרובע בינוני | F9: שקוף | G9: 5.9 | J9: =IF(I9*G9>0,I9*G9,"")
A10: =IF(G10>0,$A$2,"") -> ק | B10: =IF(B9<>"",IF(G10>0,B9+1,""),B8+1) -> 9 | C10: קערות קשיחות | D10: מרובע גדול | F10: שקוף | G10: 8.9 | J10: =IF(I10*G10>0,I10*G10,"")
A11: =IF(G11>0,$A$2,"") -> ק | B11: =IF(B10<>"",IF(G11>0,B10+1,""),B9+1) -> 10 | C11: קערות קשיחות | D11: מרובע קטן 1/4 | F11: שקוף | G11: 5.9 | J11: =IF(I11*G11>0,I11*G11,"")
A12: =IF(G12>0,$A$2,"") -> ק | B12: =IF(B11<>"",IF(G12>0,B11+1,""),B10+1) -> 11 | C12: קערות קשיחות | D12: מרובע בינוני 1/4 | F12: שקוף | G12: 8.9 | J12: =IF(I12*G12>0,I12*G12,"")
A13: =IF(G13>0,$A$2,"") -> ק | B13: =IF(B12<>"",IF(G13>0,B12+1,""),B11+1) -> 12 | C13: קערות קשיחות | D13: אובל נמוך | F13: שקוף | G13: 3.9 | J13: =IF(I13*G13>0,I13*G13,"")
A14: =IF(G14>0,$A$2,"") -> ק | B14: =IF(B13<>"",IF(G14>0,B13+1,""),B12+1) -> 13 | C14: קערות קשיחות | D14: אובל עמוק | F14: שקוף | G14: 6.9 | J14: =IF(I14*G14>0,I14*G14,"")
A15: =IF(G15>0,$A$2,"") -> ק | B15: =IF(B14<>"",IF(G15>0,B14+1,""),B13+1) -> 14 | C15: קערות קשיחות | D15: אובל ענק | F15: שקוף | G15: 9.9 | J15: =IF(I15*G15>0,I15*G15,"")
A16: =IF(G16>0,$A$2,"") | B16: =IF(B15<>"",IF(G16>0,B15+1,""),B14+1) | J16: =IF(I16*G16>0,I16*G16,"")
A17: =IF(G17>0,$A$2,"") -> ק | B17: =IF(B16<>"",IF(G17>0,B16+1,""),B15+1) -> 15 | C17: קשיחות יוקרתי פרימיום וינטאג' | D17: מגש שטוח | E17: 3 | F17: זהב, כסף, ורוד, קרם | G17: 8.9 | J17: =IF(I17*G17>0,I17*G17,"")
A18: =IF(G18>0,$A$2,"") -> ק | B18: =IF(B17<>"",IF(G18>0,B17+1,""),B16+1) -> 16 | C18: קשיחות יוקרתי פרימיום וינטאג' | D18: קערה | E18: 3 | F18: כסף, קרם | G18: 8.9 | J18: =IF(I18*G18>0,I18*G18,"")
A19: =IF(G19>0,$A$2,"") | B19: =IF(B18<>"",IF(G19>0,B18+1,""),B17+1) | J19: =IF(I19*G19>0,I19*G19,"")
A20: =IF(G20>0,$A$2,"") -> ק | B20: =IF(B19<>"",IF(G20>0,B19+1,""),B18+1) -> 17 | C20: קשיחות יוקרתי וינדמיל נצנץ | D20: מגש | E20: 3 | F20: כסף,זהב | G20: 8.9 | J20: =IF(I20*G20>0,I20*G20,"")
A21: =IF(G21>0,$A$2,"") -> ק | B21: =IF(B20<>"",IF(G21>0,B20+1,""),B19+1) -> 18 | C21: קשיחות יוקרתי וינדמיל נצנץ | D21: מגש עמוק/קערה | E21: 3 | F21: כסף,זהב | G21: 8.9 | J21: =IF(I21*G21>0,I21*G21,"")
A22: =IF(G22>0,$A$2,"") | B22: =IF(B21<>"",IF(G22>0,B21+1,""),B20+1) | J22: =IF(I22*G22>0,I22*G22,"")
A23: =IF(G23>0,$A$2,"") -> ק | B23: =IF(B22<>"",IF(G23>0,B22+1,""),B21+1) -> 19 | C23: מגשי הגשה קשיח | D23: אובל עמוק קטן | F23: שקוף עם מסגרת זהב/כסף | G23: 4.9 | J23: =IF(I23*G23>0,I23*G23,"")
A24: =IF(G24>0,$A$2,"") -> ק | B24: =IF(B23<>"",IF(G24>0,B23+1,""),B22+1) -> 20 | C24: מגשי הגשה קשיח | D24: אובל עמוק בינוני | F24: שקוף עם מסגרת זהב/כסף | G24: 6.9 | J24: =IF(I24*G24>0,I24*G24,"")
A25: =IF(G25>0,$A$2,"") -> ק | B25: =IF(B24<>"",IF(G25>0,B24+1,""),B23+1) -> 21 | C25: מגשי הגשה קשיח | D25: אובל עמוק גדול | F25: שקוף עם מסגרת זהב/כסף | G25: 7.9 | J25: =IF(I25*G25>0,I25*G25,"")
A26: =IF(G26>0,$A$2,"") -> ק | B26: =IF(B25<>"",IF(G26>0,B25+1,""),B24+1) -> 22 | C26: מגשי הגשה קשיח | D26: מלבן אינגליש קצר | F26: שקוף | G26: 4.5 | J26: =IF(I26*G26>0,I26*G26,"")
A27: =IF(G27>0,$A$2,"") -> ק | B27: =IF(B26<>"",IF(G27>0,B26+1,""),B25+1) -> 23 | C27: מגשי הגשה קשיח | D27: מלבן אינגליש ארוך | F27: שקוף | G27: 5 | J27: =IF(I27*G27>0,I27*G27,"")
A28: =IF(G28>0,$A$2,"") -> ק | B28: =IF(B27<>"",IF(G28>0,B27+1,""),B26+1) -> 24 | C28: מגשי הגשה קשיח | D28: מלבן A4 | F28: שקוף | G28: 7.9 | J28: =IF(I28*G28>0,I28*G28,"")
A29: =IF(G29>0,$A$2,"") -> ק | B29: =IF(B28<>"",IF(G29>0,B28+1,""),B27+1) -> 25 | C29: מגשי הגשה קשיח | D29: מרובע | F29: שקוף | G29: 8.9 | J29: =IF(I29*G29>0,I29*G29,"")
A30: =IF(G30>0,$A$2,"") -> ק | B30: =IF(B29<>"",IF(G30>0,B29+1,""),B28+1) -> 26 | C30: מגשי הגשה קשיח | D30: פסים עגול 12 | F30: שקוף | G30: 4.5 | J30: =IF(I30*G30>0,I30*G30,"")
A31: =IF(G31>0,$A$2,"") -> ק | B31: =IF(B30<>"",IF(G31>0,B30+1,""),B29+1) -> 27 | C31: מגשי הגשה קשיח | D31: פסים עגול 14 | F31: שקוף | G31: 6.5 | J31: =IF(I31*G31>0,I31*G31,"")
A32: =IF(G32>0,$A$2,"") -> ק | B32: =IF(B31<>"",IF(G32>0,B31+1,""),B30+1) -> 28 | C32: מגשי הגשה קשיח | D32: פסים עגול 16 | F32: שקוף | G32: 8.5 | J32: =IF(I32*G32>0,I32*G32,"")
A33: =IF(G33>0,$A$2,"") -> ק | B33: =IF(B32<>"",IF(G33>0,B32+1,""),B31+1) -> 29 | C33: מגשי הגשה קשיח | D33: פסים עגול 18 | F33: שקוף | G33: 10.5 | J33: =IF(I33*G33>0,I33*G33,"")
A34: =IF(G34>0,$A$2,"") | B34: =IF(B33<>"",IF(G34>0,B33+1,""),B32+1) | J34: =IF(I34*G34>0,I34*G34,"")
A35: =IF(G35>0,$A$2,"") -> ק | B35: =IF(B34<>"",IF(G35>0,B34+1,""),B33+1) -> 30 | C35: בנדע עגול | D35: מגש שטוח | F35: מגוון צבעים | G35: 12.9 | J35: =IF(I35*G35>0,I35*G35,"")
A36: =IF(G36>0,$A$2,"") -> ק | B36: =IF(B35<>"",IF(G36>0,B35+1,""),B34+1) -> 31 | C36: בנדע עגול | D36: מגש עמוק | F36: מגוון צבעים | G36: 9.9 | J36: =IF(I36*G36>0,I36*G36,"")
A37: =IF(G37>0,$A$2,"") -> ק | B37: =IF(B36<>"",IF(G37>0,B36+1,""),B35+1) -> 32 | C37: בנדע עגול | D37: קערה | F37: מגוון צבעים | G37: 8.5 | J37: =IF(I37*G37>0,I37*G37,"")
A38: =IF(G38>0,$A$2,"") -> ק | B38: =IF(B37<>"",IF(G38>0,B37+1,""),B36+1) -> 33 | C38: בנדע עגול | D38: קערה קטנה | F38: שקוף | G38: 11.9 | J38: =IF(I38*G38>0,I38*G38,"")
A39: =IF(G39>0,$A$2,"") -> ק | B39: =IF(B38<>"",IF(G39>0,B38+1,""),B37+1) -> 34 | C39: בנדע עגול | D39: קערה גדולה | F39: שקוף | G39: 14.9 | J39: =IF(I39*G39>0,I39*G39,"")
A40: =IF(G40>0,$A$2,"") | B40: =IF(B39<>"",IF(G40>0,B39+1,""),B38+1) | J40: =IF(I40*G40>0,I40*G40,"")
...

Sheet כוסות ומיכלים
A1: קוד מוצר | C1: תיאור | E1: מספר יח' בחבילה | F1: צבעים לבחירה | G1: מחיר | H1: הערות | I1: מס' יחידות להזמנה | J1: לתשלום
A2: כ | B2: 1 | C2: כוסות פשוטים | D2: 180cc | G2: 4 | J2: =IF(I2*G2>0,I2*G2,"")
A3: =IF(G3>0,$A$2,"") -> כ | B3: =IF(B2<>"",IF(G3>0,B2+1,""),B1+1) -> 2 | C3: כוסות פשוטים | D3: 180cc | E3: 3 חב' | G3: 10 | J3: =IF(I3*G3>0,I3*G3,"")
A4: =IF(G4>0,$A$2,"") -> כ | B4: =IF(B3<>"",IF(G4>0,B3+1,""),B2+1) -> 3 | C4: כוסות פשוטים | D4: 200cc | E4: 50 | G4: 5.9 | J4: =IF(I4*G4>0,I4*G4,"")
A5: =IF(G5>0,$A$2,"") -> כ | B5: =IF(B4<>"",IF(G5>0,B4+1,""),B3+1) -> 4 | C5: כוסות פשוטים | D5: 330cc | E5: 50 | G5: 7.9 | J5: =IF(I5*G5>0,I5*G5,"")
A6: =IF(G6>0,$A$2,"") -> כ | B6: =IF(B5<>"",IF(G6>0,B5+1,""),B4+1) -> 5 | C6: כוסות פשוטים | D6: מכסה ל-300cc | E6: 50 | G6: 7.9 | J6: =IF(I6*G6>0,I6*G6,"")
A7: =IF(G7>0,$A$2,"") -> כ | B7: =IF(B6<>"",IF(G7>0,B6+1,""),B5+1) -> 6 | C7: כוסות פשוטים | D7: כוס יין | E7: 50 | G7: 3.5 | J7: =IF(I7*G7>0,I7*G7,"")
A8: =IF(G8>0,$A$2,"") -> כ | B8: =IF(B7<>"",IF(G8>0,B7+1,""),B6+1) -> 7 | C8: כוסות פשוטים | D8: חצי כוס | E8: 50 | G8: 6 | J8: =IF(I8*G8>0,I8*G8,"")
A9: =IF(G9>0,$A$2,"") -> כ | B9: =IF(B8<>"",IF(G9>0,B8+1,""),B7+1) -> 8 | C9: כוסות פשוטים | D9: מכסה לחצי כוס | E9: 50 | G9: 6 | J9: =IF(I9*G9>0,I9*G9,"")
A10: =IF(G10>0,$A$2,"") | B10: =IF(B9<>"",IF(G10>0,B9+1,""),B8+1) | J10: =IF(I10*G10>0,I10*G10,"")
A11: =IF(G11>0,$A$2,"") -> כ | B11: =IF(B10<>"",IF(G11>0,B10+1,""),B9+1) -> 9 | C11: כוסות יפים | D11: מעוטרת | E11: 40 | F11: מגוון צבעים | G11: 7.9 | J11: =IF(I11*G11>0,I11*G11,"")
A12: =IF(G12>0,$A$2,"") -> כ | B12: =IF(B11<>"",IF(G12>0,B11+1,""),B10+1) -> 10 | C12: כוסות יפים | D12: מעוטרת | E12: 50 | F12: מגוון צבעים | G12: 10.9 | J12: =IF(I12*G12>0,I12*G12,"")
A13: =IF(G13>0,$A$2,"") -> כ | B13: =IF(B12<>"",IF(G13>0,B12+1,""),B11+1) -> 11 | C13: כוסות יפים | D13: משושה | E13: 50 | G13: 9.9 | J13: =IF(I13*G13>0,I13*G13,"")
A14: =IF(G14>0,$A$2,"") -> כ | B14: =IF(B13<>"",IF(G14>0,B13+1,""),B12+1) -> 12 | C14: כוסות יפים | D14: יהלום | E14: 40 | G14: 7.5 | J14: =IF(I14*G14>0,I14*G14,"")
A15: =IF(G15>0,$A$2,"") -> כ | B15: =IF(B14<>"",IF(G15>0,B14+1,""),B13+1) -> 13 | C15: כוסות יפים | D15: יהלום | E15: 50 | G15: 9.9 | J15: =IF(I15*G15>0,I15*G15,"")
A16: =IF(G16>0,$A$2,"") -> כ | B16: =IF(B15<>"",IF(G16>0,B15+1,""),B14+1) -> 14 | C16: כוסות יפים | D16: פאט מבריק | E16: 50 | G16: 9.9 | J16: =IF(I16*G16>0,I16*G16,"")
A17: =IF(G17>0,$A$2,"") -> כ | B17: =IF(B16<>"",IF(G17>0,B16+1,""),B15+1) -> 15 | C17: כוסות יפים | D17: פרח קשיח | E17: 20 | G17: 10.9 | J17: =IF(I17*G17>0,I17*G17,"")
A18: =IF(G18>0,$A$2,"") -> כ | B18: =IF(B17<>"",IF(G18>0,B17+1,""),B16+1) -> 16 | C18: כוסות יפים | D18: פרימיום קשיח | E18: 20 | G18: 10.9 | J18: =IF(I18*G18>0,I18*G18,"")
A19: =IF(G19>0,$A$2,"") -> כ | B19: =IF(B18<>"",IF(G19>0,B18+1,""),B17+1) -> 17 | C19: כוסות יפים | D19: כוס יין על רגל נק' זהב | E19: 10 | G19: 10.9 | J19: =IF(I19*G19>0,I19*G19,"")
A20: =IF(G20>0,$A$2,"") -> כ | B20: =IF(B19<>"",IF(G20>0,B19+1,""),B18+1) -> 18 | C20: כוסות יפים | D20: כוס קשיח נק' זהב | E20: 10 | G20: 10.9 | J20: =IF(I20*G20>0,I20*G20,"")
A21: =IF(G21>0,$A$2,"") -> כ | B21: =IF(B20<>"",IF(G21>0,B20+1,""),B19+1) -> 19 | C21: כוסות יפים | D21: כוס יין קטנה על רגל פסים | E21: 8 | F21: שקוף | G21: 9.5 | J21: =IF(I21*G21>0,I21*G21,"")
A22: =IF(G22>0,$A$2,"") -> כ | B22: =IF(B21<>"",IF(G22>0,B21+1,""),B20+1) -> 20 | C22: כוסות יפים | D22: כוס יין גדולה על רגל פסים | E22: 9 | G22: 15.9 | J22: =IF(I22*G22>0,I22*G22,"")
A23: =IF(G23>0,$A$2,"") -> כ | B23: =IF(B22<>"",IF(G23>0,B22+1,""),B21+1) -> 21 | C23: כוסות יפים | D23: וינטאג' נצנץ | E23: 10 | F23: כסף/זהב | G23: 9.5 | J23: =IF(I23*G23>0,I23*G23,"")
A24: =IF(G24>0,$A$2,"") -> כ | B24: =IF(B23<>"",IF(G24>0,B23+1,""),B22+1) -> 22 | C24: כוסות יפים | D24: מרובע קשיח | E24: 18 | G24: 9.5 | J24: =IF(I24*G24>0,I24*G24,"")
A25: =IF(G25>0,$A$2,"") | B25: =IF(B24<>"",IF(G25>0,B24+1,""),B23+1) | J25: =IF(I25*G25>0,I25*G25,"")
A26: =IF(G26>0,$A$2,"") -> כ | B26: =IF(B25<>"",IF(G26>0,B25+1,""),B24+1) -> 23 | C26: כוסות נייר | D26: oz 4 | G26: 4.9 | J26: =IF(I26*G26>0,I26*G26,"")
A27: =IF(G27>0,$A$2,"") -> כ | B27: =IF(B26<>"",IF(G27>0,B26+1,""),B25+1) -> 24 | C27: כוסות נייר | D27: oz 7.5 | G27: 5.9 | J27: =IF(I27*G27>0,I27*G27,"")
A28: =IF(G28>0,$A$2,"") -> כ | B28: =IF(B27<>"",IF(G28>0,B27+1,""),B26+1) -> 25 | C28: כוסות נייר | D28: oz 10 | G28: 11.9 | J28: =IF(I28*G28>0,I28*G28,"")
A29: =IF(G29>0,$A$2,"") -> כ | B29: =IF(B28<>"",IF(G29>0,B28+1,""),B27+1) -> 26 | C29: כוסות נייר | D29: oz 12 | G29: 14.9 | J29: =IF(I29*G29>0,I29*G29,"")
A30: =IF(G30>0,$A$2,"") -> כ | B30: =IF(B29<>"",IF(G30>0,B29+1,""),B28+1) -> 27 | C30: כוסות נייר | D30: oz 16 | G30: 15.9 | J30: =IF(I30*G30>0,I30*G30,"")
A31: =IF(G31>0,$A$2,"") | B31: =IF(B30<>"",IF(G31>0,B30+1,""),B29+1) | J31: =IF(I31*G31>0,I31*G31,"")
A32: =IF(G32>0,$A$2,"") -> כ | B32: =IF(B31<>"",IF(G32>0,B31+1,""),B30+1) -> 28 | C32: גביעים כסופים | D32: גביע+תחתית | E32: 5 | G32: 14.9 | J32: =IF(I32*G32>0,I32*G32,"")
A33: =IF(G33>0,$A$2,"") -> כ | B33: =IF(B32<>"",IF(G33>0,B32+1,""),B31+1) -> 29 | C33: גביעים כסופים | D33: גביעים | E33: 10 | G33: 11.9 | J33: =IF(I33*G33>0,I33*G33,"")
A34: =IF(G34>0,$A$2,"") -> כ | B34: =IF(B33<>"",IF(G34>0,B33+1,""),B32+1) -> 30 | C34: גביעים כסופים | D34: תחתיות | E34: 5 | G34: 7.9 | J34: =IF(I34*G34>0,I34*G34,"")
A35: =IF(G35>0,$A$2,"") -> כ | B35: =IF(B34<>"",IF(G35>0,B34+1,""),B33+1) -> 31 | C35: גביעי ליקר | D35: מוכספים | E35: 24 | F35: מוכסף | G35: 14.9 | J35: =IF(I35*G35>0,I35*G35,"")
A36: =IF(G36>0,$A$2,"") -> כ | B36: =IF(B35<>"",IF(G36>0,B35+1,""),B34+1) -> 32 | C36: גביעי ליקר | D36: על רגל | E36: 12 | F36: כסף, זהב, רוזגולד | G36: 22.9 | J36: =IF(I36*G36>0,I36*G36,"")
A37: =IF(G37>0,$A$2,"") | B37: =IF(B36<>"",IF(G37>0,B36+1,""),B35+1) | J37: =IF(I37*G37>0,I37*G37,"")
A38: =IF(G38>0,$A$2,"") -> כ | B38: =IF(B37<>"",IF(G38>0,B37+1,""),B36+1) -> 33 | C38: גביעי אחסון | D38: 150cc | E38: 13 | G38: 6.9 | J38: =IF(I38*G38>0,I38*G38,"")
A39: =IF(G39>0,$A$2,"") -> כ | B39: =IF(B38<>"",IF(G39>0,B38+1,""),B37+1) -> 34 | C39: גביעי אחסון | D39: 250cc | E39: 13 | G39: 6.9 | J39: =IF(I39*G39>0,I39*G39,"")
A40: =IF(G40>0,$A$2,"") -> כ | B40: =IF(B39<>"",IF(G40>0,B39+1,""),B38+1) -> 35 | C40: גביעי אחסון | D40: 500cc | E40: 15 | G40: 8.9 | J40: =IF(I40*G40>0,I40*G40,"")
...

Sheet סיכום קנייה
A1: קוד מוצר | C1: תיאור | D1: תיאור וגודל | E1: מספר יחידות בחבילה | F1: צבעים לבחירה | G1: מחיר | H1: הערות | I1: מס' יחידות להזמנה | J1: לתשלום | K1: סה"כ לתשלום
A2: {=_xlfn._xlws.FILTER('כל המוצרים'!A:J,'כל המוצרים'!J:J<>"")} -> #VALUE! | K2: =SUM(J:J) -> 0

Sheet כל המוצרים
A1: {=INDIRECT(CONCATENATE("תבניות!$A$2:$J",MATCH($P$1,תבניות!$G$2:$G$200,)-1))} -> ת | B1: 1 | C1: תבניות אלומיניום | D1: אינגליש ארוך | E1: 1 | F1: 0 | G1: 0.6 | H1: 0 | I1: 0 | P1: ס"כ לתשלום:
A2: ת | B2: 2 | C2: תבניות אלומיניום | D2: אינגליש ארוך | E2: 25 | F2: 0 | G2: 10 | H2: 0 | I2: 0
A3: ת | B3: 3 | C3: תבניות אלומיניום | D3: אינגליש קצר | E3: 1 | F3: 0 | G3: 0.6 | H3: 0 | I3: 0
A4: ת | B4: 4 | C4: תבניות אלומיניום | D4: חלה מלבן בינוני | E4: 1 | F4: 0 | G4: 2 | H4: 0 | I4: 0
A5: ת | B5: 5 | C5: תבניות אלומיניום | D5: חלה מלבן גדול | E5: 4 | F5: 0 | G5: 9.9 | H5: 0 | I5: 0
A6: ת | B6: 6 | C6: תבניות אלומיניום | D6: חלה אובל גדול | E6: 5 | F6: 0 | G6: 14.5 | H6: 0 | I6: 0
A7: ת | B7: 7 | C7: תבניות אלומיניום | D7: חלה אובל בינוני | E7: 5 | F7: 0 | G7: 11.5 | H7: 0 | I7: 0
A8: ת | B8: 8 | C8: תבניות אלומיניום | D8: חלה אובל קטן | E8: 12 | F8: 0 | G8: 10.9 | H8: 0 | I8: 0
A9: ת | B9: 9 | C9: תבניות אלומיניום | D9: מלבן 90 (A4) נמוך | E9: 1 | F9: 0 | G9: 1.2 | H9: 0 | I9: 0
A10: ת | B10: 10 | C10: תבניות אלומיניום | D10: מלבן 90 (A4) נמוך | E10: 12 | F10: 0 | G10: 10 | H10: 0 | I10: 0
A11: ת | B11: 11 | C11: תבניות אלומיניום | D11: בינוני - 105 | E11: 1 | F11: 0 | G11: 1.2 | H11: 0 | I11: 0
A12: ת | B12: 12 | C12: תבניות אלומיניום | D12: בינוני - 105 | E12: 12 | F12: 0 | G12: 10 | H12: 0 | I12: 0
A13: ת | B13: 13 | C13: תבניות אלומיניום | D13: גדול - 210 | E13: 1 | F13: 0 | G13: 2.5 | H13: 0 | I13: 0
... A31: ת | B31: 31 | C31: תבניות אלומיניום | D31: קוקי שיט | E31: 1 | F31: 0 | G31: 4 | H31: 0 | I31: 0
C32: 0 | D32: 0 | E32: 0 | F32: 0 | G32: 0 | H32: 0 | I32: 0
A33: ת | B33: 32 | C33: תבניות אלומיניום | D33: מכסי קרטון לתבנית מלבן קטן | E33: 1 | F33: 0 | G33: 0.3 | H33: 0 | I33: 0
A34: ת | B34: 33 | C34: תבניות אלומיניום | D34: מכסי קרטון לתבנית מלבן בינוני | E34: 1 | F34: 0 | G34: 0.4 | H34: 0 | I34: 0
A35: ת | B35: 34 | C35: תבניות אלומיניום | D35: מכסי קרטון לתבנית מלבן גדול | E35: 1 | F35: 0 | G35: 0.5 | H35: 0 | I35: 0
A36: ת | B36: 35 | C36: תבניות אלומיניום | D36: מכסי אלומיניום לתבנית מלבן לגסטרונום | E36: 1 | F36: 0 | G36: 3.5 | H36: 0 | I36: 0
A37: ת | B37: 36 | C37: תבניות אלומיניום | D37: מכסי אלומיניום לתבנית 100 מלבן | E37: 1 | F37: 0 | G37: 2 | H37: 0 | I37: 0
A38: ת | B38: 37 | C38: תבניות אלומיניום | D38: מכסי PVC לתבנית עגולה קטן | E38: 1 | F38: 0 | G38: 0.8 | H38: 0 | I38: 0
A39: ת | B39: 38 | C39: תבניות אלומיניום | D39: מכסי PVC לתבנית עגולה גדול | E39: 1 | F39: 0 | G39: 1.5 | H39: 0 | I39: 0
A40: ת | B40: 39 | C40: תבניות אלומיניום | D40: מכסי PVC לתבנית 100 מלבן | E40: 1 | F40: 0 | G40: 3.5 | H40: 0 | I40: 0
A41: ת | B41: 40 | C41: תבניות אלומיניום | D41: מכסי PVC לתבנית מלבן קטן | E41: 1 | F41: 0 | G41: 0.7 | H41: 0 | I41: 0
C42: 0 | D42: 0 | E42: 0 | F42: 0 | G42: 0 | H42: 0 | I42: 0
A43: ת | B43: 41 | C43: תבניות אלומיניום | D43: סיר ח"פ קטן כ-2.5 ליטר | E43: 1 | F43: 0 | G43: 4.9 | H43: 0 | I43: 0
A44: ת | B44: 42 | C44: תבניות אלומיניום | D44: סיר ח"פ בינוני כ-4 ליטר | E44: 1 | F44: 0 | G44: 7.9 | H44: 0 | I44: 0
A45: ת | B45: 43 | C45: תבניות אלומיניום | D45: סיר ח"פ גדול כ-6 ליטר | E45: 1 | F45: 0 | G45: 13.9 | H45: 0 | I45: 0
A46: ת | B46: 44 | C46: תבניות אלומיניום | D46: סיר ח"פ ענק כ-7.4 ליטר | E46: 1 | F46: 0 | G46: 16.9 | H46: 0 | I46: 0
A47: ת | B47: 45 | C47: תבניות אלומיניום | D47: סיר ח"פ ענק 4 ליטר | E47: 1 | F47: 0 | G47: 7.9 | H47: 0 | I47: 0
C48: 0 | D48: 0 | E48: 0 | F48: 0 | G48: 0 | H48: 0 | I48: 0
A49: ת | B49: 46 | C49: תבניות קרטון | D49: מלבן 90 (A4) נמוך | E49: 1 | F49: 0 | G49: 2.9 | H49: 0 | I49: 0
A50: ת | B50: 47 | C50: תבניות קרטון | D50: עגול גדול | E50: 1 | F50: 0 | G50: 2.9 | H50: 0 | I50: 0
A51: ת | B51: 48 | C51: תבניות קרטון | D51: עגול בינוני | E51: 1 | F51: 0 | G51: 2.9 | H51: 0 | I51: 0
A52: ת | B52: 49 | C52: תבניות קרטון | D52: עגול קטן | E52: 1 | F52: 0 | G52: 2.9 | H52: 0 | I52: 0
A53: ת | B53: 50 | C53: תבניות קרטון | D53: עגול סבתא | E53: 1 | F53: 0 | G53: 2.9 | H53: 0 | I53: 0
A54: ת | B54: 51 | C54: תבניות קרטון | D54: אינגליש ארוך | E54: 4 | F54: 0 | G54: 5.9 | H54: 0 | I54: 0
A55: ת | B55: 52 | C55: תבניות קרטון | D55: אינגליש ארוך + מכסה שקוף | E55: 5 | F55: 0 | G55: 13.9 | H55: 0 | I55: 0
A56: ת | B56: 53 | C56: תבניות קרטון | D56: אינגליש בינוני רחב | E56: 3 | F56: 0 | G56: 5.9 | H56: 0 | I56: 0
A57: ת | B57: 54 | C57: תבניות קרטון | D57: אינגליש קטן | E57: 5 | F57: 0 | G57: 5.9 | H57: 0 | I57: 0
...
