Workbook
Name AllLines: תבניות!$A$2:$J$59,'סכו''''ם'!$A$2:$J$70,'מפות ומפיות וחבקים'!$A$2:$J$53
Name Prices: תבניות!$J$2:$J$59,שונות!XFA1048571:XFA45
Name shon: שונות!XEY1048570:XEY44
Name tav: תבניות!$J$2:$J$59

Sheet תבניות
A1: קוד מוצר | C1: תיאור | D1: תיאור וגודל | E1: מספר יחידות בחבילה | F1: צבעים לבחירה | G1: מחיר | H1: הערות | I1: מס' יחידות להזמנה | J1: לתשלום
A2: ת | B2: 1 | C2: תבניות אלומיניום | D2: אינגליש ארוך | E2: 1 | G2: 0.6 | J2: =IF(I2*G2>0,I2*G2,"")
A3: =IF(G3>0,$A$2,"") -> ת | B3: =IF(B2<>"",IF(G3>0,B2+1,""),B1+1) -> 2 | C3: תבניות אלומיניום | D3: אינגליש ארוך | E3: 25 | G3: 10 | J3: =IF(I3*G3>0,I3*G3,"")
A4: =IF(G4>0,$A$2,"") -> ת | B4: =IF(B3<>"",IF(G4>0,B3+1,""),B2+1) -> 3 | C4: תבניות אלומיניום | D4: אינגליש קצר | E4: 1 | G4: 0.6 | J4: =IF(I4*G4>0,I4*G4,"")
A5: =IF(G5>0,$A$2,"") -> ת | B5: =IF(B4<>"",IF(G5>0,B4+1,""),B3+1) -> 4 | C5: תבניות אלומיניום | D5: חלה מלבן בינוני | E5: 1 | G5: 2 | J5: =IF(I5*G5>0,I5*G5,"")
A6: =IF(G6>0,$A$2,"") -> ת | B6: =IF(B5<>"",IF(G6>0,B5+1,""),B4+1) -> 5 | C6: תבניות אלומיניום | D6: חלה מלבן גדול | E6: 4 | G6: 9.9 | J6: =IF(I6*G6>0,I6*G6,"")
A7: =IF(G7>0,$A$2,"") -> ת | B7: =IF(B6<>"",IF(G7>0,B6+1,""),B5+1) -> 6 | C7: תבניות אלומיניום | D7: חלה אובל גדול | E7: 5 | G7: 14.5 | J7: =IF(I7*G7>0,I7*G7,"")
A8: =IF(G8>0,$A$2,"") -> ת | B8: =IF(B7<>"",IF(G8>0,B7+1,""),B6+1) -> 7 | C8: תבניות אלומיניום | D8: חלה אובל בינוני | E8: 5 | G8: 11.5 | J8: =IF(I8*G8>0,I8*G8,"")
A9: =IF(G9>0,$A$2,"") -> ת | B9: =IF(B8<>"",IF(G9>0,B8+1,""),B7+1) -> 8 | C9: תבניות אלומיניום | D9: חלה אובל קטן | E9: 12 | G9: 10.9 | J9: =IF(I9*G9>0,I9*G9,"")
A10: =IF(G10>0,$A$2,"") -> ת | B10: =IF(B9<>"",IF(G10>0,B9+1,""),B8+1) -> 9 | C10: תבניות אלומיניום | D10: מלבן 90 (A4) נמוך | E10: 1 | G10: 1.2 | J10: =IF(I10*G10>0,I10*G10,"")
A11: =IF(G11>0,$A$2,"") -> ת | B11: =IF(B10<>"",IF(G11>0,B10+1,""),B9+1) -> 10 | C11: תבניות אלומיניום | D11: מלבן 90 (A4) נמוך | E11: 12 | G11: 10 | J11: =IF(I11*G11>0,I11*G11,"")
A12: =IF(G12>0,$A$2,"") -> ת | B12: =IF(B11<>"",IF(G12>0,B11+1,""),B10+1) -> 11 | C12: תבניות אלומיניום | D12: בינוני - 105 | E12: 1 | G12: 1.2 | J12: =IF(I12*G12>0,I12*G12,"")
A13: =IF(G13>0,$A$2,"") -> ת | B13: =IF(B12<>"",IF(G13>0,B12+1,""),B11+1) -> 12 | C13: תבניות אלומיניום | D13: בינוני - 105 | E13: 12 | G13: 10 | J13: =IF(I13*G13>0,I13*G13,"")
A14: =IF(G14>0,$A$2,"") -> ת | B14: =IF(B13<>"",IF(G14>0,B13+1,""),B12+1) -> 13 | C14: תבניות אלומיניום | D14: גדול - 210 | E14: 1 | G14: 2.5 | J14: =IF(I14*G14>0,I14*G14,"")
... A32: =IF(G32>0,$A$2,"") -> ת | B32: =IF(B31<>"",IF(G32>0,B31+1,""),B30+1) -> 31 | C32: תבניות אלומיניום | D32: קוקי שיט | E32: 1 | G32: 4 | J32: =IF(I32*G32>0,I32*G32,"")
A33: =IF(G33>0,$A$2,"") | B33: =IF(B32<>"",IF(G33>0,B32+1,""),B31+1) | J33: =IF(I33*G33>0,I33*G33,"")
A34: =IF(G34>0,$A$2,"") -> ת | B34: =IF(B33<>"",IF(G34>0,B33+1,""),B32+1) -> 32 | C34: תבניות אלומיניום | D34: מכסי קרטון לתבנית מלבן קטן | E34: 1 | G34: 0.3 | J34: =IF(I34*G34>0,I34*G34,"")
A35: =IF(G35>0,$A$2,"") -> ת | B35: =IF(B34<>"",IF(G35>0,B34+1,""),B33+1) -> 33 | C35: תבניות אלומיניום | D35: מכסי קרטון לתבנית מלבן בינוני | E35: 1 | G35: 0.4 | J35: =IF(I35*G35>0,I35*G35,"")
A36: =IF(G36>0,$A$2,"") -> ת | B36: =IF(B35<>"",IF(G36>0,B35+1,""),B34+1) -> 34 | C36: תבניות אלומיניום | D36: מכסי קרטון לתבנית מלבן גדול | E36: 1 | G36: 0.5 | J36: =IF(I36*G36>0,I36*G36,"")
A37: =IF(G37>0,$A$2,"") -> ת | B37: =IF(B36<>"",IF(G37>0,B36+1,""),B35+1) -> 35 | C37: תבניות אלומיניום | D37: מכסי אלומיניום לתבנית מלבן לגסטרונום | E37: 1 | G37: 3.5 | J37: =IF(I37*G37>0,I37*G37,"")
A38: =IF(G38>0,$A$2,"") -> ת | B38: =IF(B37<>"",IF(G38>0,B37+1,""),B36+1) -> 36 | C38: תבניות אלומיניום | D38: מכסי אלומיניום לתבנית 100 מלבן | E38: 1 | G38: 2 | J38: =IF(I38*G38>0,I38*G38,"")
A39: =IF(G39>0,$A$2,"") -> ת | B39: =IF(B38<>"",IF(G39>0,B38+1,""),B37+1) -> 37 | C39: תבניות אלומיניום | D39: מכסי PVC לתבנית עגולה קטן | E39: 1 | G39: 0.8 | J39: =IF(I39*G39>0,I39*G39,"")
A40: =IF(G40>0,$A$2,"") -> ת | B40: =IF(B39<>"",IF(G40>0,B39+1,""),B38+1) -> 38 | C40: תבניות אלומיניום | D40: מכסי PVC לתבנית עגולה גדול | E40: 1 | G40: 1.5 | J40: =IF(I40*G40>0,I40*G40,"")
A41: =IF(G41>0,$A$2,"") -> ת | B41: =IF(B40<>"",IF(G41>0,B40+1,""),B39+1) -> 39 | C41: תבניות אלומיניום | D41: מכסי PVC לתבנית 100 מלבן | E41: 1 | G41: 3.5 | J41: =IF(I41*G41>0,I41*G41,"")
A42: =IF(G42>0,$A$2,"") -> ת | B42: =IF(B41<>"",IF(G42>0,B41+1,""),B40+1) -> 40 | C42: תבניות אלומיניום | D42: מכסי PVC לתבנית מלבן קטן | E42: 1 | G42: 0.7 | J42: =IF(I42*G42>0,I42*G42,"")
A43: =IF(G43>0,$A$2,"") | B43: =IF(B42<>"",IF(G43>0,B42+1,""),B41+1) | J43: =IF(I43*G43>0,I43*G43,"")
A44: =IF(G44>0,$A$2,"") -> ת | B44: =IF(B43<>"",IF(G44>0,B43+1,""),B42+1) -> 41 | C44: תבניות אלומיניום | D44: סיר ח"פ קטן כ-2.5 ליטר | E44: 1 | G44: 4.9 | J44: =IF(I44*G44>0,I44*G44,"")
A45: =IF(G45>0,$A$2,"") -> ת | B45: =IF(B44<>"",IF(G45>0,B44+1,""),B43+1) -> 42 | C45: תבניות אלומיניום | D45: סיר ח"פ בינוני כ-4 ליטר | E45: 1 | G45: 7.9 | J45: =IF(I45*G45>0,I45*G45,"")
A46: =IF(G46>0,$A$2,"") -> ת | B46: =IF(B45<>"",IF(G46>0,B45+1,""),B44+1) -> 43 | C46: תבניות אלומיניום | D46: סיר ח"פ גדול כ-6 ליטר | E46: 1 | G46: 13.9 | J46: =IF(I46*G46>0,I46*G46,"")
A47: =IF(G47>0,$A$2,"") -> ת | B47: =IF(B46<>"",IF(G47>0,B46+1,""),B45+1) -> 44 | C47: תבניות אלומיניום | D47: סיר ח"פ ענק כ-7.4 ליטר | E47: 1 | G47: 16.9 | J47: =IF(I47*G47>0,I47*G47,"")
A48: =IF(G48>0,$A$2,"") -> ת | B48: =IF(B47<>"",IF(G48>0,B47+1,""),B46+1) -> 45 | C48: תבניות אלומיניום | D48: סיר ח"פ ענק 4 ליטר | E48: 1 | G48: 7.9 | J48: =IF(I48*G48>0,I48*G48,"")
A49: =IF(G49>0,$A$2,"") | B49: =IF(B48<>"",IF(G49>0,B48+1,""),B47+1) | J49: =IF(I49*G49>0,I49*G49,"")
A50: =IF(G50>0,$A$2,"") -> ת | B50: =IF(B49<>"",IF(G50>0,B49+1,""),B48+1) -> 46 | C50: תבניות קרטון | D50: מלבן 90 (A4) נמוך | E50: 1 | G50: 2.9 | J50: =IF(I50*G50>0,I50*G50,"")
A51: =IF(G51>0,$A$2,"") -> ת | B51: =IF(B50<>"",IF(G51>0,B50+1,""),B49+1) -> 47 | C51: תבניות קרטון | D51: עגול גדול | E51: 1 | G51: 2.9 | J51: =IF(I51*G51>0,I51*G51,"")
A52: =IF(G52>0,$A$2,"") -> ת | B52: =IF(B51<>"",IF(G52>0,B51+1,""),B50+1) -> 48 | C52: תבניות קרטון | D52: עגול בינוני | E52: 1 | G52: 2.9 | J52: =IF(I52*G52>0,I52*G52,"")
A53: =IF(G53>0,$A$2,"") -> ת | B53: =IF(B52<>"",IF(G53>0,B52+1,""),B51+1) -> 49 | C53: תבניות קרטון | D53: עגול קטן | E53: 1 | G53: 2.9 | J53: =IF(I53*G53>0,I53*G53,"")
A54: =IF(G54>0,$A$2,"") -> ת | B54: =IF(B53<>"",IF(G54>0,B53+1,""),B52+1) -> 50 | C54: תבניות קרטון | D54: עגול סבתא | E54: 1 | G54: 2.9 | J54: =IF(I54*G54>0,I54*G54,"")
A55: =IF(G55>0,$A$2,"") -> ת | B55: =IF(B54<>"",IF(G55>0,B54+1,""),B53+1) -> 51 | C55: תבניות קרטון | D55: אינגליש ארוך | E55: 4 | G55: 5.9 | J55: =IF(I55*G55>0,I55*G55,"")
A56: =IF(G56>0,$A$2,"") -> ת | B56: =IF(B55<>"",IF(G56>0,B55+1,""),B54+1) -> 52 | C56: תבניות קרטון | D56: אינגליש ארוך + מכסה שקוף | E56: 5 | G56: 13.9 | J56: =IF(I56*G56>0,I56*G56,"")
A57: =IF(G57>0,$A$2,"") -> ת | B57: =IF(B56<>"",IF(G57>0,B56+1,""),B55+1) -> 53 | C57: תבניות קרטון | D57: אינגליש בינוני רחב | E57: 3 | G57: 5.9 | J57: =IF(I57*G57>0,I57*G57,"")
A58: =IF(G58>0,$A$2,"") -> ת | B58: =IF(B57<>"",IF(G58>0,B57+1,""),B56+1) -> 54 | C58: תבניות קרטון | D58: אינגליש קטן | E58: 5 | G58: 5.9 | J58: =IF(I58*G58>0,I58*G58,"")
A59: =IF(G59>0,$A$2,"") -> ת | B59: =IF(B58<>"",IF(G59>0,B58+1,""),B57+1) -> 55 | C59: תבניות קרטון | D59: אינגליש מיני | E59: 1 | G59: 0.6 | J59: =IF(I59*G59>0,I59*G59,"")
G61: ס"כ לתשלום: | J61: =SUM(J2:J59) -> 0

Sheet סכו''ם
A1: קוד מוצר | C1: תיאור | E1: מספר יח' בחבילה | F1: צבעים לבחירה | G1: מחיר | H1: הערות | I1: מס' יחידות להזמנה | J1: לתשלום
A2: ס | B2: 1 | C2: סכו"ם פשוט | D2: מזלג | E2: 100 | F2: לבן | G2: 4.9 | J2: =IF(I2*G2>0,I2*G2,"")
A3: =IF(G3>0,$A$2,"") -> ס | B3: =IF(B2<>"",IF(G3>0,B2+1,""),B1+1) -> 2 | C3: סכו"ם פשוט | D3: כף | E3: 100 | F3: לבן | G3: 4.9 | J3: =IF(I3*G3>0,I3*G3,"")
A4: =IF(G4>0,$A$2,"") -> ס | B4: =IF(B3<>"",IF(G4>0,B3+1,""),B2+1) -> 3 | C4: סכו"ם פשוט | D4: כפית | E4: 100 | F4: לבן | G4: 4.9 | J4: =IF(I4*G4>0,I4*G4,"")
A5: =IF(G5>0,$A$2,"") -> ס | B5: =IF(B4<>"",IF(G5>0,B4+1,""),B3+1) -> 4 | C5: סכו"ם פשוט | D5: סכין | E5: 100 | F5: לבן | G5: 4.9 | J5: =IF(I5*G5>0,I5*G5,"")
A6: =IF(G6>0,$A$2,"") -> ס | B6: =IF(B5<>"",IF(G6>0,B5+1,""),B4+1) -> 5 | C6: סכו"ם פשוט | D6: כל הכלים | E6: 5 חבילות | F6: לבן | G6: 22 | J6: =IF(I6*G6>0,I6*G6,"")
A7: =IF(G7>0,$A$2,"") | B7: =IF(B6<>"",IF(G7>0,B6+1,""),B5+1) | J7: =IF(I7*G7>0,I7*G7,"")
A8: =IF(G8>0,$A$2,"") -> ס | B8: =IF(B7<>"",IF(G8>0,B7+1,""),B6+1) -> 6 | C8: סכו"ם נצנץ | D8: מזלג | E8: 40 | F8: כסף,זהב | G8: 5.9 | J8: =IF(I8*G8>0,I8*G8,"")
A9: =IF(G9>0,$A$2,"") -> ס | B9: =IF(B8<>"",IF(G9>0,B8+1,""),B7+1) -> 7 | C9: סכו"ם נצנץ | D9: כף | E9: 40 | F9: כסף,זהב | G9: 5.9 | J9: =IF(I9*G9>0,I9*G9,"")
A10: =IF(G10>0,$A$2,"") -> ס | B10: =IF(B9<>"",IF(G10>0,B9+1,""),B8+1) -> 8 | C10: סכו"ם נצנץ | D10: כפית | E10: 40 | F10: כסף,זהב | G10: 5.9 | J10: =IF(I10*G10>0,I10*G10,"")
A11: =IF(G11>0,$A$2,"") -> ס | B11: =IF(B10<>"",IF(G11>0,B10+1,""),B9+1) -> 9 | C11: סכו"ם נצנץ | D11: סכין | E11: 40 | F11: כסף,זהב | G11: 5.9 | J11: =IF(I11*G11>0,I11*G11,"")
A12: =IF(G12>0,$A$2,"") | B12: =IF(B11<>"",IF(G12>0,B11+1,""),B10+1) | J12: =IF(I12*G12>0,I12*G12,"")
A13: =IF(G13>0,$A$2,"") -> ס | B13: =IF(B12<>"",IF(G13>0,B12+1,""),B11+1) -> 10 | C13: סכו"ם קשיח | D13: מזלג | E13: 100 | F13: שקוף,לבן,כסף,זהב,קרם | G13: 10.9 | J13: =IF(I13*G13>0,I13*G13,"")
A14: =IF(G14>0,$A$2,"") -> ס | B14: =IF(B13<>"",IF(G14>0,B13+1,""),B12+1) -> 11 | C14: סכו"ם קשיח | D14: כף | E14: 100 | F14: שקוף,לבן,כסף,זהב,קרם | G14: 10.9 | J14: =IF(I14*G14>0,I14*G14,"")
A15: =IF(G15>0,$A$2,"") -> ס | B15: =IF(B14<>"",IF(G15>0,B14+1,""),B13+1) -> 12 | C15: סכו"ם קשיח | D15: כפית | E15: 100 | F15: שקוף,לבן,כסף,זהב,קרם | G15: 10.9 | J15: =IF(I15*G15>0,I15*G15,"")
A16: =IF(G16>0,$A$2,"") -> ס | B16: =IF(B15<>"",IF(G16>0,B15+1,""),B14+1) -> 13 | C16: סכו"ם קשיח | D16: סכין | E16: 100 | F16: שקוף,לבן,כסף,זהב,קרם | G16: 10.9 | J16: =IF(I16*G16>0,I16*G16,"")
A17: =IF(G17>0,$A$2,"") | B17: =IF(B16<>"",IF(G17>0,B16+1,""),B15+1) | J17: =IF(I17*G17>0,I17*G17,"")
A18: =IF(G18>0,$A$2,"") -> ס | B18: =IF(B17<>"",IF(G18>0,B17+1,""),B16+1) -> 14 | C18: סכו"ם שיק | D18: מזלג | E18: 50 | F18: שקוף,זהב,כסף,קרם | G18: 8.9 | J18: =IF(I18*G18>0,I18*G18,"")
A19: =IF(G19>0,$A$2,"") -> ס | B19: =IF(B18<>"",IF(G19>0,B18+1,""),B17+1) -> 15 | C19: סכו"ם שיק | D19: כף | E19: 50 | F19: שקוף,זהב,כסף,קרם | G19: 8.9 | J19: =IF(I19*G19>0,I19*G19,"")
A20: =IF(G20>0,$A$2,"") -> ס | B20: =IF(B19<>"",IF(G20>0,B19+1,""),B18+1) -> 16 | C20: סכו"ם שיק | D20: כפית | E20: 50 | F20: שקוף,זהב,כסף,קרם | G20: 6 | J20: =IF(I20*G20>0,I20*G20,"")
A21: =IF(G21>0,$A$2,"") -> ס | B21: =IF(B20<>"",IF(G21>0,B20+1,""),B19+1) -> 17 | C21: סכו"ם שיק | D21: סכין | E21: 50 | F21: שקוף,זהב,כסף,קרם | G21: 8.9 | J21: =IF(I21*G21>0,I21*G21,"")
A22: =IF(G22>0,$A$2,"") | B22: =IF(B21<>"",IF(G22>0,B21+1,""),B20+1) | J22: =IF(I22*G22>0,I22*G22,"")
A23: =IF(G23>0,$A$2,"") -> ס | B23: =IF(B22<>"",IF(G23>0,B22+1,""),B21+1) -> 18 | C23: סכו"ם תבניכל | D23: מזלג | E23: 50 | F23: שקוף,זהב,כסף,קרם,לבן | G23: 5.9 | J23: =IF(I23*G23>0,I23*G23,"")
A24: =IF(G24>0,$A$2,"") -> ס | B24: =IF(B23<>"",IF(G24>0,B23+1,""),B22+1) -> 19 | C24: סכו"ם תבניכל | D24: כף | E24: 50 | F24: שקוף,זהב,כסף,קרם,לבן | G24: 5.9 | J24: =IF(I24*G24>0,I24*G24,"")
A25: =IF(G25>0,$A$2,"") -> ס | B25: =IF(B24<>"",IF(G25>0,B24+1,""),B23+1) -> 20 | C25: סכו"ם תבניכל | D25: כפית | E25: 50 | F25: שקוף,זהב,כסף,קרם,לבן | G25: 3.9 | J25: =IF(I25*G25>0,I25*G25,"")
A26: =IF(G26>0,$A$2,"") -> ס | B26: =IF(B25<>"",IF(G26>0,B25+1,""),B24+1) -> 21 | C26: סכו"ם תבניכל | D26: סכין | E26: 50 | F26: שקוף,זהב,כסף,קרם,לבן | G26: 5.9 | J26: =IF(I26*G26>0,I26*G26,"")
A27: =IF(G27>0,$A$2,"") | B27: =IF(B26<>"",IF(G27>0,B26+1,""),B25+1) | J27: =IF(I27*G27>0,I27*G27,"")
A28: =IF(G28>0,$A$2,"") -> ס | B28: =IF(B27<>"",IF(G28>0,B27+1,""),B26+1) -> 22 | C28: סכו"ם מוזהב ענתיק | D28: מזלג | E28: 12 | F28: זהב | G28: 6.9 | J28: =IF(I28*G28>0,I28*G28,"")
A29: =IF(G29>0,$A$2,"") -> ס | B29: =IF(B28<>"",IF(G29>0,B28+1,""),B27+1) -> 23 | C29: סכו"ם מוזהב ענתיק | D29: כף | E29: 12 | F29: זהב | G29: 6.9 | J29: =IF(I29*G29>0,I29*G29,"")
A30: =IF(G30>0,$A$2,"") -> ס | B30: =IF(B29<>"",IF(G30>0,B29+1,""),B28+1) -> 24 | C30: סכו"ם מוזהב ענתיק | D30: כפית | E30: 12 | F30: זהב | G30: 6.9 | J30: =IF(I30*G30>0,I30*G30,"")
A31: =IF(G31>0,$A$2,"") -> ס | B31: =IF(B30<>"",IF(G31>0,B30+1,""),B29+1) -> 25 | C31: סכו"ם מוזהב ענתיק | D31: סכין | E31: 12 | F31: זהב | G31: 6.9 | J31: =IF(I31*G31>0,I31*G31,"")
A32: =IF(G32>0,$A$2,"") | B32: =IF(B31<>"",IF(G32>0,B31+1,""),B30+1) | J32: =IF(I32*G32>0,I32*G32,"")
A33: =IF(G33>0,$A$2,"") -> ס | B33: =IF(B32<>"",IF(G33>0,B32+1,""),B31+1) -> 26 | C33: סכו"ם מוכסף | D33: מזלג | E33: 20 | F33: כסף | G33: 6.5 | J33: =IF(I33*G33>0,I33*G33,"")
A34: =IF(G34>0,$A$2,"") -> ס | B34: =IF(B33<>"",IF(G34>0,B33+1,""),B32+1) -> 27 | C34: סכו"ם מוכסף | D34: כף | E34: 20 | F34: כסף | G34: 6.5 | J34: =IF(I34*G34>0,I34*G34,"")
A35: =IF(G35>0,$A$2,"") -> ס | B35: =IF(B34<>"",IF(G35>0,B34+1,""),B33+1) -> 28 | C35: סכו"ם מוכסף | D35: כפית | E35: 20 | F35: כסף | G35: 6.5 | J35: =IF(I35*G35>0,I35*G35,"")
A36: =IF(G36>0,$A$2,"") -> ס | B36: =IF(B35<>"",IF(G36>0,B35+1,""),B34+1) -> 29 | C36: סכו"ם מוכסף | D36: סכין | E36: 20 | F36: כסף | G36: 6.5 | J36: =IF(I36*G36>0,I36*G36,"")
A37: =IF(G37>0,$A$2,"") -> ס | B37: =IF(B36<>"",IF(G37>0,B36+1,""),B35+1) -> 30 | C37: סכו"ם מוכסף | D37: כל הכלים | E37: 2 חבילות | F37: כסף | G37: 10 | J37: =IF(I37*G37>0,I37*G37,"")
A38: =IF(G38>0,$A$2,"") | B38: =IF(B37<>"",IF(G38>0,B37+1,""),B36+1) | J38: =IF(I38*G38>0,I38*G38,"")
A39: =IF(G39>0,$A$2,"") -> ס | B39: =IF(B38<>"",IF(G39>0,B38+1,""),B37+1) -> 31 | C39: סכו"ם וינטאג' | D39: מזלג | E39: 10 | F39: קרם,לבן,אפור | G39: 5.9 | J39: =IF(I39*G39>0,I39*G39,"")
A40: =IF(G40>0,$A$2,"") -> ס | B40: =IF(B39<>"",IF(G40>0,B39+1,""),B38+1) -> 32 | C40: סכו"ם וינטאג' | D40: כף | E40: 10 | F40: קרם,לבן,אפור | G40: 5.9 | J40: =IF(I40*G40>0,I40*G40,"")
A41: =IF(G41>0,$A$2,"") -> ס | B41: =IF(B40<>"",IF(G41>0,B40+1,""),B39+1) -> 33 | C41: סכו"ם וינטאג' | D41: כפית | E41: 10 | F41: קרם,לבן,אפור | G41: 2.5 | J41: =IF(I41*G41>0,I41*G41,"")
A42: =IF(G42>0,$A$2,"") -> ס | B42: =IF(B41<>"",IF(G42>0,B41+1,""),B40+1) -> 34 | C42: סכו"ם וינטאג' | D42: סכין | E42: 10 | F42: קרם,לבן,אפור | G42: 5.9 | J42: =IF(I42*G42>0,I42*G42,"")
A43: =IF(G43>0,$A$2,"") -> ס | B43: =IF(B42<>"",IF(G43>0,B42+1,""),B41+1) -> 35 | C43: סכו"ם וינטאג' | D43: כפית לעוגה | E43: 10 | F43: קרם,לבן,אפור | G43: 3.5 | J43: =IF(I43*G43>0,I43*G43,"")
A44: =IF(G44>0,$A$2,"") -> ס | B44: =IF(B43<>"",IF(G44>0,B43+1,""),B42+1) -> 36 | C44: סכו"ם וינטאג' | D44: מזלג לעוגה | E44: 10 | F44: קרם,לבן,אפור | G44: 3.5 | J44: =IF(I44*G44>0,I44*G44,"")
A45: =IF(G45>0,$A$2,"") -> ס | B45: =IF(B44<>"",IF(G45>0,B44+1,""),B43+1) -> 37 | C45: סכו"ם וינטאג' | D45: כפית מיני | E45: 10 | F45: קרם,לבן,אפור | G45: 3.5 | J45: =IF(I45*G45>0,I45*G45,"")
A46: =IF(G46>0,$A$2,"") -> ס | B46: =IF(B45<>"",IF(G46>0,B45+1,""),B44+1) -> 38 | C46: סכו"ם וינטאג' | D46: מזלג מיני | E46: 10 | F46: קרם,לבן,אפור | G46: 3.5 | J46: =IF(I46*G46>0,I46*G46,"")
A47: =IF(G47>0,$A$2,"") | B47: =IF(B46<>"",IF(G47>0,B46+1,""),B45+1) | J47: =IF(I47*G47>0,I47*G47,"")
A48: =IF(G48>0,$A$2,"") -> ס | B48: =IF(B47<>"",IF(G48>0,B47+1,""),B46+1) -> 39 | C48: סכו''ם רטרו מוכסף | D48: מזלג | E48: 10 | F48: מוכסף | G48: 7.9 | J48: =IF(I48*G48>0,I48*G48,"")
A49: =IF(G49>0,$A$2,"") -> ס | B49: =IF(B48<>"",IF(G49>0,B48+1,""),B47+1) -> 40 | C49: סכו''ם רטרו מוכסף | D49: כף | E49: 10 | F49: מוכסף | G49: 7.9 | J49: =IF(I49*G49>0,I49*G49,"")
A50: =IF(G50>0,$A$2,"") -> ס | B50: =IF(B49<>"",IF(G50>0,B49+1,""),B48+1) -> 41 | C50: סכו''ם רטרו מוכסף | D50: כפית | E50: 10 | F50: מוכסף | G50: 4.5 | J50: =IF(I50*G50>0,I50*G50,"")
A51: =IF(G51>0,$A$2,"") -> ס | B51: =IF(B50<>"",IF(G51>0,B50+1,""),B49+1) -> 42 | C51: סכו''ם רטרו מוכסף | D51: סכין | E51: 10 | F51: מוכסף | G51: 7.9 | J51: =IF(I51*G51>0,I51*G51,"")
A52: =IF(G52>0,$A$2,"") | B52: =IF(B51<>"",IF(G52>0,B51+1,""),B50+1) | J52: =IF(I52*G52>0,I52*G52,"")
A53: =IF(G53>0,$A$2,"") -> ס | B53: =IF(B52<>"",IF(G53>0,B52+1,""),B51+1) -> 43 | C53: סכו''ם ורסאי נצנץ | D53: מזלג | E53: 10 | F53: זהב, כסף | G53: 5.9 | J53: =IF(I53*G53>0,I53*G53,"")
A54: =IF(G54>0,$A$2,"") -> ס | B54: =IF(B53<>"",IF(G54>0,B53+1,""),B52+1) -> 44 | C54: סכו''ם ורסאי נצנץ | D54: כף | E54: 10 | F54: זהב, כסף | G54: 5.9 | J54: =IF(I54*G54>0,I54*G54,"")
A55: =IF(G55>0,$A$2,"") -> ס | B55: =IF(B54<>"",IF(G55>0,B54+1,""),B53+1) -> 45 | C55: סכו''ם ורסאי נצנץ | D55: כפית | E55: 10 | F55: זהב, כסף | G55: 2.5 | J55: =IF(I55*G55>0,I55*G55,"")
A56: =IF(G56>0,$A$2,"") -> ס | B56: =IF(B55<>"",IF(G56>0,B55+1,""),B54+1) -> 46 | C56: סכו''ם ורסאי נצנץ | D56: סכין | E56: 10 | F56: זהב, כסף | G56: 5.9 | J56: =IF(I56*G56>0,I56*G56,"")
A57: =IF(G57>0,$A$2,"") -> ס | B57: =IF(B56<>"",IF(G57>0,B56+1,""),B55+1) -> 47 | C57: סכו"ם ורסאי נצנץ | D57: מזלג/כף/סכין | E57: 2 חבילות | F57: זהב, כסף | G57: 10 | J57: =IF(I57*G57>0,I57*G57,"")
A58: =IF(G58>0,$A$2,"") | B58: =IF(B57<>"",IF(G58>0,B57+1,""),B56+1) | J58: =IF(I58*G58>0,I58*G58,"")
A59: =IF(G59>0,$A$2,"") -> ס | B59: =IF(B58<>"",IF(G59>0,B58+1,""),B57+1) -> 48 | C59: סכו"ם קינוח | D59: כפית מיני | F59: שקוף,מוכסף | G59: 4.9 | J59: =IF(I59*G59>0,I59*G59,"")
A60: =IF(G60>0,$A$2,"") -> ס | B60: =IF(B59<>"",IF(G60>0,B59+1,""),B58+1) -> 49 | C60: סכו"ם קינוח | D60: מזלג מיני | F60: שקוף,מוכסף | G60: 4.9 | J60: =IF(I60*G60>0,I60*G60,"")
A61: =IF(G61>0,$A$2,"") -> ס | B61: =IF(B60<>"",IF(G61>0,B60+1,""),B59+1) -> 50 | C61: סכו"ם קינוח | D61: כפית גלידה | F61: שקוף,מוכסף | G61: 3.9 | J61: =IF(I61*G61>0,I61*G61,"")
A62: =IF(G62>0,$A$2,"") | B62: =IF(B61<>"",IF(G62>0,B61+1,""),B60+1) | J62: =IF(I62*G62>0,I62*G62,"")
A63: =IF(G63>0,$A$2,"") -> ס | B63: =IF(B62<>"",IF(G63>0,B62+1,""),B61+1) -> 51 | C63: סכו''ם הגשה | D63: כף | E63: 2 | F63: נצנץ,כסף,זהב,שקוף,ענתיק,קרם | G63: 2.9 | J63: =IF(I63*G63>0,I63*G63,"")
A64: =IF(G64>0,$A$2,"") -> ס | B64: =IF(B63<>"",IF(G64>0,B63+1,""),B62+1) -> 52 | C64: סכו''ם הגשה | D64: מזלג | E64: 6 | F64: כסף,זהב,שקוף,ענתיק,קרם | G64: 9 | J64: =IF(I64*G64>0,I64*G64,"")
A65: =IF(G65>0,$A$2,"") -> ס | B65: =IF(B64<>"",IF(G65>0,B64+1,""),B63+1) -> 53 | C65: סכו''ם הגשה | D65: כף ענק | F65: שקוף | G65: 3.9 | J65: =IF(I65*G65>0,I65*G65,"")
A66: =IF(G66>0,$A$2,"") -> ס | B66: =IF(B65<>"",IF(G66>0,B65+1,""),B64+1) -> 54 | C66: סכו''ם הגשה | D66: מלקחיים | F66: שקוף | G66: 3.9 | J66: =IF(I66*G66>0,I66*G66,"")
A67: =IF(G67>0,$A$2,"") -> ס | B67: =IF(B66<>"",IF(G67>0,B66+1,""),B65+1) -> 55 | C67: סכו''ם הגשה | D67: מרית | E67: 2 | F67: שקוף | G67: 3.5 | J67: =IF(I67*G67>0,I67*G67,"")
A68: =IF(G68>0,$A$2,"") -> ס | B68: =IF(B67<>"",IF(G68>0,B67+1,""),B66+1) -> 56 | C68: סכו''ם הגשה | D68: מצקת קטן | E68: 2 | F68: שקוף | G68: 6.9 | J68: =IF(I68*G68>0,I68*G68,"")
A69: =IF(G69>0,$A$2,"") -> ס | B69: =IF(B68<>"",IF(G69>0,B68+1,""),B67+1) -> 57 | C69: סכו''ם הגשה | D69: מצקת גדול | F69: שקוף | G69: 3.9 | J69: =IF(I69*G69>0,I69*G69,"")
A70: =IF(G70>0,$A$2,"") -> ס | B70: =IF(B69<>"",IF(G70>0,B69+1,""),B68+1) -> 58 | C70: סכו''ם הגשה | D70: מצקת לרוטב | F70: שקוף | G70: 2.5 | J70: =IF(I70*G70>0,I70*G70,"")
G72: ס"כ לתשלום: | J72: =SUM(J2:J71) -> 0

Sheet מפות ומפיות וחבקים
A1: קוד מוצר | C1: תיאור | E1: מספר יח' בחבילה | F1: צבעים לבחירה | G1: מחיר | H1: הערות | I1: מס' יחידות להזמנה | J1: לתשלום
A2: מ | B2: 1 | C2: מפות | D2: אלבד מקופל 1.2/2.7 | E2: 1 | F2: מגוון צבעים | G2: 7.9 | J2: =IF(I2*G2>0,I2*G2,"")
A3: =IF(G3>0,$A$2,"") -> מ | B3: =IF(B2<>"",IF(G3>0,B2+1,""),B1+1) -> 2 | C3: מפות | D3: אלבד עגול 1.80 | E3: 1 | F3: מגוון צבעים | G3: 7.9 | J3: =IF(I3*G3>0,I3*G3,"")
A4: =IF(G4>0,$A$2,"") -> מ | B4: =IF(B3<>"",IF(G4>0,B3+1,""),B2+1) -> 3 | C4: מפות | D4: מובלט מקופל 1.37/2.74 | E4: 1 | F4: כסף,לבן,קרם | G4: 12.9 | J4: =IF(I4*G4>0,I4*G4,"")
A5: =IF(G5>0,$A$2,"") -> מ | B5: =IF(B4<>"",IF(G5>0,B4+1,""),B3+1) -> 4 | C5: מפות | D5: מפה + רנר מקופלת | E5: 1 | F5: כסף וזהב | G5: 8.9 | J5: =IF(I5*G5>0,I5*G5,"")
A6: =IF(G6>0,$A$2,"") -> מ | B6: =IF(B5<>"",IF(G6>0,B5+1,""),B4+1) -> 5 | C6: מפות | D6: מפה + רנר מקופלת | E6: 1 | F6: מגוון צבעים | G6: 7.5 | J6: =IF(I6*G6>0,I6*G6,"")
A7: =IF(G7>0,$A$2,"") -> מ | B7: =IF(B6<>"",IF(G7>0,B6+1,""),B5+1) -> 6 | C7: מפות | D7: אלבד לשולחן אבירים 2.40/1.90 | E7: 1 | F7: שחור,זהב | G7: 12.9 | J7: =IF(I7*G7>0,I7*G7,"")
A8: =IF(G8>0,$A$2,"") -> מ | B8: =IF(B7<>"",IF(G8>0,B7+1,""),B6+1) -> 7 | C8: מפות | D8: גליל אלבד 25 מטר | E8: 1 | F8: מגוון צבעים | G8: 28.9 | J8: =IF(I8*G8>0,I8*G8,"")
A9: =IF(G9>0,$A$2,"") -> מ | B9: =IF(B8<>"",IF(G9>0,B8+1,""),B7+1) -> 8 | C9: מפות | D9: גליל אלבד 100 מטר | E9: 1 | F9: מגוון צבעים | G9: 110 | J9: =IF(I9*G9>0,I9*G9,"")
A10: =IF(G10>0,$A$2,"") -> מ | B10: =IF(B9<>"",IF(G10>0,B9+1,""),B8+1) -> 9 | C10: מפות | D10: גליל אלבד מוטבע | E10: 1 | F10: מגוון צבעים | G10: 33.9 | J10: =IF(I10*G10>0,I10*G10,"")
A11: =IF(G11>0,$A$2,"") -> מ | B11: =IF(B10<>"",IF(G11>0,B10+1,""),B9+1) -> 10 | C11: מפות | D11: גליל מודפס עם רנר | E11: 1 | F11: מגוון צבעים | G11: 45 | J11: =IF(I11*G11>0,I11*G11,"")
A12: =IF(G12>0,$A$2,"") | B12: =IF(B11<>"",IF(G12>0,B11+1,""),B10+1) | J12: =IF(I12*G12>0,I12*G12,"")
A13: =IF(G13>0,$A$2,"") -> מ | B13: =IF(B12<>"",IF(G13>0,B12+1,""),B11+1) -> 11 | C13: מפות נילון | D13: 1/6 דק | E13: 1 | G13: 4.5 | J13: =IF(I13*G13>0,I13*G13,"")
A14: =IF(G14>0,$A$2,"") -> מ | B14: =IF(B13<>"",IF(G14>0,B13+1,""),B12+1) -> 12 | C14: מפות נילון | D14: 1/8 דק | E14: 1 | G14: 4.5 | J14: =IF(I14*G14>0,I14*G14,"")
A15: =IF(G15>0,$A$2,"") -> מ | B15: =IF(B14<>"",IF(G15>0,B14+1,""),B13+1) -> 13 | C15: מפות נילון | D15: 1/6 עבה | E15: 1 | G15: 12.9 | J15: =IF(I15*G15>0,I15*G15,"")
A16: =IF(G16>0,$A$2,"") -> מ | B16: =IF(B15<>"",IF(G16>0,B15+1,""),B14+1) -> 14 | C16: מפות נילון | D16: 1/8 עבה | E16: 1 | G16: 12.9 | J16: =IF(I16*G16>0,I16*G16,"")
A17: =IF(G17>0,$A$2,"") -> מ | B17: =IF(B16<>"",IF(G17>0,B16+1,""),B15+1) -> 15 | C17: מפות נילון | D17: גליל דק לבן 15 מטר | E17: 1 | G17: 5.5 | J17: =IF(I17*G17>0,I17*G17,"")
A18: =IF(G18>0,$A$2,"") -> מ | B18: =IF(B17<>"",IF(G18>0,B17+1,""),B16+1) -> 16 | C18: מפות נילון | D18: גליל עבה - 45 מטר | E18: 1 | G18: 20.9 | J18: =IF(I18*G18>0,I18*G18,"")
A19: =IF(G19>0,$A$2,"") -> מ | B19: =IF(B18<>"",IF(G19>0,B18+1,""),B17+1) -> 17 | C19: מפות נילון | D19: גליל עבה - 45 מטר | E19: 2 חבילות | G19: 30 | J19: =IF(I19*G19>0,I19*G19,"")
A20: =IF(G20>0,$A$2,"") -> מ | B20: =IF(B19<>"",IF(G20>0,B19+1,""),B18+1) -> 18 | C20: מפות נילון | D20: גליל עבה במיוחד - 45 מטר | E20: 1 | G20: 38.9 | J20: =IF(I20*G20>0,I20*G20,"")
A21: =IF(G21>0,$A$2,"") -> מ | B21: =IF(B20<>"",IF(G21>0,B20+1,""),B19+1) -> 19 | C21: מפות נילון | D21: גליל עבה במיוחד 50/1.6 | E21: 1 | G21: 83.9 | J21: =IF(I21*G21>0,I21*G21,"")
A22: =IF(G22>0,$A$2,"") -> מ | B22: =IF(B21<>"",IF(G22>0,B21+1,""),B20+1) -> 20 | C22: מפות נילון | D22: גליל עבה במיוחד 10ק"ג/1.6 רוחב | E22: 1 | G22: 172 | J22: =IF(I22*G22>0,I22*G22,"")
A23: =IF(G23>0,$A$2,"") | B23: =IF(B22<>"",IF(G23>0,B22+1,""),B21+1) | J23: =IF(I23*G23>0,I23*G23,"")
A24: =IF(G24>0,$A$2,"") -> מ | B24: =IF(B23<>"",IF(G24>0,B23+1,""),B22+1) -> 21 | C24: מפיות | D24: מדוגם נפקינג | E24: 1 | G24: 6.5 | J24: =IF(I24*G24>0,I24*G24,"")
A25: =IF(G25>0,$A$2,"") -> מ | B25: =IF(B24<>"",IF(G25>0,B24+1,""),B23+1) -> 22 | C25: מפיות | D25: מדוגם נפקינג | E25: 2 חבילות | G25: 10 | J25: =IF(I25*G25>0,I25*G25,"")
A26: =IF(G26>0,$A$2,"") -> מ | B26: =IF(B25<>"",IF(G26>0,B25+1,""),B24+1) -> 23 | C26: מפיות | D26: צבע אחיד חד שכבתי 1/100 | E26: 1 | F26: צבעים בהירים | G26: 5.9 | J26: =IF(I26*G26>0,I26*G26,"")
A27: =IF(G27>0,$A$2,"") -> מ | B27: =IF(B26<>"",IF(G27>0,B26+1,""),B25+1) -> 24 | C27: מפיות | D27: צבע אחיד חד שכבתי 1/100 | E27: 1 | F27: צבעים כהים | G27: 7.9 | J27: =IF(I27*G27>0,I27*G27,"")
A28: =IF(G28>0,$A$2,"") -> מ | B28: =IF(B27<>"",IF(G28>0,B27+1,""),B26+1) -> 25 | C28: מפיות | D28: צבע אחיד דו שכבתי 1/50 | E28: 1 | G28: 7.9 | J28: =IF(I28*G28>0,I28*G28,"")
A29: =IF(G29>0,$A$2,"") -> מ | B29: =IF(B28<>"",IF(G29>0,B28+1,""),B27+1) -> 26 | C29: מפיות | D29: חגים | G29: 6.5 | J29: =IF(I29*G29>0,I29*G29,"")
A30: =IF(G30>0,$A$2,"") | B30: =IF(B29<>"",IF(G30>0,B29+1,""),B28+1) | J30: =IF(I30*G30>0,I30*G30,"")
A31: =IF(G31>0,$A$2,"") -> מ | B31: =IF(B30<>"",IF(G31>0,B30+1,""),B29+1) -> 27 | C31: חבקים | D31: חבק פנינים | E31: 6 | F31: זהב,כסף, פנינה | G31: 24.5 | J31: =IF(I31*G31>0,I31*G31,"")
A32: =IF(G32>0,$A$2,"") -> מ | B32: =IF(B31<>"",IF(G32>0,B31+1,""),B30+1) -> 28 | C32: חבקים | D32: חבק פרח פנינה | E32: 6 | F32: זהב,כסף | G32: 13.9 | J32: =IF(I32*G32>0,I32*G32,"")
A33: =IF(G33>0,$A$2,"") -> מ | B33: =IF(B32<>"",IF(G33>0,B32+1,""),B31+1) -> 29 | C33: חבקים | D33: חבק כתר עלה | E33: 6 | F33: זהב,כסף | G33: 11.9 | J33: =IF(I33*G33>0,I33*G33,"")
A34: =IF(G34>0,$A$2,"") -> מ | B34: =IF(B33<>"",IF(G34>0,B33+1,""),B32+1) -> 30 | C34: חבקים | D34: חבק עלה | E34: 6 | F34: זהב,כסף, ברונזה | G34: 11.9 | J34: =IF(I34*G34>0,I34*G34,"")
A35: =IF(G35>0,$A$2,"") -> מ | B35: =IF(B34<>"",IF(G35>0,B34+1,""),B33+1) -> 31 | C35: חבקים | D35: חבק טבעת יהלום | E35: 6 | F35: זהב,כסף,ברונזה | G35: 19.9 | J35: =IF(I35*G35>0,I35*G35,"")
A36: =IF(G36>0,$A$2,"") -> מ | B36: =IF(B35<>"",IF(G36>0,B35+1,""),B34+1) -> 32 | C36: חבקים | D36: חבק פרח | E36: 9 | F36: זהב,כסף | G36: 9.9 | J36: =IF(I36*G36>0,I36*G36,"")
A37: =IF(G37>0,$A$2,"") -> מ | B37: =IF(B36<>"",IF(G37>0,B36+1,""),B35+1) -> 33 | C37: חבקים | D37: חבק פרח צבעוני | E37: 6 | F37: כחול,אפור,ורוד | G37: 9.9 | J37: =IF(I37*G37>0,I37*G37,"")
A38: =IF(G38>0,$A$2,"") -> מ | B38: =IF(B37<>"",IF(G38>0,B37+1,""),B36+1) -> 34 | C38: חבקים | D38: חבק סיכה פרח | E38: 6 | F38: זהב,כסף | G38: 15.9 | J38: =IF(I38*G38>0,I38*G38,"")
A39: =IF(G39>0,$A$2,"") -> מ | B39: =IF(B38<>"",IF(G39>0,B38+1,""),B37+1) -> 35 | C39: חבקים | D39: חבק פרח פישתן | E39: 6 | F39: ורוד, בורדו | G39: 13.9 | J39: =IF(I39*G39>0,I39*G39,"")
A40: =IF(G40>0,$A$2,"") | B40: =IF(B39<>"",IF(G40>0,B39+1,""),B38+1) | J40: =IF(I40*G40>0,I40*G40,"")
A41: =IF(G41>0,$A$2,"") -> מ | B41: =IF(B40<>"",IF(G41>0,B40+1,""),B39+1) -> 36 | C41: פיזור | D41: פרחי פיזור פנינה נצנץ | E41: 12 | F41: זהב,כסף,ברונזה | G41: 8.9 | J41: =IF(I41*G41>0,I41*G41,"")
A42: =IF(G42>0,$A$2,"") -> מ | B42: =IF(B41<>"",IF(G42>0,B41+1,""),B40+1) -> 37 | C42: פיזור | D42: פרחי פיזור פנינה עגול נצנץ | E42: 12 | F42: כסף,ברונזה,סגול | G42: 8.9 | J42: =IF(I42*G42>0,I42*G42,"")
A43: =IF(G43>0,$A$2,"") -> מ | B43: =IF(B42<>"",IF(G43>0,B42+1,""),B41+1) -> 38 | C43: פיזור | D43: פפרחי פיזור יהלום | E43: 6 | F43: מנטה,רוד,קרם | G43: 9.9 | J43: =IF(I43*G43>0,I43*G43,"")
A44: =IF(G44>0,$A$2,"") -> מ | B44: =IF(B43<>"",IF(G44>0,B43+1,""),B42+1) -> 39 | C44: פיזור | D44: פרחי פיזור מעבר | E44: 12 | F44: גווני כחול,גווני כתום,גווני ירוק,גווני חום | G44: 9.9 | J44: =IF(I44*G44>0,I44*G44,"")
A45: =IF(G45>0,$A$2,"") -> מ | B45: =IF(B44<>"",IF(G45>0,B44+1,""),B43+1) -> 40 | C45: פיזור | D45: יהלומי פיזור | E45: 250 ג' | F45: שקוף, טורקיז, אדום, צהוב, ירוק | G45: 14.9 | J45: =IF(I45*G45>0,I45*G45,"")
A46: =IF(G46>0,$A$2,"") | B46: =IF(B45<>"",IF(G46>0,B45+1,""),B44+1) | J46: =IF(I46*G46>0,I46*G46,"")
A47: =IF(G47>0,$A$2,"") -> מ | B47: =IF(B46<>"",IF(G47>0,B46+1,""),B45+1) -> 41 | C47: רנר | D47: פשתן חלק | E47: 1 | F47: מגוון צבעים | G47: 23 | J47: =IF(I47*G47>0,I47*G47,"")
A48: =IF(G48>0,$A$2,"") -> מ | B48: =IF(B47<>"",IF(G48>0,B47+1,""),B46+1) -> 42 | C48: רנר | D48: פשתן מדוגם | E48: 1 | F48: מגוון צבעים | G48: 25 | J48: =IF(I48*G48>0,I48*G48,"")
A49: =IF(G49>0,$A$2,"") -> מ | B49: =IF(B48<>"",IF(G49>0,B48+1,""),B47+1) -> 43 | C49: רנר | D49: פייטים | E49: 1 | F49: מגוון צבעים | G49: 28 | J49: =IF(I49*G49>0,I49*G49,"")
A50: =IF(G50>0,$A$2,"") -> מ | B50: =IF(B49<>"",IF(G50>0,B49+1,""),B48+1) -> 44 | C50: רנר | D50: תחרה | E50: 1 | F50: מגוון צבעים | G50: 23 | J50: =IF(I50*G50>0,I50*G50,"")
A51: =IF(G51>0,$A$2,"") -> מ | B51: =IF(B50<>"",IF(G51>0,B50+1,""),B49+1) -> 45 | C51: רנר | D51: בד מטאלי | E51: 1 | F51: מגוון צבעים | G51: 20 | J51: =IF(I51*G51>0,I51*G51,"")
A52: =IF(G52>0,$A$2,"") -> מ | B52: =IF(B51<>"",IF(G52>0,B51+1,""),B50+1) -> 46 | C52: רנר | D52: בד מטאלי | E52: 2 חבילות | F52: מגוון צבעים | G52: 30 | J52: =IF(I52*G52>0,I52*G52,"")
A53: =IF(G53>0,$A$2,"") -> מ | B53: =IF(B52<>"",IF(G53>0,B52+1,""),B51+1) -> 47 | C53: רנר | D53: אורגנזה | E53: 1 | F53: מגוון צבעים | G53: 20 | J53: =IF(I53*G53>0,I53*G53,"")
G55: ס"כ לתשלום: | J55: =SUM(J2:J53) -> 0

Sheet שונות
A1: קוד מוצר | C1: תיאור | E1: מספר יח' בחבילה | F1: צבעים לבחירה | G1: מחיר | H1: הערות | I1: מס' יחידות להזמנה | J1: לתשלום
A2: ש | B2: 1 | C2: תחתית לצלחת | D2: דמוי נחש | E2: 1 | F2: כסף, זהב | G2: 16.9 | J2: =IF(I2*G2>0,I2*G2,"")
A3: =IF(G3>0,$A$2,"") -> ש | B3: =IF(B2<>"",IF(G3>0,B2+1,""),B1+1) -> 2 | C3: תחתית לצלחת | D3: שרשרת פנינים זהב | E3: 1 | F3: שקוף | G3: 20.9 | J3: =IF(I3*G3>0,I3*G3,"")
A4: =IF(G4>0,$A$2,"") -> ש | B4: =IF(B3<>"",IF(G4>0,B3+1,""),B2+1) -> 3 | C4: תחתית לצחלת | D4: פרח מחוספס | E4: 1 | F4: כסף, זהב, רוזגולד | G4: 19.9 | J4: =IF(I4*G4>0,I4*G4,"")
A5: =IF(G5>0,$A$2,"") -> ש | B5: =IF(B4<>"",IF(G5>0,B4+1,""),B3+1) -> 4 | C5: תחתית לצלחת | D5: פסיפס מרובע | E5: 1 | F5: כסף, זהב | G5: 19.9 | J5: =IF(I5*G5>0,I5*G5,"")
A6: =IF(G6>0,$A$2,"") -> ש | B6: =IF(B5<>"",IF(G6>0,B5+1,""),B4+1) -> 5 | C6: תחתית לצלחת | D6: פרח עגול | E6: 1 | F6: כסף, זהב | G6: 16.9 | J6: =IF(I6*G6>0,I6*G6,"")
A7: =IF(G7>0,$A$2,"") -> ש | B7: =IF(B6<>"",IF(G7>0,B6+1,""),B5+1) -> 6 | C7: פלייסמנט | D7: פסים | E7: 1 | F7: כסף,זהב, נחושת | G7: 9.9 | J7: =IF(I7*G7>0,I7*G7,"")
A8: =IF(G8>0,$A$2,"") -> ש | B8: =IF(B7<>"",IF(G8>0,B7+1,""),B6+1) -> 7 | C8: פלייסמנט | D8: פרחים/חמניה | E8: 1 | F8: כסף, זהב | G8: 9.9 | J8: =IF(I8*G8>0,I8*G8,"")
A9: =IF(G9>0,$A$2,"") | B9: =IF(B8<>"",IF(G9>0,B8+1,""),B7+1) | J9: =IF(I9*G9>0,I9*G9,"")
A10: =IF(G10>0,$A$2,"") -> ש | B10: =IF(B9<>"",IF(G10>0,B9+1,""),B8+1) -> 8 | C10: מוצרי נייר | D10: משי טישיו | E10: 5 | G10: 11 | J10: =IF(I10*G10>0,I10*G10,"")
A11: =IF(G11>0,$A$2,"") -> ש | B11: =IF(B10<>"",IF(G11>0,B10+1,""),B9+1) -> 9 | C11: מוצרי נייר | D11: נייר חתוך לשבת | E11: 10 | G11: 20 | J11: =IF(I11*G11>0,I11*G11,"")
A12: =IF(G12>0,$A$2,"") -> ש | B12: =IF(B11<>"",IF(G12>0,B11+1,""),B10+1) -> 10 | C12: מוצרי נייר | D12: צץ רץ | G12: 8.5 | J12: =IF(I12*G12>0,I12*G12,"")
A13: =IF(G13>0,$A$2,"") | B13: =IF(B12<>"",IF(G13>0,B12+1,""),B11+1) | J13: =IF(I13*G13>0,I13*G13,"")
A14: =IF(G14>0,$A$2,"") -> ש | B14: =IF(B13<>"",IF(G14>0,B13+1,""),B12+1) -> 11 | C14: מנג'טים | D14: קטן | F14: חום | G14: 6.9 | J14: =IF(I14*G14>0,I14*G14,"")
A15: =IF(G15>0,$A$2,"") -> ש | B15: =IF(B14<>"",IF(G15>0,B14+1,""),B13+1) -> 12 | C15: מנג'טים | D15: "2 | F15: חום | G15: 7.9 | J15: =IF(I15*G15>0,I15*G15,"")
A16: =IF(G16>0,$A$2,"") -> ש | B16: =IF(B15<>"",IF(G16>0,B15+1,""),B14+1) -> 13 | C16: מנג'טים | D16: "3 | F16: חום | G16: 8.9 | J16: =IF(I16*G16>0,I16*G16,"")
A17: =IF(G17>0,$A$2,"") -> ש | B17: =IF(B16<>"",IF(G17>0,B16+1,""),B15+1) -> 14 | C17: מנג'טים | D17: "4 | F17: חום | G17: 8.9 | J17: =IF(I17*G17>0,I17*G17,"")
A18: =IF(G18>0,$A$2,"") -> ש | B18: =IF(B17<>"",IF(G18>0,B17+1,""),B16+1) -> 15 | C18: מנג'טים | D18: "5 | F18: חום | G18: 10.9 | J18: =IF(I18*G18>0,I18*G18,"")
A19: =IF(G19>0,$A$2,"") | B19: =IF(B18<>"",IF(G19>0,B18+1,""),B17+1) | J19: =IF(I19*G19>0,I19*G19,"")
A20: =IF(G20>0,$A$2,"") -> ש | B20: =IF(B19<>"",IF(G20>0,B19+1,""),B18+1) -> 16 | C20: נרות | D20: נרות צפים | F20: מגוון צבעים | G20: 16.9 | J20: =IF(I20*G20>0,I20*G20,"")
A21: =IF(G21>0,$A$2,"") -> ש | B21: =IF(B20<>"",IF(G21>0,B20+1,""),B19+1) -> 17 | C21: נרות | D21: נרונים | G21: 9.9 | J21: =IF(I21*G21>0,I21*G21,"")
A22: =IF(G22>0,$A$2,"") -> ש | B22: =IF(B21<>"",IF(G22>0,B21+1,""),B20+1) -> 18 | C22: נרות | D22: נר נשמה 24 שעות | G22: 1.6 | J22: =IF(I22*G22>0,I22*G22,"")
A23: =IF(G23>0,$A$2,"") -> ש | B23: =IF(B22<>"",IF(G23>0,B22+1,""),B21+1) -> 19 | C23: נרות | D23: נר נשמה 48 שעות | G23: 4.9 | J23: =IF(I23*G23>0,I23*G23,"")
A24: =IF(G24>0,$A$2,"") -> ש | B24: =IF(B23<>"",IF(G24>0,B23+1,""),B22+1) -> 20 | C24: נרות | D24: פתיל צף | G24: 2.9 | J24: =IF(I24*G24>0,I24*G24,"")
A25: =IF(G25>0,$A$2,"") -> ש | B25: =IF(B24<>"",IF(G25>0,B24+1,""),B23+1) -> 21 | C25: נרות | D25: נר ארוך צבעוני | F25: מגוון צבעים | G25: 3.9 | J25: =IF(I25*G25>0,I25*G25,"")
A26: =IF(G26>0,$A$2,"") -> ש | B26: =IF(B25<>"",IF(G26>0,B25+1,""),B24+1) -> 22 | C26: נרות | D26: נר ארוך לבן | G26: 2.9 | J26: =IF(I26*G26>0,I26*G26,"")
A27: =IF(G27>0,$A$2,"") -> ש | B27: =IF(B26<>"",IF(G27>0,B26+1,""),B25+1) -> 23 | C27: נרות | D27: נר ארוך מטאלי | G27: 5.9 | J27: =IF(I27*G27>0,I27*G27,"")
A28: =IF(G28>0,$A$2,"") | B28: =IF(B27<>"",IF(G28>0,B27+1,""),B26+1) | J28: =IF(I28*G28>0,I28*G28,"")
A29: =IF(G29>0,$A$2,"") -> ש | B29: =IF(B28<>"",IF(G29>0,B28+1,""),B27+1) -> 24 | C29: צלופן | D29: גלילי צלופן | G29: 12.9 | J29: =IF(I29*G29>0,I29*G29,"")
A30: =IF(G30>0,$A$2,"") -> ש | B30: =IF(B29<>"",IF(G30>0,B29+1,""),B28+1) -> 25 | C30: צלופן | D30: שקיות צלופן 25יחי' 8*6 | G30: 2 | J30: =IF(I30*G30>0,I30*G30,"")
A31: =IF(G31>0,$A$2,"") -> ש | B31: =IF(B30<>"",IF(G31>0,B30+1,""),B29+1) -> 26 | C31: צלופן | D31: שקיות צלופן 25יחי' 20*10 | G31: 3.5 | J31: =IF(I31*G31>0,I31*G31,"")
A32: =IF(G32>0,$A$2,"") -> ש | B32: =IF(B31<>"",IF(G32>0,B31+1,""),B30+1) -> 27 | C32: צלופן | D32: שקיות צלופן 25יח' 30*20 | G32: 7.9 | J32: =IF(I32*G32>0,I32*G32,"")
A33: =IF(G33>0,$A$2,"") -> ש | B33: =IF(B32<>"",IF(G33>0,B32+1,""),B31+1) -> 28 | C33: צלופן | D33: שקיות צלופן 25יחי' 40*30 | G33: 12.5 | J33: =IF(I33*G33>0,I33*G33,"")
A34: =IF(G34>0,$A$2,"") -> ש | B34: =IF(B33<>"",IF(G34>0,B33+1,""),B32+1) -> 29 | C34: צלופן | D34: שקיות צלופן 25יחי' 50*40 | G34: 18.5 | J34: =IF(I34*G34>0,I34*G34,"")
A35: =IF(G35>0,$A$2,"") | B35: =IF(B34<>"",IF(G35>0,B34+1,""),B33+1) | J35: =IF(I35*G35>0,I35*G35,"")
A36: =IF(G36>0,$A$2,"") -> ש | B36: =IF(B35<>"",IF(G36>0,B35+1,""),B34+1) -> 30 | C36: רדידי אלומיניום | D36: נייר כסף חתוך | G36: 34.9 | J36: =IF(I36*G36>0,I36*G36,"")
A37: =IF(G37>0,$A$2,"") -> ש | B37: =IF(B36<>"",IF(G37>0,B36+1,""),B35+1) -> 31 | C37: רדידי אלומיניום | D37: רדיד אלומיניום עבה צר | G37: 33 | J37: =IF(I37*G37>0,I37*G37,"")
A38: =IF(G38>0,$A$2,"") -> ש | B38: =IF(B37<>"",IF(G38>0,B37+1,""),B36+1) -> 32 | C38: רדידי אלומיניום | D38: רדיד אלומיניום עבה רחב | G38: 13.9 | J38: =IF(I38*G38>0,I38*G38,"")
A39: =IF(G39>0,$A$2,"") -> ש | B39: =IF(B38<>"",IF(G39>0,B38+1,""),B37+1) -> 33 | C39: רדידי אלומיניום | D39: רדיד אלומיניום דק צר | G39: 4.9 | J39: =IF(I39*G39>0,I39*G39,"")
A40: =IF(G40>0,$A$2,"") -> ש | B40: =IF(B39<>"",IF(G40>0,B39+1,""),B38+1) -> 34 | C40: רדידי אלומיניום | D40: רדיד אלומיניום דק רחב | E40: 2 | G40: 10.5 | J40: =IF(I40*G40>0,I40*G40,"")
A41: =IF(G41>0,$A$2,"") -> ש | B41: =IF(B40<>"",IF(G41>0,B40+1,""),B39+1) -> 35 | C41: רדידי אלומיניום | D41: ניילון נצמד צר | E41: 3 | G41: 12.5 | J41: =IF(I41*G41>0,I41*G41,"")
A42: =IF(G42>0,$A$2,"") -> ש | B42: =IF(B41<>"",IF(G42>0,B41+1,""),B40+1) -> 36 | C42: רדידי אלומיניום | D42: ניילון נצמד רחב | G42: 18.9 | J42: =IF(I42*G42>0,I42*G42,"")
A43: =IF(G43>0,$A$2,"") -> ש | B43: =IF(B42<>"",IF(G43>0,B42+1,""),B41+1) -> 37 | C43: רדידי אלומיניום | D43: קיסמי שיניים | G43: 3.9 | J43: =IF(I43*G43>0,I43*G43,"")
A44: =IF(G44>0,$A$2,"") | B44: =IF(B43<>"",IF(G44>0,B43+1,""),B42+1) | J44: =IF(I44*G44>0,I44*G44,"")
A45: =IF(G45>0,$A$2,"") -> ש | B45: =IF(B44<>"",IF(G45>0,B44+1,""),B43+1) -> 38 | C45: שיפודים | D45: קצרים | G45: 3.5 | J45: =IF(I45*G45>0,I45*G45,"")
A46: =IF(G46>0,$A$2,"") -> ש | B46: =IF(B45<>"",IF(G46>0,B45+1,""),B44+1) -> 39 | C46: שיפודים | D46: ארוכים | G46: 3.9 | J46: =IF(I46*G46>0,I46*G46,"")
A47: =IF(G47>0,$A$2,"") -> ש | B47: =IF(B46<>"",IF(G47>0,B46+1,""),B45+1) -> 40 | C47: שיפודים | D47: מסולסלים | G47: 9.9 | J47: =IF(I47*G47>0,I47*G47,"")
A48: =IF(G48>0,$A$2,"") -> ש | B48: =IF(B47<>"",IF(G48>0,B47+1,""),B46+1) -> 41 | C48: שיפודים | D48: יקיטורי | G48: 6.9 | J48: =IF(I48*G48>0,I48*G48,"")
A49: =IF(G49>0,$A$2,"") | B49: =IF(B48<>"",IF(G49>0,B48+1,""),B47+1) | J49: =IF(I49*G49>0,I49*G49,"")
A50: =IF(G50>0,$A$2,"") -> ש | B50: =IF(B49<>"",IF(G50>0,B49+1,""),B48+1) -> 42 | C50: שקיות נילון | D50: אוכל מרשרש | G50: 1.9 | J50: =IF(I50*G50>0,I50*G50,"")
A51: =IF(G51>0,$A$2,"") -> ש | B51: =IF(B50<>"",IF(G51>0,B50+1,""),B49+1) -> 43 | C51: שקיות נילון | D51: הקפאה מרשרש | G51: 3.9 | J51: =IF(I51*G51>0,I51*G51,"")
A52: =IF(G52>0,$A$2,"") -> ש | B52: =IF(B51<>"",IF(G52>0,B51+1,""),B50+1) -> 44 | C52: שקיות נילון | D52: אוכל קשיח | G52: 12.9 | J52: =IF(I52*G52>0,I52*G52,"")
A53: =IF(G53>0,$A$2,"") -> ש | B53: =IF(B52<>"",IF(G53>0,B52+1,""),B51+1) -> 45 | C53: שקיות נילון | D53: הקפאה קשיח | G53: 12.9 | J53: =IF(I53*G53>0,I53*G53,"")
A54: =IF(G54>0,$A$2,"") -> ש | B54: =IF(B53<>"",IF(G54>0,B53+1,""),B52+1) -> 46 | C54: שקיות נילון | D54: אשפתון בגליל | G54: 7.9 | J54: =IF(I54*G54>0,I54*G54,"")
A55: =IF(G55>0,$A$2,"") -> ש | B55: =IF(B54<>"",IF(G55>0,B54+1,""),B53+1) -> 47 | C55: שקיות נילון | D55: אשפתון קרם 1/40 | G55: 22.9 | J55: =IF(I55*G55>0,I55*G55,"")
A56: =IF(G56>0,$A$2,"") -> ש | B56: =IF(B55<>"",IF(G56>0,B55+1,""),B54+1) -> 48 | C56: שקיות נילון | D56: אשפתון אפור 1/25 | G56: 17.9 | J56: =IF(I56*G56>0,I56*G56,"")
A57: =IF(G57>0,$A$2,"") -> ש | B57: =IF(B56<>"",IF(G57>0,B56+1,""),B55+1) -> 49 | C57: שקיות נילון | D57: שקיות גופיה ענק - צהוב | G57: 25.9 | J57: =IF(I57*G57>0,I57*G57,"")
A58: =IF(G58>0,$A$2,"") -> ש | B58: =IF(B57<>"",IF(G58>0,B57+1,""),B56+1) -> 50 | C58: שקיות נילון | D58: שקיות גופיה גדול - לבן | G58: 16.9 | J58: =IF(I58*G58>0,I58*G58,"")
A59: =IF(G59>0,$A$2,"") -> ש | B59: =IF(B58<>"",IF(G59>0,B58+1,""),B57+1) -> 51 | C59: שקיות נילון | D59: שקיות גופיה בינוני - שחור | G59: 13.9 | J59: =IF(I59*G59>0,I59*G59,"")
A60: =IF(G60>0,$A$2,"") -> ש | B60: =IF(B59<>"",IF(G60>0,B59+1,""),B58+1) -> 52 | C60: שקיות נילון | D60: שקיות גופיה קטן - צבעוני | G60: 6.9 | J60: =IF(I60*G60>0,I60*G60,"")
G62: ס"כ לתשלום: | J62: =SUM(J10:J60) -> 0

Sheet צלחות
A1: קוד מוצר | C1: תיאור | E1: מספר יח' בחבילה | F1: צבעים לבחירה | G1: מחיר | H1: הערות | I1: מס' יחידות להזמנה | J1: לתשלום
A2: צ | B2: 1 | C2: פשוט | D2: 7 | E2: 50 | F2: לבן | G2: 4 | J2: =IF(I2*G2>0,I2*G2,"")
A3: =IF(G3>0,$A$2,"") -> צ | B3: =IF(B2<>"",IF(G3>0,B2+1,""),B1+1) -> 2 | C3: פשוט | D3: 7 | E3: 3 חב' | F3: לבן | G3: 10 | J3: =IF(I3*G3>0,I3*G3,"")
A4: =IF(G4>0,$A$2,"") -> צ | B4: =IF(B3<>"",IF(G4>0,B3+1,""),B2+1) -> 3 | C4: פשוט | D4: 9 | E4: 50 | F4: לבן | G4: 6.5 | J4: =IF(I4*G4>0,I4*G4,"")
A5: =IF(G5>0,$A$2,"") -> צ | B5: =IF(B4<>"",IF(G5>0,B4+1,""),B3+1) -> 4 | C5: פשוט | D5: 9 | E5: 2 חב' | F5: לבן | G5: 10 | J5: =IF(I5*G5>0,I5*G5,"")
A6: =IF(G6>0,$A$2,"") -> צ | B6: =IF(B5<>"",IF(G6>0,B5+1,""),B4+1) -> 5 | C6: פשוט | D6: מרקיות | E6: 25 | F6: לבן | G6: 4 | J6: =IF(I6*G6>0,I6*G6,"")
A7: =IF(G7>0,$A$2,"") -> צ | B7: =IF(B6<>"",IF(G7>0,B6+1,""),B5+1) -> 6 | C7: פשוט | D7: מרקיות | E7: 3 חב' | F7: לבן | G7: 10 | J7: =IF(I7*G7>0,I7*G7,"")
A8: =IF(G8>0,$A$2,"") -> צ | B8: =IF(B7<>"",IF(G8>0,B7+1,""),B6+1) -> 7 | C8: פשוט | D8: לפתניות | E8: 25 | F8: לבן | G8: 3 | J8: =IF(I8*G8>0,I8*G8,"")
A9: =IF(G9>0,$A$2,"") -> צ | B9: =IF(B8<>"",IF(G9>0,B8+1,""),B7+1) -> 8 | C9: פשוט | D9: לפתניות | E9: 5 חב' | F9: לבן | G9: 10 | J9: =IF(I9*G9>0,I9*G9,"")
A10: =IF(G10>0,$A$2,"") -> צ | B10: =IF(B9<>"",IF(G10>0,B9+1,""),B8+1) -> 9 | C10: פשוט | D10: קסרול אובלי | E10: 25 | F10: לבן | G10: 3.5 | J10: =IF(I10*G10>0,I10*G10,"")
A11: =IF(G11>0,$A$2,"") -> צ | B11: =IF(B10<>"",IF(G11>0,B10+1,""),B9+1) -> 10 | C11: פשוט | D11: קסרול אובלי | E11: 4 חב' | F11: לבן | G11: 10 | J11: =IF(I11*G11>0,I11*G11,"")
A12: =IF(G12>0,$A$2,"") | B12: =IF(B11<>"",IF(G12>0,B11+1,""),B10+1) | J12: =IF(I12*G12>0,I12*G12,"")
A13: =IF(G13>0,$A$2,"") -> צ | B13: =IF(B12<>"",IF(G13>0,B12+1,""),B11+1) -> 11 | C13: פאלאס | D13: 7 | F13: לבן | G13: 4.9 | J13: =IF(I13*G13>0,I13*G13,"")
A14: =IF(G14>0,$A$2,"") -> צ | B14: =IF(B13<>"",IF(G14>0,B13+1,""),B12+1) -> 12 | C14: פאלאס | D14: 7 | E14: 3 חב' | F14: לבן | G14: 13.9 | J14: =IF(I14*G14>0,I14*G14,"")
A15: =IF(G15>0,$A$2,"") -> צ | B15: =IF(B14<>"",IF(G15>0,B14+1,""),B13+1) -> 13 | C15: פאלאס | D15: 8 | F15: לבן | G15: 6.9 | J15: =IF(I15*G15>0,I15*G15,"")
A16: =IF(G16>0,$A$2,"") -> צ | B16: =IF(B15<>"",IF(G16>0,B15+1,""),B14+1) -> 14 | C16: פאלאס | D16: מרק | F16: לבן | G16: 4.9 | J16: =IF(I16*G16>0,I16*G16,"")
A17: =IF(G17>0,$A$2,"") -> צ | B17: =IF(B16<>"",IF(G17>0,B16+1,""),B15+1) -> 15 | C17: פאלאס | D17: מרק | E17: 3 חב' | F17: לבן | G17: 13.9 | J17: =IF(I17*G17>0,I17*G17,"")
A18: =IF(G18>0,$A$2,"") -> צ | B18: =IF(B17<>"",IF(G18>0,B17+1,""),B16+1) -> 16 | C18: פאלאס | D18: ליפתן | F18: לבן | G18: 3.5 | J18: =IF(I18*G18>0,I18*G18,"")
A19: =IF(G19>0,$A$2,"") -> צ | B19: =IF(B18<>"",IF(G19>0,B18+1,""),B17+1) -> 17 | C19: פאלאס | D19: ליפתן | E19: 4 חב' | F19: לבן | G19: 10 | J19: =IF(I19*G19>0,I19*G19,"")
A20: =IF(G20>0,$A$2,"") -> צ | B20: =IF(B19<>"",IF(G20>0,B19+1,""),B18+1) -> 18 | C20: פאלאס | D20: קסרול אובלי | F20: לבן | G20: 4.5 | J20: =IF(I20*G20>0,I20*G20,"")
A21: =IF(G21>0,$A$2,"") -> צ | B21: =IF(B20<>"",IF(G21>0,B20+1,""),B19+1) -> 19 | C21: פאלאס | D21: קסרול אובלי | E21: 3 חב' | F21: לבן | G21: 11.9 | J21: =IF(I21*G21>0,I21*G21,"")
A22: =IF(G22>0,$A$2,"") -> צ | B22: =IF(B21<>"",IF(G22>0,B21+1,""),B20+1) -> 20 | C22: פאלאס | D22: מרכזי | F22: לבן | G22: 9.5 | J22: =IF(I22*G22>0,I22*G22,"")
A23: =IF(G23>0,$A$2,"") | B23: =IF(B22<>"",IF(G23>0,B22+1,""),B21+1) | J23: =IF(I23*G23>0,I23*G23,"")
A24: =IF(G24>0,$A$2,"") -> צ | B24: =IF(B23<>"",IF(G24>0,B23+1,""),B22+1) -> 21 | C24: קלקר | D24: 6 | E24: 125 | F24: קרם | G24: 25.5 | H24: בסט קלקר קיים גם מגש קטן/גדול | J24: =IF(I24*G24>0,I24*G24,"")
A25: =IF(G25>0,$A$2,"") -> צ | B25: =IF(B24<>"",IF(G25>0,B24+1,""),B23+1) -> 22 | C25: קלקר | D25: 6 | E25: 10 | F25: קרם | G25: 2.5 | J25: =IF(I25*G25>0,I25*G25,"")
A26: =IF(G26>0,$A$2,"") -> צ | B26: =IF(B25<>"",IF(G26>0,B25+1,""),B24+1) -> 23 | C26: קלקר | D26: 7 | E26: 125 | F26: קרם | G26: 25.5 | J26: =IF(I26*G26>0,I26*G26,"")
A27: =IF(G27>0,$A$2,"") -> צ | B27: =IF(B26<>"",IF(G27>0,B26+1,""),B25+1) -> 24 | C27: קלקר | D27: 7 | E27: 10 | F27: קרם | G27: 2.9 | J27: =IF(I27*G27>0,I27*G27,"")
A28: =IF(G28>0,$A$2,"") -> צ | B28: =IF(B27<>"",IF(G28>0,B27+1,""),B26+1) -> 25 | C28: קלקר | D28: 9 | E28: 125 | F28: קרם | G28: 25.5 | J28: =IF(I28*G28>0,I28*G28,"")
A29: =IF(G29>0,$A$2,"") -> צ | B29: =IF(B28<>"",IF(G29>0,B28+1,""),B27+1) -> 26 | C29: קלקר | D29: 9 | E29: 10 | F29: קרם | G29: 3.9 | J29: =IF(I29*G29>0,I29*G29,"")
A30: =IF(G30>0,$A$2,"") -> צ | B30: =IF(B29<>"",IF(G30>0,B29+1,""),B28+1) -> 27 | C30: קלקר | D30: מרק קטן | E30: 125 | F30: קרם | G30: 27 | J30: =IF(I30*G30>0,I30*G30,"")
A31: =IF(G31>0,$A$2,"") -> צ | B31: =IF(B30<>"",IF(G31>0,B30+1,""),B29+1) -> 28 | C31: קלקר | D31: מרק קטן | E31: 10 | F31: קרם | G31: 2.9 | J31: =IF(I31*G31>0,I31*G31,"")
A32: =IF(G32>0,$A$2,"") -> צ | B32: =IF(B31<>"",IF(G32>0,B31+1,""),B30+1) -> 29 | C32: קלקר | D32: מרק גדול | E32: 150 | F32: קרם | G32: 115 | J32: =IF(I32*G32>0,I32*G32,"")
A33: =IF(G33>0,$A$2,"") -> צ | B33: =IF(B32<>"",IF(G33>0,B32+1,""),B31+1) -> 30 | C33: קלקר | D33: מרק גדול | E33: 10 | F33: קרם | G33: 8.9 | J33: =IF(I33*G33>0,I33*G33,"")
A34: =IF(G34>0,$A$2,"") -> צ | B34: =IF(B33<>"",IF(G34>0,B33+1,""),B32+1) -> 31 | C34: קלקר | D34: ליפתן | E34: 125 | F34: קרם | G34: 18.5 | J34: =IF(I34*G34>0,I34*G34,"")
A35: =IF(G35>0,$A$2,"") -> צ | B35: =IF(B34<>"",IF(G35>0,B34+1,""),B33+1) -> 32 | C35: קלקר | D35: קסרול אובלי | E35: 84 | F35: קרם | G35: 31.5 | J35: =IF(I35*G35>0,I35*G35,"")
A36: =IF(G36>0,$A$2,"") -> צ | B36: =IF(B35<>"",IF(G36>0,B35+1,""),B34+1) -> 33 | C36: קלקר | D36: קסרול אובלי | E36: 10 | F36: קרם | G36: 4.5 | J36: =IF(I36*G36>0,I36*G36,"")
A37: =IF(G37>0,$A$2,"") | B37: =IF(B36<>"",IF(G37>0,B36+1,""),B35+1) | J37: =IF(I37*G37>0,I37*G37,"")
A38: =IF(G38>0,$A$2,"") -> צ | B38: =IF(B37<>"",IF(G38>0,B37+1,""),B36+1) -> 34 | C38: שקוף מזל"ט | D38: 6 | E38: 25 | F38: שקוף | G38: 2.9 | J38: =IF(I38*G38>0,I38*G38,"")
A39: =IF(G39>0,$A$2,"") -> צ | B39: =IF(B38<>"",IF(G39>0,B38+1,""),B37+1) -> 35 | C39: שקוף מזל"ט | D39: 7 | E39: 25 | F39: שקוף | G39: 4.9 | J39: =IF(I39*G39>0,I39*G39,"")
A40: =IF(G40>0,$A$2,"") -> צ | B40: =IF(B39<>"",IF(G40>0,B39+1,""),B38+1) -> 36 | C40: שקוף מזל"ט | D40: 7 | E40: 75 | F40: שקוף | G40: 13.9 | J40: =IF(I40*G40>0,I40*G40,"")
A41: =IF(G41>0,$A$2,"") -> צ | B41: =IF(B40<>"",IF(G41>0,B40+1,""),B39+1) -> 37 | C41: שקוף מזל"ט | D41: 9 | E41: 25 | F41: שקוף | G41: 6.9 | J41: =IF(I41*G41>0,I41*G41,"")
A42: =IF(G42>0,$A$2,"") -> צ | B42: =IF(B41<>"",IF(G42>0,B41+1,""),B40+1) -> 38 | C42: שקוף מזל"ט | D42: 10 | E42: 75 | F42: שקוף | G42: 30 | J42: =IF(I42*G42>0,I42*G42,"")
A43: =IF(G43>0,$A$2,"") -> צ | B43: =IF(B42<>"",IF(G43>0,B42+1,""),B41+1) -> 39 | C43: שקוף מזל"ט | D43: מרק | E43: 25 | F43: שקוף | G43: 6.5 | J43: =IF(I43*G43>0,I43*G43,"")
A44: =IF(G44>0,$A$2,"") -> צ | B44: =IF(B43<>"",IF(G44>0,B43+1,""),B42+1) -> 40 | C44: שקוף מזל"ט | D44: מרק | E44: 75 | F44: שקוף | G44: 17.9 | J44: =IF(I44*G44>0,I44*G44,"")
A45: =IF(G45>0,$A$2,"") -> צ | B45: =IF(B44<>"",IF(G45>0,B44+1,""),B43+1) -> 41 | C45: שקוף מזל"ט | D45: מרק מחטף | F45: שקוף | G45: 8.9 | J45: =IF(I45*G45>0,I45*G45,"")
A46: =IF(G46>0,$A$2,"") -> צ | B46: =IF(B45<>"",IF(G46>0,B45+1,""),B44+1) -> 42 | C46: שקוף מזל"ט | D46: לפתן | E46: 25 | F46: שקוף | G46: 3.9 | J46: =IF(I46*G46>0,I46*G46,"")
A47: =IF(G47>0,$A$2,"") -> צ | B47: =IF(B46<>"",IF(G47>0,B46+1,""),B45+1) -> 43 | C47: שקוף מזל"ט | D47: קסרול | E47: 25 | F47: שקוף | G47: 4.9 | J47: =IF(I47*G47>0,I47*G47,"")
A48: =IF(G48>0,$A$2,"") | B48: =IF(B47<>"",IF(G48>0,B47+1,""),B46+1) | J48: =IF(I48*G48>0,I48*G48,"")
A49: =IF(G49>0,$A$2,"") -> צ | B49: =IF(B48<>"",IF(G49>0,B48+1,""),B47+1) -> 44 | C49: קרטון עגול | D49: 7 | E49: 10 | F49: כנרת,קלאסיק:לבן/קרם/תכלת/ורוד | G49: 7.9 | J49: =IF(I49*G49>0,I49*G49,"")
A50: =IF(G50>0,$A$2,"") -> צ | B50: =IF(B49<>"",IF(G50>0,B49+1,""),B48+1) -> 45 | C50: קרטון עגול | D50: 9 | E50: 10 | G50: 13.9 | J50: =IF(I50*G50>0,I50*G50,"")
A51: =IF(G51>0,$A$2,"") -> צ | B51: =IF(B50<>"",IF(G51>0,B50+1,""),B49+1) -> 46 | C51: קרטון מרובע | D51: 7 | E51: 10 | F51: טורקיז/כסף/זהב/רוזגולד/ורוד | G51: 6.5 | J51: =IF(I51*G51>0,I51*G51,"")
A52: =IF(G52>0,$A$2,"") -> צ | B52: =IF(B51<>"",IF(G52>0,B51+1,""),B50+1) -> 47 | C52: קרטון מרובע | D52: 9 | E52: 10 | G52: 8.9 | J52: =IF(I52*G52>0,I52*G52,"")
A53: =IF(G53>0,$A$2,"") | B53: =IF(B52<>"",IF(G53>0,B52+1,""),B51+1) | J53: =IF(I53*G53>0,I53*G53,"")
A54: =IF(G54>0,$A$2,"") -> צ | B54: =IF(B53<>"",IF(G54>0,B53+1,""),B52+1) -> 48 | C54: קשיחות יוקרתי וינטאג' | D54: 7 | E54: 10 | F54: כסף,זהב,קרם | G54: 12.9 | J54: =IF(I54*G54>0,I54*G54,"")
A55: =IF(G55>0,$A$2,"") -> צ | B55: =IF(B54<>"",IF(G55>0,B54+1,""),B53+1) -> 49 | C55: קשיחות יוקרתי וינטאג' | D55: 9 | E55: 10 | F55: כסף,זהב,קרם | G55: 17.9 | J55: =IF(I55*G55>0,I55*G55,"")
A56: =IF(G56>0,$A$2,"") -> צ | B56: =IF(B55<>"",IF(G56>0,B55+1,""),B54+1) -> 50 | C56: קשיחות יוקרתי וינטאג' | D56: 10 | E56: 10 | F56: כסף,זהב,קרם | G56: 21.9 | J56: =IF(I56*G56>0,I56*G56,"")
A57: =IF(G57>0,$A$2,"") | B57: =IF(B56<>"",IF(G57>0,B56+1,""),B55+1) | J57: =IF(I57*G57>0,I57*G57,"")
A58: =IF(G58>0,$A$2,"") -> צ | B58: =IF(B57<>"",IF(G58>0,B57+1,""),B56+1) -> 51 | C58: קשיחות יוקרתי וינדמיל נצנץ | D58: 7 | E58: 10 | F58: כסף,זהב | G58: 7.9 | H58: בסט וינדמיל קיים גם מגש וקערה | J58: =IF(I58*G58>0,I58*G58,"")
A59: =IF(G59>0,$A$2,"") -> צ | B59: =IF(B58<>"",IF(G59>0,B58+1,""),B57+1) -> 52 | C59: קשיחות יוקרתי וינדמיל נצנץ | D59: 9 | E59: 10 | F59: כסף,זהב | G59: 11.9 | J59: =IF(I59*G59>0,I59*G59,"")
A60: =IF(G60>0,$A$2,"") -> צ | B60: =IF(B59<>"",IF(G60>0,B59+1,""),B58+1) -> 53 | C60: קשיחות יוקרתי וינדמיל נצנץ | D60: 10 | E60: 10 | F60: כסף,זהב | G60: 12.9 | J60: =IF(I60*G60>0,I60*G60,"")
A61: =IF(G61>0,$A$2,"") -> צ | B61: =IF(B60<>"",IF(G61>0,B60+1,""),B59+1) -> 54 | C61: קשיחות יוקרתי וינדמיל נצנץ | D61: מרק | E61: 10 | F61: כסף,זהב | G61: 10.9 | J61: =IF(I61*G61>0,I61*G61,"")
A62: =IF(G62>0,$A$2,"") -> צ | B62: =IF(B61<>"",IF(G62>0,B61+1,""),B60+1) -> 55 | C62: קשיחות יוקרתי וינדמיל נצנץ | D62: קסרול אובלי | E62: 10 | F62: כסף,זהב | G62: 6.9 | J62: =IF(I62*G62>0,I62*G62,"")
A63: =IF(G63>0,$A$2,"") | B63: =IF(B62<>"",IF(G63>0,B62+1,""),B61+1) | J63: =IF(I63*G63>0,I63*G63,"")
A64: =IF(G64>0,$A$2,"") -> צ | B64: =IF(B63<>"",IF(G64>0,B63+1,""),B62+1) -> 56 | C64: קשיחות יוקרתי מילאנו | D64: 7 | E64: 10 | F64: שחור פסים כסף, לבן פסים כסף | G64: 9.9 | J64: =IF(I64*G64>0,I64*G64,"")
A65: =IF(G65>0,$A$2,"") -> צ | B65: =IF(B64<>"",IF(G65>0,B64+1,""),B63+1) -> 57 | C65: קשיחות יוקרתי מילאנו | D65: 9 | E65: 10 | F65: שחור פסים כסף, לבן פסים כסף | G65: 14.5 | J65: =IF(I65*G65>0,I65*G65,"")
A66: =IF(G66>0,$A$2,"") -> צ | B66: =IF(B65<>"",IF(G66>0,B65+1,""),B64+1) -> 58 | C66: קשיחות יוקרתי מילאנו | D66: 10 | E66: 10 | F66: שחור פסים כסף, לבן פסים כסף | G66: 19.9 | J66: =IF(I66*G66>0,I66*G66,"")
A67: =IF(G67>0,$A$2,"") -> צ | B67: =IF(B66<>"",IF(G67>0,B66+1,""),B65+1) -> 59 | C67: קשיחות יוקרתי מילאנו | D67: מרק | E67: 10 | F67: שחור פסים כסף, לבן פסים כסף | G67: 14.5 | J67: =IF(I67*G67>0,I67*G67,"")
A68: =IF(G68>0,$A$2,"") | B68: =IF(B67<>"",IF(G68>0,B67+1,""),B66+1) | J68: =IF(I68*G68>0,I68*G68,"")
A69: =IF(G69>0,$A$2,"") -> צ | B69: =IF(B68<>"",IF(G69>0,B68+1,""),B67+1) -> 60 | C69: קשיחות יוקרתי גלקסי | D69: 7 | E69: 10 | F69: שחור נקודות זהב, לבן נקודות זהב | G69: 9.9 | J69: =IF(I69*G69>0,I69*G69,"")
A70: =IF(G70>0,$A$2,"") -> צ | B70: =IF(B69<>"",IF(G70>0,B69+1,""),B68+1) -> 61 | C70: קשיחות יוקרתי גלקסי | D70: 9 | E70: 10 | F70: שחור נקודות זהב, לבן נקודות זהב | G70: 14.5 | J70: =IF(I70*G70>0,I70*G70,"")
A71: =IF(G71>0,$A$2,"") -> צ | B71: =IF(B70<>"",IF(G71>0,B70+1,""),B69+1) -> 62 | C71: קשיחות יוקרתי גלקסי | D71: 10 | E71: 10 | F71: שחור נקודות זהב, לבן נקודות זהב | G71: 19.9 | J71: =IF(I71*G71>0,I71*G71,"")
A72: =IF(G72>0,$A$2,"") -> צ | B72: =IF(B71<>"",IF(G72>0,B71+1,""),B70+1) -> 63 | C72: קשיחות יוקרתי גלקסי | D72: מרק | E72: 10 | F72: שחור,לבן | G72: 14.5 | J72: =IF(I72*G72>0,I72*G72,"")
A73: =IF(G73>0,$A$2,"") | B73: =IF(B72<>"",IF(G73>0,B72+1,""),B71+1) | J73: =IF(I73*G73>0,I73*G73,"")
A74: =IF(G74>0,$A$2,"") -> צ | B74: =IF(B73<>"",IF(G74>0,B73+1,""),B72+1) -> 64 | C74: קשיחות יוקרתי סטון | D74: 7 | E74: 10 | F74: לבן מסגרת כסף | G74: 12.9 | J74: =IF(I74*G74>0,I74*G74,"")
A75: =IF(G75>0,$A$2,"") -> צ | B75: =IF(B74<>"",IF(G75>0,B74+1,""),B73+1) -> 65 | C75: קשיחות יוקרתי סטון | D75: 9 | E75: 10 | F75: לבן מסגרת כסף | G75: 18.5 | J75: =IF(I75*G75>0,I75*G75,"")
A76: =IF(G76>0,$A$2,"") -> צ | B76: =IF(B75<>"",IF(G76>0,B75+1,""),B74+1) -> 66 | C76: קשיחות יוקרתי סטון | D76: 10 | E76: 10 | F76: לבן מסגרת כסף | G76: 29.5 | J76: =IF(I76*G76>0,I76*G76,"")
A77: =IF(G77>0,$A$2,"") -> צ | B77: =IF(B76<>"",IF(G77>0,B76+1,""),B75+1) -> 67 | C77: קשיחות יוקרתי סטון | D77: מרק | E77: 10 | F77: לבן מסגרת כסף | G77: 17.5 | J77: =IF(I77*G77>0,I77*G77,"")
A78: =IF(G78>0,$A$2,"") -> צ | B78: =IF(B77<>"",IF(G78>0,B77+1,""),B76+1) -> 68 | C78: קשיחות יוקרתי סטון | D78: ליפתן | E78: 10 | F78: לבן מסגרת כסף | G78: 12.9 | J78: =IF(I78*G78>0,I78*G78,"")
A79: =IF(G79>0,$A$2,"") -> צ | B79: =IF(B78<>"",IF(G79>0,B78+1,""),B77+1) -> 69 | C79: קשיחות יוקרתי סטון | D79: קסרול אובלי | E79: 10 | F79: לבן מסגרת כסף | G79: 12.9 | J79: =IF(I79*G79>0,I79*G79,"")
A80: =IF(G80>0,$A$2,"") | B80: =IF(B79<>"",IF(G80>0,B79+1,""),B78+1) | J80: =IF(I80*G80>0,I80*G80,"")
A81: =IF(G81>0,$A$2,"") -> צ | B81: =IF(B80<>"",IF(G81>0,B80+1,""),B79+1) -> 70 | C81: קשיחות יוקרתי מיאמי | D81: 7 | E81: 10 | F81: קרם,פנינה,מנטה,ורוד עתיק | G81: 11.9 | J81: =IF(I81*G81>0,I81*G81,"")
A82: =IF(G82>0,$A$2,"") -> צ | B82: =IF(B81<>"",IF(G82>0,B81+1,""),B80+1) -> 71 | C82: קשיחות יוקרתי מיאמי | D82: 9 | E82: 10 | F82: קרם,פנינה,מנטה,ורוד עתיק | G82: 18.9 | J82: =IF(I82*G82>0,I82*G82,"")
A83: =IF(G83>0,$A$2,"") -> צ | B83: =IF(B82<>"",IF(G83>0,B82+1,""),B81+1) -> 72 | C83: קשיחות יוקרתי מיאמי | D83: 10 | E83: 10 | F83: קרם,פנינה,מנטה,ורוד עתיק | G83: 21.9 | J83: =IF(I83*G83>0,I83*G83,"")
A84: =IF(G84>0,$A$2,"") -> צ | B84: =IF(B83<>"",IF(G84>0,B83+1,""),B82+1) -> 73 | C84: קשיחות יוקרתי מיאמי | D84: מרק | E84: 10 | F84: קרם,פנינה,מנטה,ורוד עתיק | G84: 18.9 | J84: =IF(I84*G84>0,I84*G84,"")
A85: =IF(G85>0,$A$2,"") -> צ | B85: =IF(B84<>"",IF(G85>0,B84+1,""),B83+1) -> 74 | C85: קשיחות יוקרתי מיאמי | D85: קסרול אובלי | E85: 10 | F85: קרם,פנינה,מנטה,ורוד עתיק | G85: 7.9 | J85: =IF(I85*G85>0,I85*G85,"")
A86: =IF(G86>0,$A$2,"") -> צ | B86: =IF(B85<>"",IF(G86>0,B85+1,""),B84+1) -> 75 | C86: קשיחות יוקרתי מיאמי | D86: לפתניות | E86: 10 | F86: קרם,פנינה,מנטה,ורוד עתיק | G86: 6.9 | J86: =IF(I86*G86>0,I86*G86,"")
A87: =IF(G87>0,$A$2,"") | B87: =IF(B86<>"",IF(G87>0,B86+1,""),B85+1) | J87: =IF(I87*G87>0,I87*G87,"")
A88: =IF(G88>0,$A$2,"") -> צ | B88: =IF(B87<>"",IF(G88>0,B87+1,""),B86+1) -> 76 | C88: קשיחות יוקרתי פרימיום וינטאג' | D88: 7 | E88: 10 | F88: ברונזה בהיר,קרם | G88: 11.9 | H88: בסט וינטאג' פריום קיים גם מגש וקערה | J88: =IF(I88*G88>0,I88*G88,"")
A89: =IF(G89>0,$A$2,"") -> צ | B89: =IF(B88<>"",IF(G89>0,B88+1,""),B87+1) -> 77 | C89: קשיחות יוקרתי פרימיום וינטאג' | D89: 9 | E89: 10 | F89: ברונזה בהיר,קרם | G89: 18.9 | J89: =IF(I89*G89>0,I89*G89,"")
A90: =IF(G90>0,$A$2,"") -> צ | B90: =IF(B89<>"",IF(G90>0,B89+1,""),B88+1) -> 78 | C90: קשיחות יוקרתי פרימיום וינטאג' | D90: 10 | E90: 10 | F90: ברונזה בהיר,קרם | G90: 21.5 | J90: =IF(I90*G90>0,I90*G90,"")
A91: =IF(G91>0,$A$2,"") -> צ | B91: =IF(B90<>"",IF(G91>0,B90+1,""),B89+1) -> 79 | C91: קשיחות יוקרתי פרימיום וינטאג' | D91: מרק | E91: 10 | F91: ברונזה בהיר,קרם | G91: 12.9 | J91: =IF(I91*G91>0,I91*G91,"")
A92: =IF(G92>0,$A$2,"") -> צ | B92: =IF(B91<>"",IF(G92>0,B91+1,""),B90+1) -> 80 | C92: קשיחות יוקרתי פרימיום וינטאג' | D92: ליפתן | E92: 10 | F92: ברונזה בהיר,קרם | G92: 6.9 | J92: =IF(I92*G92>0,I92*G92,"")
A93: =IF(G93>0,$A$2,"") -> צ | B93: =IF(B92<>"",IF(G93>0,B92+1,""),B91+1) -> 81 | C93: קשיחות יוקרתי פרימיום וינטאג' | D93: קסרול | E93: 6 | F93: ברונזה בהיר,קרם | G93: 6.9 | J93: =IF(I93*G93>0,I93*G93,"")
A94: =IF(G94>0,$A$2,"") | B94: =IF(B93<>"",IF(G94>0,B93+1,""),B92+1) | J94: =IF(I94*G94>0,I94*G94,"")
A95: =IF(G95>0,$A$2,"") -> צ | B95: =IF(B94<>"",IF(G95>0,B94+1,""),B93+1) -> 82 | C95: פרפקט מרובע | D95: 7 | E95: 12 | F95: מגוון צבעים | G95: 6.9 | H95: בסט פרפקט קיים גם מגש וקערה | J95: =IF(I95*G95>0,I95*G95,"")
A96: =IF(G96>0,$A$2,"") -> צ | B96: =IF(B95<>"",IF(G96>0,B95+1,""),B94+1) -> 83 | C96: פרפקט מרובע | D96: 9 | E96: 12 | F96: מגוון צבעים | G96: 6.5 | J96: =IF(I96*G96>0,I96*G96,"")
A97: =IF(G97>0,$A$2,"") -> צ | B97: =IF(B96<>"",IF(G97>0,B96+1,""),B95+1) -> 84 | C97: פרפקט מרובע | D97: מרק | E97: 12 | F97: מגוון צבעים | G97: 6.9 | J97: =IF(I97*G97>0,I97*G97,"")
A98: =IF(G98>0,$A$2,"") -> צ | B98: =IF(B97<>"",IF(G98>0,B97+1,""),B96+1) -> 85 | C98: פרפקט מרובע | D98: ליפתן | E98: 12 | F98: מגוון צבעים | G98: 3.9 | J98: =IF(I98*G98>0,I98*G98,"")
A99: =IF(G99>0,$A$2,"") -> צ | B99: =IF(B98<>"",IF(G99>0,B98+1,""),B97+1) -> 86 | C99: פרפקט מרובע | D99: קסרול גדול | E99: 5 | F99: מגוון צבעים | G99: 6.5 | J99: =IF(I99*G99>0,I99*G99,"")
A100: =IF(G100>0,$A$2,"") -> צ | B100: =IF(B99<>"",IF(G100>0,B99+1,""),B98+1) -> 87 | C100: פרפקט מרובע | D100: קסרול קטן | E100: 12 | F100: מגוון צבעים | G100: 5.5 | J100: =IF(I100*G100>0,I100*G100,"")
...

Sheet קערות ומגשים
A1: קוד מוצר | C1: תיאור | E1: מספר יח' בחבילה | F1: צבעים לבחירה | G1: מחיר | H1: הערות | I1: מס' יחידות להזמנה | J1: לתשלום
A2: ק | B2: 1 | C2: קערות קשיחות | D2: עגול קטן | F2: שקוף | G2: 3.9 | J2: =IF(I2*G2>0,I2*G2,"")
A3: =IF(G3>0,$A$2,"") -> ק | B3: =IF(B2<>"",IF(G3>0,B2+1,""),B1+1) -> 2 | C3: קערות קשיחות | D3: עגול בינוני | F3: שקוף | G3: 5.9 | J3: =IF(I3*G3>0,I3*G3,"")
A4: =IF(G4>0,$A$2,"") -> ק | B4: =IF(B3<>"",IF(G4>0,B3+1,""),B2+1) -> 3 | C4: קערות קשיחות | D4: עגול גדול | F4: שקוף | G4: 7.9 | J4: =IF(I4*G4>0,I4*G4,"")
A5: =IF(G5>0,$A$2,"") -> ק | B5: =IF(B4<>"",IF(G5>0,B4+1,""),B3+1) -> 4 | C5: קערות קשיחות | D5: מכסה קטן | F5: שקוף | G5: 3 | J5: =IF(I5*G5>0,I5*G5,"")
A6: =IF(G6>0,$A$2,"") -> ק | B6: =IF(B5<>"",IF(G6>0,B5+1,""),B4+1) -> 5 | C6: קערות קשיחות | D6: מכסה בינוני | F6: שקוף | G6: 4 | J6: =IF(I6*G6>0,I6*G6,"")
A7: =IF(G7>0,$A$2,"") -> ק | B7: =IF(B6<>"",IF(G7>0,B6+1,""),B5+1) -> 6 | C7: קערות קשיחות | D7: מכסה גדול | F7: שקוף | G7: 6.5 | J7: =IF(I7*G7>0,I7*G7,"")
A8: =IF(G8>0,$A$2,"") -> ק | B8: =IF(B7<>"",IF(G8>0,B7+1,""),B6+1) -> 7 | C8: קערות קשיחות | D8: מרובע קטן | F8: שקוף | G8: 3.9 | J8: =IF(I8*G8>0,I8*G8,"")
A9: =IF(G9>0,$A$2,"") -> ק | B9: =IF(B8<>"",IF(G9>0,B8+1,""),B7+1) -> 8 | C9: קערות קשיחות | D9: מרובע בינוני | F9: שקוף | G9: 5.9 | J9: =IF(I9*G9>0,I9*G9,"")
A10: =IF(G10>0,$A$2,"") -> ק | B10: =IF(B9<>"",IF(G10>0,B9+1,""),B8+1) -> 9 | C10: קערות קשיחות | D10: מרובע גדול | F10: שקוף | G10: 8.9 | J10: =IF(I10*G10>0,I10*G10,"")
A11: =IF(G11>0,$A$2,"") -> ק | B11: =IF(B10<>"",IF(G11>0,B10+1,""),B9+1) -> 10 | C11: קערות קשיחות | D11: מרובע קטן 1/4 | F11: שקוף | G11: 5.9 | J11: =IF(I11*G11>0,I11*G11,"")
A12: =IF(G12>0,$A$2,"") -> ק | B12: =IF(B11<>"",IF(G12>0,B11+1,""),B10+1) -> 11 | C12: קערות קשיחות | D12: מרובע בינוני 1/4 | F12: שקוף | G12: 8.9 | J12: =IF(I12*G12>0,I12*G12,"")
A13: =IF(G13>0,$A$2,"") -> ק | B13: =IF(B12<>"",IF(G13>0,B12+1,""),B11+1) -> 12 | C13: קערות קשיחות | D13: אובל נמוך | F13: שקוף | G13: 3.9 | J13: =IF(I13*G13>0,I13*G13,"")
A14: =IF(G14>0,$A$2,"") -> ק | B14: =IF(B13<>"",IF(G14>0,B13+1,""),B12+1) -> 13 | C14: קערות קשיחות | D14: אובל עמוק | F14: שקוף | G14: 6.9 | J14: =IF(I14*G14>0,I14*G14,"")
A15: =IF(G15>0,$A$2,"") -> ק | B15: =IF(B14<>"",IF(G15>0,B14+1,""),B13+1) -> 14 | C15: קערות קשיחות | D15: אובל ענק | F15: שקוף | G15: 9.9 | J15: =IF(I15*G15>0,I15*G15,"")
A16: =IF(G16>0,$A$2,"") | B16: =IF(B15<>"",IF(G16>0,B15+1,""),B14+1) | J16: =IF(I16*G16>0,I16*G16,"")
A17: =IF(G17>0,$A$2,"") -> ק | B17: =IF(B16<>"",IF(G17>0,B16+1,""),B15+1) -> 15 | C17: קשיחות יוקרתי פרימיום וינטאג' | D17: מגש שטוח | E17: 3 | F17: זהב, כסף, ורוד, קרם | G17: 8.9 | J17: =IF(I17*G17>0,I17*G17,"")
A18: =IF(G18>0,$A$2,"") -> ק | B18: =IF(B17<>"",IF(G18>0,B17+1,""),B16+1) -> 16 | C18: קשיחות יוקרתי פרימיום וינטאג' | D18: קערה | E18: 3 | F18: כסף, קרם | G18: 8.9 | J18: =IF(I18*G18>0,I18*G18,"")
A19: =IF(G19>0,$A$2,"") | B19: =IF(B18<>"",IF(G19>0,B18+1,""),B17+1) | J19: =IF(I19*G19>0,I19*G19,"")
A20: =IF(G20>0,$A$2,"") -> ק | B20: =IF(B19<>"",IF(G20>0,B19+1,""),B18+1) -> 17 | C20: קשיחות יוקרתי וינדמיל נצנץ | D20: מגש | E20: 3 | F20: כסף,זהב | G20: 8.9 | J20: =IF(I20*G20>0,I20*G20,"")
A21: =IF(G21>0,$A$2,"") -> ק | B21: =IF(B20<>"",IF(G21>0,B20+1,""),B19+1) -> 18 | C21: קשיחות יוקרתי וינדמיל נצנץ | D21: מגש עמוק/קערה | E21: 3 | F21: כסף,זהב | G21: 8.9 | J21: =IF(I21*G21>0,I21*G21,"")
A22: =IF(G22>0,$A$2,"") | B22: =IF(B21<>"",IF(G22>0,B21+1,""),B20+1) | J22: =IF(I22*G22>0,I22*G22,"")
A23: =IF(G23>0,$A$2,"") -> ק | B23: =IF(B22<>"",IF(G23>0,B22+1,""),B21+1) -> 19 | C23: מגשי הגשה קשיח | D23: אובל עמוק קטן | F23: שקוף עם מסגרת זהב/כסף | G23: 4.9 | J23: =IF(I23*G23>0,I23*G23,"")
A24: =IF(G24>0,$A$2,"") -> ק | B24: =IF(B23<>"",IF(G24>0,B23+1,""),B22+1) -> 20 | C24: מגשי הגשה קשיח | D24: אובל עמוק בינוני | F24: שקוף עם מסגרת זהב/כסף | G24: 6.9 | J24: =IF(I24*G24>0,I24*G24,"")
A25: =IF(G25>0,$A$2,"") -> ק | B25: =IF(B24<>"",IF(G25>0,B24+1,""),B23+1) -> 21 | C25: מגשי הגשה קשיח | D25: אובל עמוק גדול | F25: שקוף עם מסגרת זהב/כסף | G25: 7.9 | J25: =IF(I25*G25>0,I25*G25,"")
A26: =IF(G26>0,$A$2,"") -> ק | B26: =IF(B25<>"",IF(G26>0,B25+1,""),B24+1) -> 22 | C26: מגשי הגשה קשיח | D26: מלבן אינגליש קצר | F26: שקוף | G26: 4.5 | J26: =IF(I26*G26>0,I26*G26,"")
A27: =IF(G27>0,$A$2,"") -> ק | B27: =IF(B26<>"",IF(G27>0,B26+1,""),B25+1) -> 23 | C27: מגשי הגשה קשיח | D27: מלבן אינגליש ארוך | F27: שקוף | G27: 5 | J27: =IF(I27*G27>0,I27*G27,"")
A28: =IF(G28>0,$A$2,"") -> ק | B28: =IF(B27<>"",IF(G28>0,B27+1,""),B26+1) -> 24 | C28: מגשי הגשה קשיח | D28: מלבן A4 | F28: שקוף | G28: 7.9 | J28: =IF(I28*G28>0,I28*G28,"")
A29: =IF(G29>0,$A$2,"") -> ק | B29: =IF(B28<>"",IF(G29>0,B28+1,""),B27+1) -> 25 | C29: מגשי הגשה קשיח | D29: מרובע | F29: שקוף | G29: 8.9 | J29: =IF(I29*G29>0,I29*G29,"")
A30: =IF(G30>0,$A$2,"") -> ק | B30: =IF(B29<>"",IF(G30>0,B29+1,""),B28+1) -> 26 | C30: מגשי הגשה קשיח | D30: פסים עגול 12 | F30: שקוף | G30: 4.5 | J30: =IF(I30*G30>0,I30*G30,"")
A31: =IF(G31>0,$A$2,"") -> ק | B31: =IF(B30<>"",IF(G31>0,B30+1,""),B29+1) -> 27 | C31: מגשי הגשה קשיח | D31: פסים עגול 14 | F31: שקוף | G31: 6.5 | J31: =IF(I31*G31>0,I31*G31,"")
A32: =IF(G32>0,$A$2,"") -> ק | B32: =IF(B31<>"",IF(G32>0,B31+1,""),B30+1) -> 28 | C32: מגשי הגשה קשיח | D32: פסים עגול 16 | F32: שקוף | G32: 8.5 | J32: =IF(I32*G32>0,I32*G32,"")
A33: =IF(G33>0,$A$2,"") -> ק | B33: =IF(B32<>"",IF(G33>0,B32+1,""),B31+1) -> 29 | C33: מגשי הגשה קשיח | D33: פסים עגול 18 | F33: שקוף | G33: 10.5 | J33: =IF(I33*G33>0,I33*G33,"")
A34: =IF(G34>0,$A$2,"") | B34: =IF(B33<>"",IF(G34>0,B33+1,""),B32+1) | J34: =IF(I34*G34>0,I34*G34,"")
A35: =IF(G35>0,$A$2,"") -> ק | B35: =IF(B34<>"",IF(G35>0,B34+1,""),B33+1) -> 30 | C35: בנדע עגול | D35: מגש שטוח | F35: מגוון צבעים | G35: 12.9 | J35: =IF(I35*G35>0,I35*G35,"")
A36: =IF(G36>0,$A$2,"") -> ק | B36: =IF(B35<>"",IF(G36>0,B35+1,""),B34+1) -> 31 | C36: בנדע עגול | D36: מגש עמוק | F36: מגוון צבעים | G36: 9.9 | J36: =IF(I36*G36>0,I36*G36,"")
A37: =IF(G37>0,$A$2,"") -> ק | B37: =IF(B36<>"",IF(G37>0,B36+1,""),B35+1) -> 32 | C37: בנדע עגול | D37: קערה | F37: מגוון צבעים | G37: 8.5 | J37: =IF(I37*G37>0,I37*G37,"")
A38: =IF(G38>0,$A$2,"") -> ק | B38: =IF(B37<>"",IF(G38>0,B37+1,""),B36+1) -> 33 | C38: בנדע עגול | D38: קערה קטנה | F38: שקוף | G38: 11.9 | J38: =IF(I38*G38>0,I38*G38,"")
A39: =IF(G39>0,$A$2,"") -> ק | B39: =IF(B38<>"",IF(G39>0,B38+1,""),B37+1) -> 34 | C39: בנדע עגול | D39: קערה גדולה | F39: שקוף | G39: 14.9 | J39: =IF(I39*G39>0,I39*G39,"")
A40: =IF(G40>0,$A$2,"") | B40: =IF(B39<>"",IF(G40>0,B39+1,""),B38+1) | J40: =IF(I40*G40>0,I40*G40,"")
A41: =IF(G41>0,$A$2,"") -> ק | B41: =IF(B40<>"",IF(G41>0,B40+1,""),B39+1) -> 35 | C41: פרפקט מרובע | D41: מגש | E41: 5 | F41: זהב/שחור/לבן/כסף | G41: 9.9 | J41: =IF(I41*G41>0,I41*G41,"")
A42: =IF(G42>0,$A$2,"") -> ק | B42: =IF(B41<>"",IF(G42>0,B41+1,""),B40+1) -> 36 | C42: פרפקט מרובע | D42: קערה | E42: 5 | F42: זהב/שחור/לבן/כסף | G42: 5.9 | J42: =IF(I42*G42>0,I42*G42,"")
A43: =IF(G43>0,$A$2,"") -> ק | B43: =IF(B42<>"",IF(G43>0,B42+1,""),B41+1) -> 37 | C43: פרפקט מרובע | D43: קסרול גדול | E43: 5 | F43: זהב/שחור/לבן/כסף | G43: 6.5 | J43: =IF(I43*G43>0,I43*G43,"")
A44: =IF(G44>0,$A$2,"") | B44: =IF(B43<>"",IF(G44>0,B43+1,""),B42+1) | J44: =IF(I44*G44>0,I44*G44,"")
A45: =IF(G45>0,$A$2,"") -> ק | B45: =IF(B44<>"",IF(G45>0,B44+1,""),B43+1) -> 38 | C45: קלקר | D45: מגש קטן | E45: 200 | F45: קרם | G45: 82.9 | J45: =IF(I45*G45>0,I45*G45,"")
A46: =IF(G46>0,$A$2,"") -> ק | B46: =IF(B45<>"",IF(G46>0,B45+1,""),B44+1) -> 39 | C46: קלקר | D46: מגש קטן | E46: 10 | F46: קרם | G46: 4.9 | J46: =IF(I46*G46>0,I46*G46,"")
A47: =IF(G47>0,$A$2,"") -> ק | B47: =IF(B46<>"",IF(G47>0,B46+1,""),B45+1) -> 40 | C47: קלקר | D47: מגש גדול | E47: 125 | F47: קרם | G47: 62.9 | J47: =IF(I47*G47>0,I47*G47,"")
A48: =IF(G48>0,$A$2,"") -> ק | B48: =IF(B47<>"",IF(G48>0,B47+1,""),B46+1) -> 41 | C48: קלקר | D48: מגש גדול | E48: 10 | F48: קרם | G48: 5.9 | J48: =IF(I48*G48>0,I48*G48,"")
A49: =IF(G49>0,$A$2,"") | B49: =IF(B48<>"",IF(G49>0,B48+1,""),B47+1) | J49: =IF(I49*G49>0,I49*G49,"")
A50: =IF(G50>0,$A$2,"") -> ק | B50: =IF(B49<>"",IF(G50>0,B49+1,""),B48+1) -> 42 | C50: מגשי קרטון | D50: 21 X 14 | F50: זהב/כסף | G50: 1 | J50: =IF(I50*G50>0,I50*G50,"")
A51: =IF(G51>0,$A$2,"") -> ק | B51: =IF(B50<>"",IF(G51>0,B50+1,""),B49+1) -> 43 | C51: מגשי קרטון | D51: 26 X 18 | F51: זהב/כסף | G51: 2 | J51: =IF(I51*G51>0,I51*G51,"")
A52: =IF(G52>0,$A$2,"") -> ק | B52: =IF(B51<>"",IF(G52>0,B51+1,""),B50+1) -> 44 | C52: מגשי קרטון | D52: 34 X 25 | F52: זהב/כסף | G52: 3.5 | J52: =IF(I52*G52>0,I52*G52,"")
A53: =IF(G53>0,$A$2,"") -> ק | B53: =IF(B52<>"",IF(G53>0,B52+1,""),B51+1) -> 45 | C53: מגשי קרטון | D53: 43 X 32 | F53: זהב/כסף | G53: 4.5 | J53: =IF(I53*G53>0,I53*G53,"")
G55: ס"כ לתשלום: | J55: =SUM(J2:J53) -> 0

Sheet כוסות ומיכלים
A1: קוד מוצר | C1: תיאור | E1: מספר יח' בחבילה | F1: צבעים לבחירה | G1: מחיר | H1: הערות | I1: מס' יחידות להזמנה | J1: לתשלום
A2: כ | B2: 1 | C2: כוסות פשוטים | D2: 180cc | G2: 4 | J2: =IF(I2*G2>0,I2*G2,"")
A3: =IF(G3>0,$A$2,"") -> כ | B3: =IF(B2<>"",IF(G3>0,B2+1,""),B1+1) -> 2 | C3: כוסות פשוטים | D3: 180cc | E3: 3 חב' | G3: 10 | J3: =IF(I3*G3>0,I3*G3,"")
A4: =IF(G4>0,$A$2,"") -> כ | B4: =IF(B3<>"",IF(G4>0,B3+1,""),B2+1) -> 3 | C4: כוסות פשוטים | D4: 200cc | E4: 50 | G4: 5.9 | J4: =IF(I4*G4>0,I4*G4,"")
A5: =IF(G5>0,$A$2,"") -> כ | B5: =IF(B4<>"",IF(G5>0,B4+1,""),B3+1) -> 4 | C5: כוסות פשוטים | D5: 330cc | E5: 50 | G5: 7.9 | J5: =IF(I5*G5>0,I5*G5,"")
A6: =IF(G6>0,$A$2,"") -> כ | B6: =IF(B5<>"",IF(G6>0,B5+1,""),B4+1) -> 5 | C6: כוסות פשוטים | D6: מכסה ל-300cc | E6: 50 | G6: 7.9 | J6: =IF(I6*G6>0,I6*G6,"")
A7: =IF(G7>0,$A$2,"") -> כ | B7: =IF(B6<>"",IF(G7>0,B6+1,""),B5+1) -> 6 | C7: כוסות פשוטים | D7: כוס יין | E7: 50 | G7: 3.5 | J7: =IF(I7*G7>0,I7*G7,"")
A8: =IF(G8>0,$A$2,"") -> כ | B8: =IF(B7<>"",IF(G8>0,B7+1,""),B6+1) -> 7 | C8: כוסות פשוטים | D8: חצי כוס | E8: 50 | G8: 6 | J8: =IF(I8*G8>0,I8*G8,"")
A9: =IF(G9>0,$A$2,"") -> כ | B9: =IF(B8<>"",IF(G9>0,B8+1,""),B7+1) -> 8 | C9: כוסות פשוטים | D9: מכסה לחצי כוס | E9: 50 | G9: 6 | J9: =IF(I9*G9>0,I9*G9,"")
A10: =IF(G10>0,$A$2,"") | B10: =IF(B9<>"",IF(G10>0,B9+1,""),B8+1) | J10: =IF(I10*G10>0,I10*G10,"")
A11: =IF(G11>0,$A$2,"") -> כ | B11: =IF(B10<>"",IF(G11>0,B10+1,""),B9+1) -> 9 | C11: כוסות יפים | D11: מעוטרת | E11: 40 | F11: מגוון צבעים | G11: 7.9 | J11: =IF(I11*G11>0,I11*G11,"")
A12: =IF(G12>0,$A$2,"") -> כ | B12: =IF(B11<>"",IF(G12>0,B11+1,""),B10+1) -> 10 | C12: כוסות יפים | D12: מעוטרת | E12: 50 | F12: מגוון צבעים | G12: 10.9 | J12: =IF(I12*G12>0,I12*G12,"")
A13: =IF(G13>0,$A$2,"") -> כ | B13: =IF(B12<>"",IF(G13>0,B12+1,""),B11+1) -> 11 | C13: כוסות יפים | D13: משושה | E13: 50 | G13: 9.9 | J13: =IF(I13*G13>0,I13*G13,"")
A14: =IF(G14>0,$A$2,"") -> כ | B14: =IF(B13<>"",IF(G14>0,B13+1,""),B12+1) -> 12 | C14: כוסות יפים | D14: יהלום | E14: 40 | G14: 7.5 | J14: =IF(I14*G14>0,I14*G14,"")
A15: =IF(G15>0,$A$2,"") -> כ | B15: =IF(B14<>"",IF(G15>0,B14+1,""),B13+1) -> 13 | C15: כוסות יפים | D15: יהלום | E15: 50 | G15: 9.9 | J15: =IF(I15*G15>0,I15*G15,"")
A16: =IF(G16>0,$A$2,"") -> כ | B16: =IF(B15<>"",IF(G16>0,B15+1,""),B14+1) -> 14 | C16: כוסות יפים | D16: פאט מבריק | E16: 50 | G16: 9.9 | J16: =IF(I16*G16>0,I16*G16,"")
A17: =IF(G17>0,$A$2,"") -> כ | B17: =IF(B16<>"",IF(G17>0,B16+1,""),B15+1) -> 15 | C17: כוסות יפים | D17: פרח קשיח | E17: 20 | G17: 10.9 | J17: =IF(I17*G17>0,I17*G17,"")
A18: =IF(G18>0,$A$2,"") -> כ | B18: =IF(B17<>"",IF(G18>0,B17+1,""),B16+1) -> 16 | C18: כוסות יפים | D18: פרימיום קשיח | E18: 20 | G18: 10.9 | J18: =IF(I18*G18>0,I18*G18,"")
A19: =IF(G19>0,$A$2,"") -> כ | B19: =IF(B18<>"",IF(G19>0,B18+1,""),B17+1) -> 17 | C19: כוסות יפים | D19: כוס יין על רגל נק' זהב | E19: 10 | G19: 10.9 | J19: =IF(I19*G19>0,I19*G19,"")
A20: =IF(G20>0,$A$2,"") -> כ | B20: =IF(B19<>"",IF(G20>0,B19+1,""),B18+1) -> 18 | C20: כוסות יפים | D20: כוס קשיח נק' זהב | E20: 10 | G20: 10.9 | J20: =IF(I20*G20>0,I20*G20,"")
A21: =IF(G21>0,$A$2,"") -> כ | B21: =IF(B20<>"",IF(G21>0,B20+1,""),B19+1) -> 19 | C21: כוסות יפים | D21: כוס יין קטנה על רגל פסים | E21: 8 | F21: שקוף | G21: 9.5 | J21: =IF(I21*G21>0,I21*G21,"")
A22: =IF(G22>0,$A$2,"") -> כ | B22: =IF(B21<>"",IF(G22>0,B21+1,""),B20+1) -> 20 | C22: כוסות יפים | D22: כוס יין גדולה על רגל פסים | E22: 9 | G22: 15.9 | J22: =IF(I22*G22>0,I22*G22,"")
A23: =IF(G23>0,$A$2,"") -> כ | B23: =IF(B22<>"",IF(G23>0,B22+1,""),B21+1) -> 21 | C23: כוסות יפים | D23: וינטאג' נצנץ | E23: 10 | F23: כסף/זהב | G23: 9.5 | J23: =IF(I23*G23>0,I23*G23,"")
A24: =IF(G24>0,$A$2,"") -> כ | B24: =IF(B23<>"",IF(G24>0,B23+1,""),B22+1) -> 22 | C24: כוסות יפים | D24: מרובע קשיח | E24: 18 | G24: 9.5 | J24: =IF(I24*G24>0,I24*G24,"")
A25: =IF(G25>0,$A$2,"") | B25: =IF(B24<>"",IF(G25>0,B24+1,""),B23+1) | J25: =IF(I25*G25>0,I25*G25,"")
A26: =IF(G26>0,$A$2,"") -> כ | B26: =IF(B25<>"",IF(G26>0,B25+1,""),B24+1) -> 23 | C26: כוסות נייר | D26: oz 4 | G26: 4.9 | J26: =IF(I26*G26>0,I26*G26,"")
A27: =IF(G27>0,$A$2,"") -> כ | B27: =IF(B26<>"",IF(G27>0,B26+1,""),B25+1) -> 24 | C27: כוסות נייר | D27: oz 7.5 | G27: 5.9 | J27: =IF(I27*G27>0,I27*G27,"")
A28: =IF(G28>0,$A$2,"") -> כ | B28: =IF(B27<>"",IF(G28>0,B27+1,""),B26+1) -> 25 | C28: כוסות נייר | D28: oz 10 | G28: 11.9 | J28: =IF(I28*G28>0,I28*G28,"")
A29: =IF(G29>0,$A$2,"") -> כ | B29: =IF(B28<>"",IF(G29>0,B28+1,""),B27+1) -> 26 | C29: כוסות נייר | D29: oz 12 | G29: 14.9 | J29: =IF(I29*G29>0,I29*G29,"")
A30: =IF(G30>0,$A$2,"") -> כ | B30: =IF(B29<>"",IF(G30>0,B29+1,""),B28+1) -> 27 | C30: כוסות נייר | D30: oz 16 | G30: 15.9 | J30: =IF(I30*G30>0,I30*G30,"")
A31: =IF(G31>0,$A$2,"") | B31: =IF(B30<>"",IF(G31>0,B30+1,""),B29+1) | J31: =IF(I31*G31>0,I31*G31,"")
A32: =IF(G32>0,$A$2,"") -> כ | B32: =IF(B31<>"",IF(G32>0,B31+1,""),B30+1) -> 28 | C32: גביעים כסופים | D32: גביע+תחתית | E32: 5 | G32: 14.9 | J32: =IF(I32*G32>0,I32*G32,"")
A33: =IF(G33>0,$A$2,"") -> כ | B33: =IF(B32<>"",IF(G33>0,B32+1,""),B31+1) -> 29 | C33: גביעים כסופים | D33: גביעים | E33: 10 | G33: 11.9 | J33: =IF(I33*G33>0,I33*G33,"")
A34: =IF(G34>0,$A$2,"") -> כ | B34: =IF(B33<>"",IF(G34>0,B33+1,""),B32+1) -> 30 | C34: גביעים כסופים | D34: תחתיות | E34: 5 | G34: 7.9 | J34: =IF(I34*G34>0,I34*G34,"")
A35: =IF(G35>0,$A$2,"") -> כ | B35: =IF(B34<>"",IF(G35>0,B34+1,""),B33+1) -> 31 | C35: גביעי ליקר | D35: מוכספים | E35: 24 | F35: מוכסף | G35: 14.9 | J35: =IF(I35*G35>0,I35*G35,"")
A36: =IF(G36>0,$A$2,"") -> כ | B36: =IF(B35<>"",IF(G36>0,B35+1,""),B34+1) -> 32 | C36: גביעי ליקר | D36: על רגל | E36: 12 | F36: כסף, זהב, רוזגולד | G36: 22.9 | J36: =IF(I36*G36>0,I36*G36,"")
A37: =IF(G37>0,$A$2,"") | B37: =IF(B36<>"",IF(G37>0,B36+1,""),B35+1) | J37: =IF(I37*G37>0,I37*G37,"")
A38: =IF(G38>0,$A$2,"") -> כ | B38: =IF(B37<>"",IF(G38>0,B37+1,""),B36+1) -> 33 | C38: גביעי אחסון | D38: 150cc | E38: 13 | G38: 6.9 | J38: =IF(I38*G38>0,I38*G38,"")
A39: =IF(G39>0,$A$2,"") -> כ | B39: =IF(B38<>"",IF(G39>0,B38+1,""),B37+1) -> 34 | C39: גביעי אחסון | D39: 250cc | E39: 13 | G39: 6.9 | J39: =IF(I39*G39>0,I39*G39,"")
A40: =IF(G40>0,$A$2,"") -> כ | B40: =IF(B39<>"",IF(G40>0,B39+1,""),B38+1) -> 35 | C40: גביעי אחסון | D40: 500cc | E40: 15 | G40: 8.9 | J40: =IF(I40*G40>0,I40*G40,"")
A41: =IF(G41>0,$A$2,"") -> כ | B41: =IF(B40<>"",IF(G41>0,B40+1,""),B39+1) -> 36 | C41: גביעי אחסון | D41: 1000cc | E41: 10 | G41: 8.9 | J41: =IF(I41*G41>0,I41*G41,"")
A42: =IF(G42>0,$A$2,"") | B42: =IF(B41<>"",IF(G42>0,B41+1,""),B40+1) | J42: =IF(I42*G42>0,I42*G42,"")
A43: =IF(G43>0,$A$2,"") -> כ | B43: =IF(B42<>"",IF(G43>0,B42+1,""),B41+1) -> 37 | C43: מיכלי אחסון | D43: שחור 650CC | G43: 1.8 | J43: =IF(I43*G43>0,I43*G43,"")
A44: =IF(G44>0,$A$2,"") -> כ | B44: =IF(B43<>"",IF(G44>0,B43+1,""),B42+1) -> 38 | C44: מיכלי אחסון | D44: 750cc | G44: 1.2 | J44: =IF(I44*G44>0,I44*G44,"")
A45: =IF(G45>0,$A$2,"") -> כ | B45: =IF(B44<>"",IF(G45>0,B44+1,""),B43+1) -> 39 | C45: מיכלי אחסון | D45: 750cc | E45: 10 | G45: 10 | J45: =IF(I45*G45>0,I45*G45,"")
A46: =IF(G46>0,$A$2,"") -> כ | B46: =IF(B45<>"",IF(G46>0,B45+1,""),B44+1) -> 40 | C46: מיכלי אחסון | D46: 1000cc | G46: 1.4 | J46: =IF(I46*G46>0,I46*G46,"")
A47: =IF(G47>0,$A$2,"") -> כ | B47: =IF(B46<>"",IF(G47>0,B46+1,""),B45+1) -> 41 | C47: מיכלי אחסון | D47: 1000cc | E47: 10 | G47: 10 | J47: =IF(I47*G47>0,I47*G47,"")
A48: =IF(G48>0,$A$2,"") -> כ | B48: =IF(B47<>"",IF(G48>0,B47+1,""),B46+1) -> 42 | C48: מיכלי אחסון | D48: 1500cc | G48: 1.7 | J48: =IF(I48*G48>0,I48*G48,"")
A49: =IF(G49>0,$A$2,"") -> כ | B49: =IF(B48<>"",IF(G49>0,B48+1,""),B47+1) -> 43 | C49: מיכלי אחסון | D49: 1500cc | E49: 10 | G49: 12 | J49: =IF(I49*G49>0,I49*G49,"")
A50: =IF(G50>0,$A$2,"") -> כ | B50: =IF(B49<>"",IF(G50>0,B49+1,""),B48+1) -> 44 | C50: מיכלי אחסון | D50: 1 ליטר | G50: 1.7 | J50: =IF(I50*G50>0,I50*G50,"")
A51: =IF(G51>0,$A$2,"") -> כ | B51: =IF(B50<>"",IF(G51>0,B50+1,""),B49+1) -> 45 | C51: מיכלי אחסון | D51: 2 ליטר | G51: 2.5 | J51: =IF(I51*G51>0,I51*G51,"")
A52: =IF(G52>0,$A$2,"") -> כ | B52: =IF(B51<>"",IF(G52>0,B51+1,""),B50+1) -> 46 | C52: מיכלי אחסון | D52: 2.5 ליטר | G52: 3.5 | J52: =IF(I52*G52>0,I52*G52,"")
A53: =IF(G53>0,$A$2,"") -> כ | B53: =IF(B52<>"",IF(G53>0,B52+1,""),B51+1) -> 47 | C53: מיכלי אחסון | D53: 3 ליטר | G53: 3.5 | J53: =IF(I53*G53>0,I53*G53,"")
A54: =IF(G54>0,$A$2,"") -> כ | B54: =IF(B53<>"",IF(G54>0,B53+1,""),B52+1) -> 48 | C54: מיכלי אחסון | D54: 4.5 ליטר | G54: 3.9 | J54: =IF(I54*G54>0,I54*G54,"")
A55: =IF(G55>0,$A$2,"") -> כ | B55: =IF(B54<>"",IF(G55>0,B54+1,""),B53+1) -> 49 | C55: מיכלי אחסון | D55: חצי גסטרונום לבן | G55: 5.5 | J55: =IF(I55*G55>0,I55*G55,"")
A56: =IF(G56>0,$A$2,"") -> כ | B56: =IF(B55<>"",IF(G56>0,B55+1,""),B54+1) -> 50 | C56: מיכלי אחסון | D56: חמגשית פלסטיק | G56: 3.5 | J56: =IF(I56*G56>0,I56*G56,"")
G58: ס"כ לתשלום: | J58: =SUM(J2:J56) -> 0

Sheet סיכום קנייה
A1: קוד מוצר | C1: תיאור | D1: תיאור וגודל | E1: מספר יחידות בחבילה | F1: צבעים לבחירה | G1: מחיר | H1: הערות | I1: מס' יחידות להזמנה | J1: לתשלום | K1: סה"כ לתשלום
A2: {=_xlfn._xlws.FILTER('כל המוצרים'!A:J,'כל המוצרים'!J:J<>"")} -> #VALUE! | K2: =SUM(J:J) -> 0

Sheet כל המוצרים
A1: {=INDIRECT(CONCATENATE("תבניות!$A$2:$J",MATCH($P$1,תבניות!$G$2:$G$200,)-1))} -> ת | B1: 1 | C1: תבניות אלומיניום | D1: אינגליש ארוך | E1: 1 | F1: 0 | G1: 0.6 | H1: 0 | I1: 0 | P1: ס"כ לתשלום:
A2: ת | B2: 2 | C2: תבניות אלומיניום | D2: אינגליש ארוך | E2: 25 | F2: 0 | G2: 10 | H2: 0 | I2: 0
A3: ת | B3: 3 | C3: תבניות אלומיניום | D3: אינגליש קצר | E3: 1 | F3: 0 | G3: 0.6 | H3: 0 | I3: 0
A4: ת | B4: 4 | C4: תבניות אלומיניום | D4: חלה מלבן בינוני | E4: 1 | F4: 0 | G4: 2 | H4: 0 | I4: 0
A5: ת | B5: 5 | C5: תבניות אלומיניום | D5: חלה מלבן גדול | E5: 4 | F5: 0 | G5: 9.9 | H5: 0 | I5: 0
A6: ת | B6: 6 | C6: תבניות אלומיניום | D6: חלה אובל גדול | E6: 5 | F6: 0 | G6: 14.5 | H6: 0 | I6: 0
A7: ת | B7: 7 | C7: תבניות אלומיניום | D7: חלה אובל בינוני | E7: 5 | F7: 0 | G7: 11.5 | H7: 0 | I7: 0
A8: ת | B8: 8 | C8: תבניות אלומיניום | D8: חלה אובל קטן | E8: 12 | F8: 0 | G8: 10.9 | H8: 0 | I8: 0
A9: ת | B9: 9 | C9: תבניות אלומיניום | D9: מלבן 90 (A4) נמוך | E9: 1 | F9: 0 | G9: 1.2 | H9: 0 | I9: 0
A10: ת | B10: 10 | C10: תבניות אלומיניום | D10: מלבן 90 (A4) נמוך | E10: 12 | F10: 0 | G10: 10 | H10: 0 | I10: 0
A11: ת | B11: 11 | C11: תבניות אלומיניום | D11: בינוני - 105 | E11: 1 | F11: 0 | G11: 1.2 | H11: 0 | I11: 0
A12: ת | B12: 12 | C12: תבניות אלומיניום | D12: בינוני - 105 | E12: 12 | F12: 0 | G12: 10 | H12: 0 | I12: 0
A13: ת | B13: 13 | C13: תבניות אלומיניום | D13: גדול - 210 | E13: 1 | F13: 0 | G13: 2.5 | H13: 0 | I13: 0
... A31: ת | B31: 31 | C31: תבניות אלומיניום | D31: קוקי שיט | E31: 1 | F31: 0 | G31: 4 | H31: 0 | I31: 0
C32: 0 | D32: 0 | E32: 0 | F32: 0 | G32: 0 | H32: 0 | I32: 0
A33: ת | B33: 32 | C33: תבניות אלומיניום | D33: מכסי קרטון לתבנית מלבן קטן | E33: 1 | F33: 0 | G33: 0.3 | H33: 0 | I33: 0
A34: ת | B34: 33 | C34: תבניות אלומיניום | D34: מכסי קרטון לתבנית מלבן בינוני | E34: 1 | F34: 0 | G34: 0.4 | H34: 0 | I34: 0
A35: ת | B35: 34 | C35: תבניות אלומיניום | D35: מכסי קרטון לתבנית מלבן גדול | E35: 1 | F35: 0 | G35: 0.5 | H35: 0 | I35: 0
A36: ת | B36: 35 | C36: תבניות אלומיניום | D36: מכסי אלומיניום לתבנית מלבן לגסטרונום | E36: 1 | F36: 0 | G36: 3.5 | H36: 0 | I36: 0
A37: ת | B37: 36 | C37: תבניות אלומיניום | D37: מכסי אלומיניום לתבנית 100 מלבן | E37: 1 | F37: 0 | G37: 2 | H37: 0 | I37: 0
A38: ת | B38: 37 | C38: תבניות אלומיניום | D38: מכסי PVC לתבנית עגולה קטן | E38: 1 | F38: 0 | G38: 0.8 | H38: 0 | I38: 0
A39: ת | B39: 38 | C39: תבניות אלומיניום | D39: מכסי PVC לתבנית עגולה גדול | E39: 1 | F39: 0 | G39: 1.5 | H39: 0 | I39: 0
A40: ת | B40: 39 | C40: תבניות אלומיניום | D40: מכסי PVC לתבנית 100 מלבן | E40: 1 | F40: 0 | G40: 3.5 | H40: 0 | I40: 0
A41: ת | B41: 40 | C41: תבניות אלומיניום | D41: מכסי PVC לתבנית מלבן קטן | E41: 1 | F41: 0 | G41: 0.7 | H41: 0 | I41: 0
C42: 0 | D42: 0 | E42: 0 | F42: 0 | G42: 0 | H42: 0 | I42: 0
A43: ת | B43: 41 | C43: תבניות אלומיניום | D43: סיר ח"פ קטן כ-2.5 ליטר | E43: 1 | F43: 0 | G43: 4.9 | H43: 0 | I43: 0
A44: ת | B44: 42 | C44: תבניות אלומיניום | D44: סיר ח"פ בינוני כ-4 ליטר | E44: 1 | F44: 0 | G44: 7.9 | H44: 0 | I44: 0
A45: ת | B45: 43 | C45: תבניות אלומיניום | D45: סיר ח"פ גדול כ-6 ליטר | E45: 1 | F45: 0 | G45: 13.9 | H45: 0 | I45: 0
A46: ת | B46: 44 | C46: תבניות אלומיניום | D46: סיר ח"פ ענק כ-7.4 ליטר | E46: 1 | F46: 0 | G46: 16.9 | H46: 0 | I46: 0
A47: ת | B47: 45 | C47: תבניות אלומיניום | D47: סיר ח"פ ענק 4 ליטר | E47: 1 | F47: 0 | G47: 7.9 | H47: 0 | I47: 0
C48: 0 | D48: 0 | E48: 0 | F48: 0 | G48: 0 | H48: 0 | I48: 0
A49: ת | B49: 46 | C49: תבניות קרטון | D49: מלבן 90 (A4) נמוך | E49: 1 | F49: 0 | G49: 2.9 | H49: 0 | I49: 0
A50: ת | B50: 47 | C50: תבניות קרטון | D50: עגול גדול | E50: 1 | F50: 0 | G50: 2.9 | H50: 0 | I50: 0
A51: ת | B51: 48 | C51: תבניות קרטון | D51: עגול בינוני | E51: 1 | F51: 0 | G51: 2.9 | H51: 0 | I51: 0
A52: ת | B52: 49 | C52: תבניות קרטון | D52: עגול קטן | E52: 1 | F52: 0 | G52: 2.9 | H52: 0 | I52: 0
A53: ת | B53: 50 | C53: תבניות קרטון | D53: עגול סבתא | E53: 1 | F53: 0 | G53: 2.9 | H53: 0 | I53: 0
A54: ת | B54: 51 | C54: תבניות קרטון | D54: אינגליש ארוך | E54: 4 | F54: 0 | G54: 5.9 | H54: 0 | I54: 0
A55: ת | B55: 52 | C55: תבניות קרטון | D55: אינגליש ארוך + מכסה שקוף | E55: 5 | F55: 0 | G55: 13.9 | H55: 0 | I55: 0
A56: ת | B56: 53 | C56: תבניות קרטון | D56: אינגליש בינוני רחב | E56: 3 | F56: 0 | G56: 5.9 | H56: 0 | I56: 0
A57: ת | B57: 54 | C57: תבניות קרטון | D57: אינגליש קטן | E57: 5 | F57: 0 | G57: 5.9 | H57: 0 | I57: 0
A58: ת | B58: 55 | C58: תבניות קרטון | D58: אינגליש מיני | E58: 1 | F58: 0 | G58: 0.6 | H58: 0 | I58: 0
A201: {=INDIRECT(CONCATENATE("'סכו''''ם'","!$A$2:$J",MATCH($P$1,'סכו''''ם'!$G$2:$G$200,)-1))} -> ס | B201: 1 | C201: סכו"ם פשוט | D201: מזלג | E201: 100 | F201: לבן | G201: 4.9 | H201: 0 | I201: 0
A202: ס | B202: 2 | C202: סכו"ם פשוט | D202: כף | E202: 100 | F202: לבן | G202: 4.9 | H202: 0 | I202: 0
A203: ס | B203: 3 | C203: סכו"ם פשוט | D203: כפית | E203: 100 | F203: לבן | G203: 4.9 | H203: 0 | I203: 0
A204: ס | B204: 4 | C204: סכו"ם פשוט | D204: סכין | E204: 100 | F204: לבן | G204: 4.9 | H204: 0 | I204: 0
A205: ס | B205: 5 | C205: סכו"ם פשוט | D205: כל הכלים | E205: 5 חבילות | F205: לבן | G205: 22 | H205: 0 | I205: 0
C206: 0 | D206: 0 | E206: 0 | F206: 0 | G206: 0 | H206: 0 | I206: 0
A207: ס | B207: 6 | C207: סכו"ם נצנץ | D207: מזלג | E207: 40 | F207: כסף,זהב | G207: 5.9 | H207: 0 | I207: 0
A208: ס | B208: 7 | C208: סכו"ם נצנץ | D208: כף | E208: 40 | F208: כסף,זהב | G208: 5.9 | H208: 0 | I208: 0
A209: ס | B209: 8 | C209: סכו"ם נצנץ | D209: כפית | E209: 40 | F209: כסף,זהב | G209: 5.9 | H209: 0 | I209: 0
A210: ס | B210: 9 | C210: סכו"ם נצנץ | D210: סכין | E210: 40 | F210: כסף,זהב | G210: 5.9 | H210: 0 | I210: 0
C211: 0 | D211: 0 | E211: 0 | F211: 0 | G211: 0 | H211: 0 | I211: 0
A212: ס | B212: 10 | C212: סכו"ם קשיח | D212: מזלג | E212: 100 | F212: שקוף,לבן,כסף,זהב,קרם | G212: 10.9 | H212: 0 | I212: 0
A213: ס | B213: 11 | C213: סכו"ם קשיח | D213: כף | E213: 100 | F213: שקוף,לבן,כסף,זהב,קרם | G213: 10.9 | H213: 0 | I213: 0
A214: ס | B214: 12 | C214: סכו"ם קשיח | D214: כפית | E214: 100 | F214: שקוף,לבן,כסף,זהב,קרם | G214: 10.9 | H214: 0 | I214: 0
A215: ס | B215: 13 | C215: סכו"ם קשיח | D215: סכין | E215: 100 | F215: שקוף,לבן,כסף,זהב,קרם | G215: 10.9 | H215: 0 | I215: 0
C216: 0 | D216: 0 | E216: 0 | F216: 0 | G216: 0 | H216: 0 | I216: 0
A217: ס | B217: 14 | C217: סכו"ם שיק | D217: מזלג | E217: 50 | F217: שקוף,זהב,כסף,קרם | G217: 8.9 | H217: 0 | I217: 0
A218: ס | B218: 15 | C218: סכו"ם שיק | D218: כף | E218: 50 | F218: שקוף,זהב,כסף,קרם | G218: 8.9 | H218: 0 | I218: 0
A219: ס | B219: 16 | C219: סכו"ם שיק | D219: כפית | E219: 50 | F219: שקוף,זהב,כסף,קרם | G219: 6 | H219: 0 | I219: 0
A220: ס | B220: 17 | C220: סכו"ם שיק | D220: סכין | E220: 50 | F220: שקוף,זהב,כסף,קרם | G220: 8.9 | H220: 0 | I220: 0
C221: 0 | D221: 0 | E221: 0 | F221: 0 | G221: 0 | H221: 0 | I221: 0
A222: ס | B222: 18 | C222: סכו"ם תבניכל | D222: מזלג | E222: 50 | F222: שקוף,זהב,כסף,קרם,לבן | G222: 5.9 | H222: 0 | I222: 0
A223: ס | B223: 19 | C223: סכו"ם תבניכל | D223: כף | E223: 50 | F223: שקוף,זהב,כסף,קרם,לבן | G223: 5.9 | H223: 0 | I223: 0
A224: ס | B224: 20 | C224: סכו"ם תבניכל | D224: כפית | E224: 50 | F224: שקוף,זהב,כסף,קרם,לבן | G224: 3.9 | H224: 0 | I224: 0
A225: ס | B225: 21 | C225: סכו"ם תבניכל | D225: סכין | E225: 50 | F225: שקוף,זהב,כסף,קרם,לבן | G225: 5.9 | H225: 0 | I225: 0
C226: 0 | D226: 0 | E226: 0 | F226: 0 | G226: 0 | H226: 0 | I226: 0
A227: ס | B227: 22 | C227: סכו"ם מוזהב ענתיק | D227: מזלג | E227: 12 | F227: זהב | G227: 6.9 | H227: 0 | I227: 0
A228: ס | B228: 23 | C228: סכו"ם מוזהב ענתיק | D228: כף | E228: 12 | F228: זהב | G228: 6.9 | H228: 0 | I228: 0
A229: ס | B229: 24 | C229: סכו"ם מוזהב ענתיק | D229: כפית | E229: 12 | F229: זהב | G229: 6.9 | H229: 0 | I229: 0
A230: ס | B230: 25 | C230: סכו"ם מוזהב ענתיק | D230: סכין | E230: 12 | F230: זהב | G230: 6.9 | H230: 0 | I230: 0
C231: 0 | D231: 0 | E231: 0 | F231: 0 | G231: 0 | H231: 0 | I231: 0
A232: ס | B232: 26 | C232: סכו"ם מוכסף | D232: מזלג | E232: 20 | F232: כסף | G232: 6.5 | H232: 0 | I232: 0
A233: ס | B233: 27 | C233: סכו"ם מוכסף | D233: כף | E233: 20 | F233: כסף | G233: 6.5 | H233: 0 | I233: 0
A234: ס | B234: 28 | C234: סכו"ם מוכסף | D234: כפית | E234: 20 | F234: כסף | G234: 6.5 | H234: 0 | I234: 0
A235: ס | B235: 29 | C235: סכו"ם מוכסף | D235: סכין | E235: 20 | F235: כסף | G235: 6.5 | H235: 0 | I235: 0
A236: ס | B236: 30 | C236: סכו"ם מוכסף | D236: כל הכלים | E236: 2 חבילות | F236: כסף | G236: 10 | H236: 0 | I236: 0
C237: 0 | D237: 0 | E237: 0 | F237: 0 | G237: 0 | H237: 0 | I237: 0
A238: ס | B238: 31 | C238: סכו"ם וינטאג' | D238: מזלג | E238: 10 | F238: קרם,לבן,אפור | G238: 5.9 | H238: 0 | I238: 0
A239: ס | B239: 32 | C239: סכו"ם וינטאג' | D239: כף | E239: 10 | F239: קרם,לבן,אפור | G239: 5.9 | H239: 0 | I239: 0
A240: ס | B240: 33 | C240: סכו"ם וינטאג' | D240: כפית | E240: 10 | F240: קרם,לבן,אפור | G240: 2.5 | H240: 0 | I240: 0
A241: ס | B241: 34 | C241: סכו"ם וינטאג' | D241: סכין | E241: 10 | F241: קרם,לבן,אפור | G241: 5.9 | H241: 0 | I241: 0
A242: ס | B242: 35 | C242: סכו"ם וינטאג' | D242: כפית לעוגה | E242: 10 | F242: קרם,לבן,אפור | G242: 3.5 | H242: 0 | I242: 0
A243: ס | B243: 36 | C243: סכו"ם וינטאג' | D243: מזלג לעוגה | E243: 10 | F243: קרם,לבן,אפור | G243: 3.5 | H243: 0 | I243: 0
A244: ס | B244: 37 | C244: סכו"ם וינטאג' | D244: כפית מיני | E244: 10 | F244: קרם,לבן,אפור | G244: 3.5 | H244: 0 | I244: 0
A245: ס | B245: 38 | C245: סכו"ם וינטאג' | D245: מזלג מיני | E245: 10 | F245: קרם,לבן,אפור | G245: 3.5 | H245: 0 | I245: 0
C246: 0 | D246: 0 | E246: 0 | F246: 0 | G246: 0 | H246: 0 | I246: 0
A247: ס | B247: 39 | C247: סכו''ם רטרו מוכסף | D247: מזלג | E247: 10 | F247: מוכסף | G247: 7.9 | H247: 0 | I247: 0
A248: ס | B248: 40 | C248: סכו''ם רטרו מוכסף | D248: כף | E248: 10 | F248: מוכסף | G248: 7.9 | H248: 0 | I248: 0
A249: ס | B249: 41 | C249: סכו''ם רטרו מוכסף | D249: כפית | E249: 10 | F249: מוכסף | G249: 4.5 | H249: 0 | I249: 0
A250: ס | B250: 42 | C250: סכו''ם רטרו מוכסף | D250: סכין | E250: 10 | F250: מוכסף | G250: 7.9 | H250: 0 | I250: 0
C251: 0 | D251: 0 | E251: 0 | F251: 0 | G251: 0 | H251: 0 | I251: 0
A252: ס | B252: 43 | C252: סכו''ם ורסאי נצנץ | D252: מזלג | E252: 10 | F252: זהב, כסף | G252: 5.9 | H252: 0 | I252: 0
A253: ס | B253: 44 | C253: סכו''ם ורסאי נצנץ | D253: כף | E253: 10 | F253: זהב, כסף | G253: 5.9 | H253: 0 | I253: 0
A254: ס | B254: 45 | C254: סכו''ם ורסאי נצנץ | D254: כפית | E254: 10 | F254: זהב, כסף | G254: 2.5 | H254: 0 | I254: 0
A255: ס | B255: 46 | C255: סכו''ם ורסאי נצנץ | D255: סכין | E255: 10 | F255: זהב, כסף | G255: 5.9 | H255: 0 | I255: 0
A256: ס | B256: 47 | C256: סכו"ם ורסאי נצנץ | D256: מזלג/כף/סכין | E256: 2 חבילות | F256: זהב, כסף | G256: 10 | H256: 0 | I256: 0
C257: 0 | D257: 0 | E257: 0 | F257: 0 | G257: 0 | H257: 0 | I257: 0
A258: ס | B258: 48 | C258: סכו"ם קינוח | D258: כפית מיני | E258: 0 | F258: שקוף,מוכסף | G258: 4.9 | H258: 0 | I258: 0
A259: ס | B259: 49 | C259: סכו"ם קינוח | D259: מזלג מיני | E259: 0 | F259: שקוף,מוכסף | G259: 4.9 | H259: 0 | I259: 0
...
