Workbook

Sheet גיליון1
A1: שבוע | C1: ב-2020 נפטרו יותר | D1: ב2019 נפטרו יותר מ2020 | E1: רשימות נפטרים מהקורונה | F1: יתרות
A2: 43831 | B2: 43837 | C2: 100 | D2: 0 | F2: =SUM(D2:D12) -> 717 | G2: נפטרו יותר ב-2019
A3: 43838 | B3: 43844 | C3: 0 | D3: 89
A4: 43845 | B4: 43851 | C4: 0 | D4: 34
A5: 43852 | B5: 43858 | C5: 0 | D5: 167
A6: 43859 | B6: 43865 | C6: 0 | D6: 69
A7: 43866 | B7: 43872 | C7: 0 | D7: 84
A8: 43873 | B8: 43879 | C8: 2 | D8: 0
A9: 43880 | B9: 43886 | C9: 0 | D9: 90
A10: 43887 | B10: 43893 | C10: 0 | D10: 111
A11: 43894 | B11: 43900 | C11: 0 | D11: 18
A12: 43901 | B12: 43907 | C12: 0 | D12: 55
A13: 43908 | B13: 43914 | C13: 0 | D13: 66 | E13: 3 | F13: =SUM(C14:C21) -> 362 | G13: גל ראשון (277 נפטרו מקורונה)
A14: 43915 | B14: 43921 | C14: 81 | D14: 0 | E14: =VLOOKUP(B14,[1]סיכום!A2:$Y208,25,FALSE) -> 17
A15: 43922 | B15: 43928 | C15: 154 | D15: 0 | E15: =VLOOKUP(B15,[1]סיכום!A3:$Y209,25,FALSE) -> 44
A16: 43929 | B16: 43935 | C16: 19 | D16: 0 | E16: =VLOOKUP(B16,[1]סיכום!A4:$Y210,25,FALSE) -> 58 | F16: נפטרו יותר ב2020
A17: 43936 | B17: 43942 | C17: 39 | D17: 0 | E17: =VLOOKUP(B17,[1]סיכום!A5:$Y211,25,FALSE) -> 61
A18: 43943 | B18: 43949 | C18: 0 | D18: 58 | E18: =VLOOKUP(B18,[1]סיכום!A6:$Y212,25,FALSE) -> 26
A19: 43950 | B19: 43956 | C19: 0 | D19: 134 | E19: =VLOOKUP(B19,[1]סיכום!A7:$Y213,25,FALSE) -> 28 | F19: =SUM(D14:D21) -> 192
A20: 43957 | B20: 43963 | C20: 9 | D20: 0 | E20: =VLOOKUP(B20,[1]סיכום!A8:$Y214,25,FALSE) -> 22 | F20: נפטרו יותר ב2019
A21: 43964 | B21: 43970 | C21: 60 | D21: 0 | E21: =VLOOKUP(B21,[1]סיכום!A9:$Y215,25,FALSE) -> 18
A22: 43971 | B22: 43977 | C22: 107 | D22: 0 | E22: =VLOOKUP(B22,[1]סיכום!A10:$Y216,25,FALSE) -> 3 | F22: =SUM(C22:C26) -> 151 | G22: בין הגלים
A23: 43978 | B23: 43984 | C23: 0 | D23: 12 | E23: =VLOOKUP(B23,[1]סיכום!A11:$Y217,25,FALSE) -> 9 | F23: יותר ב2020
A24: 43985 | B24: 43991 | C24: 43 | D24: 0 | E24: =VLOOKUP(B24,[1]סיכום!A12:$Y218,25,FALSE) -> 9
A25: 43992 | B25: 43998 | C25: 0 | D25: 52 | E25: =VLOOKUP(B25,[1]סיכום!A13:$Y219,25,FALSE) -> 3 | F25: =SUM(D22:D26) -> 64
A26: 43999 | B26: 44005 | C26: 1 | D26: 0 | E26: =VLOOKUP(B26,[1]סיכום!A14:$Y220,25,FALSE) -> 6 | F26: יותר ב2019
A27: 44006 | B27: 44012 | C27: 62 | D27: 0 | E27: =VLOOKUP(B27,[1]סיכום!A15:$Y221,25,FALSE) -> 12 | F27: 810 | G27: גל שני (649 נפטרו מקורונה בתקופת הדיווח הזה)
A28: 44013 | B28: 44019 | C28: 0 | D28: 17 | E28: =VLOOKUP(B28,[1]סיכום!A16:$Y222,25,FALSE) -> 22 | F28: נפטרו יותר ב2020
A29: 44020 | B29: 44026 | C29: 129 | D29: 0 | E29: =VLOOKUP(B29,[1]סיכום!A17:$Y223,25,FALSE) -> 29
A30: 44027 | B30: 44033 | C30: 64 | D30: 0 | E30: =VLOOKUP(B30,[1]סיכום!A18:$Y224,25,FALSE) -> 54
A31: 44034 | B31: 44040 | C31: 23 | D31: 0 | E31: =VLOOKUP(B31,[1]סיכום!A19:$Y225,25,FALSE) -> 61
A32: 44041 | B32: 44047 | C32: 125 | D32: 0 | E32: =VLOOKUP(B32,[1]סיכום!A20:$Y226,25,FALSE) -> 75
A33: 44048 | B33: 44054 | C33: 83 | D33: 0 | E33: =VLOOKUP(B33,[1]סיכום!A21:$Y227,25,FALSE) -> 61
A34: 44055 | B34: 44061 | C34: 141 | D34: 0 | E34: =VLOOKUP(B34,[1]סיכום!A22:$Y228,25,FALSE) -> 144
A35: 44062 | B35: 44068 | C35: 113 | D35: 0 | E35: =VLOOKUP(B35,[1]סיכום!A23:$Y229,25,FALSE) -> 93
A36: 44069 | B36: 44075 | C36: 70 | D36: 0 | E36: =VLOOKUP(B36,[1]סיכום!A24:$Y230,25,FALSE) -> 98
B38: ס"ה | C38: =SUM(C2:C37) -> 1425 | D38: =SUM(D2:D37) -> 1056

Sheet גיליון2

Sheet גיליון3
