Workbook
Name E3שש: גיליון2!$C$1
Name NEE: גיליון2!$B$1
Name מקף: גיליון2!$B$2
Name רווח: גיליון2!$A$1

Sheet נוכחות
H1: חסרים
C2: סדר א | E2: סדר ב | H2: סה"כ נוכחות | I2: סה"כ נוכחות
B3: יום | C3: כניסה | D3: יציאה | E3: כניסה | F3: יציאה | H3: שעות | I3: דקות | K3: אחוז נוכחות | L3: סה"כ שעות השתתפות
B4: ראשון ל-חשון | C4: 0.375 | D4: 0.54166667 | E4: 0.65833333 | F4: 0.79166667 | H4: =I4/60 -> 0.05 | I4: =נתונים!L6-נתונים!W6 -> 3 | K4: =L4/נתונים!C39 -> 0.38722741 | L4: =נתונים!V39 -> 62.15
B5: שני א-כסלו | C5: 0.38194444 | D5: 0.54166667 | E5: 0.65625 | F5: 0.79166667 | H5: =I5/60 -> 0.16666667 | I5: =נתונים!L7-נתונים!W7 -> 10 | K5: אחוז היעדרות | L5: סה"כ שעות חוסר
B6: שלישי ב-כסלו | C6: 0.375 | D6: 0.54166667 | E6: 0.65694444 | F6: 0.79166667 | H6: =I6/60 -> 0.016666667 | I6: =נתונים!L8-נתונים!W8 -> 1 | K6: =L6/נתונים!C39 -> 0.61277259 | L6: =(נתונים!C40-נתונים!W39)/60 -> 98.35
B7: רביעי ג-כסלו | C7: 0.375 | D7: 0.54166667 | E7: 0.65972222 | F7: 0.79166667 | H7: =I7/60 -> 0.083333333 | I7: =נתונים!L9-נתונים!W9 -> 5
B8: חמישי ד-כסלו | C8: 0.40763889 | D8: 0.54166667 | E8: 0.67013889 | F8: 0.79166667 | H8: =I8/60 -> 1.1166667 | I8: =נתונים!L10-נתונים!W10 -> 67
B9: שישי ה-כסלו | H9: =I9/60 -> 0 | I9: =נתונים!L11-נתונים!W11 -> 0
B10: שבת ו-כסלו | H10: =I10/60 -> 0 | I10: =נתונים!L12-נתונים!W12 -> 0
B11: ראשון ז-כסלו | C11: 0.375 | D11: 0.54166667 | E11: 0.65972222 | F11: 0.79166667 | H11: =I11/60 -> 0.083333333 | I11: =נתונים!L13-נתונים!W13 -> 5
B12: שני ח-כסלו | C12: 0.375 | D12: 0.54166667 | E12: 0.65625 | F12: 0.79166667 | H12: =I12/60 -> 0 | I12: =נתונים!L14-נתונים!W14 -> 0
B13: שלישי ט-כסלו | C13: 0.44097222 | D13: 0.54166667 | E13: 0.65625 | F13: 0.79166667 | H13: =I13/60 -> 1.5833333 | I13: =נתונים!L15-נתונים!W15 -> 95
B14: רביעי י-כסלו | C14: 0.375 | D14: 0.54166667 | E14: 0.65625 | F14: 0.79166667 | H14: =I14/60 -> 0 | I14: =נתונים!L16-נתונים!W16 -> 0
B15: חמישי יא-כסלו | H15: =I15/60 -> 7.25 | I15: =נתונים!L17-נתונים!W17 -> 435
B16: שישי יב-כסלו | H16: =I16/60 -> 0 | I16: =נתונים!L18-נתונים!W18 -> 0
B17: שבת יג-כסלו | H17: =I17/60 -> 0 | I17: =נתונים!L19-נתונים!W19 -> 0
B18: ראשון יד-כסלו | H18: =I18/60 -> 7.25 | I18: =נתונים!L20-נתונים!W20 -> 435
B19: שני טו-כסלו | H19: =I19/60 -> 7.25 | I19: =נתונים!L21-נתונים!W21 -> 435
B20: שלישי טז-כסלו | H20: =I20/60 -> 7.25 | I20: =נתונים!L22-נתונים!W22 -> 435
B21: רביעי יז-כסלו | H21: =I21/60 -> 7.25 | I21: =נתונים!L23-נתונים!W23 -> 435
B22: חמישי יח-כסלו | H22: =I22/60 -> 7.25 | I22: =נתונים!L24-נתונים!W24 -> 435
B23: שישי יט-כסלו | H23: =I23/60 -> 0 | I23: =נתונים!L25-נתונים!W25 -> 0
B24: שבת כ-כסלו | H24: =I24/60 -> 0 | I24: =נתונים!L26-נתונים!W26 -> 0
B25: ראשון כא-כסלו | H25: =I25/60 -> 7.25 | I25: =נתונים!L27-נתונים!W27 -> 435
B26: שני כב-כסלו | H26: =I26/60 -> 7.25 | I26: =נתונים!L28-נתונים!W28 -> 435
... B34: שלישי ל-כסלו | H34: =I34/60 -> 6 | I34: =נתונים!L36-נתונים!W36 -> 360

Sheet נתונים
A1: בס"ד
A2: דוח חודשי שמירת סדרים
C4: סדר א | E4: סדר ב | G4: בוקר | I4: צהריים | K4: סה"כ שעות | L4: סה"כ דקות | M4: בוקר | N4: צהרים | P4: משיכת נתונים | R4: בוקר | T4: צהריים | V4: סה"כ שעות | W4: סה"כ דקות | X4: בוקר | Y4: צהרים
B5: יום | C5: כניסה | D5: יציאה | E5: כניסה | F5: יציאה | G5: סה"כ שעות | H5: סה"כ דקות | I5: סה"כ שעות | J5: סה"כ דקות | R5: סה"כ שעות | S5: סה"כ דקות | T5: סה"כ שעות | U5: סה"כ דקות
B6: ראשון ל-חשון | C6: 0.375 | D6: 0.54166667 | E6: 0.65625 | F6: 0.79166667 | G6: =D6-C6 -> 0.16666667 | H6: =M6*1440 -> 240 | I6: =F6-E6 -> 0.13541667 | J6: =N6*1440 -> 195 | K6: =I6+G6 -> 0.30208333 | L6: =J6+H6 -> 435 | M6: =G6 -> 0.16666667 | N6: =I6 -> 0.13541667 | P6: חוסרים | R6: =נוכחות!D4-נוכחות!C4 -> 0.16666667 | S6: =X6*1440 -> 240 | T6: =נוכחות!F4-נוכחות!E4 -> 0.13333333 | U6: =Y6*1440 -> 192 | V6: =T6+R6 -> 0.3 | W6: =U6+S6 -> 432 | X6: =R6 -> 0.16666667 | Y6: =T6 -> 0.13333333
B7: שני א-כסלו | C7: 0.375 | D7: 0.54166667 | E7: 0.65625 | F7: 0.79166667 | G7: =D7-C7 -> 0.16666667 | H7: =M7*1440 -> 240 | I7: =F7-E7 -> 0.13541667 | J7: =N7*1440 -> 195 | K7: =I7+G7 -> 0.30208333 | L7: =J7+H7 -> 435 | M7: =G7 -> 0.16666667 | N7: =I7 -> 0.13541667 | P7: =SUM(נוכחות!I4:I34) -> 5901 | R7: =נוכחות!D5-נוכחות!C5 -> 0.15972222 | S7: =X7*1440 -> 230 | T7: =נוכחות!F5-נוכחות!E5 -> 0.13541667 | U7: =Y7*1440 -> 195 | V7: =T7+R7 -> 0.29513889 | W7: =U7+S7 -> 425 | X7: =R7 -> 0.15972222 | Y7: =T7 -> 0.13541667
B8: שלישי ב-כסלו | C8: 0.375 | D8: 0.54166667 | E8: 0.65625 | F8: 0.79166667 | G8: =D8-C8 -> 0.16666667 | H8: =M8*1440 -> 240 | I8: =F8-E8 -> 0.13541667 | J8: =N8*1440 -> 195 | K8: =I8+G8 -> 0.30208333 | L8: =J8+H8 -> 435 | M8: =G8 -> 0.16666667 | N8: =I8 -> 0.13541667 | R8: =נוכחות!D6-נוכחות!C6 -> 0.16666667 | S8: =X8*1440 -> 240 | T8: =נוכחות!F6-נוכחות!E6 -> 0.13472222 | U8: =Y8*1440 -> 194 | V8: =T8+R8 -> 0.30138889 | W8: =U8+S8 -> 434 | X8: =R8 -> 0.16666667 | Y8: =T8 -> 0.13472222
B9: רביעי ג-כסלו | C9: 0.375 | D9: 0.54166667 | E9: 0.65625 | F9: 0.79166667 | G9: =D9-C9 -> 0.16666667 | H9: =M9*1440 -> 240 | I9: =F9-E9 -> 0.13541667 | J9: =N9*1440 -> 195 | K9: =I9+G9 -> 0.30208333 | L9: =J9+H9 -> 435 | M9: =G9 -> 0.16666667 | N9: =I9 -> 0.13541667 | R9: =נוכחות!D7-נוכחות!C7 -> 0.16666667 | S9: =X9*1440 -> 240 | T9: =נוכחות!F7-נוכחות!E7 -> 0.13194444 | U9: =Y9*1440 -> 190 | V9: =T9+R9 -> 0.29861111 | W9: =U9+S9 -> 430 | X9: =R9 -> 0.16666667 | Y9: =T9 -> 0.13194444
B10: חמישי ד-כסלו | C10: 0.375 | D10: 0.54166667 | E10: 0.65625 | F10: 0.79166667 | G10: =D10-C10 -> 0.16666667 | H10: =M10*1440 -> 240 | I10: =F10-E10 -> 0.13541667 | J10: =N10*1440 -> 195 | K10: =I10+G10 -> 0.30208333 | L10: =J10+H10 -> 435 | M10: =G10 -> 0.16666667 | N10: =I10 -> 0.13541667 | R10: =נוכחות!D8-נוכחות!C8 -> 0.13402778 | S10: =X10*1440 -> 193 | T10: =נוכחות!F8-נוכחות!E8 -> 0.12152778 | U10: =Y10*1440 -> 175 | V10: =T10+R10 -> 0.25555556 | W10: =U10+S10 -> 368 | X10: =R10 -> 0.13402778 | Y10: =T10 -> 0.12152778
B11: שישי ה-כסלו | C11: 0 | D11: 0 | E11: 0 | F11: 0 | G11: =D11-C11 -> 0 | H11: =M11*1440 -> 0 | I11: =F11-E11 -> 0 | J11: =N11*1440 -> 0 | K11: =I11+G11 -> 0 | L11: =J11+H11 -> 0 | M11: =G11 -> 0 | N11: =I11 -> 0 | R11: =נוכחות!D9-נוכחות!C9 -> 0 | S11: =X11*1440 -> 0 | T11: =נוכחות!F9-נוכחות!E9 -> 0 | U11: =Y11*1440 -> 0 | V11: =T11+R11 -> 0 | W11: =U11+S11 -> 0 | X11: =R11 -> 0 | Y11: =T11 -> 0
B12: שבת ו-כסלו | C12: 0 | D12: 0 | E12: 0 | F12: 0 | G12: =D12-C12 -> 0 | H12: =M12*1440 -> 0 | I12: =F12-E12 -> 0 | J12: =N12*1440 -> 0 | K12: =I12+G12 -> 0 | L12: =J12+H12 -> 0 | M12: =G12 -> 0 | N12: =I12 -> 0 | R12: =נוכחות!D10-נוכחות!C10 -> 0 | S12: =X12*1440 -> 0 | T12: =נוכחות!F10-נוכחות!E10 -> 0 | U12: =Y12*1440 -> 0 | V12: =T12+R12 -> 0 | W12: =U12+S12 -> 0 | X12: =R12 -> 0 | Y12: =T12 -> 0
B13: ראשון ז-כסלו | C13: 0.375 | D13: 0.54166667 | E13: 0.65625 | F13: 0.79166667 | G13: =D13-C13 -> 0.16666667 | H13: =M13*1440 -> 240 | I13: =F13-E13 -> 0.13541667 | J13: =N13*1440 -> 195 | K13: =I13+G13 -> 0.30208333 | L13: =J13+H13 -> 435 | M13: =G13 -> 0.16666667 | N13: =I13 -> 0.13541667 | R13: =נוכחות!D11-נוכחות!C11 -> 0.16666667 | S13: =X13*1440 -> 240 | T13: =נוכחות!F11-נוכחות!E11 -> 0.13194444 | U13: =Y13*1440 -> 190 | V13: =T13+R13 -> 0.29861111 | W13: =U13+S13 -> 430 | X13: =R13 -> 0.16666667 | Y13: =T13 -> 0.13194444
B14: שני ח-כסלו | C14: 0.375 | D14: 0.54166667 | E14: 0.65625 | F14: 0.79166667 | G14: =D14-C14 -> 0.16666667 | H14: =M14*1440 -> 240 | I14: =F14-E14 -> 0.13541667 | J14: =N14*1440 -> 195 | K14: =I14+G14 -> 0.30208333 | L14: =J14+H14 -> 435 | M14: =G14 -> 0.16666667 | N14: =I14 -> 0.13541667 | R14: =נוכחות!D12-נוכחות!C12 -> 0.16666667 | S14: =X14*1440 -> 240 | T14: =נוכחות!F12-נוכחות!E12 -> 0.13541667 | U14: =Y14*1440 -> 195 | V14: =T14+R14 -> 0.30208333 | W14: =U14+S14 -> 435 | X14: =R14 -> 0.16666667 | Y14: =T14 -> 0.13541667
B15: שלישי ט-כסלו | C15: 0.375 | D15: 0.54166667 | E15: 0.65625 | F15: 0.79166667 | G15: =D15-C15 -> 0.16666667 | H15: =M15*1440 -> 240 | I15: =F15-E15 -> 0.13541667 | J15: =N15*1440 -> 195 | K15: =I15+G15 -> 0.30208333 | L15: =J15+H15 -> 435 | M15: =G15 -> 0.16666667 | N15: =I15 -> 0.13541667 | R15: =נוכחות!D13-נוכחות!C13 -> 0.10069444 | S15: =X15*1440 -> 145 | T15: =נוכחות!F13-נוכחות!E13 -> 0.13541667 | U15: =Y15*1440 -> 195 | V15: =T15+R15 -> 0.23611111 | W15: =U15+S15 -> 340 | X15: =R15 -> 0.10069444 | Y15: =T15 -> 0.13541667
B16: רביעי י-כסלו | C16: 0.375 | D16: 0.54166667 | E16: 0.65625 | F16: 0.79166667 | G16: =D16-C16 -> 0.16666667 | H16: =M16*1440 -> 240 | I16: =F16-E16 -> 0.13541667 | J16: =N16*1440 -> 195 | K16: =I16+G16 -> 0.30208333 | L16: =J16+H16 -> 435 | M16: =G16 -> 0.16666667 | N16: =I16 -> 0.13541667 | R16: =נוכחות!D14-נוכחות!C14 -> 0.16666667 | S16: =X16*1440 -> 240 | T16: =נוכחות!F14-נוכחות!E14 -> 0.13541667 | U16: =Y16*1440 -> 195 | V16: =T16+R16 -> 0.30208333 | W16: =U16+S16 -> 435 | X16: =R16 -> 0.16666667 | Y16: =T16 -> 0.13541667
B17: חמישי יא-כסלו | C17: 0.375 | D17: 0.54166667 | E17: 0.65625 | F17: 0.79166667 | G17: =D17-C17 -> 0.16666667 | H17: =M17*1440 -> 240 | I17: =F17-E17 -> 0.13541667 | J17: =N17*1440 -> 195 | K17: =I17+G17 -> 0.30208333 | L17: =J17+H17 -> 435 | M17: =G17 -> 0.16666667 | N17: =I17 -> 0.13541667 | R17: =נוכחות!D15-נוכחות!C15 -> 0 | S17: =X17*1440 -> 0 | T17: =נוכחות!F15-נוכחות!E15 -> 0 | U17: =Y17*1440 -> 0 | V17: =T17+R17 -> 0 | W17: =U17+S17 -> 0 | X17: =R17 -> 0 | Y17: =T17 -> 0
B18: שישי יב-כסלו | C18: 0 | D18: 0 | E18: 0 | F18: 0 | G18: =D18-C18 -> 0 | H18: =M18*1440 -> 0 | I18: =F18-E18 -> 0 | J18: =N18*1440 -> 0 | K18: =I18+G18 -> 0 | L18: =J18+H18 -> 0 | M18: =G18 -> 0 | N18: =I18 -> 0 | R18: =נוכחות!D16-נוכחות!C16 -> 0 | S18: =X18*1440 -> 0 | T18: =נוכחות!F16-נוכחות!E16 -> 0 | U18: =Y18*1440 -> 0 | V18: =T18+R18 -> 0 | W18: =U18+S18 -> 0 | X18: =R18 -> 0 | Y18: =T18 -> 0
B19: שבת יג-כסלו | C19: 0 | D19: 0 | E19: 0 | F19: 0 | G19: =D19-C19 -> 0 | H19: =M19*1440 -> 0 | I19: =F19-E19 -> 0 | J19: =N19*1440 -> 0 | K19: =I19+G19 -> 0 | L19: =J19+H19 -> 0 | M19: =G19 -> 0 | N19: =I19 -> 0 | R19: =נוכחות!D17-נוכחות!C17 -> 0 | S19: =X19*1440 -> 0 | T19: =נוכחות!F17-נוכחות!E17 -> 0 | U19: =Y19*1440 -> 0 | V19: =T19+R19 -> 0 | W19: =U19+S19 -> 0 | X19: =R19 -> 0 | Y19: =T19 -> 0
... B36: שלישי ל-כסלו | C36: 0.375 | D36: 0.54166667 | E36: 0.5625 | F36: 0.64583333 | G36: =D36-C36 -> 0.16666667 | H36: =M36*1440 -> 240 | I36: =F36-E36 -> 0.083333333 | J36: =N36*1440 -> 120 | K36: =I36+G36 -> 0.25 | L36: =J36+H36 -> 360 | M36: =G36 -> 0.16666667 | N36: =I36 -> 0.083333333 | R36: =נוכחות!D34-נוכחות!C34 -> 0 | S36: =X36*1440 -> 0 | T36: =נוכחות!F34-נוכחות!E34 -> 0 | U36: =Y36*1440 -> 0 | V36: =T36+R36 -> 0 | W36: =U36+S36 -> 0 | X36: =R36 -> 0 | Y36: =T36 -> 0
R37: =נוכחות!D35-נוכחות!C35 -> 0 | S37: =X37*1440 -> 0 | T37: =נוכחות!F35-נוכחות!E35 -> 0 | U37: =Y37*1440 -> 0 | V37: =T37+R37 -> 0 | W37: =U37+S37 -> 0 | X37: =R37 -> 0 | Y37: =T37 -> 0
K38: =SUM(K6:K36) -> 6.6875 | L38: =SUM(L6:L37) -> 9630
B39: סה"כ שעות | C39: =L38/60 -> 160.5 | E39: 1 | F39: 224.75 | G39: =H39/F39*100 -> 88.987764 | H39: 200 | V39: =W39/60 -> 62.15 | W39: =SUM(W6:W38) -> 3729
B40: סה"כ דקות | C40: =L38 -> 9630
H41: =H39/F39 -> 0.88987764

Sheet גיליון2
B1: - | C1: -
B3: ראשון | C3: ל | D3: חשון | E3: =B3&רווח&C3&E3שש&D3 -> ראשון ל-חשון | F3: ראשון ל-חשון
B4: שני | C4: א | D4: כסלו | E4: =B4&רווח&C4&E4שש&D4 -> שני א-כסלו | F4: שני א-כסלו
B5: שלישי | C5: ב | D5: כסלו | E5: =B5&רווח&C5&E5שש&D5 -> שלישי ב-כסלו | F5: שלישי ב-כסלו
B6: רביעי | C6: ג | D6: כסלו | E6: =B6&רווח&C6&E6שש&D6 -> רביעי ג-כסלו | F6: רביעי ג-כסלו
B7: חמישי | C7: ד | D7: כסלו | E7: =B7&רווח&C7&E7שש&D7 -> חמישי ד-כסלו | F7: חמישי ד-כסלו
B8: שישי | C8: ה | D8: כסלו | E8: =B8&רווח&C8&E8שש&D8 -> שישי ה-כסלו | F8: שישי ה-כסלו
B9: שבת | C9: ו | D9: כסלו | E9: =B9&רווח&C9&E9שש&D9 -> שבת ו-כסלו | F9: שבת ו-כסלו
B10: ראשון | C10: ז | D10: כסלו | E10: =B10&רווח&C10&E10שש&D10 -> ראשון ז-כסלו | F10: ראשון ז-כסלו
B11: שני | C11: ח | D11: כסלו | E11: =B11&רווח&C11&E11שש&D11 -> שני ח-כסלו | F11: שני ח-כסלו
B12: שלישי | C12: ט | D12: כסלו | E12: =B12&רווח&C12&E12שש&D12 -> שלישי ט-כסלו | F12: שלישי ט-כסלו
B13: רביעי | C13: י | D13: כסלו | E13: =B13&רווח&C13&E13שש&D13 -> רביעי י-כסלו | F13: רביעי י-כסלו
B14: חמישי | C14: יא | D14: כסלו | E14: =B14&רווח&C14&E14שש&D14 -> חמישי יא-כסלו | F14: חמישי יא-כסלו
... B33: שלישי | C33: ל | D33: כסלו | E33: =B33&רווח&C33&E33שש&D33 -> שלישי ל-כסלו | F33: שלישי ל-כסלו
