Workbook

Sheet פרטים אישיים
C4: שם פרטי ומשפחה
C7: כתובת
C10: כתובת דוא"ל
C13: פקס
C16: טלפון
C19: נייד

Sheet בית חודשי-תקציב
B2: מס' נפשות | C2: 4
T3: עלות לנפש לחודש
B4: הכנסות | G4: הוצאות-1 | H4: ₪ | I4: הוצאות-2 | J4: ₪ | K4: הוצאות-3 | L4: ₪ | S4: הוצאות-1 | T4: ₪
G5: שכר דירה | I5: דמי ניהול חשבון | J5: 0 | K5: דלק לרכב | S5: שכר דירה | T5: 600
G6: משכנתא | I6: עמלות | K6: מוניות | S6: משכנתא
G7: ארנונה | I7: ריביות | K7: כרטיסי הגרלה | S7: ארנונה | T7: 600
G8: ועד בית | I8: טלפון נייד | K8: מכשירי כתיבה | S8: ועד בית
G9: מס ישוב | I9: טלפון נייח | K9: עדשות/תמיסות | S9: מס ישוב
G10: שכר לימוד | I10: חשמל | K10: רפואה אלטרנטיבית | S10: שכר לימוד
B11: סה"כ | C11: =SUM(C5:C10) -> 0 | G11: ביטוח רפואי | I11: גז | K11: בריאות | S11: ביטוח רפואי
G12: ביטוח חיים | I12: מים | K12: דמי כיס | S12: ביטוח חיים
G13: ביטוח לאומי | I13: אינטרנט | K13: שונות | S13: ביטוח לאומי
G14: הסעות קבועות ילדים | I14: חוגים | K14: הוצאות שוטפות | S14: הסעות קבועות ילדים
I15: ביטוח וטסט לרכב | K15: טיפולים רכב
G16: צדקה | I16: מכולת | S16: צדקה
G17: עיתונים | I17: מזון | S17: עיתונים
B18: חישוב מצב קופה | G18: מקווה | I18: ירקות-פירות | S18: מקווה
B19: סה"כ הכנסות חודשי + (שנתי/12) | C19: =K30+'בית שנתי-תקציב'!C28 -> 0 | G19: גנרטור | I19: דגים ובשר | S19: גנרטור
B20: סה"כ הוצאות חודשי + (שנתי /12) | C20: =K31-'בית שנתי-תקציב'!C29 -> 0 | G20: עוזרת בית | I20: מוצרי תינוקות | S20: עוזרת בית
B21: יתרה (הכנסות- הוצאות) | C21: =C19+C20 -> 0 | G21: מטפלת לילדים | I21: ויטמינים | S21: מטפלת לילדים
B22: יתרה (הכנסות- הוצאות- הפרשה לחובות) | C22: =C21-חובות!F35 -> 0 | G22: תוכנית חיסכון (מילוי בלשונית תכנית חיסכון) | H22: ='תכנית חיסכון'!$G$30 -> 0 | I22: תרופות | S22: תוכנית חיסכון
G23: ליסינג לרכב | I23: סיגריות | S23: ליסינג לרכב
G24: שיעורים פרטיים | I24: נסיעות שונות | S24: שיעורים פרטיים
G25: סה"כ הוצאות-1 | H25: =SUM(H5:H24) -> 0 | I25: סה"כ הוצאות-2 | J25: =SUM(J5:J24) -> 0 | K25: סה"כ הוצאות-3 | L25: =SUM(L5:L24) -> 0 | S25: דמי ניהול חשבון
S26: עמלות
G27: סה"כ הוצאות | H27: =H25+J25+L25 -> 0 | S27: ריביות
S28: טלפון נייד
J29: חישוב מצב קופה | S29: טלפון נייח
J30: סה"כ הכנסות | K30: =C11 -> 0 | S30: חשמל
J31: סה"כ הוצאות | K31: =-H27 -> 0 | S31: גז
J32: יתרה (הכנסות- הוצאות) | K32: =K30-+H27 -> 0 | S32: מים
G33: ממוצע הוצאה חודשית לנפש | H33: =H27/C2 -> 0 | S33: אינטרנט
S34: חוגים
S35: ביטוח וטסט לרכב
S36: ויטמינים
S37: תרופות
S38: סיגריות
S39: נסיעות שונות
S40: דלק לרכב
S41: מוניות
S42: כרטיסי הגרלה
S43: מכשירי כתיבה
S44: עדשות/תמיסות
S45: רפואה אלטרנטיבית
... S50: טיפולים רכב
S51: מכולת | T51: 600
S52: מזון
S53: ירקות-פירות
S54: דגים ובשר
S55: מוצרי תינוקות

Sheet בית שנתי-תקציב
G2: הערכה שלי לסעיפים הבאים למשפחה מ- 6 נפשות ומעלה
B3: הכנסות-שנתי | E3: רשימת הוצאות שנתית | L3: סעיף | M3: עלות לנפש לשנה
E4: תיקונים בבית | H4: 1500 | L4: =E4 -> תיקונים בבית | M4: =H4/9 -> 166.66667
E5: רכישת מוצרים חדשים לבית | H5: 1500 | L5: =E5 -> רכישת מוצרים חדשים לבית | M5: =H5/9 -> 166.66667
E6: שיניים | H6: 2000 | L6: =E6 -> שיניים | M6: =H6/9 -> 222.22222
E7: משקפיים | H7: 1000 | L7: =E7 -> משקפיים | M7: =H7/9 -> 111.11111
E8: חוגים לילדים | L8: =E8 -> חוגים לילדים
E9: קורסים והשתלמויות | L9: =E9 -> קורסים והשתלמויות
B10: סה"כ | C10: =SUM(C4:C9) -> 0 | E10: דמי שכלול לבית הספר | H10: 400 | I10: לכל ילד עד כיתה א' | L10: =E10 -> דמי שכלול לבית הספר | M10: =H10 -> 400 | N10: =I10 -> לכל ילד עד כיתה א'
E11: מחנות קייץ | L11: =E11 -> מחנות קייץ
E12: קייטנות | H12: 400 | I12: לכל ילד | L12: =E12 -> קייטנות | M12: =H12 -> 400 | N12: =I12 -> לכל ילד
E13: תחילת שנת לימודים | H13: 300 | I13: לכל ילד מכיתה א' ומעלה | L13: =E13 -> תחילת שנת לימודים | M13: =H13 -> 300 | N13: =I13 -> לכל ילד מכיתה א' ומעלה
E14: חופשות | H14: 3000 | I14: למשפחה שלא יוצאת לחופש
B15: מאזן שנתי | E15: מתנות | H15: 1500 | I15: למשפחה שלא הולכת לאירועים
B16: סה"כ הכנסות שנתיות | C16: =C10 -> 0 | E16: ירידת פריון עבודה | H16: ערך הירידה בחודש מסויים * מס' החודשים
B17: הוצאות | C17: =F39 -> 0 | E17: ביגוד והנעלה | H17: 2000 | I17: לכל נפש | L17: =E17 -> ביגוד והנעלה | M17: =H17 -> 2000
B18: יתרה | C18: =C16-C17 -> 0 | E18: ארבעה מינים | L18: =E18 -> ארבעה מינים
B19: הפרשה חודשית עבור הוצ' שנתית | C19: =C18/12 -> 0 | E19: סוכה | L19: =E19 -> סוכה
E20: מקומות בבית הכנסת | L20: =E20 -> מקומות בבית הכנסת
B21: חישוב מצב קופה | E21: מזון חג- סוכות | H21: 1500 | L21: =E21 -> מזון חג- סוכות | M21: =H21/6 -> 250
B22: יתרה (הכנסות-הוצאות-הפרשה לשנתי) | C22: ='בית חודשי-תקציב'!K32+'בית שנתי-תקציב'!C19 -> 0 | E22: נסיעות וטיולים- סוכות | H22: 500 | L22: =E22 -> נסיעות וטיולים- סוכות | M22: =H22/6 -> 83.333333
E23: משלוח מנות | H23: 500 | L23: =E23 -> משלוח מנות | M23: =H23/6 -> 83.333333
E24: מתנות לאביונים | H24: 200 | L24: =E24 -> מתנות לאביונים | M24: =H24/6 -> 33.333333
B25: ממוצע הוצאה חודשית+שנתית לנפש | C25: =C17/'בית חודשי-תקציב'!C2/12+'בית חודשי-תקציב'!H33 -> 0 | E25: מתנות למורים | H25: 200 | L25: =E25 -> מתנות למורים | M25: =H25/6 -> 33.333333
E26: תחפושות | H26: 100 | I26: לכל ילד | L26: =E26 -> תחפושות | M26: =H26/6 -> 16.666667
B27: מאזן שנתי/12 | E27: מצות | H27: 300 | L27: =E27 -> מצות | M27: =H27/6 -> 50
B28: סה"כ הכנסות שנתיות / 12 | C28: =C16/12 -> 0 | E28: מזון חג הפסח | H28: 1500 | L28: =E28 -> מזון חג הפסח | M28: =H28/6 -> 250
B29: סה"כ הוצאות שנתיות / 12 | C29: =C17/12 -> 0 | E29: הוצאות ניקיון פסח | F29: 0 | L29: =E29 -> הוצאות ניקיון פסח
E30: סיוד בית פסח | F30: 0 | L30: =E30 -> סיוד בית פסח
E31: נסיעות וטיולים פסח | F31: 0 | L31: =E31 -> נסיעות וטיולים פסח
L33: =E14 -> חופשות | M33: =H14 -> 3000 | N33: =I14 -> למשפחה שלא יוצאת לחופש
L34: =E15 -> מתנות | M34: =H15 -> 1500 | N34: =I15 -> למשפחה שלא הולכת לאירועים
L35: =E16 -> ירידת פריון עבודה
E39: סך הכל | F39: =SUM(F4:F38) -> 0

Sheet תכנית חיסכון
B4: סה"כ יתרת חסכונות בפועל | E4: תשלום חודשי-$ | F4: תשלום חודשי-₪
B28: סה"כ | C28: =SUM(C5:C27) -> 0 | D28: =SUM(D5:D27) -> 0
B29: סה"כ חסכונות בש"ח+$ | C29: =D28*3.9+C28 -> 0 | E29: =SUM(E5:E28) -> 0 | F29: =SUM(F5:F28) -> 0 | G29: סה"כ
E30: סה"כ הפרשה חודשית בש"ח | G30: =E29*3.9+F29 -> 0

Sheet חובות
A3: תחזית חובות והתחייבויות/חסכונות וזכויות | B3: ='בית שנתי-תקציב'!C22*60 -> 0
A4: סה"כ חובות בפועל | B4: =B34 -> 0
A5: הכנסה/הוצאה לא ידועה | B5: =-B3-B4 -> 0 | D5: חישוב מצב קופה
A6: סעיף 5 בממוצע שנתי | B6: =B5/5 -> 0 | D6: יתרה (הכנסות-הוצאות-הפרשה לשנתי-תשלום חוב) | E6: ='בית שנתי-תקציב'!C22-חובות!F35 -> 0
A7: סעיף 5 בממוצע חודשי | B7: =B5/60 -> 0 | F7: האם יש למשפחה יכולת להחזיר חובות כל חודש?
A9: סה"כ יתרת חובות בפועל | D9: תשלום חודשי-$ | E9: תשלום חודשי-₪
A33: סה"כ | B33: =SUM(B10:B32) -> 0 | C33: =SUM(C10:C32) -> 0
A34: סה"כ חובות בש"ח+$ | B34: =C33*3.9+B33 -> 0 | D34: =SUM(D10:D33) -> 0 | E34: =SUM(E10:E33) -> 0 | F34: סה"כ
D35: סה"כ החזר חודשי בש"ח | F35: =D34*3.9+E34 -> 0

Sheet תקציב מול ביצוע-הכנסות
E2: ביצוע
C3: סעיפי הכנסה חודשית | D3: תקציב | E3: ינואר | F3: פברואר | G3: מרץ | H3: אפריל | I3: מאי | J3: יוני | K3: יולי | L3: אוגוסט | M3: ספטמבר | N3: אוקטובר | O3: נובמבר | P3: דצמבר
C4: ='בית חודשי-תקציב'!B5 -> 0 | D4: ='בית חודשי-תקציב'!C5 -> 0 | F4: 0 | G4: 0 | H4: 0 | I4: 0 | J4: 0 | K4: 0 | L4: 0 | M4: 0 | N4: 0 | O4: 0 | P4: 0
C5: ='בית חודשי-תקציב'!B6 -> 0 | D5: ='בית חודשי-תקציב'!C6 -> 0 | E5: 0 | F5: 0 | G5: 0 | H5: 0 | I5: 0 | J5: 0 | K5: 0 | L5: 0 | M5: 0 | N5: 0 | O5: 0 | P5: 0
C6: ='בית חודשי-תקציב'!B7 -> 0 | D6: ='בית חודשי-תקציב'!C7 -> 0 | E6: 0 | F6: 0 | G6: 0 | H6: 0 | I6: 0 | J6: 0 | K6: 0 | L6: 0 | M6: 0 | N6: 0 | O6: 0 | P6: 0
C7: ='בית חודשי-תקציב'!B8 -> 0 | D7: ='בית חודשי-תקציב'!C8 -> 0 | E7: 0 | F7: 0 | G7: 0 | H7: 0 | I7: 0 | J7: 0 | K7: 0 | L7: 0 | M7: 0 | N7: 0 | O7: 0 | P7: 0
C8: ='בית חודשי-תקציב'!B9 -> 0 | D8: ='בית חודשי-תקציב'!C9 -> 0 | E8: 0 | F8: 0 | G8: 0 | H8: 0 | I8: 0 | J8: 0 | K8: 0 | L8: 0 | M8: 0 | N8: 0 | O8: 0 | P8: 0
C9: ='בית חודשי-תקציב'!B10 -> 0 | D9: ='בית חודשי-תקציב'!C10 -> 0 | E9: 0 | F9: 0 | G9: 0 | H9: 0 | I9: 0 | J9: 0 | K9: 0 | L9: 0 | M9: 0 | N9: 0 | O9: 0 | P9: 0
C10: ='בית חודשי-תקציב'!B11 -> סה"כ | D10: =SUM(D4:D9) -> 0 | E10: =SUM(E4:E9) -> 0 | F10: =SUM(F4:F9) -> 0 | G10: =SUM(G4:G9) -> 0 | H10: =SUM(H4:H9) -> 0 | I10: =SUM(I4:I9) -> 0 | J10: =SUM(J4:J9) -> 0 | K10: =SUM(K4:K9) -> 0 | ... P10: =SUM(P4:P9) -> 0
C11: סה"כ תוספת/ירידה הכנסה | E11: =E10-D10 -> 0 | F11: =F10-$D$10 -> 0 | G11: =G10-$D$10 -> 0 | H11: =H10-$D$10 -> 0 | I11: =I10-$D$10 -> 0 | J11: =J10-$D$10 -> 0 | K11: =K10-$D$10 -> 0 | L11: =L10-$D$10 -> 0 | M11: =M10-$D$10 -> 0 | ... P11: =P10-$D$10 -> 0
E15: ביצוע
C16: סעיפי הכנסה שנתית | D16: תקציב | E16: ינואר | F16: פברואר | G16: מרץ | H16: אפריל | I16: מאי | J16: יוני | K16: יולי | L16: אוגוסט | M16: ספטמבר | N16: אוקטובר | O16: נובמבר | P16: דצמבר | Q16: סה"כ
C17: ='בית שנתי-תקציב'!B4 -> 0 | D17: ='בית שנתי-תקציב'!C4 -> 0 | K17: 0 | Q17: =SUM(E17:P17) -> 0
C18: ='בית שנתי-תקציב'!B5 -> 0 | D18: ='בית שנתי-תקציב'!C5 -> 0 | J18: 0 | O18: 0 | Q18: =SUM(E18:P18) -> 0
C19: ='בית שנתי-תקציב'!B6 -> 0 | D19: ='בית שנתי-תקציב'!C6 -> 0 | E19: 0 | G19: 0 | Q19: =SUM(E19:P19) -> 0
C20: ='בית שנתי-תקציב'!B7 -> 0 | D20: ='בית שנתי-תקציב'!C7 -> 0 | Q20: =SUM(E20:P20) -> 0
C21: ='בית שנתי-תקציב'!B8 -> 0 | D21: ='בית שנתי-תקציב'!C8 -> 0 | O21: 0 | Q21: =SUM(E21:P21) -> 0
C22: ='בית שנתי-תקציב'!B9 -> 0 | D22: ='בית שנתי-תקציב'!C9 -> 0 | O22: 0 | Q22: =SUM(E22:P22) -> 0
C23: ='בית שנתי-תקציב'!B10 -> סה"כ | D23: =SUM(D17:D22) -> 0 | E23: =SUM(E17:E22) -> 0 | F23: =SUM(F17:F22) -> 0 | G23: =SUM(G17:G22) -> 0 | H23: =SUM(H17:H22) -> 0 | I23: =SUM(I17:I22) -> 0 | J23: =SUM(J17:J22) -> 0 | K23: =SUM(K17:K22) -> 0 | ... P23: =SUM(P17:P22) -> 0 | Q23: =SUM(E23:P23) -> 0

Sheet תקציב מול ביצוע-חסכונות
D2: סכום החיסכון
C3: פרטים | D3: ₪ | E3: $ | F3: =חובות!D9 -> תשלום חודשי-$ | G3: =חובות!E9 -> תשלום חודשי-₪ | H3: ינואר | I3: פברואר | J3: מרץ | K3: אפריל | L3: מאי | M3: יוני | N3: יולי | O3: אוגוסט | P3: ספטמבר | Q3: אוקטובר | R3: נובמבר | S3: דצמבר | T3: סה"כ הפרשה לחיסכון | U3: סה"כ יתרת חיסכון | V3: =C3 -> פרטים
C4: ='תכנית חיסכון'!B5 -> 0 | D4: ='תכנית חיסכון'!C5 -> 0 | E4: ='תכנית חיסכון'!D5 -> 0 | F4: ='תכנית חיסכון'!E5 -> 0 | G4: ='תכנית חיסכון'!F5 -> 0 | T4: =SUM(H4:S4) -> 0 | U4: =D4+E4*3.9+T4 -> 0 | V4: =C4 -> 0
C5: ='תכנית חיסכון'!B6 -> 0 | D5: ='תכנית חיסכון'!C6 -> 0 | E5: ='תכנית חיסכון'!D6 -> 0 | F5: ='תכנית חיסכון'!E6 -> 0 | G5: ='תכנית חיסכון'!F6 -> 0 | T5: =SUM(H5:S5) -> 0 | U5: =D5+E5*3.9-T5 -> 0 | V5: =C5 -> 0
C6: ='תכנית חיסכון'!B7 -> 0 | D6: ='תכנית חיסכון'!C7 -> 0 | E6: ='תכנית חיסכון'!D7 -> 0 | F6: ='תכנית חיסכון'!E7 -> 0 | G6: ='תכנית חיסכון'!F7 -> 0 | T6: =SUM(H6:S6) -> 0 | U6: =D6+E6*3.9-T6 -> 0 | V6: =C6 -> 0
C7: ='תכנית חיסכון'!B8 -> 0 | D7: ='תכנית חיסכון'!C8 -> 0 | E7: ='תכנית חיסכון'!D8 -> 0 | F7: ='תכנית חיסכון'!E8 -> 0 | G7: ='תכנית חיסכון'!F8 -> 0 | T7: =SUM(H7:S7) -> 0 | U7: =D7+E7*3.9-T7 -> 0 | V7: =C7 -> 0
C8: ='תכנית חיסכון'!B9 -> 0 | D8: ='תכנית חיסכון'!C9 -> 0 | E8: ='תכנית חיסכון'!D9 -> 0 | F8: ='תכנית חיסכון'!E9 -> 0 | G8: ='תכנית חיסכון'!F9 -> 0 | T8: =SUM(H8:S8) -> 0 | U8: =D8+E8*3.9-T8 -> 0 | V8: =C8 -> 0
C9: ='תכנית חיסכון'!B10 -> 0 | D9: ='תכנית חיסכון'!C10 -> 0 | E9: ='תכנית חיסכון'!D10 -> 0 | F9: ='תכנית חיסכון'!E10 -> 0 | G9: ='תכנית חיסכון'!F10 -> 0 | T9: =SUM(H9:S9) -> 0 | U9: =D9+E9*3.9-T9 -> 0 | V9: =C9 -> 0
C10: ='תכנית חיסכון'!B11 -> 0 | D10: ='תכנית חיסכון'!C11 -> 0 | E10: ='תכנית חיסכון'!D11 -> 0 | F10: ='תכנית חיסכון'!E11 -> 0 | G10: ='תכנית חיסכון'!F11 -> 0 | T10: =SUM(H10:S10) -> 0 | U10: =D10+E10*3.9-T10 -> 0 | V10: =C10 -> 0
C11: ='תכנית חיסכון'!B12 -> 0 | D11: ='תכנית חיסכון'!C12 -> 0 | E11: ='תכנית חיסכון'!D12 -> 0 | F11: ='תכנית חיסכון'!E12 -> 0 | G11: ='תכנית חיסכון'!F12 -> 0 | T11: =SUM(H11:S11) -> 0 | U11: =D11+E11*3.9-T11 -> 0 | V11: =C11 -> 0
C12: ='תכנית חיסכון'!B13 -> 0 | D12: ='תכנית חיסכון'!C13 -> 0 | E12: ='תכנית חיסכון'!D13 -> 0 | F12: ='תכנית חיסכון'!E13 -> 0 | G12: ='תכנית חיסכון'!F13 -> 0 | T12: =SUM(H12:S12) -> 0 | U12: =D12+E12*3.9-T12 -> 0 | V12: =C12 -> 0
C13: ='תכנית חיסכון'!B14 -> 0 | D13: ='תכנית חיסכון'!C14 -> 0 | E13: ='תכנית חיסכון'!D14 -> 0 | F13: ='תכנית חיסכון'!E14 -> 0 | G13: ='תכנית חיסכון'!F14 -> 0 | T13: =SUM(H13:S13) -> 0 | U13: =D13+E13*3.9-T13 -> 0 | V13: =C13 -> 0
C14: ='תכנית חיסכון'!B15 -> 0 | D14: ='תכנית חיסכון'!C15 -> 0 | E14: ='תכנית חיסכון'!D15 -> 0 | F14: ='תכנית חיסכון'!E15 -> 0 | G14: ='תכנית חיסכון'!F15 -> 0 | T14: =SUM(H14:S14) -> 0 | U14: =D14+E14*3.9-T14 -> 0 | V14: =C14 -> 0
C15: ='תכנית חיסכון'!B16 -> 0 | D15: ='תכנית חיסכון'!C16 -> 0 | E15: ='תכנית חיסכון'!D16 -> 0 | F15: ='תכנית חיסכון'!E16 -> 0 | G15: ='תכנית חיסכון'!F16 -> 0 | T15: =SUM(H15:S15) -> 0 | U15: =D15+E15*3.9-T15 -> 0 | V15: =C15 -> 0
C16: ='תכנית חיסכון'!B17 -> 0 | D16: ='תכנית חיסכון'!C17 -> 0 | E16: ='תכנית חיסכון'!D17 -> 0 | F16: ='תכנית חיסכון'!E17 -> 0 | G16: ='תכנית חיסכון'!F17 -> 0 | T16: =SUM(H16:S16) -> 0 | U16: =D16+E16*3.9-T16 -> 0 | V16: =C16 -> 0
... C26: ='תכנית חיסכון'!B27 -> 0 | D26: ='תכנית חיסכון'!C27 -> 0 | E26: ='תכנית חיסכון'!D27 -> 0 | F26: ='תכנית חיסכון'!E27 -> 0 | G26: ='תכנית חיסכון'!F27 -> 0 | T26: =SUM(H26:S26) -> 0 | U26: =D26+E26*3.9-T26 -> 0 | V26: =C26 -> 0
C27: =חובות!A33 -> סה"כ | D27: ='תכנית חיסכון'!$C$28 -> 0 | E27: ='תכנית חיסכון'!$D$28 -> 0 | F27: =חובות!D33 -> 0 | G27: =חובות!E33 -> 0 | H27: =SUM(H4:H26) -> 0 | I27: =SUM(I4:I26) -> 0 | J27: =SUM(J4:J26) -> 0 | K27: =SUM(K4:K26) -> 0 | L27: =SUM(L4:L26) -> 0 | M27: =SUM(M4:M26) -> 0 | N27: =SUM(N4:N26) -> 0 | O27: =SUM(O4:O26) -> 0 | ... U27: =SUM(U4:U26) -> 0
F28: ='תכנית חיסכון'!$E$29 -> 0 | G28: ='תכנית חיסכון'!$F$29 -> 0

Sheet תקציב מול ביצוע-הוצאות
D3: ביצוע
B4: סעיפי הוצאה חודשית | C4: תקציב | D4: ינואר | E4: פברואר | F4: מרץ | G4: אפריל | H4: מאי | I4: יוני | J4: יולי | K4: אוגוסט | L4: ספטמבר | M4: אוקטובר | N4: נובמבר | O4: דצמבר
B5: שכר דירה | C5: ='בית חודשי-תקציב'!H5 -> 0 | E5: 0 | F5: 0 | G5: 0 | H5: 0 | I5: 0 | J5: 0 | K5: 0 | L5: 0 | M5: 0 | N5: 0 | O5: 0
B6: משכנתא | C6: ='בית חודשי-תקציב'!H6 -> 0 | D6: 0 | E6: 0 | F6: 0 | G6: 0 | H6: 0 | I6: 0 | J6: 0 | K6: 0 | L6: 0 | M6: 0 | N6: 0 | O6: 0
B7: ארנונה | C7: ='בית חודשי-תקציב'!H7 -> 0 | D7: 0 | E7: 0 | F7: 0 | G7: 0 | H7: 0 | I7: 0 | J7: 0 | K7: 0 | L7: 0 | M7: 0 | N7: 0 | O7: 0
B8: ועד בית | C8: ='בית חודשי-תקציב'!H8 -> 0 | D8: 0 | E8: 0 | F8: 0 | G8: 0 | H8: 0 | I8: 0 | J8: 0 | K8: 0 | L8: 0 | M8: 0 | N8: 0 | O8: 0
B9: מס ישוב | C9: ='בית חודשי-תקציב'!H9 -> 0 | D9: 0 | E9: 0 | F9: 0 | G9: 0 | H9: 0 | I9: 0 | J9: 0 | K9: 0 | L9: 0 | M9: 0 | N9: 0 | O9: 0
B10: שכר לימוד | C10: ='בית חודשי-תקציב'!H10 -> 0 | D10: 0 | E10: 0 | F10: 0 | G10: 0 | H10: 0 | I10: 0 | J10: 0 | K10: 0 | L10: 0 | M10: 0 | N10: 0 | O10: 0
B11: ביטוח רפואי | C11: ='בית חודשי-תקציב'!H11 -> 0 | D11: 0 | E11: 0 | F11: 0 | G11: 0 | H11: 0 | I11: 0 | J11: 0 | K11: 0 | L11: 0 | M11: 0 | N11: 0 | O11: 0
B12: ביטוח חיים | C12: ='בית חודשי-תקציב'!H12 -> 0 | D12: 0 | E12: 0 | F12: 0 | G12: 0 | H12: 0 | I12: 0 | J12: 0 | K12: 0 | L12: 0 | M12: 0 | N12: 0 | O12: 0
B13: ביטוח לאומי | C13: ='בית חודשי-תקציב'!H13 -> 0 | D13: 0 | E13: 0 | F13: 0 | G13: 0 | H13: 0 | I13: 0 | J13: 0 | K13: 0 | L13: 0 | M13: 0 | N13: 0 | O13: 0
B14: הסעות קבועות ילדים | C14: ='בית חודשי-תקציב'!H14 -> 0 | D14: 0 | E14: 0 | F14: 0 | G14: 0 | H14: 0 | I14: 0 | J14: 0 | K14: 0 | L14: 0 | M14: 0 | N14: 0 | O14: 0
B15: צדקה | C15: ='בית חודשי-תקציב'!H16 -> 0 | D15: 0 | E15: 0 | F15: 0 | G15: 0 | H15: 0 | I15: 0 | J15: 0 | K15: 0 | L15: 0 | M15: 0 | N15: 0 | O15: 0
B16: עיתונים | C16: ='בית חודשי-תקציב'!H17 -> 0 | D16: 0 | E16: 0 | F16: 0 | G16: 0 | H16: 0 | I16: 0 | J16: 0 | K16: 0 | L16: 0 | M16: 0 | N16: 0 | O16: 0
B17: מקווה | C17: ='בית חודשי-תקציב'!H18 -> 0 | D17: 0 | E17: 0 | F17: 0 | G17: 0 | H17: 0 | I17: 0 | J17: 0 | K17: 0 | L17: 0 | M17: 0 | N17: 0 | O17: 0
B18: גנרטור | C18: ='בית חודשי-תקציב'!H19 -> 0 | D18: 0 | E18: 0 | F18: 0 | G18: 0 | H18: 0 | I18: 0 | J18: 0 | K18: 0 | L18: 0 | M18: 0 | N18: 0 | O18: 0
B19: עוזרת בית | C19: ='בית חודשי-תקציב'!H20 -> 0 | D19: 0 | E19: 0 | F19: 0 | G19: 0 | H19: 0 | I19: 0 | J19: 0 | K19: 0 | L19: 0 | M19: 0 | N19: 0 | O19: 0
B20: מטפלת לילדים | C20: ='בית חודשי-תקציב'!H21 -> 0 | D20: 0 | E20: 0 | F20: 0 | G20: 0 | H20: 0 | I20: 0 | J20: 0 | K20: 0 | L20: 0 | M20: 0 | N20: 0 | O20: 0
B21: תוכנית חיסכון | C21: ='בית חודשי-תקציב'!H22 -> 0 | D21: ='תקציב מול ביצוע-חסכונות'!H27 -> 0 | E21: ='תקציב מול ביצוע-חסכונות'!I27 -> 0 | F21: ='תקציב מול ביצוע-חסכונות'!J27 -> 0 | G21: ='תקציב מול ביצוע-חסכונות'!K27 -> 0 | H21: ='תקציב מול ביצוע-חסכונות'!L27 -> 0 | I21: ='תקציב מול ביצוע-חסכונות'!M27 -> 0 | J21: ='תקציב מול ביצוע-חסכונות'!N27 -> 0 | K21: ='תקציב מול ביצוע-חסכונות'!O27 -> 0 | ... O21: ='תקציב מול ביצוע-חסכונות'!S27 -> 0
B22: ליסינג לרכב | C22: ='בית חודשי-תקציב'!H23 -> 0 | D22: 0 | E22: 0 | F22: 0 | G22: 0 | H22: 0 | I22: 0 | J22: 0 | K22: 0 | L22: 0 | M22: 0 | N22: 0 | O22: 0
B23: שיעורים פרטיים | C23: ='בית חודשי-תקציב'!H24 -> 0 | D23: 0 | E23: 0 | F23: 0 | G23: 0 | H23: 0 | I23: 0 | J23: 0 | K23: 0 | L23: 0 | M23: 0 | N23: 0 | O23: 0
B24: דמי ניהול חשבון/עמלות/ריביות | C24: ='בית חודשי-תקציב'!J5 -> 0 | D24: 0 | E24: 0 | F24: 0 | G24: 0 | H24: 0 | I24: 0 | J24: 0 | K24: 0 | L24: 0 | M24: 0 | N24: 0 | O24: 0
B25: טלפון נייד | C25: ='בית חודשי-תקציב'!J8 -> 0 | D25: 0 | E25: 0 | F25: 0 | G25: 0 | H25: 0 | I25: 0 | J25: 0 | K25: 0 | L25: 0 | M25: 0 | N25: 0 | O25: 0
B26: טלפון נייח | C26: ='בית חודשי-תקציב'!J9 -> 0 | D26: 0 | E26: 0 | F26: 0 | G26: 0 | H26: 0 | I26: 0 | J26: 0 | K26: 0 | L26: 0 | M26: 0 | N26: 0 | O26: 0
B27: חשמל | C27: ='בית חודשי-תקציב'!J10 -> 0 | D27: 0 | E27: 0 | F27: 0 | G27: 0 | H27: 0 | I27: 0 | J27: 0 | K27: 0 | L27: 0 | M27: 0 | N27: 0 | O27: 0
B28: גז | C28: ='בית חודשי-תקציב'!J11 -> 0 | D28: 0 | E28: 0 | F28: 0 | G28: 0 | H28: 0 | I28: 0 | J28: 0 | K28: 0 | L28: 0 | M28: 0 | N28: 0 | O28: 0
B29: מים | C29: ='בית חודשי-תקציב'!J12 -> 0 | D29: 0 | E29: 0 | F29: 0 | G29: 0 | H29: 0 | I29: 0 | J29: 0 | K29: 0 | L29: 0 | M29: 0 | N29: 0 | O29: 0
B30: אינטרנט | C30: ='בית חודשי-תקציב'!J13 -> 0 | D30: 0 | E30: 0 | F30: 0 | G30: 0 | H30: 0 | I30: 0 | J30: 0 | K30: 0 | L30: 0 | M30: 0 | N30: 0 | O30: 0
B31: חוגים | C31: ='בית חודשי-תקציב'!J14 -> 0 | D31: 0 | E31: 0 | F31: 0 | G31: 0 | H31: 0 | I31: 0 | J31: 0 | K31: 0 | L31: 0 | M31: 0 | N31: 0 | O31: 0
B32: ביטוח וטסט לרכב | C32: ='בית חודשי-תקציב'!J15 -> 0 | D32: 0 | E32: 0 | F32: 0 | G32: 0 | H32: 0 | I32: 0 | J32: 0 | K32: 0 | L32: 0 | M32: 0 | N32: 0 | O32: 0
B33: מזון/מוצרי תינוקות/קפואים | C33: ='בית חודשי-תקציב'!J16 -> 0 | D33: 0 | E33: 0 | F33: 0 | G33: 0 | H33: 0 | I33: 0 | J33: 0 | K33: 0 | L33: 0 | M33: 0 | N33: 0 | O33: 0
B34: ויטמינים | C34: ='בית חודשי-תקציב'!J21 -> 0 | D34: 0 | E34: 0 | F34: 0 | G34: 0 | H34: 0 | I34: 0 | J34: 0 | K34: 0 | L34: 0 | M34: 0 | N34: 0 | O34: 0
B35: תרופות | C35: ='בית חודשי-תקציב'!J22 -> 0 | D35: 0 | E35: 0 | F35: 0 | G35: 0 | H35: 0 | I35: 0 | J35: 0 | K35: 0 | L35: 0 | M35: 0 | N35: 0 | O35: 0
B36: סיגריות | C36: ='בית חודשי-תקציב'!J23 -> 0 | D36: 0 | E36: 0 | F36: 0 | G36: 0 | H36: 0 | I36: 0 | J36: 0 | K36: 0 | L36: 0 | M36: 0 | N36: 0 | O36: 0
B37: נסיעות שונות | C37: ='בית חודשי-תקציב'!J24 -> 0 | D37: 0 | E37: 0 | F37: 0 | G37: 0 | H37: 0 | I37: 0 | J37: 0 | K37: 0 | L37: 0 | M37: 0 | N37: 0 | O37: 0
B38: ='בית חודשי-תקציב'!K5 -> דלק לרכב | C38: ='בית חודשי-תקציב'!L5 -> 0 | D38: 0 | E38: 0 | F38: 0 | G38: 0 | H38: 0 | I38: 0 | J38: 0 | K38: 0 | L38: 0 | M38: 0 | N38: 0 | O38: 0
B39: ='בית חודשי-תקציב'!K6 -> מוניות | C39: ='בית חודשי-תקציב'!L6 -> 0 | D39: 0 | E39: 0 | F39: 0 | G39: 0 | H39: 0 | I39: 0 | J39: 0 | K39: 0 | L39: 0 | M39: 0 | N39: 0 | O39: 0
B40: ='בית חודשי-תקציב'!K7 -> כרטיסי הגרלה | C40: ='בית חודשי-תקציב'!L7 -> 0 | D40: 0 | E40: 0 | F40: 0 | G40: 0 | H40: 0 | I40: 0 | J40: 0 | K40: 0 | L40: 0 | M40: 0 | N40: 0 | O40: 0
B41: ='בית חודשי-תקציב'!K8 -> מכשירי כתיבה | C41: ='בית חודשי-תקציב'!L8 -> 0 | D41: 0 | E41: 0 | F41: 0 | G41: 0 | H41: 0 | I41: 0 | J41: 0 | K41: 0 | L41: 0 | M41: 0 | N41: 0 | O41: 0
B42: ='בית חודשי-תקציב'!K9 -> עדשות/תמיסות | C42: ='בית חודשי-תקציב'!L9 -> 0 | D42: 0 | E42: 0 | F42: 0 | G42: 0 | H42: 0 | I42: 0 | J42: 0 | K42: 0 | L42: 0 | M42: 0 | N42: 0 | O42: 0
B43: ='בית חודשי-תקציב'!K10 -> רפואה אלטרנטיבית | C43: ='בית חודשי-תקציב'!L10 -> 0 | D43: 0 | E43: 0 | F43: 0 | G43: 0 | H43: 0 | I43: 0 | J43: 0 | K43: 0 | L43: 0 | M43: 0 | N43: 0 | O43: 0
B44: ='בית חודשי-תקציב'!K11 -> בריאות | C44: ='בית חודשי-תקציב'!L11 -> 0 | D44: 0 | E44: 0 | F44: 0 | G44: 0 | H44: 0 | I44: 0 | J44: 0 | K44: 0 | L44: 0 | M44: 0 | N44: 0 | O44: 0
B45: ='בית חודשי-תקציב'!K12 -> דמי כיס | C45: ='בית חודשי-תקציב'!L12 -> 0 | D45: 0 | E45: 0 | F45: 0 | G45: 0 | H45: 0 | I45: 0 | J45: 0 | K45: 0 | L45: 0 | M45: 0 | N45: 0 | O45: 0
B46: ='בית חודשי-תקציב'!K13 -> שונות | C46: ='בית חודשי-תקציב'!L13 -> 0 | D46: 0 | E46: 0 | F46: 0 | G46: 0 | H46: 0 | I46: 0 | J46: 0 | K46: 0 | L46: 0 | M46: 0 | N46: 0 | O46: 0
B47: ='בית חודשי-תקציב'!K14 -> הוצאות שוטפות | C47: ='בית חודשי-תקציב'!L14 -> 0 | D47: 0 | E47: 0 | F47: 0 | G47: 0 | H47: 0 | I47: 0 | J47: 0 | K47: 0 | L47: 0 | M47: 0 | N47: 0 | O47: 0
B48: ='בית חודשי-תקציב'!K15 -> טיפולים רכב | C48: ='בית חודשי-תקציב'!L15 -> 0 | D48: 0 | E48: 0 | F48: 0 | G48: 0 | H48: 0 | I48: 0 | J48: 0 | K48: 0 | L48: 0 | M48: 0 | N48: 0 | O48: 0
B49: ='בית חודשי-תקציב'!K16 -> 0 | C49: ='בית חודשי-תקציב'!L16 -> 0 | D49: 0 | E49: 0 | F49: 0 | G49: 0 | H49: 0 | I49: 0 | J49: 0 | K49: 0 | L49: 0 | M49: 0 | N49: 0 | O49: 0
... B57: ='בית חודשי-תקציב'!K24 -> 0 | C57: ='בית חודשי-תקציב'!L24 -> 0 | D57: 0 | E57: 0 | F57: 0 | G57: 0 | H57: 0 | I57: 0 | J57: 0 | K57: 0 | L57: 0 | M57: 0 | N57: 0 | O57: 0
B58: ='בית חודשי-תקציב'!G27 -> סה"כ הוצאות | C58: =SUM(C5:C57) -> 0 | D58: =SUM(D5:D57) -> 0 | E58: =SUM(E5:E57) -> 0 | F58: =SUM(F5:F57) -> 0 | G58: =SUM(G5:G57) -> 0 | H58: =SUM(H5:H57) -> 0 | I58: =SUM(I5:I57) -> 0 | J58: =SUM(J5:J57) -> 0 | ... O58: =SUM(O5:O57) -> 0
D60: ביצוע
B61: סעיפי הוצאה שנתית | C61: תקציב | D61: =D4 -> ינואר | E61: =E4 -> פברואר | F61: =F4 -> מרץ | G61: =G4 -> אפריל | H61: =H4 -> מאי | I61: =I4 -> יוני | J61: =J4 -> יולי | K61: =K4 -> אוגוסט | ... O61: =O4 -> דצמבר | P61: סה"כ ביצוע
B62: ='בית שנתי-תקציב'!E4 -> תיקונים בבית | C62: ='בית שנתי-תקציב'!F4 -> 0 | E62: 0 | F62: 0 | G62: 0 | H62: 0 | I62: 0 | J62: 0 | K62: 0 | L62: 0 | M62: 0 | N62: 0 | O62: 0 | P62: =SUM(D62:O62) -> 0
B63: ='בית שנתי-תקציב'!E5 -> רכישת מוצרים חדשים לבית | C63: ='בית שנתי-תקציב'!F5 -> 0 | E63: 0 | F63: 0 | G63: 0 | H63: 0 | I63: 0 | J63: 0 | K63: 0 | L63: 0 | M63: 0 | N63: 0 | O63: 0 | P63: =SUM(D63:O63) -> 0
B64: ='בית שנתי-תקציב'!E6 -> שיניים | C64: ='בית שנתי-תקציב'!F6 -> 0 | D64: 0 | E64: 0 | F64: 0 | G64: 0 | H64: 0 | I64: 0 | J64: 0 | K64: 0 | L64: 0 | M64: 0 | N64: 0 | O64: 0 | P64: =SUM(D64:O64) -> 0
B65: ='בית שנתי-תקציב'!E7 -> משקפיים | C65: ='בית שנתי-תקציב'!F7 -> 0 | D65: 0 | E65: 0 | F65: 0 | G65: 0 | H65: 0 | I65: 0 | J65: 0 | K65: 0 | L65: 0 | M65: 0 | N65: 0 | O65: 0 | P65: =SUM(D65:O65) -> 0
B66: ='בית שנתי-תקציב'!E8 -> חוגים לילדים | C66: ='בית שנתי-תקציב'!F8 -> 0 | D66: 0 | E66: 0 | F66: 0 | G66: 0 | H66: 0 | I66: 0 | J66: 0 | K66: 0 | L66: 0 | M66: 0 | N66: 0 | O66: 0 | P66: =SUM(D66:O66) -> 0
B67: ='בית שנתי-תקציב'!E9 -> קורסים והשתלמויות | C67: ='בית שנתי-תקציב'!F9 -> 0 | D67: 0 | E67: 0 | F67: 0 | G67: 0 | H67: 0 | I67: 0 | J67: 0 | K67: 0 | L67: 0 | M67: 0 | N67: 0 | O67: 0 | P67: =SUM(D67:O67) -> 0
B68: ='בית שנתי-תקציב'!E10 -> דמי שכלול לבית הספר | C68: ='בית שנתי-תקציב'!F10 -> 0 | D68: 0 | E68: 0 | F68: 0 | G68: 0 | H68: 0 | I68: 0 | J68: 0 | K68: 0 | L68: 0 | M68: 0 | N68: 0 | O68: 0 | P68: =SUM(D68:O68) -> 0
B69: ='בית שנתי-תקציב'!E11 -> מחנות קייץ | C69: ='בית שנתי-תקציב'!F11 -> 0 | D69: 0 | E69: 0 | F69: 0 | G69: 0 | H69: 0 | I69: 0 | J69: 0 | K69: 0 | L69: 0 | M69: 0 | N69: 0 | O69: 0 | P69: =SUM(D69:O69) -> 0
B70: ='בית שנתי-תקציב'!E12 -> קייטנות | C70: ='בית שנתי-תקציב'!F12 -> 0 | D70: 0 | E70: 0 | F70: 0 | G70: 0 | H70: 0 | I70: 0 | J70: 0 | K70: 0 | L70: 0 | M70: 0 | N70: 0 | O70: 0 | P70: =SUM(D70:O70) -> 0
B71: ='בית שנתי-תקציב'!E13 -> תחילת שנת לימודים | C71: ='בית שנתי-תקציב'!F13 -> 0 | D71: 0 | E71: 0 | F71: 0 | G71: 0 | H71: 0 | I71: 0 | J71: 0 | K71: 0 | L71: 0 | M71: 0 | N71: 0 | O71: 0 | P71: =SUM(D71:O71) -> 0
B72: ='בית שנתי-תקציב'!E14 -> חופשות | C72: ='בית שנתי-תקציב'!F14 -> 0 | D72: 0 | E72: 0 | F72: 0 | G72: 0 | H72: 0 | I72: 0 | J72: 0 | K72: 0 | L72: 0 | M72: 0 | N72: 0 | O72: 0 | P72: =SUM(D72:O72) -> 0
B73: ='בית שנתי-תקציב'!E15 -> מתנות | C73: ='בית שנתי-תקציב'!F15 -> 0 | D73: 0 | E73: 0 | F73: 0 | G73: 0 | H73: 0 | I73: 0 | J73: 0 | K73: 0 | L73: 0 | M73: 0 | N73: 0 | O73: 0 | P73: =SUM(D73:O73) -> 0
B74: ='בית שנתי-תקציב'!E16 -> ירידת פריון עבודה | C74: ='בית שנתי-תקציב'!F16 -> 0 | D74: 0 | E74: 0 | F74: 0 | G74: 0 | H74: 0 | I74: 0 | J74: 0 | K74: 0 | L74: 0 | M74: 0 | N74: 0 | O74: 0 | P74: =SUM(D74:O74) -> 0
B75: ='בית שנתי-תקציב'!E17 -> ביגוד והנעלה | C75: ='בית שנתי-תקציב'!F17 -> 0 | D75: 0 | E75: 0 | F75: 0 | G75: 0 | H75: 0 | I75: 0 | J75: 0 | K75: 0 | L75: 0 | M75: 0 | N75: 0 | O75: 0 | P75: =SUM(D75:O75) -> 0
... B96: ='בית שנתי-תקציב'!E38 -> 0 | C96: ='בית שנתי-תקציב'!F38 -> 0 | D96: 0 | E96: 0 | F96: 0 | G96: 0 | H96: 0 | I96: 0 | J96: 0 | K96: 0 | L96: 0 | M96: 0 | N96: 0 | O96: 0 | P96: =SUM(D96:O96) -> 0
B97: סה"כ תקציב | C97: =SUM(C62:C96) -> 0 | D97: =SUM(D62:D96) -> 0 | E97: =SUM(E62:E96) -> 0 | F97: =SUM(F62:F96) -> 0 | G97: =SUM(G62:G96) -> 0 | H97: =SUM(H62:H96) -> 0 | I97: =SUM(I62:I96) -> 0 | J97: =SUM(J62:J96) -> 0 | ... O97: =SUM(O62:O96) -> 0

Sheet תקציב מול ביצוע-חובות
D2: סכום ההלוואה
C3: פרטים | D3: ₪ | E3: $ | F3: =חובות!D9 -> תשלום חודשי-$ | G3: =חובות!E9 -> תשלום חודשי-₪ | H3: ינואר | I3: פברואר | J3: מרץ | K3: אפריל | L3: מאי | M3: יוני | N3: יולי | O3: אוגוסט | P3: ספטמבר | Q3: אוקטובר | R3: נובמבר | S3: דצמבר | T3: סה"כ שולם | U3: סה"כ יתרת חוב | V3: =C3 -> פרטים
C4: =חובות!A10 -> 0 | D4: =חובות!B10 -> 0 | E4: =חובות!C10 -> 0 | F4: =חובות!D10 -> 0 | G4: =חובות!E10 -> 0 | T4: =SUM(H4:S4) -> 0 | U4: =D4+E4*3.9-T4 -> 0 | V4: =C4 -> 0
C5: =חובות!A11 -> 0 | D5: =חובות!B11 -> 0 | E5: =חובות!C11 -> 0 | F5: =חובות!D11 -> 0 | G5: =חובות!E11 -> 0 | T5: =SUM(H5:S5) -> 0 | U5: =D5+E5*3.9-T5 -> 0 | V5: =C5 -> 0
C6: =חובות!A12 -> 0 | D6: =חובות!B12 -> 0 | E6: =חובות!C12 -> 0 | F6: =חובות!D12 -> 0 | G6: =חובות!E12 -> 0 | T6: =SUM(H6:S6) -> 0 | U6: =D6+E6*3.9-T6 -> 0 | V6: =C6 -> 0
C7: =חובות!A13 -> 0 | D7: =חובות!B13 -> 0 | E7: =חובות!C13 -> 0 | F7: =חובות!D13 -> 0 | G7: =חובות!E13 -> 0 | T7: =SUM(H7:S7) -> 0 | U7: =D7+E7*3.9-T7 -> 0 | V7: =C7 -> 0
C8: =חובות!A14 -> 0 | D8: =חובות!B14 -> 0 | E8: =חובות!C14 -> 0 | F8: =חובות!D14 -> 0 | G8: =חובות!E14 -> 0 | T8: =SUM(H8:S8) -> 0 | U8: =D8+E8*3.9-T8 -> 0 | V8: =C8 -> 0
C9: =חובות!A15 -> 0 | D9: =חובות!B15 -> 0 | E9: =חובות!C15 -> 0 | F9: =חובות!D15 -> 0 | G9: =חובות!E15 -> 0 | T9: =SUM(H9:S9) -> 0 | U9: =D9+E9*3.9-T9 -> 0 | V9: =C9 -> 0
C10: =חובות!A16 -> 0 | D10: =חובות!B16 -> 0 | E10: =חובות!C16 -> 0 | F10: =חובות!D16 -> 0 | G10: =חובות!E16 -> 0 | T10: =SUM(H10:S10) -> 0 | U10: =D10+E10*3.9-T10 -> 0 | V10: =C10 -> 0
C11: =חובות!A17 -> 0 | D11: =חובות!B17 -> 0 | E11: =חובות!C17 -> 0 | F11: =חובות!D17 -> 0 | G11: =חובות!E17 -> 0 | T11: =SUM(H11:S11) -> 0 | U11: =D11+E11*3.9-T11 -> 0 | V11: =C11 -> 0
C12: =חובות!A18 -> 0 | D12: =חובות!B18 -> 0 | E12: =חובות!C18 -> 0 | F12: =חובות!D18 -> 0 | G12: =חובות!E18 -> 0 | T12: =SUM(H12:S12) -> 0 | U12: =D12+E12*3.9-T12 -> 0 | V12: =C12 -> 0
C13: =חובות!A19 -> 0 | D13: =חובות!B19 -> 0 | E13: =חובות!C19 -> 0 | F13: =חובות!D19 -> 0 | G13: =חובות!E19 -> 0 | T13: =SUM(H13:S13) -> 0 | U13: =D13+E13*3.9-T13 -> 0 | V13: =C13 -> 0
C14: =חובות!A20 -> 0 | D14: =חובות!B20 -> 0 | E14: =חובות!C20 -> 0 | F14: =חובות!D20 -> 0 | G14: =חובות!E20 -> 0 | T14: =SUM(H14:S14) -> 0 | U14: =D14+E14*3.9-T14 -> 0 | V14: =C14 -> 0
C15: =חובות!A21 -> 0 | D15: =חובות!B21 -> 0 | E15: =חובות!C21 -> 0 | F15: =חובות!D21 -> 0 | G15: =חובות!E21 -> 0 | T15: =SUM(H15:S15) -> 0 | U15: =D15+E15*3.9-T15 -> 0 | V15: =C15 -> 0
... C26: =חובות!A32 -> 0 | D26: =חובות!B32 -> 0 | E26: =חובות!C32 -> 0 | F26: =חובות!D32 -> 0 | G26: =חובות!E32 -> 0 | T26: =SUM(H26:S26) -> 0 | U26: =D26+E26*3.9-T26 -> 0 | V26: =C26 -> 0
C27: =חובות!A33 -> סה"כ | D27: =חובות!$B$33 -> 0 | E27: =חובות!$C$33 -> 0 | F27: =חובות!D33 -> 0 | G27: =חובות!E33 -> 0 | H27: =SUM(H4:H26) -> 0 | I27: =SUM(I4:I26) -> 0 | J27: =SUM(J4:J26) -> 0 | K27: =SUM(K4:K26) -> 0 | L27: =SUM(L4:L26) -> 0 | M27: =SUM(M4:M26) -> 0 | N27: =SUM(N4:N26) -> 0 | O27: =SUM(O4:O26) -> 0 | ... U27: =SUM(U4:U26) -> 0
F28: =חובות!D34 -> 0 | G28: =חובות!E34 -> 0

Sheet מאזן ביצוע (הכנסות-הוצאות=יתרה)
B4: ביצוע
B5: ינואר | C5: פברואר | D5: מרץ | E5: אפריל | F5: מאי | G5: יוני | H5: יולי | I5: אוגוסט | J5: ספטמבר | K5: אוקטובר | L5: נובמבר | M5: דצמבר
A6: סה"כ הכנסות חודשיות | B6: ='תקציב מול ביצוע-הכנסות'!E10 -> 0 | C6: ='תקציב מול ביצוע-הכנסות'!F10 -> 0 | D6: ='תקציב מול ביצוע-הכנסות'!G10 -> 0 | E6: ='תקציב מול ביצוע-הכנסות'!H10 -> 0 | F6: ='תקציב מול ביצוע-הכנסות'!I10 -> 0 | G6: ='תקציב מול ביצוע-הכנסות'!J10 -> 0 | H6: ='תקציב מול ביצוע-הכנסות'!K10 -> 0 | I6: ='תקציב מול ביצוע-הכנסות'!L10 -> 0 | ... M6: ='תקציב מול ביצוע-הכנסות'!P10 -> 0
A7: סה"כ הכנסות שנתיות | B7: ='תקציב מול ביצוע-הכנסות'!E23 -> 0 | C7: ='תקציב מול ביצוע-הכנסות'!F23 -> 0 | D7: ='תקציב מול ביצוע-הכנסות'!G23 -> 0 | E7: ='תקציב מול ביצוע-הכנסות'!H23 -> 0 | F7: ='תקציב מול ביצוע-הכנסות'!I23 -> 0 | G7: ='תקציב מול ביצוע-הכנסות'!J23 -> 0 | H7: ='תקציב מול ביצוע-הכנסות'!K23 -> 0 | I7: ='תקציב מול ביצוע-הכנסות'!L23 -> 0 | ... M7: ='תקציב מול ביצוע-הכנסות'!P23 -> 0
A8: סה"כ הוצאות חודשיות | B8: ='תקציב מול ביצוע-הוצאות'!D58 -> 0 | C8: ='תקציב מול ביצוע-הוצאות'!E58 -> 0 | D8: ='תקציב מול ביצוע-הוצאות'!F58 -> 0 | E8: ='תקציב מול ביצוע-הוצאות'!G58 -> 0 | F8: ='תקציב מול ביצוע-הוצאות'!H58 -> 0 | G8: ='תקציב מול ביצוע-הוצאות'!I58 -> 0 | H8: ='תקציב מול ביצוע-הוצאות'!J58 -> 0 | I8: ='תקציב מול ביצוע-הוצאות'!K58 -> 0 | ... M8: ='תקציב מול ביצוע-הוצאות'!O58 -> 0
A9: סה"כ הוצאות שנתיות | B9: ='תקציב מול ביצוע-הוצאות'!D97 -> 0 | C9: ='תקציב מול ביצוע-הוצאות'!E97 -> 0 | D9: ='תקציב מול ביצוע-הוצאות'!F97 -> 0 | E9: ='תקציב מול ביצוע-הוצאות'!G97 -> 0 | F9: ='תקציב מול ביצוע-הוצאות'!H97 -> 0 | G9: ='תקציב מול ביצוע-הוצאות'!I97 -> 0 | H9: ='תקציב מול ביצוע-הוצאות'!J97 -> 0 | I9: ='תקציב מול ביצוע-הוצאות'!K97 -> 0 | ... M9: ='תקציב מול ביצוע-הוצאות'!O97 -> 0
A10: יתרה/גרעון | B10: =B6+B7-B8-B9 -> 0 | C10: =C6+C7-C8-C9 -> 0 | D10: =D6+D7-D8-D9 -> 0 | E10: =E6+E7-E8-E9 -> 0 | F10: =F6+F7-F8-F9 -> 0 | G10: =G6+G7-G8-G9 -> 0 | H10: =H6+H7-H8-H9 -> 0 | I10: =I6+I7-I8-I9 -> 0 | ... M10: =M6+M7-M8-M9 -> 0
A11: החזרי חובות | B11: ='תקציב מול ביצוע-חובות'!H27 -> 0 | C11: ='תקציב מול ביצוע-חובות'!I27 -> 0 | D11: ='תקציב מול ביצוע-חובות'!J27 -> 0 | E11: ='תקציב מול ביצוע-חובות'!K27 -> 0 | F11: ='תקציב מול ביצוע-חובות'!L27 -> 0 | G11: ='תקציב מול ביצוע-חובות'!M27 -> 0 | H11: ='תקציב מול ביצוע-חובות'!N27 -> 0 | I11: ='תקציב מול ביצוע-חובות'!O27 -> 0 | ... M11: ='תקציב מול ביצוע-חובות'!S27 -> 0
A12: יתרה/גרעון | B12: =B10-B11 -> 0 | C12: =C10-C11 -> 0 | D12: =D10-D11 -> 0 | E12: =E10-E11 -> 0 | F12: =F10-F11 -> 0 | G12: =G10-G11 -> 0 | H12: =H10-H11 -> 0 | I12: =I10-I11 -> 0 | ... M12: =M10-M11 -> 0

Sheet סימולטור פרוייקטים
F2: סימולטור לחישוב סך ההפרשה החודשית למימון פרוייקטים
G4: שם הפרוייקט
G5: עלות משוערת של הפרוייקט
G6: תוך כמה שנים תרצו להגיע לסכום הזה?
G7: זהו הסכום שתצטרכו להפריש כל חודש | J7: =I5/J6/12 -> #DIV/0!
F12: סימולטור לחישוב סך מצטבר בתכניות חיסכון מהפרשה חודשית
G15: כמה תפרישו לחיסכון כל חודש?
G16: מס' השנים הצפוי שתפרישו את הסכום הנ"ל
G17: זהו הסכום שיצטבר לכם בסוף התקופה | J17: =I15*J16*12 -> 0

Sheet שאלון
B2: נקודות למחשבה
B3: יודעים מה מצב המינוס שלכם? אולי אתם בכלל לא במינוס? הלוואות ותשלומים הם חברים טובים שלכם? ומה בדבר מנהל הבנק גם הוא "חבר טוב" שמרבה להתקשר?
B4: שאלון עצמי שיגלה לכם איזה טיפוסים פיננסיים אתם והאם אתם מנהיגים בבטחה את הספינה שנקראת "כלכלת הבית והמשפחה"
B5: מאת: ירון ינאי לחיות נכון- מגזין לכלכלה וניהול הבית-גליון מס' 7- תמוז תשע"ג- יוני 2013
B7: כללי הניקוד: אם בחרת בתשובה הראשונה תציינו בעמודה L במשבצת המסומנת את הספרה 1 , אם בחרתם בתשובה השנייה תציינו בעמודה L במשבצת המסומנת את הספרה 2, וכן הלאה
L9: בעל | M9: אשה
B10: א | C10: האם חשבונך במינוס?
C11: באופן קבוע
C12: לפעמים
C13: אף פעם לא. אני חי רק בפלוס.
B15: ב | C15: נניח שאתה יודע שבעוד 8 חודשים תאלץ להוציא סכום כסף גדול (לדוגמא: טיפול שיניים) כיצד תערך לכך?
C16: כשנגיע לגשר נעבור אותו
C17: בודק אפשרות לקחת הלוואה
C18: מפריש כסף מידי חודש לטובת הטיפול
B20: ג | C20: כמה פעמים בחודש אתה קונה בתשלומים?
C21: בכל פעם שמאפשרים לי
C22: בין 3 ל -4 פעמים בחודש
C23: אף פעם לא
B25: ד | C25: כיצד אתה מתייחס לרכב פרטי?
C26: השקעה
C27: לא יודע
C28: הוצאה
B30: ה | C30: האם בני נוער צריכים דמי כיס?
C31: מה פתאום? כל פעם שצריך שיפנו להורים
C32: אני לא בטוח
C33: ודאי. זו הדרך לחנך אותם לכלכלה נבונה
B35: ו | C35: עד כמה אתה עוקב אחרי מצב חשבונך והפעולות שבוצעו בו?
C36: מעדיף לא לראות. למה לעשות 'שחור בעיניים'?
C37: פעם- פעמיים בחודש
C38: מקסימום, כל שלושה ימים
B40: ז | C40: האם אתה חוסך לפנסיה?
C41: לא, אין לי מספיק כסף לכך.
C42: אני חוסך משהו אבל אני לא יודע לכמה זה מסתכם בסופו של דבר
C43: כן. ערכתי סימולציה לברור היקף ההפרשה החודשית הנדרשת ואולה אני חוסך כל חודש
B45: ח | C45: היכן אתה עורך את רוב קניות המזון?
C46: במכולת או בסופר השכונתי
C47: לפעמים במכולת ולפעמים ברשתות המזון הזולות, איפה שיוצא
C48: ברשתות המזון הזולות
B50: ט | C50: הלכת לסופר והקופאית מציעה לך לחלק בתשלומים, לכמה תשלומים תחלק?
C51: כמה שאפשר.
C52: מינימום 2 תשלומים
C53: אחד בלבד
B55: י | C55: כתבת שיק והמוכר ביקש ש 'תשאיר פתוח'. מה דעתך?
C56: אין בעיה
C57: כותב 'למוטב בלבד'/לא סחיר ומשאיר פתוח
C58: אין דבר כזה. לא משאיר שיק פתוח
B60: י"א | C60: כמה זמן בחודש אתה משקיע בתכנון כלכלי?
C61: לא מתכנן
C62: שעה-שעתיים בחודש
C63: שעה בשבוע
B65: י"ב | C65: יצא טלפון סלולרי חדש שאתה מאוד רוצה (את הישן קנית לפני שנה) מה תעשה?
C66: אקנה את הטלפון
C67: אמתין עד שההתחייבות על הטלפון הישן תסתיים
C68: אשאר עם הטלפון הישן כ-3 שנים
B70: י"ג | C70: מה דעתך על הוצאות רכב/מנוי עיתונים/קניית קוקה קולה?
C71: חלק מעלות החיים
C72: הוצאות קבועות
C73: הוצאות משתנות
B75: י"ד | C75: בכל קיץ אתם נוהגים לצאת לחופשה שנתית. השנה המצב מעט קשה וברור לך שהוצאה גבוהה שכזאת
C76: על החופש תעיק עליך מאוד ותגרור אותך למינוס. מה תעשה?
C77: יוצאים לחופשה. נסתדר אחר כך.
C78: נצא לחופשה חליפית זולה יותר
C79: אבטל את החופשה
B81: ט"ו | C81: בחשבונך יתרת זכות של 12.000 ₪, מה זה מלמד אותך?
C82: מעולה. אוכל לקנות את החנוכיה מכסף שרציתי
C83: שעדיף לחיות בפלוס מאשר במינוס
C84: אי אפשר לדעת. צריך לבדוק אילו הוצאות עוד לא יצאו.
B86: ט"ז | C86: האם בן/בת הזוג שותפים להחלטות כספיות?
C87: כל אחד חי את חייו
C88: לפעמים, בהחלטות גדולות
C89: באופן קבוע
B91: י"ז | C91: איזו אימרה מתאימה לך?
C92: חיים רק פעם אחת
C93: חשבון הבנק הוא כמו נדנדה. פעם למעלה ופעם למטה
C94: סוף מעשה במחשבה תחילה
B96: י"ח | C96: מה גובה ריבית הפריים?
C97: מה זה ריבית פריים?
C98: יש לי מושג עמום
C99: אני יודע במדוייק
B101: י"ט | C101: מהי שיטת החימום החסכונית ביותר? מזגן או רדיאטור / מפזר חום
C102: לא יודע
C103: אין הבדל מהותי בין שיטת החימום
C104: מזגן
B106: כ | C106: נניח שאתה במינוס בחשבון הבנק. מה אתה יכול לעשות?
C107: לקחת הלוואה לכסות את המינוס
C108: קצת דואג אך בטוח שיהיו חודשים טובים יותר
C109: לבדוק את הרכב ההוצאות וההכנסות ולחיות לפי היכולת
B111: כ"א | C111: האם לקחת הלוואות לכיסוי המינוס ב 3 החודשים האחרונים?
C112: ודאי, בלי זה אני לא יכול להסתדר
C113: כן. לא היתה לי ברירה
C114: לא. אני משתדל לחיות ללא מינוס
B116: כ"ב | C116: מה מצב המינוס שלך בבנק?
C117: במינוס תמידי בניצול מלא
C118: לפעמים מנצל ולפעמים לא
C119: אין לי מינוס
K120: סה"כ נקודות | L120: =SUM(L11:L119) -> 0 | M120: =SUM(M11:M119) -> 0
C121: מס' נקודות
C122: 22-35 | D122: אתה מדומה לסירה המפקירה את עצמה לתנודות הגלים ללא הגה וללא מצפן. בצורה
D123: שכזאת לא תגיע רחוק וצפוי לך עוד לילות ארוכים נטולי שינה ועמוססי דאגות כספיות. צפה לטלפון ממנהל סניף הבנק שלך.
C125: 36-55 | D125: לעיתים אתה מחושב אך יש עוד מקום רב לשיפור. אתה יודע שיש בכוחך לשלוט בהוצאות ובדרך החיים שלך אך לא תמיד
...
