Workbook
Name פרה: 'חידון לפי א ב'!#REF!

Sheet חידון לפי א ב
D1: השאלות באדיבות הרב יהושע שקדי מתוך הספר "נפלאות מתורתיך" | H1: לקבלת חידונים למיייל שלחו בקשת הצטרפות למייל | T1: mibarosh1@gmail.com
C4: שאלות לפי סדר א' ב' | G4: פרשת כי תבוא | I4: נקודות שנצברו | J4: =M4*10 -> 0 | L4: תשובות נכונות | M4: =COUNTIF(R9:R30,"תשובה נכונה! כל הכבוד!") -> 0 | O4: תשובות לא נכונות | P4: =COUNTIF(R9:R30,"תשובה לא נכונה") -> 0 | R4: שאלות שלא עניתם | S4: =COUNTIF(R9:R30,"עדיין לא הקלדתם תשובה") -> 22 | U4: ציון | V4: =J4/220 -> 0
D7: שאלות | J7: התשובה באות | L7: מס' מילים | M7: הקלידו בטור זה את התשובה ולאחר מכן לחצו אנטר | R7: האם עניתם נכון? | T7: צבירת נקודות | V7: מקורות
D9: מה שהיה שלושה ימים במצרים יקרה בפרשה בצהרים | J9: א | L9: 1 | R9: =IF(M9="","עדיין לא הקלדתם תשובה",IF(OR(M9=נתונים!B2,M9=נתונים!C2,M9=נתונים!D2,M9=נתונים!E2,M9=נתונים!F2),"תשובה נכונה! כל הכבוד!","תשובה לא נכונה")) -> עדיין לא הקלדתם תשובה | T9: =IF(M9="",0.001,IF(OR(M9=נתונים!B2,M9=נתונים!C2,M9=נתונים!D2,M9=נתונים!E2,M9=נתונים!F2),10,0)) -> 0.001 | U9: =IF(M9="","0.001",IF(OR(M9=נתונים!B2,M9=נתונים!C2,M9=נתונים!D2,M9=נתונים!E2,M9=נתונים!F2),"נקודות",0)) -> 0.001 | V9: =IF(M9="","כתבו את התשובה",IF(OR(M9=נתונים!B2,M9=נתונים!C2,M9=נתונים!D2,M9=נתונים!E2,M9=נתונים!F2),נתונים!K2,"נסו שוב")) -> כתבו את התשובה
D10: עליך לחפש דבר פשוט פסוק בפרשה שמשמש לקישוט | J10: ב | L10: 3 | R10: =IF(M10="","עדיין לא הקלדתם תשובה",IF(OR(M10=נתונים!B3,M10=נתונים!C3,M10=נתונים!D3,M10=נתונים!E3,M10=נתונים!F3),"תשובה נכונה! כל הכבוד!","תשובה לא נכונה")) -> עדיין לא הקלדתם תשובה | T10: =IF(M10="",0.001,IF(OR(M10=נתונים!B3,M10=נתונים!C3,M10=נתונים!D3,M10=נתונים!E3,M10=נתונים!F3),10,0)) -> 0.001 | U10: =IF(M10="","0.001",IF(OR(M10=נתונים!B3,M10=נתונים!C3,M10=נתונים!D3,M10=נתונים!E3,M10=נתונים!F3),"נקודות",0)) -> 0.001 | V10: =IF(M10="","כתבו את התשובה",IF(OR(M10=נתונים!B3,M10=נתונים!C3,M10=נתונים!D3,M10=נתונים!E3,M10=נתונים!F3),נתונים!K3,"נסו שוב")) -> כתבו את התשובה
D11: כשהוא יעלה מעלה מעלה הוא חיסרון ולא מעלה | J11: ג | L11: 1 | R11: =IF(M11="","עדיין לא הקלדתם תשובה",IF(OR(M11=נתונים!B4,M11=נתונים!C4,M11=נתונים!D4,M11=נתונים!E4,M11=נתונים!F4),"תשובה נכונה! כל הכבוד!","תשובה לא נכונה")) -> עדיין לא הקלדתם תשובה | T11: =IF(M11="",0.001,IF(OR(M11=נתונים!B4,M11=נתונים!C4,M11=נתונים!D4,M11=נתונים!E4,M11=נתונים!F4),10,0)) -> 0.001 | U11: =IF(M11="","0.001",IF(OR(M11=נתונים!B4,M11=נתונים!C4,M11=נתונים!D4,M11=נתונים!E4,M11=נתונים!F4),"נקודות",0)) -> 0.001 | V11: =IF(M11="","כתבו את התשובה",IF(OR(M11=נתונים!B4,M11=נתונים!C4,M11=נתונים!D4,M11=נתונים!E4,M11=נתונים!F4),נתונים!K4,"נסו שוב")) -> כתבו את התשובה
D12: שם של מחלת חום בשינוי ניקוד רדיפה ללחום | J12: ד | L12: 1 | R12: =IF(M12="","עדיין לא הקלדתם תשובה",IF(OR(M12=נתונים!B5,M12=נתונים!C5,M12=נתונים!D5,M12=נתונים!E5,M12=נתונים!F5),"תשובה נכונה! כל הכבוד!","תשובה לא נכונה")) -> עדיין לא הקלדתם תשובה | T12: =IF(M12="",0.001,IF(OR(M12=נתונים!B5,M12=נתונים!C5,M12=נתונים!D5,M12=נתונים!E5,M12=נתונים!F5),10,0)) -> 0.001 | U12: =IF(M12="","0.001",IF(OR(M12=נתונים!B5,M12=נתונים!C5,M12=נתונים!D5,M12=נתונים!E5,M12=נתונים!F5),"נקודות",0)) -> 0.001 | V12: =IF(M12="","כתבו את התשובה",IF(OR(M12=נתונים!B5,M12=נתונים!C5,M12=נתונים!D5,M12=נתונים!E5,M12=נתונים!F5),נתונים!K6,"נסו שוב")) -> כתבו את התשובה
D13: בכל התורה מילה זו לרעה חוץ מכאן שמתנות עניים ה' ראה | J13: ה | L13: 1 | R13: =IF(M13="","עדיין לא הקלדתם תשובה",IF(OR(M13=נתונים!B6,M13=נתונים!C6,M13=נתונים!D6,M13=נתונים!E6,M13=נתונים!F6),"תשובה נכונה! כל הכבוד!","תשובה לא נכונה")) -> עדיין לא הקלדתם תשובה | T13: =IF(M13="",0.001,IF(OR(M13=נתונים!B6,M13=נתונים!C6,M13=נתונים!D6,M13=נתונים!E6,M13=נתונים!F6),10,0)) -> 0.001 | U13: =IF(M13="","0.001",IF(OR(M13=נתונים!B6,M13=נתונים!C6,M13=נתונים!D6,M13=נתונים!E6,M13=נתונים!F6),"נקודות",0)) -> 0.001 | V13: =IF(M13="","כתבו את התשובה",IF(OR(M13=נתונים!B6,M13=נתונים!C6,M13=נתונים!D6,M13=נתונים!E6,M13=נתונים!F6),נתונים!K7,"נסו שוב")) -> כתבו את התשובה
D14: למילה זו שתי משמעויות ביחד יעקב היה במצרים ומואב חי בפחד | J14: ו | L14: 1 | R14: =IF(M14="","עדיין לא הקלדתם תשובה",IF(OR(M14=נתונים!B7,M14=נתונים!C7,M14=נתונים!D7,M14=נתונים!E7,M14=נתונים!F7),"תשובה נכונה! כל הכבוד!","תשובה לא נכונה")) -> עדיין לא הקלדתם תשובה | T14: =IF(M14="",0.001,IF(OR(M14=נתונים!B7,M14=נתונים!C7,M14=נתונים!D7,M14=נתונים!E7,M14=נתונים!F7),10,0)) -> 0.001 | U14: =IF(M14="","0.001",IF(OR(M14=נתונים!B7,M14=נתונים!C7,M14=נתונים!D7,M14=נתונים!E7,M14=נתונים!F7),"נקודות",0)) -> 0.001 | V14: =IF(M14="","כתבו את התשובה",IF(OR(M14=נתונים!B7,M14=נתונים!C7,M14=נתונים!D7,M14=נתונים!E7,M14=נתונים!F7),נתונים!#REF!,"נסו שוב")) -> כתבו את התשובה
D15: שם החזיק משה את הנחש בפרשתנו זה משל ולא במוחש | J15: ז | L15: 1 | R15: =IF(M15="","עדיין לא הקלדתם תשובה",IF(OR(M15=נתונים!B8,M15=נתונים!C8,M15=נתונים!D8,M15=נתונים!E8,M15=נתונים!F8),"תשובה נכונה! כל הכבוד!","תשובה לא נכונה")) -> עדיין לא הקלדתם תשובה | T15: =IF(M15="",0.001,IF(OR(M15=נתונים!B8,M15=נתונים!C8,M15=נתונים!D8,M15=נתונים!E8,M15=נתונים!F8),10,0)) -> 0.001 | U15: =IF(M15="","0.001",IF(OR(M15=נתונים!B8,M15=נתונים!C8,M15=נתונים!D8,M15=נתונים!E8,M15=נתונים!F8),"נקודות",0)) -> 0.001 | V15: =IF(M15="","כתבו את התשובה",IF(OR(M15=נתונים!B8,M15=נתונים!C8,M15=נתונים!D8,M15=נתונים!E8,M15=נתונים!F8),נתונים!K8,"נסו שוב")) -> כתבו את התשובה
D16: פעם יחידה מילה זו מופיעה עם 'סמך' לסוג שחין אחר הוא נסמך | J16: ח | L16: 1 | R16: =IF(M16="","עדיין לא הקלדתם תשובה",IF(OR(M16=נתונים!B9,M16=נתונים!C9,M16=נתונים!D9,M16=נתונים!E9,M16=נתונים!F9),"תשובה נכונה! כל הכבוד!","תשובה לא נכונה")) -> עדיין לא הקלדתם תשובה | T16: =IF(M16="",0.001,IF(OR(M16=נתונים!B9,M16=נתונים!C9,M16=נתונים!D9,M16=נתונים!E9,M16=נתונים!F9),10,0)) -> 0.001 | U16: =IF(M16="","0.001",IF(OR(M16=נתונים!B9,M16=נתונים!C9,M16=נתונים!D9,M16=נתונים!E9,M16=נתונים!F9),"נקודות",0)) -> 0.001 | V16: =IF(M16="","כתבו את התשובה",IF(OR(M16=נתונים!B9,M16=נתונים!C9,M16=נתונים!D9,M16=נתונים!E9,M16=נתונים!F9),נתונים!K9,"נסו שוב")) -> כתבו את התשובה
D17: מכה שלא כתובה בתורה מאחורי קללה אחרת מסתורה | J17: ט | L17: 1 | R17: =IF(M17="","עדיין לא הקלדתם תשובה",IF(OR(M17=נתונים!B10,M17=נתונים!C10,M17=נתונים!D10,M17=נתונים!E10,M17=נתונים!F10),"תשובה נכונה! כל הכבוד!","תשובה לא נכונה")) -> עדיין לא הקלדתם תשובה | T17: =IF(M17="",0.001,IF(OR(M17=נתונים!B10,M17=נתונים!C10,M17=נתונים!D10,M17=נתונים!E10,M17=נתונים!F10),10,0)) -> 0.001 | U17: =IF(M17="","0.001",IF(OR(M17=נתונים!B10,M17=נתונים!C10,M17=נתונים!D10,M17=נתונים!E10,M17=נתונים!F10),"נקודות",0)) -> 0.001 | V17: =IF(M17="","כתבו את התשובה",IF(OR(M17=נתונים!B10,M17=נתונים!C10,M17=נתונים!D10,M17=נתונים!E10,M17=נתונים!F10),נתונים!K10,"נסו שוב")) -> כתבו את התשובה
D18: מה עשוה הצלצל ושום עץ לא ניצל | J18: י | L18: 1 | R18: =IF(M18="","עדיין לא הקלדתם תשובה",IF(OR(M18=נתונים!B11,M18=נתונים!C11,M18=נתונים!D11,M18=נתונים!E11,M18=נתונים!F11),"תשובה נכונה! כל הכבוד!","תשובה לא נכונה")) -> עדיין לא הקלדתם תשובה | T18: =IF(M18="",0.001,IF(OR(M18=נתונים!B11,M18=נתונים!C11,M18=נתונים!D11,M18=נתונים!E11,M18=נתונים!F11),10,0)) -> 0.001 | U18: =IF(M18="","0.001",IF(OR(M18=נתונים!B11,M18=נתונים!C11,M18=נתונים!D11,M18=נתונים!E11,M18=נתונים!F11),"נקודות",0)) -> 0.001 | V18: =IF(M18="","כתבו את התשובה",IF(OR(M18=נתונים!B11,M18=נתונים!C11,M18=נתונים!D11,M18=נתונים!E11,M18=נתונים!F11),נתונים!K11,"נסו שוב")) -> כתבו את התשובה
D19: את מה שיש למעופפת רגילה הבן בפרשה לאביו גילה | J19: כ | L19: 1 | R19: =IF(M19="","עדיין לא הקלדתם תשובה",IF(OR(M19=נתונים!B12,M19=נתונים!C12,M19=נתונים!D12,M19=נתונים!E12,M19=נתונים!F12),"תשובה נכונה! כל הכבוד!","תשובה לא נכונה")) -> עדיין לא הקלדתם תשובה | T19: =IF(M19="",0.001,IF(OR(M19=נתונים!B12,M19=נתונים!C12,M19=נתונים!D12,M19=נתונים!E12,M19=נתונים!F12),10,0)) -> 0.001 | U19: =IF(M19="","0.001",IF(OR(M19=נתונים!B12,M19=נתונים!C12,M19=נתונים!D12,M19=נתונים!E12,M19=נתונים!F12),"נקודות",0)) -> 0.001 | V19: =IF(M19="","כתבו את התשובה",IF(OR(M19=נתונים!B12,M19=נתונים!C12,M19=נתונים!D12,M19=נתונים!E12,M19=נתונים!F12),נתונים!K12,"נסו שוב")) -> כתבו את התשובה
D20: אשא עיני אל ההרים והנה שבט שחלקו מתברכים וחלקו מאררים | J20: ל | L20: 1 | R20: =IF(M20="","עדיין לא הקלדתם תשובה",IF(OR(M20=נתונים!B13,M20=נתונים!C13,M20=נתונים!D13,M20=נתונים!E13,M20=נתונים!F13),"תשובה נכונה! כל הכבוד!","תשובה לא נכונה")) -> עדיין לא הקלדתם תשובה | T20: =IF(M20="",0.001,IF(OR(M20=נתונים!B13,M20=נתונים!C13,M20=נתונים!D13,M20=נתונים!E13,M20=נתונים!F13),10,0)) -> 0.001 | U20: =IF(M20="","0.001",IF(OR(M20=נתונים!B13,M20=נתונים!C13,M20=נתונים!D13,M20=נתונים!E13,M20=נתונים!F13),"נקודות",0)) -> 0.001 | V20: =IF(M20="","כתבו את התשובה",IF(OR(M20=נתונים!B13,M20=נתונים!C13,M20=נתונים!D13,M20=נתונים!E13,M20=נתונים!F13),נתונים!K13,"נסו שוב")) -> כתבו את התשובה
D21: בן הזוג של אות הוא עצמו פלא פלאות | J21: מ | L21: 1 | R21: =IF(M21="","עדיין לא הקלדתם תשובה",IF(OR(M21=נתונים!B14,M21=נתונים!C14,M21=נתונים!D14,M21=נתונים!E14,M21=נתונים!F14),"תשובה נכונה! כל הכבוד!","תשובה לא נכונה")) -> עדיין לא הקלדתם תשובה | T21: =IF(M21="",0.001,IF(OR(M21=נתונים!B14,M21=נתונים!C14,M21=נתונים!D14,M21=נתונים!E14,M21=נתונים!F14),10,0)) -> 0.001 | U21: =IF(M21="","0.001",IF(OR(M21=נתונים!B14,M21=נתונים!C14,M21=נתונים!D14,M21=נתונים!E14,M21=נתונים!F14),"נקודות",0)) -> 0.001 | V21: =IF(M21="","כתבו את התשובה",IF(OR(M21=נתונים!B14,M21=נתונים!C14,M21=נתונים!D14,M21=נתונים!E14,M21=נתונים!F14),נתונים!K14,"נסו שוב")) -> כתבו את התשובה
D22: שבוע שעבר - סביבו היה מאורע בפרשה ארבעים שנה הוא לא נקרע | J22: נ | L22: 1 | R22: =IF(M22="","עדיין לא הקלדתם תשובה",IF(OR(M22=נתונים!B15,M22=נתונים!C15,M22=נתונים!D15,M22=נתונים!E15,M22=נתונים!F15),"תשובה נכונה! כל הכבוד!","תשובה לא נכונה")) -> עדיין לא הקלדתם תשובה | T22: =IF(M22="",0.001,IF(OR(M22=נתונים!B15,M22=נתונים!C15,M22=נתונים!D15,M22=נתונים!E15,M22=נתונים!F15),10,0)) -> 0.001 | U22: =IF(M22="","0.001",IF(OR(M22=נתונים!B15,M22=נתונים!C15,M22=נתונים!D15,M22=נתונים!E15,M22=נתונים!F15),"נקודות",0)) -> 0.001 | V22: =IF(M22="","כתבו את התשובה",IF(OR(M22=נתונים!B15,M22=נתונים!C15,M22=נתונים!D15,M22=נתונים!E15,M22=נתונים!F15),נתונים!K15,"נסו שוב")) -> כתבו את התשובה
D23: שלוש פעמים בפרשת כי תבוא מילה נרדפת למחבוא | J23: ס | L23: 1 | R23: =IF(M23="","עדיין לא הקלדתם תשובה",IF(OR(M23=נתונים!B16,M23=נתונים!C16,M23=נתונים!D16,M23=נתונים!E16,M23=נתונים!F16),"תשובה נכונה! כל הכבוד!","תשובה לא נכונה")) -> עדיין לא הקלדתם תשובה | T23: =IF(M23="",0.001,IF(OR(M23=נתונים!B16,M23=נתונים!C16,M23=נתונים!D16,M23=נתונים!E16,M23=נתונים!F16),10,0)) -> 0.001 | U23: =IF(M23="","0.001",IF(OR(M23=נתונים!B16,M23=נתונים!C16,M23=נתונים!D16,M23=נתונים!E16,M23=נתונים!F16),"נקודות",0)) -> 0.001 | V23: =IF(M23="","כתבו את התשובה",IF(OR(M23=נתונים!B16,M23=נתונים!C16,M23=נתונים!D16,M23=נתונים!E16,M23=נתונים!F16),נתונים!K16,"נסו שוב")) -> כתבו את התשובה
D24: ב"וישלח" הוא איש 'החורי' בפרשתנו הוא הר אחורי | J24: ע | L24: 1 | R24: =IF(M24="","עדיין לא הקלדתם תשובה",IF(OR(M24=נתונים!B17,M24=נתונים!C17,M24=נתונים!D17,M24=נתונים!E17,M24=נתונים!F17),"תשובה נכונה! כל הכבוד!","תשובה לא נכונה")) -> עדיין לא הקלדתם תשובה | T24: =IF(M24="",0.001,IF(OR(M24=נתונים!B17,M24=נתונים!C17,M24=נתונים!D17,M24=נתונים!E17,M24=נתונים!F17),10,0)) -> 0.001 | U24: =IF(M24="","0.001",IF(OR(M24=נתונים!B17,M24=נתונים!C17,M24=נתונים!D17,M24=נתונים!E17,M24=נתונים!F17),"נקודות",0)) -> 0.001 | V24: =IF(M24="","כתבו את התשובה",IF(OR(M24=נתונים!B17,M24=נתונים!C17,M24=נתונים!D17,M24=נתונים!E17,M24=נתונים!F17),נתונים!K17,"נסו שוב")) -> כתבו את התשובה
D25: משותף לאדמה לאדם ובהמה | J25: פ | L25: 1 | R25: =IF(M25="","עדיין לא הקלדתם תשובה",IF(OR(M25=נתונים!B18,M25=נתונים!C18,M25=נתונים!D18,M25=נתונים!E18,M25=נתונים!F18),"תשובה נכונה! כל הכבוד!","תשובה לא נכונה")) -> עדיין לא הקלדתם תשובה | T25: =IF(M25="",0.001,IF(OR(M25=נתונים!B18,M25=נתונים!C18,M25=נתונים!D18,M25=נתונים!E18,M25=נתונים!F18),10,0)) -> 0.001 | U25: =IF(M25="","0.001",IF(OR(M25=נתונים!B18,M25=נתונים!C18,M25=נתונים!D18,M25=נתונים!E18,M25=נתונים!F18),"נקודות",0)) -> 0.001 | V25: =IF(M25="","כתבו את התשובה",IF(OR(M25=נתונים!B18,M25=נתונים!C18,M25=נתונים!D18,M25=נתונים!E18,M25=נתונים!F18),נתונים!#REF!,"נסו שוב")) -> כתבו את התשובה
D26: תמשש בשעה שש | J26: צ | L26: 1 | R26: =IF(M26="","עדיין לא הקלדתם תשובה",IF(OR(M26=נתונים!B19,M26=נתונים!C19,M26=נתונים!D19,M26=נתונים!E19,M26=נתונים!F19),"תשובה נכונה! כל הכבוד!","תשובה לא נכונה")) -> עדיין לא הקלדתם תשובה | T26: =IF(M26="",0.001,IF(OR(M26=נתונים!B19,M26=נתונים!C19,M26=נתונים!D19,M26=נתונים!E19,M26=נתונים!F19),10,0)) -> 0.001 | U26: =IF(M26="","0.001",IF(OR(M26=נתונים!B19,M26=נתונים!C19,M26=נתונים!D19,M26=נתונים!E19,M26=נתונים!F19),"נקודות",0)) -> 0.001 | V26: =IF(M26="","כתבו את התשובה",IF(OR(M26=נתונים!B19,M26=נתונים!C19,M26=נתונים!D19,M26=נתונים!E19,M26=נתונים!F19),נתונים!K18,"נסו שוב")) -> כתבו את התשובה
D27: כך הלויים אמרו את הארור וזה נשמע מאוד ברור | J27: ק | L27: 2 | R27: =IF(M27="","עדיין לא הקלדתם תשובה",IF(OR(M27=נתונים!B20,M27=נתונים!C20,M27=נתונים!D20,M27=נתונים!E20,M27=נתונים!F20),"תשובה נכונה! כל הכבוד!","תשובה לא נכונה")) -> עדיין לא הקלדתם תשובה | T27: =IF(M27="",0.001,IF(OR(M27=נתונים!B20,M27=נתונים!C20,M27=נתונים!D20,M27=נתונים!E20,M27=נתונים!F20),10,0)) -> 0.001 | U27: =IF(M27="","0.001",IF(OR(M27=נתונים!B20,M27=נתונים!C20,M27=נתונים!D20,M27=נתונים!E20,M27=נתונים!F20),"נקודות",0)) -> 0.001 | V27: =IF(M27="","כתבו את התשובה",IF(OR(M27=נתונים!B20,M27=נתונים!C20,M27=נתונים!D20,M27=נתונים!E20,M27=נתונים!F20),נתונים!K19,"נסו שוב")) -> כתבו את התשובה
D28: איש ענוג ומפונק כך העגל שאברהם הגיש מענק | J28: ר | L28: 1 | R28: =IF(M28="","עדיין לא הקלדתם תשובה",IF(OR(M28=נתונים!B21,M28=נתונים!C21,M28=נתונים!D21,M28=נתונים!E21,M28=נתונים!F21),"תשובה נכונה! כל הכבוד!","תשובה לא נכונה")) -> עדיין לא הקלדתם תשובה | T28: =IF(M28="",0.001,IF(OR(M28=נתונים!B21,M28=נתונים!C21,M28=נתונים!D21,M28=נתונים!E21,M28=נתונים!F21),10,0)) -> 0.001 | U28: =IF(M28="","0.001",IF(OR(M28=נתונים!B21,M28=נתונים!C21,M28=נתונים!D21,M28=נתונים!E21,M28=נתונים!F21),"נקודות",0)) -> 0.001 | V28: =IF(M28="","כתבו את התשובה",IF(OR(M28=נתונים!B21,M28=נתונים!C21,M28=נתונים!D21,M28=נתונים!E21,M28=נתונים!F21),נתונים!K20,"נסו שוב")) -> כתבו את התשובה
D29: ב'בחוקותי' הם כברזל ליבושת בפרשה הם מטפטפים כנחושת | J29: שׁ | L29: 1 | R29: =IF(M29="","עדיין לא הקלדתם תשובה",IF(OR(M29=נתונים!B22,M29=נתונים!C22,M29=נתונים!D22,M29=נתונים!E22,M29=נתונים!F22),"תשובה נכונה! כל הכבוד!","תשובה לא נכונה")) -> עדיין לא הקלדתם תשובה | T29: =IF(M29="",0.001,IF(OR(M29=נתונים!B22,M29=נתונים!C22,M29=נתונים!D22,M29=נתונים!E22,M29=נתונים!F22),10,0)) -> 0.001 | U29: =IF(M29="","0.001",IF(OR(M29=נתונים!B22,M29=נתונים!C22,M29=נתונים!D22,M29=נתונים!E22,M29=נתונים!F22),"נקודות",0)) -> 0.001 | V29: =IF(M29="","כתבו את התשובה",IF(OR(M29=נתונים!B22,M29=נתונים!C22,M29=נתונים!D22,M29=נתונים!E22,M29=נתונים!F22),נתונים!K21,"נסו שוב")) -> כתבו את התשובה
D30: כך דינם של כל הנסקלים בפרשה ביטוי לחיים לא קלים | J30: ת | L30: 1 | R30: =IF(M30="","עדיין לא הקלדתם תשובה",IF(OR(M30=נתונים!B23,M30=נתונים!C23,M30=נתונים!D23,M30=נתונים!E23,M30=נתונים!F23),"תשובה נכונה! כל הכבוד!","תשובה לא נכונה")) -> עדיין לא הקלדתם תשובה | T30: =IF(M30="",0.001,IF(OR(M30=נתונים!B23,M30=נתונים!C23,M30=נתונים!D23,M30=נתונים!E23,M30=נתונים!F23),10,0)) -> 0.001 | U30: =IF(M30="","0.001",IF(OR(M30=נתונים!B23,M30=נתונים!C23,M30=נתונים!D23,M30=נתונים!E23,M30=נתונים!F23),"נקודות",0)) -> 0.001 | V30: =IF(M30="","כתבו את התשובה",IF(OR(M30=נתונים!B23,M30=נתונים!C23,M30=נתונים!D23,M30=נתונים!E23,M30=נתונים!F23),נתונים!K22,"נסו שוב")) -> כתבו את התשובה

Sheet נתונים
B1: תשובה ראשית | C1: תשובה ב | D1: תשובה ג | E1: תשובה ד | K1: מקורות
A2: א | B2: אפלה | K2: פרק כ"ח פסוק כ"ט שמות פרק י' פסוק כ"ב
A3: ב | B3: ברוך אתה בבואך | K3: פרק כ"ח פסוק ו'
A4: ג | B4: גר | K4: פרק כ"ח פסוק מ"ג
A5: ד | B5: דלקת | K5: פרק כ"ח פסוק כ"ב בראשית פרק ל"א פסוק ל"ו
A6: ה | B6: השקיפה | C6: השקפה | K6: פרק כ"ו פסוק ט"ו ע"פ בראשית פרק י"ח פסוק ט"ז רש"י
A7: ו | B7: ויגר | K7: פרק כ"ו פסוק ה' במדבר פרק כ"ב פסוק ג'
A8: ז | B8: זנב | K8: פרק כ"ח פסוק י"ג שמות פרק ד' פסוק ד'
A9: ח | B9: חרס | K9: פרק כ"ח פסוק כ"ז
A10: ט | B10: טחורים | C10: טחרים | K10: פרק כ"ח פסוק כ"ז קרי ולא כתיב
A11: י | B11: יירש | K11: פרק כ"ח פסוק מ"ב
A12: כ | B12: כנף | K12: פרק כ"ז פסוק כ'
A13: ל | B13: לוי | K13: פרק כ"ז פסוק י"ב -י"ד
A14: מ | B14: מופת | K14: פרק כ"ח פסוק מ"ו
A15: נ | B15: נעל | K15: פרק כ"ט פסוק ד' פרק כ"ה פסוק ט'
A16: ס | B16: סתר | K16: פרק כ"ז פסוקים ט"ז -כ"ד פרק כ"ח פסוק נ"ז
A17: ע | B17: עיבל | K17: פרק כ"ז פסוק י"ג רש"י בראשית פרק ל"ו פסוק כ"ג
A18: פ | B18: פרי | K18: פרק כ"ח פסוק ד'
A19: צ | B19: צהרים | C19: צהריים | K19: פרק כ"ח פסוק כ"ט
A20: ק | B20: קול רם | K20: פרק כ"ז פסוק י"ד
A21: ר | B21: רך | K21: פרק כ"ח פסוק נ"ד בראשית פרק י"ח פסוק ז'
A22: ש | B22: שמיך | K22: פרק כ"ח פסוק כ"ג ויקרא פרק כ"ו פסוק י"ט רש"י
A23: ת | B23: תלואים | C23: תלאים | K23: פרק כ"ח פסוק ס"ו במדבר פרק כ"א פסוק כ"ב רש"י
