Workbook
Name _new1: [1]הערות!$E$55
Name _new2: [2]הערות!$E$55
Name a: #REF!
Name data_colm: #REF!
Name data_columns: #REF!
Name data_tocompany: #REF!
Name data_tocompany: #REF!
Name list_dates: #REF!
Name mess28: [3]הערות!$E$53
Name nomoremess: [4]הערות!$E$55
Name range_data: #REF!
Name table_company: #REF!

Sheet סכום נכסי הקרן
B1: 30/09/2019
B2: מור קופות גמל בע"מ
B3: אינטרגמל לחיסכון ארוך טווח לילד-הלכה יהודית
B4: 514956465-00000000008861-0009113
B6: סכום נכסי ההשקעה:
C7: שווי הוגן | D7: שעור מנכסי השקעה* | AJ7: שווי הוגן
C8: אלפי ש״ח | D8: אחוזים | AJ8: עלות
C9: (1) | D9: (2) | AJ9: שווי הוגן/עעלות
B10: 1. נכסים המוצגים לפי שווי הוגן
A11: ◄ | B11: א. מזומנים | C11: =מזומנים!J10 -> 3408 | D11: =מזומנים!L10 -> 11.93
B12: ב. ניירות ערך סחירים:
A13: ◄ | B13: (1) תעודות התחייבות ממשלתיות | C13: ='תעודות התחייבות ממשלתיות'!O11 -> 9542.66 | D13: ='תעודות התחייבות ממשלתיות'!R11 -> 33.41
A14: ◄ | B14: (2) תעודות חוב מסחריות | C14: ='תעודות חוב מסחריות '!R11 -> 0 | D14: ='תעודות חוב מסחריות '!U11 -> 0
A15: ◄ | B15: (3) אג"ח קונצרני | C15: ='אג"ח קונצרני'!R11 -> 10389.43 | D15: ='אג"ח קונצרני'!U11 -> 36.37
A16: ◄ | B16: (4) מניות | C16: =מניות!L11 -> 0 | D16: =מניות!O11 -> 0
A17: ◄ | B17: (5) תעודות סל | C17: ='תעודות סל'!K11 -> 5223.34 | D17: ='תעודות סל'!N11 -> 18.29
A18: ◄ | B18: (6) תעודות השתתפות בקרנות נאמנות | C18: ='קרנות נאמנות'!L11 -> 0 | D18: ='קרנות נאמנות'!O11 -> 0
A19: ◄ | B19: (7) כתבי אופציה | C19: ='כתבי אופציה'!I11 -> 0 | D19: ='כתבי אופציה'!L11 -> 0
A20: ◄ | B20: (8) אופציות | C20: =אופציות!I11 -> 0 | D20: =אופציות!L11 -> 0
A21: ◄ | B21: (9) חוזים עתידיים | C21: ='חוזים עתידיים'!I11 -> 0 | D21: ='חוזים עתידיים'!K11 -> 0
A22: ◄ | B22: (10) מוצרים מובנים | C22: ='מוצרים מובנים'!N11 -> 0 | D22: ='מוצרים מובנים'!Q11 -> 0
B23: ג. ניירות ערך לא סחירים:
A24: ◄ | B24: (1) תעודות התחייבות ממשלתיות | C24: ='לא סחיר- תעודות התחייבות ממשלתי'!M11 -> 0 | D24: ='לא סחיר- תעודות התחייבות ממשלתי'!P11 -> 0
A25: ◄ | B25: (2) תעודות חוב מסחריות | C25: ='לא סחיר - תעודות חוב מסחריות'!P11 -> 0 | D25: ='לא סחיר - תעודות חוב מסחריות'!S11 -> 0
A26: ◄ | B26: (3) אג"ח קונצרני | C26: ='לא סחיר - אג"ח קונצרני'!P11 -> 0 | D26: ='לא סחיר - אג"ח קונצרני'!S11 -> 0
A27: ◄ | B27: (4) מניות | C27: ='לא סחיר - מניות'!J11 -> 0 | D27: ='לא סחיר - מניות'!M11 -> 0
A28: ◄ | B28: (5) קרנות השקעה | C28: ='לא סחיר - קרנות השקעה'!H11 -> 0 | D28: ='לא סחיר - קרנות השקעה'!K11 -> 0
A29: ◄ | B29: (6) כתבי אופציה | C29: ='לא סחיר - כתבי אופציה'!I11 -> 0 | D29: ='לא סחיר - כתבי אופציה'!L11 -> 0
A30: ◄ | B30: (7) אופציות | C30: ='לא סחיר - אופציות'!I11 -> 0 | D30: ='לא סחיר - אופציות'!L11 -> 0
A31: ◄ | B31: (8) חוזים עתידיים | C31: ='לא סחיר - חוזים עתידיים'!I11 -> 0 | D31: ='לא סחיר - חוזים עתידיים'!K11 -> 0
A32: ◄ | B32: (9) מוצרים מובנים | C32: ='לא סחיר - מוצרים מובנים'!N11 -> 0 | D32: ='לא סחיר - מוצרים מובנים'!Q11 -> 0
A33: ◄ | B33: ד. הלוואות | C33: =הלוואות!O10 -> 0 | D33: =הלוואות!Q10 -> 0
A34: ◄ | B34: ה. פקדונות מעל 3 חודשים | C34: ='פקדונות מעל 3 חודשים'!M10 -> 0 | D34: ='פקדונות מעל 3 חודשים'!O10 -> 0
A35: ◄ | B35: ו. זכויות מקרקעין | C35: ='זכויות מקרקעין'!G10 -> 0 | D35: ='זכויות מקרקעין'!I10 -> 0
A36: ◄ | B36: ז. השקעה בחברות מוחזקות | C36: ='השקעה בחברות מוחזקות'!I10 -> 0 | D36: ='השקעה בחברות מוחזקות'!K10 -> 0
A37: ◄ | B37: ח. השקעות אחרות | C37: ='השקעות אחרות '!I10 -> 0 | D37: ='השקעות אחרות '!K10 -> 0
B38: 2. נכסים המוצגים לפי עלות מתואמת
A39: ◄ | B39: א. אג"ח קונצרני סחיר | C39: ='עלות מתואמת אג"ח קונצרני סחיר'!M10 -> 0 | D39: ='עלות מתואמת אג"ח קונצרני סחיר'!P10 -> 0
A40: ◄ | B40: ב. אג"ח קונצנרני לא סחיר | C40: ='עלות מתואמת אג"ח קונצרני ל.סחיר'!M10 -> 0 | D40: ='עלות מתואמת אג"ח קונצרני ל.סחיר'!P10 -> 0
A41: ◄ | B41: ג. מסגרות אשראי מנוצלות ללווים | C41: ='עלות מתואמת מסגרות אשראי ללווים'!M10 -> 0 | D41: ='עלות מתואמת מסגרות אשראי ללווים'!P10 -> 0
...

Sheet מזומנים
B1: 30/09/2019
B2: מור קופות גמל בע"מ
B3: אינטרגמל לחיסכון ארוך טווח לילד-הלכה יהודית
B4: 514956465-00000000008861-0009113
B6: 1.א. מזומנים ושווי מזומנים
B7: שם המנפיק/שם נייר ערך | C7: מספר ני"ע | D7: מספר מנפיק | E7: דירוג | F7: שם מדרג | G7: סוג מטבע | H7: שיעור ריבית | I7: תשואה לפידיון | J7: שווי שוק | K7: שעור מנכסי אפיק ההשקעה | L7: שעור מסך נכסי השקעה
H8: אחוזים | I8: אחוזים | J8: אלפי ש״ח | K8: אחוזים | L8: אחוזים
C9: (1) | D9: (2) | E9: (3) | F9: (4) | G9: (5) | H9: (6) | I9: (7) | J9: (8) | K9: (9) | L9: (10)
B10: סה"כ מזומנים ושווי מזומנים | J10: 3408 | L10: 11.93
B11: סה"כ בישראל: | J11: 3408 | L11: 11.93
B12: סה"כ יתרות מזומנים ועו"ש בש"ח | J12: 3077.22 | L12: 10.77
B13: פועלים 407113 | C13: 302 | D13: 12 | E13: AAA | F13: מעלות S&P | G13: שקל חדש | H13: 0 | I13: 0 | J13: 3077.22 | K13: 90.29 | L13: 10.77
B14: סה"כ יתרות מזומנים ועו"ש נקובים במט"ח | J14: 330.78 | L14: 1.16
B15: פועלים-עו"ש דולר | C15: 1 | D15: 12 | E15: AAA | F15: מעלות S&P | G15: דולר אמריקאי | H15: 0 | I15: 0 | J15: 330.78 | K15: 9.71 | L15: 1.16
B16: סה"כ פח"ק/פר"י
B18: סה"כ פק"מ לתקופה של עד שלושה חודשים
B20: סה"כ פקדון צמוד מדד עד שלושה חודשים
B22: סה"כ פקדון צמוד מט"ח עד שלושה חודשים (פצ"מ)
B24: סה"כ פקדונות במט"ח עד שלושה חודשים
B26: סה"כ בחו"ל:
B27: סה"כ יתרות מזומנים ועו"ש נקובים במט"ח
B29: סה"כ פקדונות במט"ח עד שלושה חודשים
B31: * בעל ענין/צד קשור-הכוכביות תופענה ארך ורק ליד שם המנפיק/שם הנייר
B32: סוף מידע

Sheet תעודות התחייבות ממשלתיות
B1: 30/09/2019
B2: מור קופות גמל בע"מ
B3: אינטרגמל לחיסכון ארוך טווח לילד-הלכה יהודית
B4: 514956465-00000000008861-0009113
B6: 1.ב. ניירות ערך סחירים
B7: 1. תעודות התחייבות ממשלתיות
B8: שם המנפיק/שם נייר ערך | C8: מספר ני"ע | D8: זירת מסחר | E8: דירוג | F8: שם מדרג | G8: תאריך רכישה | H8: מח"מ | I8: סוג מטבע | J8: שיעור ריבית | K8: תשואה לפידיון | L8: ערך נקוב**** | M8: שער *** | N8: פדיון/ ריבית לקבל ***** | O8: שווי שוק | P8: שעור מערך נקוב**** מונפק | Q8: שעור מנכסי אפיק ההשקעה | R8: שעור מסך נכסי השקעה**
G9: תאריך | H9: שנים | J9: אחוזים | K9: אחוזים | L9: יחידות | M9: אגורות | N9: אלפי ש״ח | O9: אלפי ש״ח | P9: אחוזים | Q9: אחוזים | R9: אחוזים
C10: (1) | D10: (2) | E10: (3) | F10: (4) | G10: (5) | H10: (6) | I10: (7) | J10: (8) | K10: (9) | L10: (10) | M10: (11) | N10: (12) | O10: (13) | P10: (14) | Q10: (15) | R10: (16)
B11: סה"כ תעודות התחייבות ממשלתיות | H11: 4.22 | K11: -0.09 | L11: 7940191 | N11: 41.784 | O11: 9542.66 | R11: 33.41
B12: סה"כ בישראל: | H12: 4.22 | K12: -0.09 | L12: 7940191 | N12: 41.784 | O12: 9542.66 | R12: 33.41
B13: סה"כ צמודות מדד | H13: 3.7 | K13: -0.87 | L13: 3181850 | N13: 10.189 | O13: 4172.87 | R13: 14.61
B14: גליל 5903 | C14: 9590332 | D14: TASE | E14: 0 | F14: אין דירוג | H14: 1.8 | I14: שקל חדש | J14: 4 | K14: -0.92 | L14: 1367500 | M14: 144.5 | N14: 0 | O14: 1976.04 | P14: 0.01 | Q14: 20.71 | R14: 6.92
B15: גליל 5904 | C15: 9590431 | D15: TASE | E15: 0 | F15: אין דירוג | H15: 4.52 | I15: שקל חדש | J15: 4 | K15: -0.93 | L15: 296400 | M15: 155.95 | N15: 0 | O15: 462.24 | P15: 0 | Q15: 4.84 | R15: 1.62
B16: ממשל צמודה 922 | C16: 1124056 | D16: TASE | E16: 0 | F16: אין דירוג | H16: 2.94 | I16: שקל חדש | J16: 2.75 | K16: -1 | L16: 347100 | M16: 116.53 | N16: 9.947 | O16: 414.42 | P16: 0 | Q16: 4.34 | R16: 1.45
B17: ממשל צמודה 527 | C17: 1140847 | D17: TASE | E17: 0 | F17: אין דירוג | H17: 7.49 | I17: שקל חדש | J17: 0.75 | K17: -0.71 | L17: 590000 | M17: 113.96 | N17: 0 | O17: 672.36 | P17: 0 | Q17: 7.05 | R17: 2.35
B18: ממשלתי צמוד 1019 | C18: 1114750 | D18: TASE | E18: 0 | F18: אין דירוג | H18: 0.09 | I18: שקל חדש | J18: 3 | K18: 2.05 | L18: 10000 | M18: 114.2 | N18: 0 | O18: 11.42 | P18: 0 | Q18: 0.12 | R18: 0.04
B19: ממשלתי צמוד 923 | C19: 1128081 | D19: TASE | E19: 0 | F19: אין דירוג | H19: 3.91 | I19: שקל חדש | J19: 1.75 | K19: -0.96 | L19: 13500 | M19: 114 | N19: 0.242 | O19: 15.63 | P19: 0 | Q19: 0.16 | R19: 0.05
B20: ממשלתי צמוד 1025 | C20: 1135912 | D20: TASE | E20: 0 | F20: אין דירוג | H20: 5.95 | I20: שקל חדש | J20: 0.75 | K20: -0.83 | L20: 517400 | M20: 112.05 | N20: 0 | O20: 579.75 | P20: 0 | Q20: 6.08 | R20: 2.03
B21: ממשלתי צמוד 1020 | C21: 1137181 | D21: TASE | E21: 0 | F21: אין דירוג | H21: 1.09 | I21: שקל חדש | J21: 0.1 | K21: -0.67 | L21: 39950 | M21: 102.66 | N21: 0 | O21: 41.01 | P21: 0 | Q21: 0.43 | R21: 0.14
B22: סה"כ לא צמודות | H22: 4.63 | K22: 0.51 | L22: 4758341 | N22: 31.595 | O22: 5369.78 | R22: 18.8
Q23: 0
B24: ממשל שקליות 1123 | C24: 1155068 | D24: TASE | E24: 0 | F24: אין דירוג | H24: 4.04 | I24: שקל חדש | J24: 1.5 | K24: 0.37 | L24: 363900 | M24: 105.9 | N24: 0 | O24: 385.37 | P24: 0 | Q24: 4.04 | R24: 1.35
B25: ממשל שקלית 1026 | C25: 1099456 | D25: TASE | E25: 0 | F25: אין דירוג | H25: 5.9 | I25: שקל חדש | J25: 6.25 | K25: 0.68 | L25: 420000 | M25: 144.12 | N25: 0 | O25: 605.3 | P25: 0 | Q25: 6.34 | R25: 2.12
B26: ממשל שקלית 928 | C26: 1150879 | D26: TASE | E26: 0 | F26: אין דירוג | H26: 8.31 | I26: שקל חדש | J26: 2.25 | K26: 0.91 | L26: 1408060 | M26: 111.57 | N26: 31.595 | O26: 1602.57 | P26: 0.01 | Q26: 16.79 | R26: 5.61
B27: ממשלתי שקלי 1122 | C27: 1141225 | D27: TASE | E27: 0 | F27: אין דירוג | H27: 3.11 | I27: שקל חדש | J27: 1.25 | K27: 0.31 | L27: 313610 | M27: 104 | N27: 0 | O27: 326.15 | P27: 0 | Q27: 3.42 | R27: 1.14
B28: ממשלתי שקלית 122 | C28: 1123272 | D28: TASE | E28: 0 | F28: אין דירוג | H28: 2.21 | I28: שקל חדש | J28: 5.5 | K28: 0.25 | L28: 1252771 | M28: 115.87 | N28: 0 | O28: 1451.59 | P28: 0.01 | Q28: 15.21 | R28: 5.08
B29: ממשל משתנה 1121 | C29: 1127646 | D29: TASE | E29: 0 | F29: אין דירוג | H29: 2.17 | I29: שקל חדש | J29: 0.34 | K29: 0.26 | L29: 1000000 | M29: 99.88 | N29: 0 | O29: 998.8 | P29: 0.01 | Q29: 10.47 | R29: 3.5
B30: סה"כ צמודות לדולר
Q31: 0
B32: סה"כ בחו"ל:
B33: סה"כ אג"ח של ממשלת ישראל שהונפקו בחו"ל
Q34: 0
B35: סה"כ אג"ח שהנפיקו ממשלות זרות בחו"ל
Q36: 0
B37: ** בהתאם לשיטה שיושמה בדוח הכספי
B38: ***שער-יוצג במאית המטבע המקומי, קרי /סנט וכ'ו
B39: ****ערך נקוב-יוצג היחידות במטבע בו בוצעה העסקה במקור
B40: סוף מידע

Sheet תעודות חוב מסחריות 
B1: 30/09/2019
B2: מור קופות גמל בע"מ
B3: אינטרגמל לחיסכון ארוך טווח לילד-הלכה יהודית
B4: 514956465-00000000008861-0009113
B6: 1.ב. ניירות ערך סחירים
B7: 2. תעודות חוב מסחריות
B8: שם המנפיק/שם נייר ערך | C8: מספר ני"ע | D8: זירת מסחר | E8: ספק מידע | F8: מספר מנפיק | G8: ענף מסחר | H8: דירוג | I8: שם מדרג | J8: תאריך רכישה | K8: מח"מ | L8: סוג מטבע | M8: שיעור ריבית | N8: תשואה לפידיון | O8: ערך נקוב**** | P8: שער*** | Q8: פדיון/ ריבית לקבל ***** | R8: שווי שוק | S8: שעור מערך נקוב מונפק | T8: שעור מנכסי אפיק ההשקעה | U8: שעור מסך נכסי השקעה**
J9: תאריך | K9: שנים | M9: אחוזים | N9: אחוזים | O9: יחידות | P9: אגורות | Q9: אלפי ש״ח | R9: אלפי ש״ח | S9: אחוזים | T9: אחוזים | U9: אחוזים
C10: (1) | D10: (2) | E10: (3) | F10: (4) | G10: (5) | H10: (6) | I10: (7) | J10: (8) | K10: (9) | L10: (10) | M10: (11) | N10: (12) | O10: (13) | P10: (14) | Q10: (15) | R10: (16) | S10: (17) | T10: (18) | U10: (19)
B11: סה"כ תעודות חוב מסחריות
B12: סה"כ בישראל:
B13: סה"כ צמודות
B15: סה"כ לא צמודות
B17: סה"כ צמודות למט"ח
B19: סה"כ בחו"ל:
B20: סה"כ חברות ישראליות בחו"ל
B22: סה"כ חברות זרות בחו"ל
B24: * בעל ענין/צד קשור-הכוכביות תופענה ארך ורק ליד שם המנפיק/שם הנייר
B25: ** בהתאם לשיטה שיושמה בדוח הכספי
B26: ***שער-יוצג במאית המטבע המקומי, קרי /סנט וכ'ו
B27: ****ערך נקוב-יוצג היחידות במטבע בו בוצעה העסקה במקור
B28: סוף מידע

Sheet אג"ח קונצרני
B1: 30/09/2019
B2: מור קופות גמל בע"מ
B3: אינטרגמל לחיסכון ארוך טווח לילד-הלכה יהודית
B4: 514956465-00000000008861-0009113
B6: 1.ב. ניירות ערך סחירים
B7: 3. אג"ח קונצרני
B8: שם המנפיק/שם נייר ערך | C8: מספר ני"ע | D8: זירת מסחר | E8: ספק מידע | F8: מספר מנפיק | G8: ענף מסחר | H8: דירוג | I8: שם מדרג | J8: תאריך רכישה | K8: מח"מ | L8: סוג מטבע | M8: שיעור ריבית | N8: תשואה לפידיון | O8: ערך נקוב | P8: שער*** | Q8: פדיון/ריבית לקבל ***** | R8: שווי שוק | S8: שעור מערך נקוב מונפק | T8: שעור מנכסי אפיק ההשקעה | U8: שעור מסך נכסי השקעה**
J9: תאריך | K9: שנים | M9: אחוזים | N9: אחוזים | O9: יחידות | P9: אגורות | Q9: אלפי ש״ח | R9: אלפי ש״ח | S9: אחוזים | T9: אלפי ש״ח | U9: אחוזים
C10: (1) | D10: (2) | E10: (3) | F10: (4) | G10: (5) | H10: (6) | I10: (7) | J10: (8) | K10: (9) | L10: (10) | M10: (11) | N10: (12) | O10: (13) | P10: (14) | Q10: (15) | R10: (16) | S10: (17) | T10: (18) | U10: (19)
B11: סה"כ אגרות חוב קונצרניות | K11: 2.26 | N11: 0.72 | O11: 9428230.6 | Q11: 19.625 | R11: 10389.43 | U11: 36.37
B12: סה"כ בישראל: | K12: 2.26 | N12: 0.72 | O12: 9428230.6 | Q12: 19.625 | R12: 10389.43 | U12: 36.37
B13: סה"כ צמודות | K13: 1.83 | N13: 0.06 | O13: 4618436.5 | Q13: 14.734 | R13: 5278.1 | U13: 18.48
B14: מז טפ הנפק 38 | C14: 2310142 | D14: TASE | F14: 231 | G14: בנקים | H14: ilAAA | I14: מעלות S&P | K14: 1.46 | L14: שקל חדש | M14: 0.41 | N14: -0.19 | O14: 46669.39 | P14: 101.4 | Q14: 0 | R14: 47.32 | S14: 0.01 | T14: 0.46 | U14: 0.17
B15: מז טפ הנפק 39 | C15: 2310159 | D15: TASE | F15: 231 | G15: בנקים | H15: ilAAA | I15: מעלות S&P | K15: 0.35 | L15: שקל חדש | M15: 0.64 | N15: 0.63 | O15: 306000 | P15: 101.21 | Q15: 0 | R15: 309.7 | S15: 0.01 | T15: 2.98 | U15: 1.08
B16: פועלים הנ אג 35 | C16: 1940618 | D16: TASE | F16: 194 | G16: בנקים | H16: ilAAA | I16: מעלות S&P | K16: 4.58 | L16: שקל חדש | M16: 0.6 | N16: -0.41 | O16: 139788 | P16: 106.76 | Q16: 0 | R16: 149.24 | S16: 0.01 | T16: 1.44 | U16: 0.52
B17: פועלים הנ אגח 33 | C17: 1940568 | D17: TASE | F17: 194 | G17: בנקים | H17: ilAAA | I17: מעלות S&P | K17: 0.97 | L17: שקל חדש | M17: 1.6 | N17: -0.1 | O17: 20500.03 | P17: 102.2 | Q17: 0 | R17: 20.95 | S17: 0 | T17: 0.2 | U17: 0.07
B18: ירושלים הנפ אגח ט | C18: 1127422 | D18: TASE | F18: 1248 | G18: בנקים | H18: Aaa.il | I18: מידרוג | K18: 1.25 | L18: שקל חדש | M18: 2 | N18: -0.01 | O18: 267768 | P18: 106.73 | Q18: 0 | R18: 285.79 | S18: 0.06 | T18: 2.75 | U18: 1
B19: בינל הנפק אגח ט | C19: 1135177 | D19: TASE | F19: 1153 | G19: בנקים | H19: ilAA+ | I19: מעלות S&P | K19: 1.01 | L19: שקל חדש | M19: 0.8 | N19: -0.27 | O19: 269155.77 | P19: 103.94 | Q19: 0 | R19: 279.76 | S19: 0.06 | T19: 2.69 | U19: 0.98
B20: פועלים הנפ הת י | C20: 1940402 | D20: TASE | F20: 194 | G20: בנקים | H20: ilAA+ | I20: מעלות S&P | K20: 0.99 | L20: שקל חדש | M20: 4.1 | N20: 0.35 | O20: 271110.67 | P20: 129.38 | Q20: 0 | R20: 350.76 | S20: 0.02 | T20: 3.38 | U20: 1.23
B21: בינל הנפק אגח ד | C21: 1103126 | D21: TASE | F21: 1153 | G21: בנקים | H21: Aa1.il | I21: מידרוג | K21: 0.97 | L21: שקל חדש | M21: 4.2 | N21: 0.67 | O21: 32675 | P21: 126.62 | Q21: 0 | R21: 41.37 | S21: 0.06 | T21: 0.4 | U21: 0.14
B22: בינל הנפק התח כ | C22: 1121953 | D22: TASE | F22: 1153 | G22: בנקים | H22: Aa1.il | I22: מידרוג | K22: 0.83 | L22: שקל חדש | M22: 3.1 | N22: 0.15 | O22: 20000 | P22: 111.57 | Q22: 0 | R22: 22.31 | S22: 0.01 | T22: 0.21 | U22: 0.08
B23: לאומי שה נד 200 | C23: 6040141 | D23: TASE | F23: 604 | G23: בנקים | H23: ilAA | I23: מעלות S&P | K23: 1.32 | L23: שקל חדש | M23: 4 | N23: -0.2 | O23: 440460 | P23: 116.04 | Q23: 0 | R23: 511.11 | S23: 0.03 | T23: 4.92 | U23: 1.79
B24: מוניציפל הנ אגח ז | C24: 1119825 | D24: TASE | F24: 1291 | G24: בנקים | H24: ilAA | I24: מעלות S&P | K24: 2.31 | L24: שקל חדש | M24: 3.55 | N24: -0.43 | O24: 82462.4 | P24: 119.6 | Q24: 0 | R24: 98.63 | S24: 0.03 | T24: 0.95 | U24: 0.35
B25: מוניציפל הנ אגח י | C25: 1134147 | D25: TASE | F25: 1291 | G25: בנקים | H25: ilAA | I25: מעלות S&P | K25: 5.25 | L25: שקל חדש | M25: 1.5 | N25: -0.32 | O25: 92000 | P25: 111.72 | Q25: 0 | R25: 102.78 | S25: 0.02 | T25: 0.99 | U25: 0.36
... B33: ירושלים הנ נד 10 | C33: 1127414 | D33: TASE | F33: 1248 | G33: בנקים | H33: ilA | I33: מעלות S&P | K33: 1.24 | L33: שקל חדש | M33: 2.4 | N33: 0.23 | O33: 134666.71 | P33: 106 | Q33: 0 | R33: 142.75 | S33: 0.15 | T33: 1.37 | U33: 0.5
B34: סה"כ לא צמודות | K34: 2.7 | N34: 1.39 | O34: 4809794.1 | Q34: 4.891 | R34: 5111.33 | U34: 17.89
B35: לאומי אגח 178 | C35: 6040323 | D35: TASE | F35: 604 | G35: בנקים | H35: ilAAA | I35: מעלות S&P | K35: 4.27 | L35: שקל חדש | M35: 3.01 | N35: 0.85 | O35: 324999 | P35: 109.5 | Q35: 4.891 | R35: 360.77 | S35: 0.03 | T35: 3.47 | U35: 1.26
B36: מז טפ הנפק 37 | C36: 2310134 | D36: TASE | F36: 231 | G36: בנקים | H36: ilAAA | I36: מעלות S&P | K36: 0.68 | L36: שקל חדש | M36: 2.74 | N36: 0.29 | O36: 50000 | P36: 102.54 | Q36: 0 | R36: 51.27 | S36: 0 | T36: 0.49 | U36: 0.18
B37: מז טפ הנפק 40 | C37: 2310167 | D37: TASE | F37: 231 | G37: בנקים | H37: ilAAA | I37: מעלות S&P | K37: 5.31 | L37: שקל חדש | M37: 2.98 | N37: 1.05 | O37: 60000 | P37: 111.51 | Q37: 0 | R37: 66.91 | S37: 0 | T37: 0.64 | U37: 0.23
B38: מז טפ הנפק 41 | C38: 2310175 | D38: TASE | F38: 231 | G38: בנקים | H38: ilAAA | I38: מעלות S&P | K38: 2.63 | L38: שקל חדש | M38: 2.47 | N38: 0.73 | O38: 170000 | P38: 105.38 | Q38: 0 | R38: 179.15 | S38: 0.01 | T38: 1.72 | U38: 0.63
B39: מרכנתיל הנ אגח ב | C39: 1138205 | D39: TASE | F39: 1266 | G39: בנקים | H39: ilAAA | I39: מעלות S&P | K39: 2.45 | L39: שקל חדש | M39: 2.07 | N39: 0.68 | O39: 111110 | P39: 104.45 | Q39: 0 | R39: 116.05 | S39: 0.04 | T39: 1.12 | U39: 0.41
B40: בינל הנפ אגח ח | C40: 1134212 | D40: TASE | F40: 1153 | G40: בנקים | H40: Aaa.il | I40: מידרוג | K40: 0.79 | L40: שקל חדש | M40: 1.95 | N40: 0.4 | O40: 430000 | P40: 102.6 | Q40: 0 | R40: 441.18 | S40: 0.09 | T40: 4.25 | U40: 1.54
B41: דיסקונט התח יא | C41: 6910137 | D41: TASE | F41: 691 | G41: בנקים | H41: ilAA+ | I41: מעלות S&P | K41: 1.63 | L41: שקל חדש | M41: 6.4 | N41: 0.59 | O41: 123429 | P41: 111.72 | Q41: 0 | R41: 137.9 | S41: 0.05 | T41: 1.33 | U41: 0.48
B42: פועלים הנ הת טז | C42: 1940550 | D42: TASE | F42: 194 | G42: בנקים | H42: ilAA+ | I42: מעלות S&P | K42: 2.52 | L42: שקל חדש | M42: 6.5 | N42: 0.73 | O42: 264922 | P42: 117.33 | Q42: 0 | R42: 310.83 | S42: 0.12 | T42: 2.99 | U42: 1.09
B43: לאומי ש"ה נד 201 | C43: 6040158 | D43: TASE | F43: 604 | G43: בנקים | H43: ilAA | I43: מעלות S&P | K43: 1.34 | L43: שקל חדש | M43: 1.75 | N43: 0.75 | O43: 380787 | P43: 101.39 | Q43: 0 | R43: 386.08 | S43: 0.05 | T43: 3.72 | U43: 1.35
B44: כללביט אגח ח | C44: 1132968 | D44: TASE | F44: 1324 | G44: ביטוח | H44: ilAA- | I44: מעלות S&P | K44: 3.07 | L44: שקל חדש | M44: 4.14 | N44: 1.12 | O44: 130456 | P44: 110.63 | Q44: 0 | R44: 144.32 | S44: 0.03 | T44: 1.39 | U44: 0.51
B45: אגוד הנפ אגח ז | C45: 1131762 | D45: TASE | F45: 1239 | G45: בנקים | H45: Aa3.il | I45: מידרוג | K45: 0.99 | L45: שקל חדש | M45: 2.95 | N45: 0.75 | O45: 214772.11 | P45: 103.65 | Q45: 0 | R45: 222.61 | S45: 0.13 | T45: 2.14 | U45: 0.78
B46: אגוד הנפק אגח יב | C46: 1160167 | D46: TASE | F46: 1239 | G46: בנקים | H46: Aa3.il | I46: מידרוג | K46: 4.84 | L46: שקל חדש | M46: 1.091 | N46: 1.13 | O46: 220000 | P46: 99.87 | Q46: 0 | R46: 219.71 | S46: 0.03 | T46: 2.11 | U46: 0.77
... B54: אקסטל אגח א | C54: 1132299 | D54: TASE | F54: 1622 | G54: נדל"ן ובנייה | H54: A3.il | I54: מידרוג | K54: 0.26 | L54: שקל חדש | M54: 4.9 | N54: 5.59 | O54: 347899 | P54: 101.01 | Q54: 0 | R54: 351.41 | S54: 0.07 | T54: 3.38 | U54: 1.23
B55: איילון אגח א | C55: 2090066 | D55: TASE | F55: 209 | G55: ביטוח | H55: 0 | I55: אין דירוג | K55: 3.47 | L55: שקל חדש | M55: 3.55 | N55: 2.23 | O55: 68126 | P55: 104.92 | Q55: 0 | R55: 71.48 | S55: 0.1 | T55: 0.69 | U55: 0.25
...

Sheet מניות
B1: 30/09/2019
B2: מור קופות גמל בע"מ
B3: אינטרגמל לחיסכון ארוך טווח לילד-הלכה יהודית
B4: 514956465-00000000008861-0009113
B6: 1.ב. ניירות ערך סחירים
B7: 4. מניות
B8: שם המנפיק/שם נייר ערך | C8: מספר ני"ע | D8: זירת מסחר | E8: ספק מידע | F8: מספר מנפיק | G8: ענף מסחר | H8: סוג מטבע | I8: ערך נקוב**** | J8: שער*** | K8: פדיון/ ריבית לקבל ***** | L8: שווי שוק | M8: שעור מערך נקוב מונפק | N8: שעור מנכסי אפיק ההשקעה | O8: שעור מסך נכסי השקעה**
I9: יחידות | J9: אגורות | K9: אלפי ש״ח | L9: אלפי ש״ח | M9: אחוזים | N9: אחוזים | O9: אחוזים
C10: (1) | D10: (2) | E10: (3) | F10: (4) | G10: (5) | H10: (6) | I10: (7) | J10: (8) | K10: (9) | L10: (10) | M10: (11) | N10: (12) | O10: (13)
B11: סה"כ מניות
B12: סה"כ בישראל:
B13: סה"כ תל אביב 25
B15: סה"כ תל אביב 75
B17: סה"כ מניות היתר
B19: סה"כ אופציות Call 001
B23: סה"כ בחו"ל:
B24: סה"כ חברות ישראליות בחו"ל
B26: סה"כ חברות זרות בחו"ל
B28: * בעל ענין/צד קשור-הכוכביות תופענה ארך ורק ליד שם המנפיק/שם הנייר
B29: ** בהתאם לשיטה שיושמה בדוח הכספי
B30: ***שער-יוצג במאית המטבע המקומי, קרי /סנט וכ'ו
... B32: סוף מידע

Sheet תעודות סל
B1: 30/09/2019
B2: מור קופות גמל בע"מ
B3: אינטרגמל לחיסכון ארוך טווח לילד-הלכה יהודית
B4: 514956465-00000000008861-0009113
B6: 1.ב. ניירות ערך סחירים
B7: 5. תעודות סל
B8: שם המנפיק/שם נייר ערך | C8: מספר ני"ע | D8: זירת מסחר | E8: מספר מנפיק | F8: ענף מסחר | G8: סוג מטבע | H8: ערך נקוב**** | I8: שער*** | J8: פדיון/ריבית לקבל ***** | K8: שווי שוק | L8: שעור מערך נקוב מונפק | M8: שעור מנכסי אפיק ההשקעה | N8: שעור מסך נכסי השקעה**
H9: יחידות | I9: אגורות | J9: אלפי ש״ח | K9: אלפי ש״ח | L9: אחוזים | M9: אחוזים | N9: אחוזים
C10: (1) | D10: (2) | E10: (3) | F10: (4) | G10: (5) | H10: (6) | I10: (7) | J10: (8) | K10: (9) | L10: (10) | M10: (11) | N10: (12)
B11: סה"כ תעודות סל | H11: 179660 | J11: 4.963 | K11: 5223.34 | N11: 18.29
B12: סה"כ בישראל: | H12: 177440 | K12: 3402.75 | N12: 11.91
B13: סה"כ שמחקות מדדי מניות בישראל | H13: 177440 | K13: 3402.75 | N13: 11.91
B14: הרל. כש תא 125 | C14: 1155340 | D14: TASE | E14: 511776783 | F14: מניות | G14: שקל חדש | H14: 51320 | I14: 1523 | J14: 0 | K14: 781.6 | L14: 0 | M14: 14.96 | N14: 2.74
B15: פסג.כש תא 125 | C15: 1155324 | D15: TASE | E15: 513765339 | F15: מניות | G15: שקל חדש | H15: 60260 | I15: 1519 | J15: 0 | K15: 915.35 | L15: 0 | M15: 17.52 | N15: 3.2
B16: קסם ETF כשרה תא 125 | C16: 1155365 | D16: TASE | E16: 510938608 | F16: מניות | G16: שקל חדש | H16: 5130 | I16: 15210 | J16: 0 | K16: 780.27 | L16: 0 | M16: 14.94 | N16: 2.73
B17: תכלית סל כשרה תא 125 | C17: 1155373 | D17: TASE | E17: 513534974 | F17: מניות | G17: שקל חדש | H17: 60730 | I17: 1524 | J17: 0 | K17: 925.53 | L17: 0 | M17: 17.72 | N17: 3.24
B18: סה"כ שמחקות מדדי מניות בחו"ל
M19: 0
B20: סה"כ שמחקות מדדים אחרים בישראל
M21: 0
B22: סה"כ שמחקות מדדים אחרים בחו"ל
M23: 0
B24: סה"כ אחר
M25: 0
B26: סה"כ short
M27: 0
B28: סה"כ בחו"ל: | H28: 2220 | J28: 4.963 | K28: 1820.59 | N28: 6.37
B29: סה"כ שמחקות מדדי מניות | H29: 2220 | J29: 4.963 | K29: 1820.59 | N29: 6.37
B30: INVESCO QQQ TRU-QQQ | C30: US46090E1038 | D30: NASDAQ | F30: מניות | G30: דולר אמריקאי | H30: 1000 | I30: 18938 | J30: 2.027 | K30: 668.08 | L30: 0 | M30: 12.79 | N30: 2.34
B31: ISH SP MC400/GR-IJK | C31: US4642876068 | D31: NYSE | F31: מניות | G31: דולר אמריקאי | H31: 305 | I31: 22448 | J31: 0.519 | K31: 241.32 | L31: 0 | M31: 4.62 | N31: 0.84
B32: SPDR DJIA TRUST-DIA | C32: US78467X1090 | D32: AMEX | F32: מניות | G32: דולר אמריקאי | H32: 475 | I32: 26888 | J32: 0.811 | K32: 450 | L32: 0 | M32: 8.62 | N32: 1.58
B33: SPY-SPDR S&P 500 | C33: US78462F1030 | D33: AMEX | F33: מניות | G33: דולר אמריקאי | H33: 440 | I33: 29700 | J33: 1.606 | K33: 461.21 | L33: 0 | M33: 8.83 | N33: 1.61
B34: סה"כ שמחקות מדדים אחרים
M35: 0
B36: סה"כ אחר
M37: 0
B38: סה"כ short
M39: 0
B40: * בעל ענין/צד קשור-הכוכביות תופענה ארך ורק ליד שם המנפיק/שם הנייר
B41: ** בהתאם לשיטה שיושמה בדוח הכספי
...

Sheet קרנות נאמנות
B1: 30/09/2019
B2: מור קופות גמל בע"מ
B3: אינטרגמל לחיסכון ארוך טווח לילד-הלכה יהודית
B4: 514956465-00000000008861-0009113
B6: 1.ב. ניירות ערך סחירים
B7: 6. קרנות נאמנות
B8: שם המנפיק/שם נייר ערך | C8: מספר ני"ע | D8: זירת מסחר | E8: מספר מנפיק | F8: ענף מסחר | G8: דירוג | H8: שם מדרג | I8: סוג מטבע | J8: ערך נקוב**** | K8: שער*** | L8: שווי שוק | M8: שעור מערך נקוב מונפק | N8: שעור מנכסי אפיק ההשקעה | O8: שעור מסך נכסי השקעה**
J9: יחידות | K9: אגורות | L9: אלפי ש״ח | M9: אחוזים | N9: אחוזים | O9: אחוזים
C10: (1) | D10: (2) | E10: (3) | F10: (4) | G10: (5) | H10: (6) | I10: (7) | J10: (8) | K10: (9) | L10: (10) | M10: (11) | N10: (12) | O10: (13)
B11: סה"כ תעודות השתתפות בקרנות נאמנות
B12: סה"כ בישראל
B13: סה"כ אג"ח קונצרני
B15: סה"כ אג"ח ממשלתי
B17: סה"כ מניות
B19: סה"כ אחר
B21: סה"כ בחו"ל:
B22: סה"כ אג"ח קונצרני
B24: סה"כ אג"ח ממשלתי
B26: סה"כ מניות
B28: סה"כ אחר
B30: * בעל ענין/צד קשור-הכוכביות תופענה ארך ורק ליד שם המנפיק/שם הנייר
... B34: סוף מידע

Sheet כתבי אופציה
B1: 30/09/2019
B2: מור קופות גמל בע"מ
B3: אינטרגמל לחיסכון ארוך טווח לילד-הלכה יהודית
B4: 514956465-00000000008861-0009113
B6: 1.ב. ניירות ערך סחירים
B7: 7. כתבי אופציה
B8: שם המנפיק/שם נייר ערך | C8: מספר ני"ע | D8: זירת מסחר | E8: ענף מסחר | F8: סוג מטבע | G8: ערך נקוב**** | H8: שער*** | I8: שווי שוק | J8: שעור מערך נקוב מונפק | K8: שעור מנכסי אפיק ההשקעה | L8: שעור מסך נכסי השקעה**
G9: יחידות | H9: אגורות | I9: אלפי ש״ח | J9: אחוזים | K9: אחוזים | L9: אחוזים
C10: (1) | D10: (2) | E10: (3) | F10: (3) | G10: (4) | H10: (5) | I10: (6) | J10: (7) | K10: (8) | L10: (9)
B11: סה"כ כתבי אופציה
B12: סה"כ כתבי אופציה בישראל
B14: סה"כ כתבי אופציה בחו"ל
B16: * בעל ענין/צד קשור-הכוכביות תופענה ארך ורק ליד שם המנפיק/שם הנייר
B17: ** בהתאם לשיטה שיושמה בדוח הכספי
B18: ***שער-יוצג במאית המטבע המקומי, קרי /סנט וכ'ו
B19: ****ערך נקוב-יוצג היחידות במטבע בו בוצעה העסקה במקור
B20: סוף מידע

Sheet אופציות
B1: 30/09/2019
B2: מור קופות גמל בע"מ
B3: אינטרגמל לחיסכון ארוך טווח לילד-הלכה יהודית
B4: 514956465-00000000008861-0009113
B6: 1.ב. ניירות ערך סחירים
B7: 8. אופציות
B8: שם המנפיק/שם נייר ערך | C8: מספר ני"ע | D8: זירת מסחר | E8: ענף מסחר | F8: סוג מטבע | G8: ערך נקוב**** | H8: שער*** | I8: שווי שוק | J8: שעור מערך נקוב מונפק | K8: שעור מנכסי אפיק ההשקעה | L8: שעור מסך נכסי השקעה**
G9: יחידות | H9: אגורות | I9: אלפי ש״ח | J9: אחוזים | K9: אחוזים | L9: אחוזים
C10: (1) | D10: (2) | E10: (3) | F10: (3) | G10: (4) | H10: (5) | I10: (6) | J10: (7) | K10: (8) | L10: (9)
B11: סה"כ אופציות
B12: סה"כ בישראל:
B13: סה"כ מדדים כולל מניות
B15: סה"כ ₪/מט"ח
B17: סה"כ ריבית
B19: סה"כ אחר
B21: סה"כ בחו"ל:
B22: סה"כ מדדים כולל מניות
B24: סה"כ מטבע
B26: סה"כ ריבית
B28: סה"כ סחורות
B30: סה"כ אחר
... B36: סוף מידע

Sheet חוזים עתידיים
B1: 30/09/2019
B2: מור קופות גמל בע"מ
B3: אינטרגמל לחיסכון ארוך טווח לילד-הלכה יהודית
B4: 514956465-00000000008861-0009113
B6: 1.ב. ניירות ערך סחירים | BD6: TASE | BF6: אופנה והלבשה | BH6: שקל חדש
B7: 9. חוזים עתידיים | BD7: AMEX | BF7: ביומד | BH7: דולר אמריקאי
B8: שם המנפיק/שם נייר ערך | C8: מספר ני"ע | D8: זירת מסחר | E8: ענף מסחר | F8: סוג מטבע | G8: ערך נקוב**** | H8: שער*** | I8: שווי שוק | J8: שעור מנכסי אפיק ההשקעה | K8: שעור מסך נכסי השקעה** | BC8: ASX | BD8: אוסטרליה | BE8: בנקים וחברות אחזקה | BG8: אירו
G9: יחידות | H9: אגורות | I9: אלפי ש״ח | J9: אחוזים | K9: אחוזים | BC9: BOVESPA | BE9: השקעות ואחזקות | BG9: לירה שטרלינג
C10: (1) | D10: (2) | E10: (3) | F10: (3) | G10: (4) | H10: (5) | I10: (6) | J10: (7) | K10: (8) | BC10: BSE | BE10: הייטק | BG10: דולר קנדי
B11: סה"כ חוזים עתידיים | BC11: CAC | BE11: חברות וסוכנויות ביטוח | BG11: דולר אוסטרלי
B12: סה"כ ישראל
B14: סה"כ חו"ל
B16: * בעל ענין/צד קשור-הכוכביות תופענה ארך ורק ליד שם המנפיק/שם הנייר
B17: ** בהתאם לשיטה שיושמה בדוח הכספי
B18: ***שער-יוצג במאית המטבע המקומי, קרי /סנט וכ'ו
B19: ****ערך נקוב-יוצג היחידות במטבע בו בוצעה העסקה במקור
B20: סוף מידע
BD23: אחר | BE23: טורנטו | BF23: קלינטק
BF24: רשויות וממשל
BF25: שירותים
BF26: שירותים פיננסיים
BF27: תוכנה ואינטרנט
BF28: תיירות ומלונות
BF29: תעשייה שונות
BF30: תקשורת ומדיה
BF31: אחר

Sheet מוצרים מובנים
B1: 30/09/2019
B2: מור קופות גמל בע"מ
B3: אינטרגמל לחיסכון ארוך טווח לילד-הלכה יהודית
B4: 514956465-00000000008861-0009113
B6: 1.ב. ניירות ערך סחירים
B7: 10. מוצרים מובנים
B8: שם המנפיק/שם נייר ערך | C8: מספר ני"ע | D8: נכס הבסיס | E8: דירוג | F8: שם מדרג | G8: תאריך רכישה | H8: מח"מ | I8: סוג מטבע | J8: שיעור ריבית | K8: תשואה לפידיון | L8: ערך נקוב**** | M8: שער*** | N8: שווי שוק | O8: שעור מערך נקוב מונפק | P8: שעור מנכסי אפיק ההשקעה | Q8: שעור מסך נכסי השקעה**
G9: תאריך | H9: שנים | J9: אחוזים | K9: אחוזים | L9: יחידות | M9: אגורות | N9: אלפי ש״ח | O9: אחוזים | P9: אחוזים | Q9: אחוזים
C10: (1) | D10: (2) | E10: (3) | F10: (4) | G10: (5) | H10: (6) | I10: (7) | J10: (8) | K10: (9) | L10: (10) | M10: (11) | N10: (12) | O10: (13) | P10: (14) | Q10: (15)
B11: סה"כ מוצרים מובנים
B12: סה"כ בישראל:
B13: סה"כ קרן מובטחת
B15: סה"כ קרן לא מובטחת
B17: סה"כ מוצרים מאוגחים
B22: סה"כ בחו"ל:
B23: סה"כ קרן מובטחת
B25: סה"כ קרן לא מובטחת
B27: סה"כ מוצרים מאוגחים
B32: * בעל ענין/צד קשור-הכוכביות תופענה ארך ורק ליד שם המנפיק/שם הנייר
B33: ** בהתאם לשיטה שיושמה בדוח הכספי
B34: ***שער-יוצג במאית המטבע המקומי, קרי /סנט וכ'ו
... B36: סוף מידע

Sheet לא סחיר- תעודות התחייבות ממשלתי
B1: 30/09/2019
B2: מור קופות גמל בע"מ
B3: אינטרגמל לחיסכון ארוך טווח לילד-הלכה יהודית
B4: 514956465-00000000008861-0009113
B6: 1.ג. ניירות ערך לא סחירים
B7: 1. תעודות התחייבות ממשלתיות
B8: שם המנפיק/שם נייר ערך | C8: מספר ני"ע | D8: דירוג | E8: שם מדרג | F8: תאריך רכישה | G8: מח"מ | H8: סוג מטבע | I8: שיעור ריבית | J8: תשואה לפידיון | K8: ערך נקוב**** | L8: שער*** | M8: שווי הוגן | N8: שעור מערך נקוב מונפק | O8: שעור מנכסי אפיק ההשקעה | P8: שעור מסך נכסי השקעה**
F9: תאריך | G9: שנים | I9: אחוזים | J9: אחוזים | K9: יחידות | L9: אגורות | M9: אלפי ש״ח | N9: אחוזים | O9: אחוזים | P9: אחוזים
C10: (1) | D10: (2) | E10: (3) | F10: (4) | G10: (5) | H10: (6) | I10: (7) | J10: (8) | K10: (9) | L10: (10) | M10: (11) | N10: (12) | O10: (13) | P10: (14)
B11: סה"כ תעודות התחייבות ממשלתיות
B12: סה"כ בישראל:
B18: סה"כ בחו"ל:
B19: סה"כ אג"ח של ממשלת ישראל שהונפקו בחו"ל
B21: סה"כ אג"ח לא סחיר שהנפיקו ממשלות זרות בחו"ל
B23: ** בהתאם לשיטה שיושמה בדוח הכספי
B24: ***שער-יוצג במאית המטבע המקומי, קרי /סנט וכ'ו
B25: ****ערך נקוב-יוצג היחידות במטבע בו בוצעה העסקה במקור
B26: סוף מידע

Sheet לא סחיר - תעודות חוב מסחריות
B1: 30/09/2019
B2: מור קופות גמל בע"מ
B3: אינטרגמל לחיסכון ארוך טווח לילד-הלכה יהודית
B4: 514956465-00000000008861-0009113
B6: 1.ג. ניירות ערך לא סחירים
B7: 2. תעודות חוב מסחריות
B8: שם המנפיק/שם נייר ערך | C8: מספר ני"ע | D8: ספק המידע | E8: מספר מנפיק | F8: ענף מסחר | G8: דירוג | H8: שם מדרג | I8: תאריך רכישה | J8: מח"מ | K8: סוג מטבע | L8: שיעור ריבית | M8: תשואה לפידיון | N8: ערך נקוב**** | O8: שער*** | P8: שווי הוגן | Q8: שעור מערך נקוב מונפק | R8: שעור מנכסי אפיק ההשקעה | S8: שעור מסך נכסי השקעה**
I9: תאריך | J9: שנים | L9: אחוזים | M9: אחוזים | N9: יחידות | O9: אגורות | P9: אלפי ש״ח | Q9: אחוזים | R9: אחוזים | S9: אחוזים
C10: (1) | D10: (2) | E10: (3) | F10: (4) | G10: (5) | H10: (6) | I10: (7) | J10: (8) | K10: (9) | L10: (10) | M10: (11) | N10: (12) | O10: (13) | P10: (14) | Q10: (15) | R10: (16) | S10: (17)
B11: סה"כ תעודות חוב מסחריות
B12: סה"כ בישראל:
B13: סה"כ צמוד מדד
B15: סה"כ לא צמוד
B17: סה"כ צמודות למט"ח
B19: סה"כ אחר
B21: סה"כ בחו"ל:
B22: סה"כ תעודות חוב מסחריות של חברות ישראליות
B24: סה"כ תעודות חוב מסחריות של חברות זרות
B26: * בעל ענין/צד קשור-הכוכביות תופענה ארך ורק ליד שם המנפיק/שם הנייר
B27: ** בהתאם לשיטה שיושמה בדוח הכספי
B28: ***שער-יוצג במאית המטבע המקומי, קרי /סנט וכ'ו
... B30: סוף מידע

Sheet לא סחיר - אג"ח קונצרני
B1: 30/09/2019
B2: מור קופות גמל בע"מ
B3: אינטרגמל לחיסכון ארוך טווח לילד-הלכה יהודית
B4: 514956465-00000000008861-0009113
B6: 1.ג. ניירות ערך לא סחירים
B7: 3. אג"ח קונצרני
B8: שם המנפיק/שם נייר ערך | C8: מספר ני"ע | D8: ספק המידע | E8: מספר מנפיק | F8: ענף מסחר | G8: דירוג | H8: שם מדרג | I8: תאריך רכישה | J8: מח"מ | K8: סוג מטבע | L8: שיעור ריבית | M8: תשואה לפידיון | N8: ערך נקוב**** | O8: שער*** | P8: שווי הוגן | Q8: שעור מערך נקוב מונפק | R8: שעור מנכסי אפיק ההשקעה | S8: שעור מסך נכסי השקעה**
I9: תאריך | J9: שנים | L9: אחוזים | M9: אחוזים | N9: יחידות | O9: אגורות | P9: אלפי ש״ח | Q9: אחוזים | R9: אחוזים | S9: אחוזים
C10: (1) | D10: (2) | E10: (3) | F10: (4) | G10: (5) | H10: (6) | I10: (7) | J10: (8) | K10: (9) | L10: (10) | M10: (11) | N10: (12) | O10: (13) | P10: (14) | Q10: (15) | R10: (16) | S10: (17)
B11: סה"כ אג"ח קונצרני
B12: סה"כ בישראל:
B13: סה"כ צמוד מדד
B15: סה"כ לא צמוד
B17: סה"כ צמודות למט"ח
B19: סה"כ אחר
B21: סה"כ בחו"ל:
B22: סה"כ אג"ח קונצרני של חברות ישראליות
B24: סה"כ אג"ח קונצרני של חברות זרות
B26: * בעל ענין/צד קשור-הכוכביות תופענה ארך ורק ליד שם המנפיק/שם הנייר
B27: ** בהתאם לשיטה שיושמה בדוח הכספי
B28: ***שער-יוצג במאית המטבע המקומי, קרי /סנט וכ'ו
... B30: סוף מידע

Sheet לא סחיר - מניות
B1: 30/09/2019
B2: מור קופות גמל בע"מ
B3: אינטרגמל לחיסכון ארוך טווח לילד-הלכה יהודית
B4: 514956465-00000000008861-0009113
B6: 1.ג. ניירות ערך לא סחירים
B7: 4. מניות
B8: שם המנפיק/שם נייר ערך | C8: מספר ני"ע | D8: ספק המידע | E8: מספר מנפיק | F8: ענף מסחר | G8: סוג מטבע | H8: ערך נקוב**** | I8: שער*** | J8: שווי הוגן | K8: שעור מערך נקוב מונפק | L8: שעור מנכסי אפיק ההשקעה | M8: שעור מסך נכסי השקעה**
H9: יחידות | I9: אגורות | J9: אלפי ש״ח | K9: אחוזים | L9: אחוזים | M9: אחוזים
C10: (1) | D10: (2) | E10: (3) | F10: (4) | G10: (5) | H10: (6) | I10: (7) | J10: (8) | K10: (9) | L10: (10) | M10: (11)
B11: סה"כ מניות
B12: סה"כ בישראל:
B14: סה"כ בחו"ל:
B15: סה"כ חברות ישראליות בחו"ל
B17: סה"כ חברות זרות בחו"ל
B19: * בעל ענין/צד קשור-הכוכביות תופענה ארך ורק ליד שם המנפיק/שם הנייר
B20: ***שער-יוצג במאית המטבע המקומי, קרי /סנט וכ'ו
B21: ****ערך נקוב-יוצג היחידות במטבע בו בוצעה העסקה במקור
B22: סוף מידע

Sheet לא סחיר - קרנות השקעה
B1: 30/09/2019
B2: מור קופות גמל בע"מ
B3: אינטרגמל לחיסכון ארוך טווח לילד-הלכה יהודית
B4: 514956465-00000000008861-0009113
B6: 1.ג. ניירות ערך לא סחירים
B7: 5. קרנות השקעה
B8: שם המנפיק/שם נייר ערך | C8: מספר ני"ע | D8: סוג מטבע | E8: תאריך רכישה | F8: ערך נקוב**** | G8: שער*** | H8: שווי הוגן | I8: שעור מערך נקוב מונפק | J8: שעור מנכסי אפיק ההשקעה | K8: שעור מסך נכסי השקעה**
E9: תאריך | F9: יחידות | G9: אגורות | H9: אלפי ש״ח | I9: אחוזים | J9: אחוזים | K9: אחוזים
C10: (1) | D10: (3) | E10: (4) | F10: (5) | G10: (6) | H10: (7) | I10: (8) | J10: (9) | K10: (10)
B11: סה"כ קרנות השקעה
B12: סה"כ בישראל:
B13: סה"כ קרנות הון סיכון
B15: סה"כ קרנות גידור
B17: סה"כ קרנות נדל"ן
B19: סה"כ קרנות השקעה אחרות
B21: סה"כ בחו"ל:
B22: סה"כ קרנות הון סיכון
B24: סה"כ קרנות גידור
B26: סה"כ קרנות נדל"ן
B28: סה"כ קרנות השקעה אחרות
B30: * בעל ענין/צד קשור-הכוכביות תופענה ארך ורק ליד שם המנפיק/שם הנייר
... B34: סוף מידע

Sheet לא סחיר - כתבי אופציה
B1: 30/09/2019
B2: מור קופות גמל בע"מ
B3: אינטרגמל לחיסכון ארוך טווח לילד-הלכה יהודית
B4: 514956465-00000000008861-0009113
B6: 1.ג. ניירות ערך לא סחירים
B7: 6. כתבי אופציה
B8: שם המנפיק/שם נייר ערך | C8: מספר ני"ע | D8: ענף מסחר | E8: סוג מטבע | F8: תאריך רכישה | G8: ערך נקוב**** | H8: שער*** | I8: שווי הוגן | J8: שעור מערך נקוב מונפק | K8: שעור מנכסי אפיק ההשקעה | L8: שעור מסך נכסי השקעה**
F9: תאריך | G9: יחידות | H9: אגורות | I9: אלפי ש״ח | J9: אחוזים | K9: אחוזים | L9: אחוזים
C10: (1) | D10: (2) | E10: (3) | F10: (4) | G10: (5) | H10: (6) | I10: (7) | J10: (8) | K10: (9) | L10: (10)
B11: סה"כ כתבי אופציה
B12: סה"כ כתבי אופציה בישראל
B14: סה"כ כתבי אופציה בחו"ל
B16: * בעל ענין/צד קשור-הכוכביות תופענה ארך ורק ליד שם המנפיק/שם הנייר
B17: ** בהתאם לשיטה שיושמה בדוח הכספי
B18: ***שער-יוצג במאית המטבע המקומי, קרי /סנט וכ'ו
B19: ****ערך נקוב-יוצג היחידות במטבע בו בוצעה העסקה במקור
B20: סוף מידע

Sheet לא סחיר - אופציות
B1: 30/09/2019
B2: מור קופות גמל בע"מ
B3: אינטרגמל לחיסכון ארוך טווח לילד-הלכה יהודית
B4: 514956465-00000000008861-0009113
B6: 1.ג. ניירות ערך לא סחירים
B7: 7. אופציות
B8: שם המנפיק/שם נייר ערך | C8: מספר ני"ע | D8: ענף מסחר | E8: סוג מטבע | F8: תאריך רכישה | G8: ערך נקוב**** | H8: שער*** | I8: שווי הוגן | J8: שעור מערך נקוב מונפק | K8: שעור מנכסי אפיק ההשקעה | L8: שעור מסך נכסי השקעה**
F9: תאריך | G9: יחידות | H9: אגורות | I9: אלפי ש״ח | J9: אחוזים | K9: אחוזים | L9: אחוזים
C10: (1) | D10: (2) | E10: (3) | F10: (4) | G10: (5) | H10: (6) | I10: (7) | J10: (8) | K10: (9) | L10: (10)
B11: סה"כ אופציות
B12: סה"כ אופציות בישראל:
B13: סה"כ מדדים כולל מניות
B15: סה"כ ₪ / מט"ח
B17: סה"כ מט"ח/ מט"ח
B19: סה"כ ריבית
B21: סה"כ אחר
B23: סה"כ אופציות בחו"ל:
B24: סה"כ מדדים כולל מניות
B26: סה"כ מטבע
B28: סה"כ ריבית
B30: סה"כ סחורות
... B38: סוף מידע

Sheet לא סחיר - חוזים עתידיים
B1: 30/09/2019
B2: מור קופות גמל בע"מ
B3: אינטרגמל לחיסכון ארוך טווח לילד-הלכה יהודית
B4: 514956465-00000000008861-0009113
B6: 1.ג. ניירות ערך לא סחירים
B7: 8. חוזים עתידיים
B8: שם המנפיק/שם נייר ערך | C8: מספר ני"ע | D8: ענף מסחר | E8: סוג מטבע | F8: תאריך רכישה | G8: ערך נקוב**** | H8: שער*** | I8: שווי הוגן | J8: שעור מנכסי אפיק ההשקעה | K8: שעור מסך נכסי השקעה**
F9: תאריך | G9: יחידות | H9: אגורות | I9: אלפי ש״ח | J9: אחוזים | K9: אחוזים
C10: (1) | D10: (2) | E10: (3) | F10: (4) | G10: (5) | H10: (6) | I10: (7) | J10: (8) | K10: (9)
B11: סה"כ חוזים עתידיים
B12: סה"כ חוזים עתידיים בישראל:
B13: סה"כ מדדים כולל מניות
B15: סה"כ ₪ / מט"ח
B17: סה"כ מט"ח/ מט"ח
B19: סה"כ ריבית
B21: סה"כ אחר
B23: סה"כ חוזים עתידיים בחו"ל:
B24: סה"כ מדדים כולל מניות
B26: סה"כ מטבע
B28: סה"כ ריבית
B30: סה"כ אחר
... B36: סוף מידע

Sheet לא סחיר - מוצרים מובנים
B1: 30/09/2019
B2: מור קופות גמל בע"מ
B3: אינטרגמל לחיסכון ארוך טווח לילד-הלכה יהודית
B4: 514956465-00000000008861-0009113
B6: 1.ג. ניירות ערך לא סחירים
B7: 9. מוצרים מובנים
B8: שם המנפיק/שם נייר ערך | C8: מספר ני"ע | D8: נכס הבסיס | E8: דירוג | F8: שם מדרג | G8: תאריך רכישה | H8: מח"מ | I8: סוג מטבע | J8: שיעור ריבית | K8: תשואה לפידיון | L8: ערך נקוב**** | M8: שער*** | N8: שווי הוגן | O8: שעור מערך נקוב מונפק | P8: שעור מנכסי אפיק ההשקעה | Q8: שעור מסך נכסי השקעה**
G9: תאריך | H9: שנים | J9: אחוזים | K9: אחוזים | L9: יחידות | M9: אגורות | N9: אלפי ש״ח | O9: אחוזים | P9: אחוזים | Q9: אחוזים
C10: (1) | D10: (2) | E10: (3) | F10: (4) | G10: (5) | H10: (6) | I10: (7) | J10: (8) | K10: (9) | L10: (10) | M10: (11) | N10: (12) | O10: (13) | P10: (14) | Q10: (15)
B11: סה"כ מוצרים מובנים
B12: סה"כ בישראל:
B13: סה"כ קרן מובטחת
B15: סה"כ קרן לא מובטחת
B17: סה"כ מוצרים מאוגחים
B22: סה"כ בחו"ל:
B23: סה"כ קרן מובטחת
B25: סה"כ קרן לא מובטחת
B27: סה"כ מוצרים מאוגחים
B32: * בעל ענין/צד קשור-הכוכביות תופענה ארך ורק ליד שם המנפיק/שם הנייר
B33: ** בהתאם לשיטה שיושמה בדוח הכספי
B34: ***שער-יוצג במאית המטבע המקומי, קרי /סנט וכ'ו
... B36: סוף מידע

Sheet הלוואות
B1: 30/09/2019
B2: מור קופות גמל בע"מ
B3: אינטרגמל לחיסכון ארוך טווח לילד-הלכה יהודית
B4: 514956465-00000000008861-0009113
B6: 1.ד. הלוואות:
B7: שם המנפיק/שם נייר ערך | C7: קונסורציום כן/לא | D7: מספר ני"ע | E7: מספר מנפיק | F7: דירוג | G7: תאריך רכישה | H7: שם מדרג | I7: מח"מ | J7: סוג מטבע | K7: שיעור ריבית ממוצע | L7: תשואה לפידיון | M7: ערך נקוב**** | N7: שער*** | O7: שווי הוגן | P7: שעור מנכסי אפיק ההשקעה | Q7: שעור מסך נכסי השקעה** | BH7: מעלות | BI7: שקל חדש
I8: שנים | K8: אחוזים | L8: אחוזים | M8: יחידות | N8: אגורות | O8: אלפי ש״ח | P8: אחוזים | Q8: אחוזים | BH8: מידרוג | BI8: דולר אמריקאי
C9: (1) | D9: (2) | E9: (3) | F9: (4) | G9: (5) | H9: (6) | I9: (7) | J9: (8) | K9: (9) | L9: (10) | M9: (11) | N9: (12) | O9: (13) | P9: (14) | Q9: (15) | BH9: פנימי | BI9: אירו
B10: סה"כ הלוואות | BH10: אחר | BI10: לירה שטרלינג
B11: סה"כ בישראל
B12: סה"כ הלוואות לעמיתים | F12: 0 | H12: אין דירוג | O12: 0 | Q12: 0
B13: סה"כ מובטחות במשכנתא או תיקי משכנתאות
B15: סה"כ מובטחות בערבות בנקאית
B17: סה"כ מובטחות בבטחונות אחרים
B19: סה"כ מובטחות בשעבוד כלי רכב
B21: סה"כ הלוואות לסוכנים
B24: סה"כ הלוואות לעובדים ונושאי משרה
B26: סה"כ לא מובטחות
B28: סה"כ בחו"ל
B29: סה"כ מובטחות במשכנתא או תיקי משכנתאות
B31: סה"כ מובטחות בערבות בנקאית
B33: סה"כ מובטחות בבטחונות אחרים
B35: סה"כ לא מובטחות
... B41: סוף מידע

Sheet פקדונות מעל 3 חודשים
B1: 30/09/2019
B2: מור קופות גמל בע"מ
B3: אינטרגמל לחיסכון ארוך טווח לילד-הלכה יהודית
B4: 514956465-00000000008861-0009113
B6: 1.ה. פקדונות מעל 3 חודשים:
B7: שם המנפיק/שם נייר ערך | C7: מספר ני"ע | D7: מספר מנפיק | E7: דירוג | F7: שם מדרג | G7: מח"מ | H7: סוג מטבע | I7: תנאי ושיעור ריבית | J7: תשואה לפידיון | K7: ערך נקוב**** | L7: שער*** | M7: שווי הוגן | N7: שעור מנכסי אפיק ההשקעה | O7: שעור מסך נכסי השקעה**
G8: שנים | I8: אחוזים | J8: אחוזים | K8: יחידות | L8: אגורות | M8: אלפי ש״ח | N8: אחוזים | O8: אחוזים
C9: (1) | D9: (2) | E9: (3) | F9: (4) | G9: (5) | H9: (6) | I9: (7) | J9: (8) | K9: (9) | L9: (10) | M9: (11) | N9: (12) | O9: (13)
B10: סה"כ פקדונות מעל 3 חודשים
B11: סה"כ בישראל:
B12: סה"כ צמוד למדד
B14: סה"כ לא צמוד
B16: סה"כ נקוב במט"ח
B18: סה"כ צמוד למט"ח
B20: סה"כ אחר
B22: סה"כ בחו"ל:
B24: * בעל ענין/צד קשור-הכוכביות תופענה ארך ורק ליד שם המנפיק/שם הנייר
B25: ** בהתאם לשיטה שיושמה בדוח הכספי
B26: ***שער-יוצג במאית המטבע המקומי, קרי /סנט וכ'ו
B27: ****ערך נקוב-יוצג היחידות במטבע בו בוצעה העסקה במקור
B28: סוף מידע

Sheet זכויות מקרקעין
B1: 30/09/2019
B2: מור קופות גמל בע"מ
B3: אינטרגמל לחיסכון ארוך טווח לילד-הלכה יהודית
B4: 514956465-00000000008861-0009113
B6: 1. ו. זכויות במקרקעין:
B7: שם המנפיק/שם נייר ערך | C7: תאריך שערוך אחרון | D7: אופי הנכס | E7: שעור תשואה במהלך התקופה | F7: סוג מטבע | G7: שווי משוערך | H7: שעור מנכסי אפיק ההשקעה | I7: שעור מסך נכסי השקעה | J7: כתובת הנכס
C8: תאריך | E8: אחוזים | G8: אלפי ש״ח | H8: אחוזים | I8: אחוזים
C9: (1) | D9: (2) | E9: (3) | F9: (4) | G9: (5) | H9: (6) | I9: (7) | J9: (8)
B10: סה"כ מקרקעין
B11: סה"כ מקרקעין בישראל:
B12: סה"כ מניב
B14: סה"כ לא מניב
B16: סה"כ מקרקעין בחו"ל:
B17: סה"כ מניב
B19: סה"כ לא מניב

Sheet השקעה בחברות מוחזקות
B1: 30/09/2019
B2: מור קופות גמל בע"מ
B3: אינטרגמל לחיסכון ארוך טווח לילד-הלכה יהודית
B4: 514956465-00000000008861-0009113
B6: 1. ז. השקעה בחברות מוחזקות:
B7: שם המנפיק/שם נייר ערך | C7: מספר מנפיק | D7: דירוג | E7: שם המדרג | F7: שעור הריבית | G7: סוג מטבע | H7: תשואה לפדיון | I7: שווי הוגן | J7: שעור מנכסי אפיק ההשקעה | K7: שעור מסך נכסי השקעה
F8: אחוזים | H8: אחוזים | I8: אלפי ש״ח | J8: אחוזים | K8: אחוזים
C9: (1) | D9: (2) | E9: (3) | F9: (4) | G9: (5) | H9: (6) | I9: (7) | J9: (8) | K9: (8)
B10: סה"כ השקעה בחברות מוחזקות
B11: סה"כ בישראל:
B13: סה"כ בחו"ל:

Sheet השקעות אחרות 
B1: 30/09/2019
B2: מור קופות גמל בע"מ
B3: אינטרגמל לחיסכון ארוך טווח לילד-הלכה יהודית
B4: 514956465-00000000008861-0009113
B6: 1. ח. השקעות אחרות
B7: שם המנפיק/שם נייר ערך | C7: מספר הנייר | D7: דירוג | E7: שם המדרג | F7: שעור הריבית | G7: סוג מטבע | H7: תשואה לפדיון | I7: שווי הוגן | J7: שעור מנכסי אפיק ההשקעה | K7: שעור מסך נכסי השקעה
F8: אחוזים | H8: אחוזים | I8: אלפי ש״ח | J8: אחוזים | K8: אחוזים
C9: (1) | D9: (2) | E9: (3) | F9: (4) | G9: (5) | H9: (6) | I9: (7) | J9: (8) | K9: (9)
B10: סה"כ השקעות אחרות
B11: סה"כ בישראל:
B13: סה"כ בחו"ל:

Sheet יתרת התחייבות להשקעה
B1: 30/09/2019
B2: מור קופות גמל בע"מ
B3: אינטרגמל לחיסכון ארוך טווח לילד-הלכה יהודית
B4: 514956465-00000000008861-0009113
B6: 1. ט. יתרות התחייבות להשקעה:
B7: שם המנפיק/שם נייר ערך | C7: סכום ההתחייבות | D7: תאריך סיום ההתחייבות
C8: אלפי ש״ח | D8: תאריך
C9: (1) | D9: (2)
B10: סה"כ יתרות התחייבות להשקעה
B11: סה"כ בישראל:
B13: סה"כ בחו"ל:

Sheet עלות מתואמת אג"ח קונצרני סחיר
B1: 30/09/2019
B2: מור קופות גמל בע"מ
B3: אינטרגמל לחיסכון ארוך טווח לילד-הלכה יהודית
B4: 514956465-00000000008861-0009113
B6: 2.א. אג"ח קונצרני סחיר
B7: שם המנפיק/שם נייר ערך | C7: מספר ני"ע | D7: ענף מסחר | E7: דירוג | F7: שם מדרג | G7: תאריך רכישה | H7: מח"מ | I7: סוג מטבע | J7: שיעור ריבית | K7: ריבית אפקטיבית | L7: ערך נקוב **** | M7: עלות מתואמת | N7: שעור מערך נקוב מונפק | O7: שעור מנכסי אפיק ההשקעה | P7: שעור מסך נכסי השקעה**
G8: תאריך | H8: שנים | J8: אחוזים | K8: אחוזים | L8: יחידות | M8: אלפי ש״ח | N8: אחוזים | O8: אחוזים | P8: אחוזים
C9: (1) | D9: (2) | E9: (3) | F9: (4) | G9: (5) | H9: (6) | I9: (7) | J9: (8) | K9: (9) | L9: (10) | M9: (11) | N9: (12) | O9: (13) | P9: (14)
B10: סה"כ אג"ח קונצרני סחיר
B11: סה"כ בישראל:
B12: סה"כ צמודות
B14: סה"כ לא צמודות
B16: סה"כ צמודות למט"ח
B18: סה"כ צמודות למדד אחר
B20: סה"כ בחו"ל:
B21: סה"כ חברות ישראליות בחו"ל
B23: סה"כ חברות זרות בחו"ל
B25: * בעל ענין/צד קשור-הכוכביות תופענה ארך ורק ליד שם המנפיק/שם הנייר
B26: ** בהתאם לשיטה שיושמה בדוח הכספי
B27: ****ערך נקוב-יוצג היחידות במטבע בו בוצעה העסקה במקור
B28: סוף מידע

Sheet עלות מתואמת אג"ח קונצרני ל.סחיר
B1: 30/09/2019
B2: מור קופות גמל בע"מ
B3: אינטרגמל לחיסכון ארוך טווח לילד-הלכה יהודית
B4: 514956465-00000000008861-0009113
B6: 2.ב. אג"ח קונצרני לא סחיר
B7: שם המנפיק/שם נייר ערך | C7: מספר ני"ע | D7: ענף מסחר | E7: דירוג | F7: שם מדרג | G7: תאריך רכישה | H7: מח"מ | I7: סוג מטבע | J7: שיעור ריבית | K7: ריבית אפקטיבית | L7: ערך נקוב **** | M7: עלות מתואמת | N7: שעור מערך נקוב מונפק | O7: שעור מנכסי אפיק ההשקעה | P7: שעור מסך נכסי השקעה**
G8: תאריך | H8: שנים | J8: אחוזים | K8: אחוזים | L8: יחידות | M8: אלפי ש״ח | N8: אחוזים | O8: אחוזים | P8: אחוזים
C9: (1) | D9: (2) | E9: (3) | F9: (4) | G9: (5) | H9: (6) | I9: (7) | J9: (8) | K9: (9) | L9: (10) | M9: (11) | N9: (12) | O9: (13) | P9: (14)
B10: סה"כ אג"ח קונצרני לא סחיר
B11: סה"כ בישראל:
B12: סה"כ צמודות
B14: סה"כ לא צמודות
B16: סה"כ צמודות למט"ח
B18: סה"כ אחר
B20: סה"כ בחו"ל:
B21: סה"כ חברות ישראליות בחו"ל
B23: סה"כ חברות זרות בחו"ל
B25: * בעל ענין/צד קשור-הכוכביות תופענה ארך ורק ליד שם המנפיק/שם הנייר
B26: ** בהתאם לשיטה שיושמה בדוח הכספי
B27: ****ערך נקוב-יוצג היחידות במטבע בו בוצעה העסקה במקור
B28: סוף מידע

Sheet עלות מתואמת מסגרות אשראי ללווים
B1: 30/09/2019
B2: מור קופות גמל בע"מ
B3: אינטרגמל לחיסכון ארוך טווח לילד-הלכה יהודית
B4: 514956465-00000000008861-0009113
B6: 2.ג. מסגרות אשראי מנוצלות ללווים
B7: שם המנפיק/שם נייר ערך | C7: מספר ני"ע | D7: ענף מסחר | E7: דירוג | F7: שם מדרג | G7: תאריך רכישה | H7: מח"מ | I7: סוג מטבע | J7: שיעור ריבית | K7: ריבית אפקטיבית | L7: ערך נקוב **** | M7: עלות מתואמת | N7: שעור מערך נקוב מונפק | O7: שעור מנכסי אפיק ההשקעה | P7: שעור מסך נכסי השקעה**
G8: תאריך | H8: שנים | J8: אחוזים | K8: אחוזים | L8: יחידות | M8: אלפי ש״ח | N8: אחוזים | O8: אחוזים | P8: אחוזים
C9: (1) | D9: (2) | E9: (3) | F9: (4) | G9: (5) | H9: (6) | I9: (7) | J9: (8) | K9: (9) | L9: (10) | M9: (11) | N9: (12) | O9: (13) | P9: (14)
B10: סה"כ מסגרת אשראי מנוצלות ללווים
B11: סה"כ בישראל:
B12: סה"כ צמודות
B14: סה"כ לא צמודות
B16: סה"כ צמודות למט"ח
B18: סה"כ אחר
B20: סה"כ בחו"ל:
B21: סה"כ חברות ישראליות בחו"ל
B23: סה"כ חברות זרות בחו"ל
B25: * בעל ענין/צד קשור-הכוכביות תופענה ארך ורק ליד שם המנפיק/שם הנייר
B26: ** בהתאם לשיטה שיושמה בדוח הכספי
B27: ****ערך נקוב-יוצג היחידות במטבע בו בוצעה העסקה במקור
B28: סוף מידע
