Workbook

Sheet מסד נתונים
A1: סטטוס האישור | B1: קוד
A2: בוטלה הנחה | B2: 204
A3: בחקירה | B3: 223
A4: בטיפול | B4: 213
A5: בטיפול, העברה במייל | B5: 163
A6: בטיפול, העברה טלפונית | B6: 191
A7: ביקורת 2-3 | B7: 196
A8: בקשה נדחתה | B8: 193
A9: הוחזר לטיפול המזכירה | B9: 150
A10: הועבר לביקורת חוזרת | B10: 200
A11: הועבר למחלקה אחרת | B11: 158
A12: הטיפול הסתיים | B12: 198
A13: זמן הגעה | B13: 205
... A36: תוכנית עבודה | B36: 19

Sheet גיליון1
A1: שם | B1: סטטוס | C1: קוד סטטוס
A2: כהן | B2: בטיפול, העברה במייל | C2: =_xlfn.IFNA(VLOOKUP(טבלה1[[#This Row],[סטטוס]],'מסד נתונים'!A:B,2,FALSE),0) -> 163
A3: שמחה | B3: בקשה נדחתה | C3: =_xlfn.IFNA(VLOOKUP(טבלה1[[#This Row],[סטטוס]],'מסד נתונים'!A:B,2,FALSE),0) -> 193
A4: איתמר | C4: =_xlfn.IFNA(VLOOKUP(טבלה1[[#This Row],[סטטוס]],'מסד נתונים'!A:B,2,FALSE),0) -> 0
A5: יונה | C5: =_xlfn.IFNA(VLOOKUP(טבלה1[[#This Row],[סטטוס]],'מסד נתונים'!A:B,2,FALSE),0) -> 0
A6: בר | C6: =_xlfn.IFNA(VLOOKUP(טבלה1[[#This Row],[סטטוס]],'מסד נתונים'!A:B,2,FALSE),0) -> 0
A7: אסתר | C7: =_xlfn.IFNA(VLOOKUP(טבלה1[[#This Row],[סטטוס]],'מסד נתונים'!A:B,2,FALSE),0) -> 0
A8: רחמים | C8: =_xlfn.IFNA(VLOOKUP(טבלה1[[#This Row],[סטטוס]],'מסד נתונים'!A:B,2,FALSE),0) -> 0
A9: חיים | C9: =_xlfn.IFNA(VLOOKUP(טבלה1[[#This Row],[סטטוס]],'מסד נתונים'!A:B,2,FALSE),0) -> 0
A10: יצחק | C10: =_xlfn.IFNA(VLOOKUP(טבלה1[[#This Row],[סטטוס]],'מסד נתונים'!A:B,2,FALSE),0) -> 0
A11: בצלאל | C11: =_xlfn.IFNA(VLOOKUP(טבלה1[[#This Row],[סטטוס]],'מסד נתונים'!A:B,2,FALSE),0) -> 0
A12: איתן | C12: =_xlfn.IFNA(VLOOKUP(טבלה1[[#This Row],[סטטוס]],'מסד נתונים'!A:B,2,FALSE),0) -> 0
A13: גדי | C13: =_xlfn.IFNA(VLOOKUP(טבלה1[[#This Row],[סטטוס]],'מסד נתונים'!A:B,2,FALSE),0) -> 0
A14: טל | C14: =_xlfn.IFNA(VLOOKUP(טבלה1[[#This Row],[סטטוס]],'מסד נתונים'!A:B,2,FALSE),0) -> 0
A15: שלמה | C15: =_xlfn.IFNA(VLOOKUP(טבלה1[[#This Row],[סטטוס]],'מסד נתונים'!A:B,2,FALSE),0) -> 0
... A36: ישראל | C36: =_xlfn.IFNA(VLOOKUP(טבלה1[[#This Row],[סטטוס]],'מסד נתונים'!A:B,2,FALSE),0) -> 0
