Workbook
Name Z_68714254_264B_4862_A167_1E7B19B42868_.wvu.Cols: 'תעריפים'!$M:$XFD
Name Z_68714254_264B_4862_A167_1E7B19B42868_.wvu.Rows: 'תעריפים'!$25:$1048576
Name הדפסה: #REF!

Sheet תעריפים
B1: תעריפים בעדכון 2019 | L1: תעריפים לשנת 2018
B4: שירותי יצור ורשת | L4: שירותי יצור ורשת
B5: צרכני תעו"ז | C5: אגורות לקווט"ש | L5: צרכני תעו"ז | M5: אגורות לקווט"ש
B6: עונה | C6: מש"ב | D6: תעו"ז מתח עליון | E6: תעו"ז מתח גבוה מכירה מרוכזת | F6: תעו"ז מתח גבוה כלל צרכנות חח"י | G6: תעו"ז מכירה מרוכזת מתח נמוך | H6: תעו"ז מתח נמוך כלל צרכנות חח"י | L6: עונה | M6: מש"ב | N6: תעו"ז מתח עליון | O6: תעו"ז מתח גבוה מכירה מרוכזת | P6: תעו"ז מתח גבוה כלל צרכנות חח"י | Q6: תעו"ז מכירה מרוכזת מתח נמוך | R6: תעו"ז מתח נמוך כלל צרכנות חח"י
B7: חורף | C7: שפל | D7: 27.19 | E7: 28.06 | F7: 29.72 | G7: 32.37 | H7: 36.48 | L7: חורף | M7: שפל | N7: 27.18 | O7: 28.31 | P7: 30.36 | Q7: 32.95 | R7: 36.15
C8: גבע | D8: 48.61 | E8: 49.65 | F8: 51.52 | G8: 54.76 | H8: 59.22 | M8: גבע | N8: 47.51 | O8: 48.83 | P8: 51.11 | Q8: 54.26 | R8: 57.81
C9: פסגה | D9: 82.69 | E9: 84.44 | F9: 87.18 | G9: 92.69 | H9: 97.73 | M9: פסגה | N9: 79.95 | O9: 82.17 | P9: 85.48 | Q9: 90.83 | R9: 94.96
B10: מעבר | C10: שפל | D10: 23.83 | E10: 24.62 | F10: 26.22 | G10: 28.64 | H10: 32.7 | L10: מעבר | M10: שפל | N10: 23.99 | O10: 25.01 | P10: 27.01 | Q10: 29.36 | R10: 32.52
C11: גבע | D11: 29.64 | E11: 30.62 | F11: 32.36 | G11: 35.34 | H11: 39.5 | M11: גבע | N11: 29.54 | O11: 30.8 | P11: 32.96 | Q11: 35.86 | R11: 39.12
C12: פסגה | D12: 37.1 | E12: 38.19 | F12: 40.05 | G12: 43.38 | H12: 47.67 | M12: פסגה | N12: 36.64 | O12: 38.03 | P12: 40.34 | Q12: 43.58 | R12: 46.96
B13: קיץ | C13: שפל | D13: 24.08 | E13: 25.03 | F13: 26.73 | G13: 29.59 | H13: 33.66 | L13: קיץ | M13: שפל | N13: 24.27 | O13: 25.49 | P13: 27.62 | Q13: 30.4 | R13: 33.57
C14: גבע | D14: 36.91 | E14: 38.26 | F14: 40.36 | G14: 44.45 | H14: 48.75 | M14: גבע | N14: 36.51 | O14: 38.26 | P14: 40.86 | Q14: 44.84 | R14: 48.24
C15: פסגה | D15: 89.06 | E15: 91.42 | F15: 94.77 | G15: 102.06 | H15: 107.25 | M15: פסגה | N15: 86.21 | O15: 89.23 | P15: 93.31 | Q15: 100.39 | R15: 104.66
B17: תשלום קבוע ₪ ל- KVA לשנה | D17: 3.71 | E17: 3.62 | F17: 6.48 | G17: 0.72 | H17: 0.92 | L17: תשלום קבוע ₪ ל- KVA לשנה | N17: 0 | O17: 0 | P17: 0 | Q17: 0 | R17: 0
B18: שירותי צרכנות | D18: =D27+E27 -> 1060.30 | E18: =D28+E28 -> 465.51 | F18: =D28+E28 -> 465.51 | G18: =D30+E30 -> 195.61 | H18: =D30+E30 -> 195.61 | L18: שירותי צרכנות | N18: =N27+O27 -> 1022.39 | O18: =N28+O28 -> 448.86 | P18: =N28+O28 -> 448.86 | Q18: =N30+O30 -> 188.61 | R18: =N30+O30 -> 188.61
B19: תעריפים אחידים | L19: תעריפים אחידים
C20: ביתי | D20: כללי | E20: מאור רחובות | F20: צובר מ"נ | G20: צובר מ"ג | H20: צובר מ"ע | M20: ביתי | N20: כללי | O20: מאור רחובות | P20: צובר מ"נ | Q20: צובר מ"ג | R20: צובר מ"ע
B21: תשלום משתנה: אגורות לקווט"ש | C21: 47.16 | D21: 49.32 | E21: 40.88 | F21: 45.16 | G21: 37.76 | H21: 34.84 | L21: תשלום משתנה: אגורות לקווט"ש | M21: 46.19 | N21: 48.44 | O21: 41.18 | P21: 44.33 | Q21: 37.92 | R21: 34.25
B22: תשלום קבוע: ₪ ל- KVA לשנה | C22: 0.92 | D22: 0.92 | E22: 0.92 | F22: 0.92 | G22: 6.48 | H22: 3.71 | L22: תשלום קבוע: ₪ ל- KVA לשנה | M22: 0 | N22: 0 | O22: 0 | P22: 0 | Q22: 0 | R22: 0
B25: שירותי צרכנות | C25: ש"ח לחודש | L25: שירותי צרכנות | M25: ש"ח לחודש
B26: סוג הלקוח | C26: תדירות החשבון | D26: חלוקה | E26: אספקה | L26: סוג הלקוח | M26: תדירות החשבון | N26: חלוקה | O26: אספקה
B27: צרכני תעו"ז וצובר מתח עליון | C27: חודש | D27: 925.51 | E27: 134.79 | L27: צרכני תעו"ז וצובר מתח עליון | M27: חודש | N27: 892.42 | O27: 129.97
B28: צרכני תעו"ז וצובר מתח גבוה | C28: חודש | D28: 353.35 | E28: 112.16 | L28: צרכני תעו"ז וצובר מתח גבוה | M28: חודש | N28: 340.71 | O28: 108.15 | T28: סיכום תשלום קבוע
B29: צרכני מתח נמוך, כאשר קריאת המונה נעשית בכל יום (צרכנים עם מספק פרטי, העושה שימוש בתשתית חח"י) | C29: חודש | D29: 245.62 | E29: 112.16 | L29: צרכני מתח נמוך, כאשר קריאת המונה נעשית בכל יום (צרכנים עם מספק פרטי, העושה שימוש בתשתית חח"י) | M29: חודש | N29: 236.84 | O29: 108.15 | T29: גודל חיבור | U29: KVA | V29: שירותי צרכנות חדשים | W29: שירותי צרכנות ישנים
B30: צרכני תעו"ז מתח נמוך, כאשר קריאת המונה נעשית אחת לחודש (גודל חיבור מ 3*100 אמפר ומעלה, מספק חח"י) | C30: חודש | D30: 113.19 | E30: 82.42 | L30: צרכני תעו"ז מתח נמוך, כאשר קריאת המונה נעשית אחת לחודש (גודל חיבור מ 3*100 אמפר ומעלה, מספק חח"י) | M30: חודש | N30: 109.14 | O30: 79.47 | T30: 1x25 | U30: 5.8 | V30: =D33+E33 -> 18.28 | W30: =N33+O33 -> 16.44
B31: צרכני תעו"ז מתח נמוך, כאשר קריאת המונה נעשית אחת לחודשיים (גודל חיבור קטן מ 3*100אמפר, מספק חח"י) | C31: חודשיים | D31: 24.57 | E31: 10.58 | L31: צרכני תעו"ז מתח נמוך, כאשר קריאת המונה נעשית אחת לחודשיים (גודל חיבור קטן מ 3*100אמפר, מספק חח"י) | M31: חודשיים | N31: 23.69 | O31: 10.2 | T31: 1x40 | U31: 9.2 | V31: =V30 -> 18.28 | W31: =W30 -> 16.44
B32: תעריף אחיד (ביתי, כללי, מאור, צובר מתח נמוך) בגודל חיבור מ 3*100אמפר ומעלה | C32: חודש | D32: 120.4 | E32: 82.42 | L32: תעריף אחיד (ביתי, כללי, מאור, צובר מתח נמוך) בגודל חיבור מ 3*100אמפר ומעלה | M32: חודש | N32: 116.09 | O32: 79.47 | T32: 3x25 | U32: 17.3 | V32: =+D34+E34 -> 19.43 | W32: =+N34+O34 -> 17.36
B33: תעריף אחיד (ביתי, כללי, מאור, צובר מתח נמוך), אשר מותקן אצלו מונה חד-פאזי | C33: חודשיים | D33: 7.64 | E33: 10.64 | L33: תעריף אחיד (ביתי, כללי, מאור, צובר מתח נמוך), אשר מותקן אצלו מונה חד-פאזי | M33: חודשיים | N33: 6.18 | O33: 10.26 | T33: 3x40 | U33: 36.9 | V33: =V32 -> 19.43 | W33: =W32 -> 17.36
B34: תעריף אחיד (ביתי, כללי, מאור, צובר מתח נמוך) בגודל חיבור קטן מ 3*100אמפר, אשר מותקן אצלו מונה תלת-פאזי | C34: חודשיים | D34: 8.84 | E34: 10.59 | L34: תעריף אחיד (ביתי, כללי, מאור, צובר מתח נמוך) בגודל חיבור קטן מ 3*100אמפר, אשר מותקן אצלו מונה תלת-פאזי | M34: חודשיים | N34: 7.15 | O34: 10.21 | T34: 3x63 | U34: 43.6 | V34: =V33 -> 19.43 | W34: =W33 -> 17.36
B35: תעריף אחיד (ביתי, כללי, מאור, צובר מתח נמוך), אשר מותקן אצלו מונה תשלום מראש חד-פאזי | C35: חודשיים | D35: 7.64 | E35: 10.64 | L35: תעריף אחיד (ביתי, כללי, מאור, צובר מתח נמוך), אשר מותקן אצלו מונה תשלום מראש חד-פאזי | M35: חודשיים | N35: 6.18 | O35: 10.26 | T35: 3x80 | U35: 55.3 | V35: =V34 -> 19.43 | W35: =W34 -> 17.36
B36: תעריף אחיד (ביתי, כללי, מאור, צובר מתח נמוך) בגודל חיבור קטן מ 3*100אמפר, אשר מותקן אצלו מונה תשלום מראש תלת-פאזי | C36: חודשיים | D36: 8.84 | E36: 10.59 | L36: תעריף אחיד (ביתי, כללי, מאור, צובר מתח נמוך) בגודל חיבור קטן מ 3*100אמפר, אשר מותקן אצלו מונה תשלום מראש תלת-פאזי | M36: חודשיים | N36: 7.15 | O36: 10.21 | T36: 3x100 | U36: 69.2 | V36: =D32+E32 -> 202.82 | W36: =N32+O32 -> 195.56
B37: תוספת לתשלום הקבוע לצרכן בעל מתקן פוטו וולטאי | D37: 8.84 | E37: 6.26 | L37: תוספת לתשלום הקבוע לצרכן בעל מתקן פוטו וולטאי | N37: 7.15 | O37: 6.34 | T37: 3x125 | U37: 86.5 | V37: =V36 -> 202.82 | W37: =W36 -> 195.56
T38: 3x160 | U38: 110.7 | V38: =V37 -> 202.82 | W38: =W37 -> 195.56
T39: 3x200 | U39: 138.4 | V39: =V38 -> 202.82 | W39: =W38 -> 195.56
T40: 3x250 | U40: 173 | V40: =V39 -> 202.82 | W40: =W39 -> 195.56

Sheet מחשבון תעריף אחיד
B1: השפעת תעריף
B2: מיועד לצרכני חח"י - לסוגי הצרכנים הבאים: | G2: יש למלא את התאים בצהוב:
C3: ביתי | D3: בעלי גודלי חיבור
C4: כללי | D4: 1x25
C5: מאור רחובות | D5: 1x40 | G5: בחירת סוג צרכן - עמוד על התא, לחץ על החץ לבחירת סוג הצרכן | I5: ביתי
C6: צובר מ"נ | D6: 3x25
C7: צובר מ"ג | D7: 3x40 | G7: בחירת גודל חיבור (אמפר) - עמוד על התא ופחת את החת לבחירת סוג הצרכן | I7: 3x25
C8: צובר מ"ע | D8: 3x63 | G8: ניתן למצוא את גודל החיבור בחשבון החשמל
D9: 3x80 | G9: יש למלא את צריכת אנרגיה של הצרכן בקווט"ש לשנה: | I9: 8021
D10: 3x100 | G10: ניתן למצוא בדו"ח השנתי שחברת החשמל שולחת לצרכן
D11: 3x125
D12: 3x160
D13: 3x200
D14: 3x250
B20: תוצאות
G22: תשלומים בש"ח לשנה
B23: תעריפים לסוג הצרכן שנבחר
C24: תעריפים חדשים | D24: תעריפים קיימים | G24: רכיב תשלום | H24: חדש | I24: קיים | J24: שינוי בש"ח | K24: שינוי באחוזים
B25: תעריף צריכה באגורות לקווט"ש | C25: =HLOOKUP('מחשבון תעריף אחיד'!$I$5,'תעריפים'!$C$20:$H$23,2) -> 47.16 | D25: =HLOOKUP('מחשבון תעריף אחיד'!$I$5,'תעריפים'!$M$20:$R$22,2,FALSE) -> 46.19 | G25: תשלום על צריכה | H25: =C25*I9/100 -> 3,783 | I25: =D25*I9/100 -> 3,705 | J25: =H25-I25 -> 78
B26: תעריף קבוע ₪ ל- KVA לשנה | C26: =HLOOKUP('מחשבון תעריף אחיד'!$I$5,'תעריפים'!$C$20:$H$22,3,FALSE) -> 0.92 | D26: =HLOOKUP('מחשבון תעריף אחיד'!$I$5,'תעריפים'!$M$20:$R$22,3,FALSE) -> 0.00 | G26: תשלום רכיב קבוע ברשת (גודל חיבור) | H26: =C26*VLOOKUP('מחשבון תעריף אחיד'!I7,'תעריפים'!T29:V40,2,FALSE) -> 16 | I26: =D26*VLOOKUP('מחשבון תעריף אחיד'!I7,'תעריפים'!T29:V40,2,FALSE) -> - | J26: =H26-I26 -> 16
B27: תעריף שירותי צרכנות ₪ לחודש | C27: =VLOOKUP('מחשבון תעריף אחיד'!$I$7,'תעריפים'!$T$29:$V$40,3,FALSE) -> 19.43 | D27: =VLOOKUP('מחשבון תעריף אחיד'!$I$7,'תעריפים'!$T$29:$W$40,4,FALSE) -> 17.36 | G27: תשלום צרכנות | H27: =12*C27 -> 233 | I27: =12*D27 -> 208 | J27: =H27-I27 -> 25
G28: סה"כ תשלום בשנה | H28: =SUM(H25:H27) -> 4,032 | I28: =SUM(I25:I27) -> 3,913 | J28: =H28-I28 -> 119 | K28: =H28/I28-1 -> 3.0%
