Workbook
Name totalItemsInStock: Dashboard!$H$4

Sheet Dashboard
D3: ניהול מלאי חומרים | H3: סה"כ פריטים במלאי | P3: מוצרים שצריך להזמין
H4: =SUM('מלאי נוכחי'!F2:F50000) -> 302 | P4: {=IFERROR(INDEX(_xlfn._xlws.FILTER('מלאי נוכחי'!A1:A50000,'מלאי נוכחי'!F1:F50000<5), _xlfn.SEQUENCE(9)),"")} -> סופר גלו
P5: 0
P6: 0
P7: 0
H8: השימושי ביותר | P8: 0
I9: {=INDEX(_xlfn._xlws.FILTER('מלאי נוכחי'!A1:A50000,'מלאי נוכחי'!E1:E50000=MAX('מלאי נוכחי'!E1:E50000)),1)} -> סופר גלו | P9: 0
P10: 0
P11: 0
P12: 0
P18: מוצרים שפג תוקף
P19: {=IFERROR(INDEX(_xlfn._xlws.FILTER(הוזמנו!B1:B50000,הוזמנו!E1:E50000<TODAY()), _xlfn.SEQUENCE(9)),"")} -> סופר גלו
P20: 0
P21: 0
P22: 0
P23: 0
P24: 0
P25: 0
P26: 0
P27: 0

Sheet הוזמנו
A1: תאריך קבלת הזמנה | B1: שם חומר | C1: מספר אצווה | D1: כמות | E1: פג תוקף
A2: 43930 | B2: סופר גלו | C2: 1234456 | D2: 92 | E2: 44336
A3: 44973 | B3: אבקה | C3: 8765 | D3: 300 | E3: 47513

Sheet אזלו
A1: תאריך שאזל החומר | B1: שם חומר | C1: {=IF(ROW(B1:B1000)=1,"מספר אצווה",IF(B1:B1000="","",VLOOKUP(B1:B1000,הוזמנו!B:C,2,FALSE)))} -> מספר אצווה | D1: כמות | E1: {=IF(ROW(B1:B1000)=1,"פג תוקף",IF(B1:B1000="","",VLOOKUP(B1:B1000,הוזמנו!B:E,4,FALSE)))} -> פג תוקף
A2: 43930 | B2: סופר גלו | C2: 1234456 | D2: 90 | E2: 44336

Sheet מלאי נוכחי
A1: {=_xlfn.UNIQUE(_xlfn._xlws.FILTER(הוזמנו!B1:C10000,הוזמנו!B1:B10000<>""))} -> שם חומר | B1: מספר אצווה | C1: {=(IF(ROW(A1:A10000)=1,"פג תוקף",IF(A1:A10000="","",VLOOKUP(A1:A10000,הוזמנו!B1:E10000,4,FALSE))))} -> פג תוקף | D1: {=IF(ROW(A1:A10000)=1,"כמות שהוזמנה סה''כ",IF(A1:A10000="","",SUMIF(הוזמנו!B1:B10000,'מלאי נוכחי'!A1:A10000,הוזמנו!D1:D10000)))} -> כמות שהוזמנה סה''כ | E1: {=IF(ROW(A1:A10000)=1,"כמות שאזלה סה''כ",IF(A1:A10000="","",SUMIF(אזלו!B1:B10000,'מלאי נוכחי'!A1:A10000,אזלו!D1:D10000)))} -> כמות שאזלה סה''כ | F1: {=IF(ROW(A1:A10000)=1,"קיים במלאי",IF(A1:A10000="","",(D1:D10000-E1:E10000)))} -> קיים במלאי | G1: {=IF(ROW(A1:A10000)=1,"% Available",IFERROR(IF(F1:F10000="","",F1:F10000/D1:D10000),0))} -> % Available
A2: סופר גלו | B2: 1234456 | C2: 44336 | D2: 92 | E2: 90 | F2: 2 | G2: 0.02173913
A3: אבקה | B3: 8765 | C3: 47513 | D3: 300 | E3: 0 | F3: 300 | G3: 1

Sheet Data preparation (Week analysis
A1: {=_xlfn.UNIQUE(אזלו!A1:A50000)} -> תאריך שאזל החומר | B1: {=IF(ROW(A1:A50000)=1,"Volume per day",IF(A1:A50000="","",SUMIF(אזלו!A1:A50000,A1:A50000,אזלו!D1:D50000)))} -> Volume per day | C1: {=IF(ROW(A1:A1001)=1,"Weekday",IF(A1:A1001="","",CHOOSE(WEEKDAY(A1:A1001,2),"Monday","Tuesday","Wednesday","Thursday","Friday","Saturday","Sunday")))} -> Weekday | D1: Weekday | E1: Average quantity
A2: 43930 | B2: 90 | C2: Thursday | D2: Monday | E2: =AVERAGEIF(C:C,D2,B:B) -> #DIV/0!
A3: 0 | B3: 0 | C3: Saturday | D3: Tuesday | E3: =AVERAGEIF(C:C,D3,B:B) -> #DIV/0!
D4: Wednesday | E4: =AVERAGEIF(C:C,D4,B:B) -> #DIV/0!
D5: Thursday | E5: =AVERAGEIF(C:C,D5,B:B) -> 90
D6: Friday | E6: =AVERAGEIF(C:C,D6,B:B) -> #DIV/0!
D7: Saturday | E7: =AVERAGEIF(C:C,D7,B:B) -> 0
D8: Sunday | E8: =AVERAGEIF(C:C,D8,B:B) -> #DIV/0!

Sheet Data preparation (Last 15 days)
A1: Last 15 days | B1: In | C1: Out
A2: =A3-1 -> 43916 | B2: =SUMIF(הוזמנו!$A$1:$A$50000,A2,הוזמנו!$D$1:$D$50000) -> 0 | C2: =SUMIF(אזלו!$A$1:$A$50000,A2,אזלו!$D$1:$D$50000) -> 0
A3: =A4-1 -> 43917 | B3: =SUMIF(הוזמנו!$A$1:$A$50000,A3,הוזמנו!$D$1:$D$50000) -> 0 | C3: =SUMIF(אזלו!$A$1:$A$50000,A3,אזלו!$D$1:$D$50000) -> 0
A4: =A5-1 -> 43918 | B4: =SUMIF(הוזמנו!$A$1:$A$50000,A4,הוזמנו!$D$1:$D$50000) -> 0 | C4: =SUMIF(אזלו!$A$1:$A$50000,A4,אזלו!$D$1:$D$50000) -> 0
A5: =A6-1 -> 43919 | B5: =SUMIF(הוזמנו!$A$1:$A$50000,A5,הוזמנו!$D$1:$D$50000) -> 0 | C5: =SUMIF(אזלו!$A$1:$A$50000,A5,אזלו!$D$1:$D$50000) -> 0
A6: =A7-1 -> 43920 | B6: =SUMIF(הוזמנו!$A$1:$A$50000,A6,הוזמנו!$D$1:$D$50000) -> 0 | C6: =SUMIF(אזלו!$A$1:$A$50000,A6,אזלו!$D$1:$D$50000) -> 0
A7: =A8-1 -> 43921 | B7: =SUMIF(הוזמנו!$A$1:$A$50000,A7,הוזמנו!$D$1:$D$50000) -> 0 | C7: =SUMIF(אזלו!$A$1:$A$50000,A7,אזלו!$D$1:$D$50000) -> 0
A8: =A9-1 -> 43922 | B8: =SUMIF(הוזמנו!$A$1:$A$50000,A8,הוזמנו!$D$1:$D$50000) -> 0 | C8: =SUMIF(אזלו!$A$1:$A$50000,A8,אזלו!$D$1:$D$50000) -> 0
A9: =A10-1 -> 43923 | B9: =SUMIF(הוזמנו!$A$1:$A$50000,A9,הוזמנו!$D$1:$D$50000) -> 0 | C9: =SUMIF(אזלו!$A$1:$A$50000,A9,אזלו!$D$1:$D$50000) -> 0
A10: =A11-1 -> 43924 | B10: =SUMIF(הוזמנו!$A$1:$A$50000,A10,הוזמנו!$D$1:$D$50000) -> 0 | C10: =SUMIF(אזלו!$A$1:$A$50000,A10,אזלו!$D$1:$D$50000) -> 0
A11: =A12-1 -> 43925 | B11: =SUMIF(הוזמנו!$A$1:$A$50000,A11,הוזמנו!$D$1:$D$50000) -> 0 | C11: =SUMIF(אזלו!$A$1:$A$50000,A11,אזלו!$D$1:$D$50000) -> 0
A12: =A13-1 -> 43926 | B12: =SUMIF(הוזמנו!$A$1:$A$50000,A12,הוזמנו!$D$1:$D$50000) -> 0 | C12: =SUMIF(אזלו!$A$1:$A$50000,A12,אזלו!$D$1:$D$50000) -> 0
A13: =A14-1 -> 43927 | B13: =SUMIF(הוזמנו!$A$1:$A$50000,A13,הוזמנו!$D$1:$D$50000) -> 0 | C13: =SUMIF(אזלו!$A$1:$A$50000,A13,אזלו!$D$1:$D$50000) -> 0
... A15: =A16-1 -> 43929 | B15: =SUMIF(הוזמנו!$A$1:$A$50000,A15,הוזמנו!$D$1:$D$50000) -> 0 | C15: =SUMIF(אזלו!$A$1:$A$50000,A15,אזלו!$D$1:$D$50000) -> 0
A16: =MAX(אזלו!A2:A1000) -> 43930 | B16: =SUMIF(הוזמנו!$A$1:$A$50000,A16,הוזמנו!$D$1:$D$50000) -> 92 | C16: =SUMIF(אזלו!$A$1:$A$50000,A16,אזלו!$D$1:$D$50000) -> 90

Sheet Data preparation (Over sold)
A1: Item name | B1: Unit of measure | C1: Check-in total | D1: Check-out total | E1: Inventory
A2: {=_xlfn._xlws.SORT(_xlfn._xlws.FILTER('מלאי נוכחי'!B:F,'מלאי נוכחי'!F:F<0),5,1)} -> #VALUE!
