Workbook

Sheet אדר א
A1: מספר זהות | B1: שם | C1: תרומה | E1: תצוה | G1: כי תשא | I1: ויקהל | K1: משך הזמן | L1: תוספת 3 שעות | M1: סך מלגה | O1: סיכום נתונים
C2: 44597 | E2: 44604 | G2: 44611 | I2: 44618 | O2: סך שעות לימוד | P2: סך המלגות
C3: כניסה | D3: יציאה | E3: כניסה | F3: יציאה | G3: כניסה | H3: יציאה | I3: כניסה | J3: יציאה | O3: תרומה
A4: =INDEX('רשימת אברכים ופרטי חשבון'!A:G,MATCH(B4,'רשימת אברכים ופרטי חשבון'!B:B,0),1) -> 123456789 | B4: ישראל משה | L4: =IF(((D4-C4)*24)>=3,10,0)+IF(((F4-E4)*24)>=3,10,0)+IF(((H4-G4)*24)>=3,10,0)+IF(((J4-I4)*24)>=3,10,0) -> 0 | M4: =_xlfn.CEILING.PRECISE((K4*(30*24)+L4)) -> 0 | O4: =(SUM($D$4:$D$42))-(SUM($C$4:$C$42)) -> 0 | P4: =O4*(30*24) -> 0
A5: =INDEX('רשימת אברכים ופרטי חשבון'!A:G,MATCH(B5,'רשימת אברכים ופרטי חשבון'!B:B,0),1) -> 258436598 | B5: חיים כהן | L5: =IF(((D5-C5)*24)>=3,10,0)+IF(((F5-E5)*24)>=3,10,0)+IF(((H5-G5)*24)>=3,10,0)+IF(((J5-I5)*24)>=3,10,0) -> 0 | M5: =_xlfn.CEILING.PRECISE((K5*(30*24)+L5)) -> 0 | O5: תצווה
A6: =INDEX('רשימת אברכים ופרטי חשבון'!A:G,MATCH(B6,'רשימת אברכים ופרטי חשבון'!B:B,0),1) -> 393416407 | B6: יעקב אברהם | L6: =IF(((D6-C6)*24)>=3,10,0)+IF(((F6-E6)*24)>=3,10,0)+IF(((H6-G6)*24)>=3,10,0)+IF(((J6-I6)*24)>=3,10,0) -> 0 | M6: =_xlfn.CEILING.PRECISE((K6*(30*24)+L6)) -> 0 | O6: =(SUM($F$4:$F$42))-(SUM($E$4:$E$42)) -> 0 | P6: =O6*(30*24) -> 0
A7: =INDEX('רשימת אברכים ופרטי חשבון'!A:G,MATCH(B7,'רשימת אברכים ופרטי חשבון'!B:B,0),1) -> 528396216 | B7: שמעון שמעוני | L7: =IF(((D7-C7)*24)>=3,10,0)+IF(((F7-E7)*24)>=3,10,0)+IF(((H7-G7)*24)>=3,10,0)+IF(((J7-I7)*24)>=3,10,0) -> 0 | M7: =_xlfn.CEILING.PRECISE((K7*(30*24)+L7)) -> 0 | O7: כי תשא
L8: =IF(((D8-C8)*24)>=3,10,0)+IF(((F8-E8)*24)>=3,10,0)+IF(((H8-G8)*24)>=3,10,0)+IF(((J8-I8)*24)>=3,10,0) -> 0 | M8: =_xlfn.CEILING.PRECISE((K8*(30*24)+L8)) -> 0 | O8: =(SUM($H$4:$H$42))-(SUM($G$4:$G$42)) -> 0 | P8: =O8*(30*24) -> 0
L9: =IF(((D9-C9)*24)>=3,10,0)+IF(((F9-E9)*24)>=3,10,0)+IF(((H9-G9)*24)>=3,10,0)+IF(((J9-I9)*24)>=3,10,0) -> 0 | M9: =_xlfn.CEILING.PRECISE((K9*(30*24)+L9)) -> 0 | O9: ויקהל
L10: =IF(((D10-C10)*24)>=3,10,0)+IF(((F10-E10)*24)>=3,10,0)+IF(((H10-G10)*24)>=3,10,0)+IF(((J10-I10)*24)>=3,10,0) -> 0 | M10: =_xlfn.CEILING.PRECISE((K10*(30*24)+L10)) -> 0 | O10: =(SUM($J$4:$J$42))-(SUM($I$4:$I$42)) -> 0 | P10: =O10*(30*24) -> 0
L11: =IF(((D11-C11)*24)>=3,10,0)+IF(((F11-E11)*24)>=3,10,0)+IF(((H11-G11)*24)>=3,10,0)+IF(((J11-I11)*24)>=3,10,0) -> 0 | M11: =_xlfn.CEILING.PRECISE((K11*(30*24)+L11)) -> 0 | O11: סך הכל*
L12: =IF(((D12-C12)*24)>=3,10,0)+IF(((F12-E12)*24)>=3,10,0)+IF(((H12-G12)*24)>=3,10,0)+IF(((J12-I12)*24)>=3,10,0) -> 0 | M12: =_xlfn.CEILING.PRECISE((K12*(30*24)+L12)) -> 0 | O12: =SUM(K4:K42) -> 0 | P12: =SUM(M4:M42) -> 0
L13: =IF(((D13-C13)*24)>=3,10,0)+IF(((F13-E13)*24)>=3,10,0)+IF(((H13-G13)*24)>=3,10,0)+IF(((J13-I13)*24)>=3,10,0) -> 0 | M13: =_xlfn.CEILING.PRECISE((K13*(30*24)+L13)) -> 0 | O13: *סך מלגות סופי כולל עלות תוספת 3 שעות
L14: =IF(((D14-C14)*24)>=3,10,0)+IF(((F14-E14)*24)>=3,10,0)+IF(((H14-G14)*24)>=3,10,0)+IF(((J14-I14)*24)>=3,10,0) -> 0 | M14: =_xlfn.CEILING.PRECISE((K14*(30*24)+L14)) -> 0
L15: =IF(((D15-C15)*24)>=3,10,0)+IF(((F15-E15)*24)>=3,10,0)+IF(((H15-G15)*24)>=3,10,0)+IF(((J15-I15)*24)>=3,10,0) -> 0 | M15: =_xlfn.CEILING.PRECISE((K15*(30*24)+L15)) -> 0
L16: =IF(((D16-C16)*24)>=3,10,0)+IF(((F16-E16)*24)>=3,10,0)+IF(((H16-G16)*24)>=3,10,0)+IF(((J16-I16)*24)>=3,10,0) -> 0 | M16: =_xlfn.CEILING.PRECISE((K16*(30*24)+L16)) -> 0
L17: =IF(((D17-C17)*24)>=3,10,0)+IF(((F17-E17)*24)>=3,10,0)+IF(((H17-G17)*24)>=3,10,0)+IF(((J17-I17)*24)>=3,10,0) -> 0 | M17: =_xlfn.CEILING.PRECISE((K17*(30*24)+L17)) -> 0
L18: =IF(((D18-C18)*24)>=3,10,0)+IF(((F18-E18)*24)>=3,10,0)+IF(((H18-G18)*24)>=3,10,0)+IF(((J18-I18)*24)>=3,10,0) -> 0 | M18: =_xlfn.CEILING.PRECISE((K18*(30*24)+L18)) -> 0
L19: =IF(((D19-C19)*24)>=3,10,0)+IF(((F19-E19)*24)>=3,10,0)+IF(((H19-G19)*24)>=3,10,0)+IF(((J19-I19)*24)>=3,10,0) -> 0 | M19: =_xlfn.CEILING.PRECISE((K19*(30*24)+L19)) -> 0
L20: =IF(((D20-C20)*24)>=3,10,0)+IF(((F20-E20)*24)>=3,10,0)+IF(((H20-G20)*24)>=3,10,0)+IF(((J20-I20)*24)>=3,10,0) -> 0 | M20: =_xlfn.CEILING.PRECISE((K20*(30*24)+L20)) -> 0
L21: =IF(((D21-C21)*24)>=3,10,0)+IF(((F21-E21)*24)>=3,10,0)+IF(((H21-G21)*24)>=3,10,0)+IF(((J21-I21)*24)>=3,10,0) -> 0 | M21: =_xlfn.CEILING.PRECISE((K21*(30*24)+L21)) -> 0

Sheet רשימת אברכים ופרטי חשבון
A1: מספר זהות | B1: שם | C1: בנק | D1: סניף | E1: חשבון | F1: מספר טלפון | G1: כתובת
A2: 123456789 | B2: ישראל משה | C2: 12 | D2: 50 | E2: 5852 | F2: 0504112345
A3: 258436598 | B3: חיים כהן | C3: 17 | D3: 60 | E3: 25544
A4: 393416407 | B4: יעקב אברהם | C4: 52 | D4: 15 | E4: 120212 | F4: 0504245678
A5: 528396216 | B5: שמעון שמעוני | C5: 12 | D5: 22 | E5: 874211 | F5: 0521478563

Sheet הכנה למס"ב
A1: שם | B1: בנק | C1: סניף | D1: חשבון | E1: סכום | F1: שם מוסד | G1: קוד מוסד | H1: מספר זהות
A2: =IFERROR(VLOOKUP(H2,'רשימת אברכים ופרטי חשבון'!$A$2:$E$198, 2, 0),"") | B2: =IFERROR(VLOOKUP(H2,'רשימת אברכים ופרטי חשבון'!$A$2:$E$198, 3, 0),"") | C2: =IFERROR(VLOOKUP(H2,'רשימת אברכים ופרטי חשבון'!$A$2:$E$198, 4, 0),"") | D2: =IFERROR(VLOOKUP(H2,'רשימת אברכים ופרטי חשבון'!$A$2:$E$198, 5, 0),"") | E2: =IFERROR(VLOOKUP(H2,'אדר א'!$A$4:$P$201, 13, 0),"")
A3: =IFERROR(VLOOKUP(H3,'רשימת אברכים ופרטי חשבון'!$A$2:$E$198, 2, 0),"") | B3: =IFERROR(VLOOKUP(H3,'רשימת אברכים ופרטי חשבון'!$A$2:$E$198, 3, 0),"") | C3: =IFERROR(VLOOKUP(H3,'רשימת אברכים ופרטי חשבון'!$A$2:$E$198, 4, 0),"") | D3: =IFERROR(VLOOKUP(H3,'רשימת אברכים ופרטי חשבון'!$A$2:$E$198, 5, 0),"") | E3: =IFERROR(VLOOKUP(H3,'אדר א'!$A$4:$P$201, 13, 0),"")
A4: =IFERROR(VLOOKUP(H4,'רשימת אברכים ופרטי חשבון'!$A$2:$E$198, 2, 0),"") | B4: =IFERROR(VLOOKUP(H4,'רשימת אברכים ופרטי חשבון'!$A$2:$E$198, 3, 0),"") | C4: =IFERROR(VLOOKUP(H4,'רשימת אברכים ופרטי חשבון'!$A$2:$E$198, 4, 0),"") | D4: =IFERROR(VLOOKUP(H4,'רשימת אברכים ופרטי חשבון'!$A$2:$E$198, 5, 0),"") | E4: =IFERROR(VLOOKUP(H4,'אדר א'!$A$4:$P$201, 13, 0),"")
A5: =IFERROR(VLOOKUP(H5,'רשימת אברכים ופרטי חשבון'!$A$2:$E$198, 2, 0),"") | B5: =IFERROR(VLOOKUP(H5,'רשימת אברכים ופרטי חשבון'!$A$2:$E$198, 3, 0),"") | C5: =IFERROR(VLOOKUP(H5,'רשימת אברכים ופרטי חשבון'!$A$2:$E$198, 4, 0),"") | D5: =IFERROR(VLOOKUP(H5,'רשימת אברכים ופרטי חשבון'!$A$2:$E$198, 5, 0),"") | E5: =IFERROR(VLOOKUP(H5,'אדר א'!$A$4:$P$201, 13, 0),"")
A6: =IFERROR(VLOOKUP(H6,'רשימת אברכים ופרטי חשבון'!$A$2:$E$198, 2, 0),"") | B6: =IFERROR(VLOOKUP(H6,'רשימת אברכים ופרטי חשבון'!$A$2:$E$198, 3, 0),"") | C6: =IFERROR(VLOOKUP(H6,'רשימת אברכים ופרטי חשבון'!$A$2:$E$198, 4, 0),"") | D6: =IFERROR(VLOOKUP(H6,'רשימת אברכים ופרטי חשבון'!$A$2:$E$198, 5, 0),"") | E6: =IFERROR(VLOOKUP(H6,'אדר א'!$A$4:$P$201, 13, 0),"")
A7: =IFERROR(VLOOKUP(H7,'רשימת אברכים ופרטי חשבון'!$A$2:$E$198, 2, 0),"") | B7: =IFERROR(VLOOKUP(H7,'רשימת אברכים ופרטי חשבון'!$A$2:$E$198, 3, 0),"") | C7: =IFERROR(VLOOKUP(H7,'רשימת אברכים ופרטי חשבון'!$A$2:$E$198, 4, 0),"") | D7: =IFERROR(VLOOKUP(H7,'רשימת אברכים ופרטי חשבון'!$A$2:$E$198, 5, 0),"") | E7: =IFERROR(VLOOKUP(H7,'אדר א'!$A$4:$P$201, 13, 0),"")
A8: =IFERROR(VLOOKUP(H8,'רשימת אברכים ופרטי חשבון'!$A$2:$E$198, 2, 0),"") | B8: =IFERROR(VLOOKUP(H8,'רשימת אברכים ופרטי חשבון'!$A$2:$E$198, 3, 0),"") | C8: =IFERROR(VLOOKUP(H8,'רשימת אברכים ופרטי חשבון'!$A$2:$E$198, 4, 0),"") | D8: =IFERROR(VLOOKUP(H8,'רשימת אברכים ופרטי חשבון'!$A$2:$E$198, 5, 0),"") | E8: =IFERROR(VLOOKUP(H8,'אדר א'!$A$4:$P$201, 13, 0),"")
A9: =IFERROR(VLOOKUP(H9,'רשימת אברכים ופרטי חשבון'!$A$2:$E$198, 2, 0),"") | B9: =IFERROR(VLOOKUP(H9,'רשימת אברכים ופרטי חשבון'!$A$2:$E$198, 3, 0),"") | C9: =IFERROR(VLOOKUP(H9,'רשימת אברכים ופרטי חשבון'!$A$2:$E$198, 4, 0),"") | D9: =IFERROR(VLOOKUP(H9,'רשימת אברכים ופרטי חשבון'!$A$2:$E$198, 5, 0),"") | E9: =IFERROR(VLOOKUP(H9,'אדר א'!$A$4:$P$201, 13, 0),"")
A10: =IFERROR(VLOOKUP(H10,'רשימת אברכים ופרטי חשבון'!$A$2:$E$198, 2, 0),"") | B10: =IFERROR(VLOOKUP(H10,'רשימת אברכים ופרטי חשבון'!$A$2:$E$198, 3, 0),"") | C10: =IFERROR(VLOOKUP(H10,'רשימת אברכים ופרטי חשבון'!$A$2:$E$198, 4, 0),"") | D10: =IFERROR(VLOOKUP(H10,'רשימת אברכים ופרטי חשבון'!$A$2:$E$198, 5, 0),"") | E10: =IFERROR(VLOOKUP(H10,'אדר א'!$A$4:$P$201, 13, 0),"")
A11: =IFERROR(VLOOKUP(H11,'רשימת אברכים ופרטי חשבון'!$A$2:$E$198, 2, 0),"") | B11: =IFERROR(VLOOKUP(H11,'רשימת אברכים ופרטי חשבון'!$A$2:$E$198, 3, 0),"") | C11: =IFERROR(VLOOKUP(H11,'רשימת אברכים ופרטי חשבון'!$A$2:$E$198, 4, 0),"") | D11: =IFERROR(VLOOKUP(H11,'רשימת אברכים ופרטי חשבון'!$A$2:$E$198, 5, 0),"") | E11: =IFERROR(VLOOKUP(H11,'אדר א'!$A$4:$P$201, 13, 0),"")
A12: =IFERROR(VLOOKUP(H12,'רשימת אברכים ופרטי חשבון'!$A$2:$E$198, 2, 0),"") | B12: =IFERROR(VLOOKUP(H12,'רשימת אברכים ופרטי חשבון'!$A$2:$E$198, 3, 0),"") | C12: =IFERROR(VLOOKUP(H12,'רשימת אברכים ופרטי חשבון'!$A$2:$E$198, 4, 0),"") | D12: =IFERROR(VLOOKUP(H12,'רשימת אברכים ופרטי חשבון'!$A$2:$E$198, 5, 0),"") | E12: =IFERROR(VLOOKUP(H12,'אדר א'!$A$4:$P$201, 13, 0),"")
A13: =IFERROR(VLOOKUP(H13,'רשימת אברכים ופרטי חשבון'!$A$2:$E$198, 2, 0),"") | B13: =IFERROR(VLOOKUP(H13,'רשימת אברכים ופרטי חשבון'!$A$2:$E$198, 3, 0),"") | C13: =IFERROR(VLOOKUP(H13,'רשימת אברכים ופרטי חשבון'!$A$2:$E$198, 4, 0),"") | D13: =IFERROR(VLOOKUP(H13,'רשימת אברכים ופרטי חשבון'!$A$2:$E$198, 5, 0),"") | E13: =IFERROR(VLOOKUP(H13,'אדר א'!$A$4:$P$201, 13, 0),"")
... A15: =IFERROR(VLOOKUP(H15,'רשימת אברכים ופרטי חשבון'!$A$2:$E$198, 2, 0),"") | B15: =IFERROR(VLOOKUP(H15,'רשימת אברכים ופרטי חשבון'!$A$2:$E$198, 3, 0),"") | C15: =IFERROR(VLOOKUP(H15,'רשימת אברכים ופרטי חשבון'!$A$2:$E$198, 4, 0),"") | D15: =IFERROR(VLOOKUP(H15,'רשימת אברכים ופרטי חשבון'!$A$2:$E$198, 5, 0),"") | E15: =IFERROR(VLOOKUP(H15,'אדר א'!$A$4:$P$201, 13, 0),"")
